{"text_format":"1","workbook":"xlsx","n_sheets":92,"sheets":["사용설명","PharmOffice시트","요양기관기초정보","요약","개인정보점검갱신","필요서류","점검결과","보유","고지","동의서","열람기준","열람동의서","열람안내","표","용해증명서","파기","민감","영상관리","CCTV안내","CCTV인증샷","영상정보관리","위탁계약서","업체점검","처리방침","서약","교육","관리계획","ID","필수","출입","체크","백신","컴퓨터관리","네트워크장비","Wifi","유출","유형","양도","근로기준법 해석","근로기준법상보관서류","검색","사원명부","근태","업무분장내역","업무분장","업무분장표","근로계약서상세","근로자명부","단기근로계약서","계약변경","인사","취업규칙신고서","취업규칙","의견청취서","근로자동의서","휴가계획서","휴가력","경력증명서","재직증명서","위임장","사직서","해고예정통보서","견적서","거래명세서","세금계산서","간이영수증","당뇨위임장","당뇨국민공단","당뇨의료급여","마약류시설점검부","마약류양도","양도계약서","폐기신청","사고마약발생","발생별첨","희귀약품발주서","약국간거래","도장제작","목차제작","목차제작1","가격1","가격2","가격1인쇄","가격2인쇄","가격표A4","안내문","다국어라벨","라벨인쇄양식","일반약라벨","상세복약라벨","주소라벨","큰글씨라벨"],"not_rendered":{"charts":0,"images":72,"macros":1,"external_links":4,"defined_names":675,"comments":3,"pivot_tables":0},"unopened":[],"bounds":{"document_bytes":16777216,"sheet_cells":100000,"rows_first":2000,"rows_last":500,"rows_between":2000,"halvings":0,"cell_chars":16384,"cell_head_chars":4096},"cells_cut":0,"cells_raw":0,"read":"whole","date_system":"1900"}

{"sheet":"사용설명","index":0,"n_rows":21,"n_cols":29,"rows_kept":21,"cut":false,"hidden":false,"merged":[[0,0,1,23]]}
["     PharmOffice 자동화 엑셀서식  ",null,null,null,null,null,null,null,null,null,null,null,null,null,null,null,null,null,null,null,null,null,null,null,null,null,"이파일은   약국 개인정보보호자율점검시 양호,보유로 해놓고 실제 구비하지못한"]
[null,null,null,null,null,null,null,null,null,null,null,null,null,null,null,null,null,null,null,null,null,null,null,null,null,null,"서류들,근로 노무관련 양식들을 모아놓고 업무처리를 수월하게 할수 있도록 "]
[null,null,null,null,null,null,null,null,null,null,null,null,null,null,null,null,null,null,null,null,null,null,null,null,null,null,"제작한 엑셀 파일입니다."]
[null,null,null,null,null,null,null,null,null,null,null,null,null,null,null,null,null,null,null,null,null,null,null,null,null,null,"이밖에도 약국에서 필요한 각종 서식들과 필요한 기능들을 넣었습니다."]
[null,null,null,null,null,null,null,null,null,null,null,null,null,null,null,null,null,null,null,null,null,null,null,null,null,null,"한글로 라벨을 만들면 외국어로 번역해주는 다국어 라벨기능"]
[null,null,null,null,null,null,null,null,null,null,null,null,null,null,null,null,null,null,null,null,null,null,null,null,null,null,"각종서식에서 사용할 PC용 도장 제작 기능"]
[null,null,null,null,null,null,null,null,null,null,null,null,null,null,null,null,null,null,null,null,null,null,null,null,null,null,"오픈매대에서 사용할 가격표 자동화"]
[null,null,null,null,null,null,null,null,null,null,null,null,null,null,null,null,null,null,null,null,null,null,null,null,null,null,"마스크 가격표 제작"]
[null,null,null,null,null,null,null,null,null,null,null,null,null,null,null,null,null,null,null,null,null,null,null,null,null,null,"등등 여러기능을 넣었습니다."]
[]
[null,null,null,null,null,null,null,null,null,null,null,null,null,null,null,null,null,null,null,null,null,null,null,null,null,null,"이파일은  엑셀시트 90여장으로 구성되어있습니다."]
[null,null,null,null,null,null,null,null,null,null,null,null,null,null,null,null,null,null,null,null,null,null,null,null,null,null,"많은 정보가 담겨있어서 로딩시간도 컴퓨터 사양에 따라 오래 걸릴수도 있습니다.",null," "]
[null,null,null,null,null,null,null,null,null,null,null,null,null,null,null,null,null,null,null,null,null,null,null,null,null,null,"이파일을 100%활용하시려면 "]
[null,null,null,null,null,null,null,null,null,null,null,null,null,null,null,null,null,null,null,null,null,null,null,null,null,null,"1. 요양기관기초정보시트에  입력사항을 빠짐 없이  입력하세요"]
[null,null,null,null,null,null,null,null,null,null,null,null,null,null,null,null,null,null,null,null,null,null,null,null,null,null,"2.사원명부시트에 직원인적사항을 입력하시고 신규입사시에도 제일먼저 사원명부를 작성하세요"]
[null,null,null,null,null,null,null,null,null,null,null,null,null,null,null,null,null,null,null,null,null,null,null,null,null,null,"3.인쇄에 사용할 프린터의 경로를 지정하세요"]
[null,null,null,null,null,null,null,null,null,null,null,null,null,null,null,null,null,null,null,null,null,null,null,null,null,null,"프린터 설정방법은>> 엑셀좌측상단의 파일>인쇄>프린터선택하고 "]
[null,null,null,null,null,null,null,null,null,null,null,null,null,null,null,null,null,null,null,null,null,null,null,null,null,null,"나와서 프린터 경로 버튼을 클릭하면 됩니다."]
[]
[]
[null,null,null,null,null,null,null,null,null,null,null,null,null,null,null,null,null,null,null,null,null,null,null,null,null,null,"예시에 있는 것은 제 프린터의 절대경로이고 파일은 그곳이 비어있습니다."]

{"sheet":"PharmOffice시트","index":1,"n_rows":107,"n_cols":11,"rows_kept":107,"cut":false,"hidden":false,"merged":[[0,0,0,4]]}
["           PharmOfiice 시트모음"]
["연번","시트이름","업무명칭"," 업무내용","인쇄권장"]
[1,"사용설명","공통","입문"]
[{"$f":"IF(B4=\"\",\"\",A3+1)","v":2},"요양기관기초정보","개인정보보호","기초정보"]
[{"$f":"IF(B5=\"\",\"\",A4+1)","v":3},"사원명부","개인정보보호","기초정보"]
[4,"요약","개인정보보호","요양기관 개인정보보호 상시 점검사항 요약","o"]
[5,"개인정보점검갱신","개인정보보호","개인정보보호 자율점검후 보유서류 체크"]
[6,"점검결과","개인정보보호","개인정보보호 자율점검","o"]
[7,"필요서류","개인정보보호","필요서류와 시트명 Match",null,null,null,null,null,null," "]
[8,"보유","개인정보보호","개인정보보호 자율점검후 수식을 통해 보유서류 체크"]
[9,"동의서","개인정보보호","개인정보 수집 이용 동의서","o"]
[10,"열람기준","개인정보보호","조제기록부 열람 및 사본발급 기준/약사법.약사법시행령","o"]
[11,"열람동의서","개인정보보호","조제기록부나 영수증발급시 동의서","o"]
[12,"열람안내","개인정보보호","조제기록부나 영수증 발급시 필요 서류 안내문","o"]
[13,"고지","개인정보보호","개인정보 수집 이용 고지","o"]
[14,"용해증명서","개인정보보호","보존기간이 지난 개인정보를 용해하거나 소각하였음을 증명하는 서류","o"]
[15,"파기","개인정보보호","개인정보 파기 관리대장","o"]
[16,"민감","개인정보보호","민감정보 수집‧이용 동의서","o"]
[17,"영상관리","개인정보보호","영상정보처리기기(CCTV) 운영·관리 방침","o"]
[18,"CCTV안내","개인정보보호","영상정보처리기기(CCTV) 설치 안내판","o"]
[19,"CCTV인증샷","개인정보보호","영상정보처리기기(CCTV) 설치 안내판을 부착하고 있을 알리는 인증샷","o"]
[20,"영상정보관리","개인정보보호","영상정보 제공에 관한 사항","o"]
[21,"위탁계약서","개인정보보호","개인정보처리위탁계약서"]
[22,"업체점검","개인정보보호","위탁업체 개인정보보호 책임자 교육여부등 점검부"]
[23,"처리방침","개인정보보호","개인정보처리방침","o"]
[24,"업무분장표","개인정보보호","부서별 업무분장표"]
[25,"서약","개인정보보호","보안서약서,근로계약서 작성시 같이 작성","o"]
[26,"교육","개인정보보호","직원 개인정보보호교육 이수여부확인","o"]
[27,"관리계획","개인정보보호","개인정보보호를 위한 내부 관리 계획","o"]
[28,"필수","개인정보보호","내부관리계획 수립시 필수 사항","o"]
[29,"ID","개인정보보호","개인정보처리시스템(청구 S/W)사용자 관리","o"]
[30,"출입","개인정보보호","개인정보 보관장소 출입일지","o"]
[31,"체크","개인정보보호","개인정보 정기 점검 체크리스트","o"]
[32,"컴퓨터관리","개인정보보호","개인정보처리시스템(청구 S/W)이 설치된 컴퓨터 관리 대장","o"]
[33,"백신","개인정보보호","백신이나 방화벽 프로그램  유상구입시 증빙 영수증","o"]
[34,"네트워크장비","개인정보보호","네트워크 시스템관리","o"]
[35,"wifi","개인정보보호","Wifi비공개","o"]
[36,"유출","개인정보보호","개인정보 유출시 조치요령","o"]
[37,"유형","개인정보보호","개인정보 보유량에 따른 유형"]
[38,"양도","개인정보보호","영업 양도 합병시 개인정보 처리 방법,게시서식"]
["연번","시트이름","업무명칭"," 업무내용","인쇄권장"]
[{"$f":"A40+1","v":39},"근로기준법 해석","근로,노무","5인미만 사업장 "]
[{"$f":"IF(B43=\"\",\"\",A42+1)","v":40},"근로기준법상보관서류","근로,노무","근로기준법에 따른 필수 보관 서류","o"]
[{"$f":"IF(B44=\"\",\"\",A43+1)","v":41},"요양기관기초정보","근로,노무","기초정보"]
[42,"사원명부","근로,노무","기초정보"]
[43,"근로계약서상세","근로,노무","근로계약서","o"]
[44,"단기근로계약서","근로,노무","기간제 계약서"]
[45,"계약변경","근로,노무","계약 연장시"]
[46,"서약","근로,노무","근로계약서 작성시 보안서약서 같이 작성"]
[47,"근로자명부","근로,노무","근로자명부-근로계약서 작성시 같이 작성"]
[48,"업무분장내역","근로,노무","전체 업무 분장표","o"]
[49,"업무분장표","근로,노무","부서별 업무분장표","o"]
[50,"인사","근로,노무","인사위원회 활동시 필요서류"]
[51,"취업규칙신고서","근로,노무","취업규칙 노동부 신고시"]
[52,"취업규칙","근로,노무","상시근로자 10인이상시 노동부 신고 필수/10인미만시..비치,직원동의 권장","o"]
[53,"의견청취서","근로,노무","취업규칙에 대한 근로자 의견서-10인이상"]
[54,"근로자동의서","근로,노무","취업규칙에 대한 근로자 동의서-10인이하라도 신규입사시 열람 사인용으로도 활용","o"]
[55,"휴가력","근로,노무","달력/공휴일,토요일 근무자명단 작성용.인쇄하여 휴가에 관한서류로 비치","o"]
[56,"휴가계획서","근로,노무","익월의 휴가 계획서를 미리 작성하여 비치/근로법상 반드시 갖춰야 할서류","o"]
[57,"경력증명서","근로,노무","근로,노무관련서류"]
[58,"재직증명서","근로,노무","근로,노무관련서류"]
[59,"위임장","근로,노무","근로,노무관련서류"]
[60,"사직서","근로,노무","근로,노무관련서류"]
[61,"해고예정통보서","근로,노무","근로,노무관련서류"]
["연번","시트이름","업무명칭"," 업무내용","인쇄권장"]
[{"$f":"A64+1","v":62},"견적서","약국사무","납품시"]
[{"$f":"IF(B67=\"\",\"\",A66+1)","v":63},"거래명세서","약국사무","납품시"]
[{"$f":"IF(B68=\"\",\"\",A67+1)","v":64},"세금계산서","약국사무","납품시"]
[65,"간이영수증","약국사무","갑자기 필요한데 찾아보니 없을수도 있는 간이영수증"]
[66,"당뇨위임장","약국사무","당뇨병 소모성재료 EDI청구시  위임장"]
[67,"당뇨국민공단","약국사무","당뇨병 소모성재료 청구서-국민건강보험공단,차상위용"]
[68,"당뇨의료급여","약국사무","당뇨병 소모성재료 청구서-국민건강보험공단,의료급여용"]
[69,"마약류시설점검부","약국사무","마약류 시설 점검부"]
[70,"마약류양도","약국사무","마약류양도(구입한 도매업체로 원통단위로 반품)"]
[71,"양도계약서","약국사무","마약류양도(구입한 도매업체로 원통단위로 반품)"]
[72,"폐기신청","약국사무","소분재고,유효임박등등의 사유로 마약류 폐기시"]
[73,"사고마약발생","약국사무","도난이나 침수등의 피해발생시"]
[74,"발생별첨","약국사무","도난이나 침수등의 피해발생시"]
[75,"희귀의약품발주서","약국사무","희귀의약품센터로 의약품 발주시-사업자 등록증 첨부"]
[76,"약국간거래","약국사무","약국간 거래"]
[{"$f":"IF(B81=\"\",\"\",A80+1)","v":77},"도장제작","약국사무","각종 서식화일에 사용할 도장제작/도장스캔이미지가 없을때 사용"]
[78,"목차제작","약국사무","각종서류를 바인딩철에 보관할때 첫페이지 목록 만들기"]
[{"$f":"IF(B83=\"\",\"\",A82+1)","v":79},"목차제작1","약국사무","각종서류를 바인딩철에 보관할때 첫페이지 목록 만들기"]
["연번","시트이름","업무명칭"," 업무내용","인쇄권장"]
[{"$f":"IF(B85=\"\",\"\",A83+1)","v":80},"가격1","POP,라벨","오픈매대에서 쓸수 있는 깔끔한 가격표 DB1"]
[81,"가격1인쇄","POP,라벨","가격표 인쇄양식1"]
[82,"가격2","POP,라벨","오픈매대에서 쓸수 있는 깔끔한 가격표 DB2"]
[83,"가격2인쇄","POP,라벨","가격표 인쇄양식2"]
[84,"가격표A4","POP,라벨","마스크 판매POP/이벤트,세일행사시 가격표"]
[85,"안내문","POP,라벨","각종안내문,홍보문"]
[86,"다국어라벨","POP,라벨","다국어 라벨만들기 NEW"]
[87,"라벨인쇄양식","POP,라벨","각종 라벨 인쇄양식-미리보기를 통해  인쇄여백을 설정하세요"]
[88,"일반약라벨","POP,라벨","일반의약품 복약라벨"]
[89,"상세복약지도","POP,라벨","상세복약지도 라벨,외용제나 긴설명이 필요할때"]
[90,"주소라벨","POP,라벨","우편물 발송시 주소라벨"]
[91,"큰글씨라벨","POP,라벨","기성라벨의 글씨가 작아 큰글씨로된 복약시간이 필요할때"]
[{"$f":"IF(B97=\"\",\"\",A96+1)","v":""}]
[""]
[""]
[""]
[""]
[""]
[""]
[""]
[""]
[""]
[""]

{"sheet":"요양기관기초정보","index":2,"n_rows":58,"n_cols":5,"rows_kept":58,"cut":false,"hidden":false,"merged":[[53,1,53,2],[24,1,24,2],[0,3,2,4],[34,1,34,2],[39,1,39,2],[44,1,44,2],[3,1,3,2]]}
[null,null,null,{"$f":"IFBLANK(C5)","v":"팜오피스약국"}]
[]
[]
[null,"요양기관기초정보",null,null,"A4용지 인쇄 프린터 경로"]
[null,"요양기관명","팜오피스약국"]
[null,"대표","홍길동",null,"라벨 프린터 경로"]
[null,"주민등록번호","680623-1234567"]
[null,"개설일","2009-01-02","\"2000-01-02\"형식으로 입력하세요"]
[null,"개설등록번호","제3443호"]
[null,"휴대전화","010-1234-5678"]
[null,"주소","서울 서대문구 연세로 41 (창천동 78-14)"]
[null,"전화","02-324-4650"]
[null,"팩스","0505-324-4662"]
[null,"사업자등록번호","307-06-71688"]
[null,"업태","소매"]
[null,"종목","양약,의료기기"]
[null,"요양기관기호",12345678]
[null,"면허번호",40587]
[null,"마약류","D00001610"]
[null,"이메일","azerci@hanmail.net"]
[null,"관할보건소","서대문구"]
[null,"관할노동지청","서울 "]
[null,"청구용소프트웨어ID","jm000"]
[]
[null,"요양기관조직도-근로 노무관련 서류작성시 필요"]
[null,"관리부","일반약품구매,전문약주문"]
[null,"판매부","접수,수납"]
[null,"조제실","조제,ATC관리"]
[]
[]
[]
[]
[]
[]
[null,"개인정보관리책임자-요양기관내 관리자(미지정도 가능)"]
[null,"이름"]
[null,"직급"]
[null,"연락처"]
[]
[null,"영상정보위탁사-경비보안업체(공란가능)"]
[null,"위탁회사","에이디티캡스"]
[null,"대표번호","1588-6400"]
[null,"담당자","출동대원"]
[null,"연락처"]
[null,"청구소프트웨어-개인정보처리시스템"]
[null,"프로그램명칭","Upharm"]
[null,"회사명","유비케어"]
[null,"대표","이상경"]
[null,"주소","서울시 구로구 디지털로 33길 28 우림 e-biz center 1차 10층"]
[null,"사업자등록번호"]
[null,"대표번호","02-2222-5200"]
[null,"담당자이름","황인명"]
[null,"연락처"]
[null,"처방전 보관 및 폐기업체"]
[null,"위탁회사","㈜태웅(선자원)"]
[null,"대표번호","031-403-1432"]
[null,"담당자","박종익"]
[null,"연락처"]

{"sheet":"요약","index":3,"n_rows":6,"n_cols":8,"rows_kept":6,"cut":false,"hidden":false,"merged":[[5,7,6,13],[0,0,2,6]]}
["약국개인정보보호 상시 점검사항  "]
[]
[]
[]
[]
[null,null,null,null,null,null,null,"약국개인정보보호관련  최신 지침"]

{"sheet":"개인정보점검갱신","index":4,"n_rows":0,"n_cols":0,"rows_kept":0,"cut":false,"hidden":false,"merged":[[0,1,0,2],[1,1,1,2]]}

{"sheet":"필요서류","index":5,"n_rows":47,"n_cols":4,"rows_kept":47,"cut":false,"hidden":false,"merged":[]}
["관리번호","항목번호","증빙자료","팜오피스 시트명칭"]
[1,"1.1.1","개인정보수집동의서, 회원가입신청서 등 개인정보수집 양식\n","동의서"]
[2,"1.1.2","개인정보수집동의서, 회원가입신청서 등 개인정보수집 양식","동의서"]
[3,"1.2.1","개인정보수집동의서, 회원가입신청서 등 개인정보수집 양식","동의서"]
[4,"1.2.2","개인정보수집동의서, 회원가입신청서 등 개인정보수집 양식","동의서"]
[5,"1.2.3","개인정보수집동의서, 회원가입신청서 등 개인정보수집 양식","동의서"]
[6,"1.3.1","법령에 근거하지 않은 제3자 제공 사례가 있는 경우\n - 제3자 개인정보 제공 동의서(필수고지내용 ①~⑤ 포함된 동의서)","동의서"]
[7,"1.5.1","파기 사실 확인서 등 증빙자료","파기"]
[8,"1.5.2","파기 사실 확인서 등 증빙자료","용해증명서"]
[9,"1.5.3","동 항목은 별도의 증빙자료가 없어도 점검기준을 만족하는 경우에 인정"]
[10,"1.5.4","타 법령의 근거에 따라 별도 분리 보관하는 개인정보가 있는 경우, 개인정보처리시스템내 분리 저장된 화면캡처 또는 물리적 보관사진 등","화면캡처"]
[11,"2.1.1","개인정보수집동의서, 민감정보 수집 동의서 등 민감정보 수집 양식","민감"]
[12,"2.2.1","「약사법」 등 법령에 근거한 고유식별정보 수집 및 처리만 하는 경우 별도의 증빙자료 없이 점검결과를 양호로 선택"]
[13,"2.3.1","영상정보처리기기(CCTV) 운영・관리 방침(필수 기재사항 ①~⑧ 포함 수립)","영상관리"]
[14,"2.3.2","안내판 설치 장소 및 내용 ","CCTV안내"]
[15,"2.3.3","개인영상정보 관리대장","영상정보관리"]
[16,"2.3.4","영상정보처리기기(CCTV) 녹화장비(DVR) 등 물리적 보관과 관련한 직·간접적 시건장치된 사진 및 접속계정(ID) 등록화면 캡처","화면캡처"]
[17,"2.4.1","위탁사업자별 계약서(필수사항이 포함된 위‧수탁 계약서, 협약서, 특약서 등)","위탁계약서"]
[18,"2.4.2","수탁업체 대상 관리‧감독 및 개인정보보호 교육 결과 등","업체점검"]
[19,"2.4.3","위탁에 관한 사실을 공개한 증빙자료(개인정보 처리방침 등)","처리방침"]
[20,"2.5.1","인정보취급자 보안서약서 등 관리‧감독 증빙자료","서약"]
[21,"2.5.2","개인정보보호 교육 결과(교육 수료증, 교육 참석서명록 등)","교육"]
[22,"3.1.1","내부관리계획서(필수 반영 사항 포함)","관리계획"]
[23,"3.2.1","접속계정(ID) 등록 현황 및 부여된 권한내역 자료 또는 화면 캡처","화면캡처"]
[24,"3.2.2","업무별 권한의 부여, 변경, 말소내역을 확인할 수 있는 관리 기록","ID"]
[25,"3.2.3","비밀번호 부여 시 자동으로 최소길이와 문자 및 숫자의 구성을 확인하는 화면기능 캡처 등","화면캡처"]
[26,"3.2.4","컴퓨터 운영체제(Windows OS 등) 및 백신프로그램에서 제공하는 방화벽 설정 화면 캡처, 침입통제시스템을 도입한 경우 정책적용 내역 등","화면캡처"]
[27,"3.2.5","※ 개인정보처리시스템(청구S/W 등)에 로그인하는 방식을 알 수 있는 화면 캡처 등","화면캡처"]
[28,"3.2.6","인터넷 접속 브라우저(Explore, Chrome 등)에서 제공하는 사이트 차단 목록 화면 캡처 등","화면캡처"]
[29,"3.2.7","홈페이지 개인정보 노출방지 점검, 웹 취약점 점검 수행 결과"]
[30,"3.2.8","일정 횟수 이상의 접속계정(ID), 비밀번호 오류 시 안내되는 메시지 화면 캡처 등","화면캡처"]
[31,"3.2.9","개인정보처리시스템에 접속 후 일정시간 활동이 없는 경우, 자동 로그아웃 처리되는 화면 또는 기능적용 화면 캡처","화면캡처"]
[32,"3.3.1","개인정보처리시스템내 고유식별정보, 비밀번호, 바이오정보의 암호화 저장된 화면 캡처 등","화면캡처"]
[33,"3.3.2","업무용 컴퓨터(모바일기기 포함)에 저장된 파일 더블클릭 시 비밀번호를 물어보는 화면 캡처 등","화면캡처"]
[34,"3.3.3","보조저장매체(외장형 하드디스크, USB메모리 등)에 저장된 파일 더블클릭 시 비밀번호를 물어보는 화면 캡처 등","화면캡처"]
[35,"3.3.4","개인정보처리시스템내 데이터베이스(DB)에 저장된 값 또는 알고리즘 적용을 위한 프로그램 소스 화면 캡처 등","화면캡처"]
[36,"3.3.5","중간지점(DMZ) 구간에서 운영하는 개인정보처리시스템내  데이터베이스(DB)에 저장된 값 등 캡처","화면캡처"]
[37,"3.4.1","접속기록 생성일자를 확인할 수 있는 자료 또는 화면 캡처 등","화면캡처"]
[38,"3.4.2","접속기록을 별도의 저장매체(외장형 하드디스크, USB메모리 등)에 저장하여 보관하고 있는 사진 등","사진"]
[39,"3.5.1","업무용 PC에 설치된 백신프로그램의 최근 업데이트 날짜 등 화면 캡처","화면캡처"]
[40,"3.6.1","산실‧자료보관실 출입통제 절차(절차가 반영된 규정, 계획), 출입통제 관리대장","출입"]
[41,"3.6.2","물리적 보관장소 또는 시건장치에 대한 사진 등","사진"]
[42,"3.7.1","수립된 개인정보 처리방침","처리방침"]
[43,"3.7.2","개인정보 처리방침 공개 사실을 확인할 수 있는 자료 ","처리방침"]
[44,"3.8.1","개인정보 보호책임자 지정 및 역할 확인이 가능한 문서(다음 중 택일 하여 증빙)\n - 내부관리계획, 업무 분장표, 직제표, 개인정보 처리방침 등","처리방침"]
[45,"3.8.2","개인정보 보호책임자 교육 이수 실적\n  - 교육 참석확인증, 수료증 등\n 개인정보 보호책임자 관리・감독 및 제도개선 활동 실적","교육"]
[46,"3.9.1","동 항목은 별도의 증빙자료가 없어도 점검기준을 준수하는 경우에 점검결과를 양호로 선택하실 수 있습니다","체크"]

{"sheet":"점검결과","index":6,"n_rows":49,"n_cols":9,"rows_kept":49,"cut":false,"hidden":false,"merged":[[0,0,0,7]]}
[{"$f":"IFBLANK(요양기관기초정보!D1)&\" 개인정보보호 자율점검 결과\"","v":"팜오피스약국 개인정보보호 자율점검 결과"}]
[null,null,null,null,null,"점검일",{"$f":"TODAY()","v":"2021-05-31"}]
["순번","항목번호","항목","점검결과","증빙자료","이행예정일자","증빙자료명칭","이행방법","참조"]
[{"$f":"IFBLANK(개인정보점검갱신!A5)","v":""},{"$f":"IF(개인정보점검갱신!B5=\"\",\"\",SUBSTITUTE(LEFT(개인정보점검갱신!B5,6),\" \",\"\"))","v":""},{"$f":"IF(개인정보점검갱신!B5=\"\",\"\",SUBSTITUTE(개인정보점검갱신!B5,점검결과!B4,\"\"))","v":""},{"$f":"IF(개인정보점검갱신!C5=\"\",\"\",SUBSTITUTE(개인정보점검갱신!C5,점검결과!C4,\"\"))","v":""},{"$f":"IF(개인정보점검갱신!D5=\"\",\"\",SUBSTITUTE(개인정보점검갱신!D5,점검결과!D4,\"\"))","v":""},{"$f":"IF(개인정보점검갱신!E5=\"\",\"\",SUBSTITUTE(개인정보점검갱신!E5,점검결과!E4,\"\"))","v":""},{"$f":"IF(E4=\"보유\",VLOOKUP(B4,필요서류!$B$6:$C$49,2),\"\")","v":""},null,{"$f":"IF(E4=\"보유\",VLOOKUP(B4,필요서류!$B$6:$D$49,3),\"\")","v":""}]
[{"$f":"IFBLANK(개인정보점검갱신!A6)","v":""},{"$f":"IF(개인정보점검갱신!B6=\"\",\"\",SUBSTITUTE(LEFT(개인정보점검갱신!B6,6),\" \",\"\"))","v":""},{"$f":"IF(개인정보점검갱신!B6=\"\",\"\",SUBSTITUTE(개인정보점검갱신!B6,점검결과!B5,\"\"))","v":""},{"$f":"IF(개인정보점검갱신!C6=\"\",\"\",SUBSTITUTE(개인정보점검갱신!C6,점검결과!C5,\"\"))","v":""},{"$f":"IF(개인정보점검갱신!D6=\"\",\"\",SUBSTITUTE(개인정보점검갱신!D6,점검결과!D5,\"\"))","v":""},{"$f":"IF(개인정보점검갱신!E6=\"\",\"\",SUBSTITUTE(개인정보점검갱신!E6,점검결과!E5,\"\"))","v":""},{"$f":"IF(E5=\"보유\",VLOOKUP(B5,필요서류!$B$6:$C$49,2),\"\")","v":""},null,{"$f":"IF(E5=\"보유\",VLOOKUP(B5,필요서류!$B$6:$D$49,3),\"\")","v":""}]
[{"$f":"IFBLANK(개인정보점검갱신!A7)","v":""},{"$f":"IF(개인정보점검갱신!B7=\"\",\"\",SUBSTITUTE(LEFT(개인정보점검갱신!B7,6),\" \",\"\"))","v":""},{"$f":"IF(개인정보점검갱신!B7=\"\",\"\",SUBSTITUTE(개인정보점검갱신!B7,점검결과!B6,\"\"))","v":""},{"$f":"IF(개인정보점검갱신!C7=\"\",\"\",SUBSTITUTE(개인정보점검갱신!C7,점검결과!C6,\"\"))","v":""},{"$f":"IF(개인정보점검갱신!D7=\"\",\"\",SUBSTITUTE(개인정보점검갱신!D7,점검결과!D6,\"\"))","v":""},{"$f":"IF(개인정보점검갱신!E7=\"\",\"\",SUBSTITUTE(개인정보점검갱신!E7,점검결과!E6,\"\"))","v":""},{"$f":"IF(E6=\"보유\",VLOOKUP(B6,필요서류!$B$6:$C$49,2),\"\")","v":""},null,{"$f":"IF(E6=\"보유\",VLOOKUP(B6,필요서류!$B$6:$D$49,3),\"\")","v":""}]
[{"$f":"IFBLANK(개인정보점검갱신!A8)","v":""},{"$f":"IF(개인정보점검갱신!B8=\"\",\"\",SUBSTITUTE(LEFT(개인정보점검갱신!B8,6),\" \",\"\"))","v":""},{"$f":"IF(개인정보점검갱신!B8=\"\",\"\",SUBSTITUTE(개인정보점검갱신!B8,점검결과!B7,\"\"))","v":""},{"$f":"IF(개인정보점검갱신!C8=\"\",\"\",SUBSTITUTE(개인정보점검갱신!C8,점검결과!C7,\"\"))","v":""},{"$f":"IF(개인정보점검갱신!D8=\"\",\"\",SUBSTITUTE(개인정보점검갱신!D8,점검결과!D7,\"\"))","v":""},{"$f":"IF(개인정보점검갱신!E8=\"\",\"\",SUBSTITUTE(개인정보점검갱신!E8,점검결과!E7,\"\"))","v":""},{"$f":"IF(E7=\"보유\",VLOOKUP(B7,필요서류!$B$6:$C$49,2),\"\")","v":""},null,{"$f":"IF(E7=\"보유\",VLOOKUP(B7,필요서류!$B$6:$D$49,3),\"\")","v":""}]
[{"$f":"IFBLANK(개인정보점검갱신!A9)","v":""},{"$f":"IF(개인정보점검갱신!B9=\"\",\"\",SUBSTITUTE(LEFT(개인정보점검갱신!B9,6),\" \",\"\"))","v":""},{"$f":"IF(개인정보점검갱신!B9=\"\",\"\",SUBSTITUTE(개인정보점검갱신!B9,점검결과!B8,\"\"))","v":""},{"$f":"IF(개인정보점검갱신!C9=\"\",\"\",SUBSTITUTE(개인정보점검갱신!C9,점검결과!C8,\"\"))","v":""},{"$f":"IF(개인정보점검갱신!D9=\"\",\"\",SUBSTITUTE(개인정보점검갱신!D9,점검결과!D8,\"\"))","v":""},{"$f":"IF(개인정보점검갱신!E9=\"\",\"\",SUBSTITUTE(개인정보점검갱신!E9,점검결과!E8,\"\"))","v":""},{"$f":"IF(E8=\"보유\",VLOOKUP(B8,필요서류!$B$6:$C$49,2),\"\")","v":""},null,{"$f":"IF(E8=\"보유\",VLOOKUP(B8,필요서류!$B$6:$D$49,3),\"\")","v":""}]
[{"$f":"IFBLANK(개인정보점검갱신!A10)","v":""},{"$f":"IF(개인정보점검갱신!B10=\"\",\"\",SUBSTITUTE(LEFT(개인정보점검갱신!B10,6),\" \",\"\"))","v":""},{"$f":"IF(개인정보점검갱신!B10=\"\",\"\",SUBSTITUTE(개인정보점검갱신!B10,점검결과!B9,\"\"))","v":""},{"$f":"IF(개인정보점검갱신!C10=\"\",\"\",SUBSTITUTE(개인정보점검갱신!C10,점검결과!C9,\"\"))","v":""},{"$f":"IF(개인정보점검갱신!D10=\"\",\"\",SUBSTITUTE(개인정보점검갱신!D10,점검결과!D9,\"\"))","v":""},{"$f":"IF(개인정보점검갱신!E10=\"\",\"\",SUBSTITUTE(개인정보점검갱신!E10,점검결과!E9,\"\"))","v":""},{"$f":"IF(E9=\"보유\",VLOOKUP(B9,필요서류!$B$6:$C$49,2),\"\")","v":""},null,{"$f":"IF(E9=\"보유\",VLOOKUP(B9,필요서류!$B$6:$D$49,3),\"\")","v":""}]
[{"$f":"IFBLANK(개인정보점검갱신!A11)","v":""},{"$f":"IF(개인정보점검갱신!B11=\"\",\"\",SUBSTITUTE(LEFT(개인정보점검갱신!B11,6),\" \",\"\"))","v":""},{"$f":"IF(개인정보점검갱신!B11=\"\",\"\",SUBSTITUTE(개인정보점검갱신!B11,점검결과!B10,\"\"))","v":""},{"$f":"IF(개인정보점검갱신!C11=\"\",\"\",SUBSTITUTE(개인정보점검갱신!C11,점검결과!C10,\"\"))","v":""},{"$f":"IF(개인정보점검갱신!D11=\"\",\"\",SUBSTITUTE(개인정보점검갱신!D11,점검결과!D10,\"\"))","v":""},{"$f":"IF(개인정보점검갱신!E11=\"\",\"\",SUBSTITUTE(개인정보점검갱신!E11,점검결과!E10,\"\"))","v":""},{"$f":"IF(E10=\"보유\",VLOOKUP(B10,필요서류!$B$6:$C$49,2),\"\")","v":""},null,{"$f":"IF(E10=\"보유\",VLOOKUP(B10,필요서류!$B$6:$D$49,3),\"\")","v":""}]
[{"$f":"IFBLANK(개인정보점검갱신!A12)","v":""},{"$f":"IF(개인정보점검갱신!B12=\"\",\"\",SUBSTITUTE(LEFT(개인정보점검갱신!B12,6),\" \",\"\"))","v":""},{"$f":"IF(개인정보점검갱신!B12=\"\",\"\",SUBSTITUTE(개인정보점검갱신!B12,점검결과!B11,\"\"))","v":""},{"$f":"IF(개인정보점검갱신!C12=\"\",\"\",SUBSTITUTE(개인정보점검갱신!C12,점검결과!C11,\"\"))","v":""},{"$f":"IF(개인정보점검갱신!D12=\"\",\"\",SUBSTITUTE(개인정보점검갱신!D12,점검결과!D11,\"\"))","v":""},{"$f":"IF(개인정보점검갱신!E12=\"\",\"\",SUBSTITUTE(개인정보점검갱신!E12,점검결과!E11,\"\"))","v":""},{"$f":"IF(E11=\"보유\",VLOOKUP(B11,필요서류!$B$6:$C$49,2),\"\")","v":""},null,{"$f":"IF(E11=\"보유\",VLOOKUP(B11,필요서류!$B$6:$D$49,3),\"\")","v":""}]
[{"$f":"IFBLANK(개인정보점검갱신!A13)","v":""},{"$f":"IF(개인정보점검갱신!B13=\"\",\"\",SUBSTITUTE(LEFT(개인정보점검갱신!B13,6),\" \",\"\"))","v":""},{"$f":"IF(개인정보점검갱신!B13=\"\",\"\",SUBSTITUTE(개인정보점검갱신!B13,점검결과!B12,\"\"))","v":""},{"$f":"IF(개인정보점검갱신!C13=\"\",\"\",SUBSTITUTE(개인정보점검갱신!C13,점검결과!C12,\"\"))","v":""},{"$f":"IF(개인정보점검갱신!D13=\"\",\"\",SUBSTITUTE(개인정보점검갱신!D13,점검결과!D12,\"\"))","v":""},{"$f":"IF(개인정보점검갱신!E13=\"\",\"\",SUBSTITUTE(개인정보점검갱신!E13,점검결과!E12,\"\"))","v":""},{"$f":"IF(E12=\"보유\",VLOOKUP(B12,필요서류!$B$6:$C$49,2),\"\")","v":""},null,{"$f":"IF(E12=\"보유\",VLOOKUP(B12,필요서류!$B$6:$D$49,3),\"\")","v":""}]
[{"$f":"IFBLANK(개인정보점검갱신!A14)","v":""},{"$f":"IF(개인정보점검갱신!B14=\"\",\"\",SUBSTITUTE(LEFT(개인정보점검갱신!B14,6),\" \",\"\"))","v":""},{"$f":"IF(개인정보점검갱신!B14=\"\",\"\",SUBSTITUTE(개인정보점검갱신!B14,점검결과!B13,\"\"))","v":""},{"$f":"IF(개인정보점검갱신!C14=\"\",\"\",SUBSTITUTE(개인정보점검갱신!C14,점검결과!C13,\"\"))","v":""},{"$f":"IF(개인정보점검갱신!D14=\"\",\"\",SUBSTITUTE(개인정보점검갱신!D14,점검결과!D13,\"\"))","v":""},{"$f":"IF(개인정보점검갱신!E14=\"\",\"\",SUBSTITUTE(개인정보점검갱신!E14,점검결과!E13,\"\"))","v":""},{"$f":"IF(E13=\"보유\",VLOOKUP(B13,필요서류!$B$6:$C$49,2),\"\")","v":""},null,{"$f":"IF(E13=\"보유\",VLOOKUP(B13,필요서류!$B$6:$D$49,3),\"\")","v":""}]
[{"$f":"IFBLANK(개인정보점검갱신!A15)","v":""},{"$f":"IF(개인정보점검갱신!B15=\"\",\"\",SUBSTITUTE(LEFT(개인정보점검갱신!B15,6),\" \",\"\"))","v":""},{"$f":"IF(개인정보점검갱신!B15=\"\",\"\",SUBSTITUTE(개인정보점검갱신!B15,점검결과!B14,\"\"))","v":""},{"$f":"IF(개인정보점검갱신!C15=\"\",\"\",SUBSTITUTE(개인정보점검갱신!C15,점검결과!C14,\"\"))","v":""},{"$f":"IF(개인정보점검갱신!D15=\"\",\"\",SUBSTITUTE(개인정보점검갱신!D15,점검결과!D14,\"\"))","v":""},{"$f":"IF(개인정보점검갱신!E15=\"\",\"\",SUBSTITUTE(개인정보점검갱신!E15,점검결과!E14,\"\"))","v":""},{"$f":"IF(E14=\"보유\",VLOOKUP(B14,필요서류!$B$6:$C$49,2),\"\")","v":""},null,{"$f":"IF(E14=\"보유\",VLOOKUP(B14,필요서류!$B$6:$D$49,3),\"\")","v":""}]
[{"$f":"IFBLANK(개인정보점검갱신!A16)","v":""},{"$f":"IF(개인정보점검갱신!B16=\"\",\"\",SUBSTITUTE(LEFT(개인정보점검갱신!B16,6),\" \",\"\"))","v":""},{"$f":"IF(개인정보점검갱신!B16=\"\",\"\",SUBSTITUTE(개인정보점검갱신!B16,점검결과!B15,\"\"))","v":""},{"$f":"IF(개인정보점검갱신!C16=\"\",\"\",SUBSTITUTE(개인정보점검갱신!C16,점검결과!C15,\"\"))","v":""},{"$f":"IF(개인정보점검갱신!D16=\"\",\"\",SUBSTITUTE(개인정보점검갱신!D16,점검결과!D15,\"\"))","v":""},{"$f":"IF(개인정보점검갱신!E16=\"\",\"\",SUBSTITUTE(개인정보점검갱신!E16,점검결과!E15,\"\"))","v":""},{"$f":"IF(E15=\"보유\",VLOOKUP(B15,필요서류!$B$6:$C$49,2),\"\")","v":""},null,{"$f":"IF(E15=\"보유\",VLOOKUP(B15,필요서류!$B$6:$D$49,3),\"\")","v":""}]
[{"$f":"IFBLANK(개인정보점검갱신!A17)","v":""},{"$f":"IF(개인정보점검갱신!B17=\"\",\"\",SUBSTITUTE(LEFT(개인정보점검갱신!B17,6),\" \",\"\"))","v":""},{"$f":"IF(개인정보점검갱신!B17=\"\",\"\",SUBSTITUTE(개인정보점검갱신!B17,점검결과!B16,\"\"))","v":""},{"$f":"IF(개인정보점검갱신!C17=\"\",\"\",SUBSTITUTE(개인정보점검갱신!C17,점검결과!C16,\"\"))","v":""},{"$f":"IF(개인정보점검갱신!D17=\"\",\"\",SUBSTITUTE(개인정보점검갱신!D17,점검결과!D16,\"\"))","v":""},{"$f":"IF(개인정보점검갱신!E17=\"\",\"\",SUBSTITUTE(개인정보점검갱신!E17,점검결과!E16,\"\"))","v":""},{"$f":"IF(E16=\"보유\",VLOOKUP(B16,필요서류!$B$6:$C$49,2),\"\")","v":""},null,{"$f":"IF(E16=\"보유\",VLOOKUP(B16,필요서류!$B$6:$D$49,3),\"\")","v":""}]
[{"$f":"IFBLANK(개인정보점검갱신!A18)","v":""},{"$f":"IF(개인정보점검갱신!B18=\"\",\"\",SUBSTITUTE(LEFT(개인정보점검갱신!B18,6),\" \",\"\"))","v":""},{"$f":"IF(개인정보점검갱신!B18=\"\",\"\",SUBSTITUTE(개인정보점검갱신!B18,점검결과!B17,\"\"))","v":""},{"$f":"IF(개인정보점검갱신!C18=\"\",\"\",SUBSTITUTE(개인정보점검갱신!C18,점검결과!C17,\"\"))","v":""},{"$f":"IF(개인정보점검갱신!D18=\"\",\"\",SUBSTITUTE(개인정보점검갱신!D18,점검결과!D17,\"\"))","v":""},{"$f":"IF(개인정보점검갱신!E18=\"\",\"\",SUBSTITUTE(개인정보점검갱신!E18,점검결과!E17,\"\"))","v":""},{"$f":"IF(E17=\"보유\",VLOOKUP(B17,필요서류!$B$6:$C$49,2),\"\")","v":""},null,{"$f":"IF(E17=\"보유\",VLOOKUP(B17,필요서류!$B$6:$D$49,3),\"\")","v":""}]
[{"$f":"IFBLANK(개인정보점검갱신!A19)","v":""},{"$f":"IF(개인정보점검갱신!B19=\"\",\"\",SUBSTITUTE(LEFT(개인정보점검갱신!B19,6),\" \",\"\"))","v":""},{"$f":"IF(개인정보점검갱신!B19=\"\",\"\",SUBSTITUTE(개인정보점검갱신!B19,점검결과!B18,\"\"))","v":""},{"$f":"IF(개인정보점검갱신!C19=\"\",\"\",SUBSTITUTE(개인정보점검갱신!C19,점검결과!C18,\"\"))","v":""},{"$f":"IF(개인정보점검갱신!D19=\"\",\"\",SUBSTITUTE(개인정보점검갱신!D19,점검결과!D18,\"\"))","v":""},{"$f":"IF(개인정보점검갱신!E19=\"\",\"\",SUBSTITUTE(개인정보점검갱신!E19,점검결과!E18,\"\"))","v":""},{"$f":"IF(E18=\"보유\",VLOOKUP(B18,필요서류!$B$6:$C$49,2),\"\")","v":""},null,{"$f":"IF(E18=\"보유\",VLOOKUP(B18,필요서류!$B$6:$D$49,3),\"\")","v":""}]
[{"$f":"IFBLANK(개인정보점검갱신!A20)","v":""},{"$f":"IF(개인정보점검갱신!B20=\"\",\"\",SUBSTITUTE(LEFT(개인정보점검갱신!B20,6),\" \",\"\"))","v":""},{"$f":"IF(개인정보점검갱신!B20=\"\",\"\",SUBSTITUTE(개인정보점검갱신!B20,점검결과!B19,\"\"))","v":""},{"$f":"IF(개인정보점검갱신!C20=\"\",\"\",SUBSTITUTE(개인정보점검갱신!C20,점검결과!C19,\"\"))","v":""},{"$f":"IF(개인정보점검갱신!D20=\"\",\"\",SUBSTITUTE(개인정보점검갱신!D20,점검결과!D19,\"\"))","v":""},{"$f":"IF(개인정보점검갱신!E20=\"\",\"\",SUBSTITUTE(개인정보점검갱신!E20,점검결과!E19,\"\"))","v":""},{"$f":"IF(E19=\"보유\",VLOOKUP(B19,필요서류!$B$6:$C$49,2),\"\")","v":""},null,{"$f":"IF(E19=\"보유\",VLOOKUP(B19,필요서류!$B$6:$D$49,3),\"\")","v":""}]
[{"$f":"IFBLANK(개인정보점검갱신!A21)","v":""},{"$f":"IF(개인정보점검갱신!B21=\"\",\"\",SUBSTITUTE(LEFT(개인정보점검갱신!B21,6),\" \",\"\"))","v":""},{"$f":"IF(개인정보점검갱신!B21=\"\",\"\",SUBSTITUTE(개인정보점검갱신!B21,점검결과!B20,\"\"))","v":""},{"$f":"IF(개인정보점검갱신!C21=\"\",\"\",SUBSTITUTE(개인정보점검갱신!C21,점검결과!C20,\"\"))","v":""},{"$f":"IF(개인정보점검갱신!D21=\"\",\"\",SUBSTITUTE(개인정보점검갱신!D21,점검결과!D20,\"\"))","v":""},{"$f":"IF(개인정보점검갱신!E21=\"\",\"\",SUBSTITUTE(개인정보점검갱신!E21,점검결과!E20,\"\"))","v":""},{"$f":"IF(E20=\"보유\",VLOOKUP(B20,필요서류!$B$6:$C$49,2),\"\")","v":""},null,{"$f":"IF(E20=\"보유\",VLOOKUP(B20,필요서류!$B$6:$D$49,3),\"\")","v":""}]
[{"$f":"IFBLANK(개인정보점검갱신!A22)","v":""},{"$f":"IF(개인정보점검갱신!B22=\"\",\"\",SUBSTITUTE(LEFT(개인정보점검갱신!B22,6),\" \",\"\"))","v":""},{"$f":"IF(개인정보점검갱신!B22=\"\",\"\",SUBSTITUTE(개인정보점검갱신!B22,점검결과!B21,\"\"))","v":""},{"$f":"IF(개인정보점검갱신!C22=\"\",\"\",SUBSTITUTE(개인정보점검갱신!C22,점검결과!C21,\"\"))","v":""},{"$f":"IF(개인정보점검갱신!D22=\"\",\"\",SUBSTITUTE(개인정보점검갱신!D22,점검결과!D21,\"\"))","v":""},{"$f":"IF(개인정보점검갱신!E22=\"\",\"\",SUBSTITUTE(개인정보점검갱신!E22,점검결과!E21,\"\"))","v":""},{"$f":"IF(E21=\"보유\",VLOOKUP(B21,필요서류!$B$6:$C$49,2),\"\")","v":""},null,{"$f":"IF(E21=\"보유\",VLOOKUP(B21,필요서류!$B$6:$D$49,3),\"\")","v":""}]
[{"$f":"IFBLANK(개인정보점검갱신!A23)","v":""},{"$f":"IF(개인정보점검갱신!B23=\"\",\"\",SUBSTITUTE(LEFT(개인정보점검갱신!B23,6),\" \",\"\"))","v":""},{"$f":"IF(개인정보점검갱신!B23=\"\",\"\",SUBSTITUTE(개인정보점검갱신!B23,점검결과!B22,\"\"))","v":""},{"$f":"IF(개인정보점검갱신!C23=\"\",\"\",SUBSTITUTE(개인정보점검갱신!C23,점검결과!C22,\"\"))","v":""},{"$f":"IF(개인정보점검갱신!D23=\"\",\"\",SUBSTITUTE(개인정보점검갱신!D23,점검결과!D22,\"\"))","v":""},{"$f":"IF(개인정보점검갱신!E23=\"\",\"\",SUBSTITUTE(개인정보점검갱신!E23,점검결과!E22,\"\"))","v":""},{"$f":"IF(E22=\"보유\",VLOOKUP(B22,필요서류!$B$6:$C$49,2),\"\")","v":""},null,{"$f":"IF(E22=\"보유\",VLOOKUP(B22,필요서류!$B$6:$D$49,3),\"\")","v":""}]
[{"$f":"IFBLANK(개인정보점검갱신!A24)","v":""},{"$f":"IF(개인정보점검갱신!B24=\"\",\"\",SUBSTITUTE(LEFT(개인정보점검갱신!B24,6),\" \",\"\"))","v":""},{"$f":"IF(개인정보점검갱신!B24=\"\",\"\",SUBSTITUTE(개인정보점검갱신!B24,점검결과!B23,\"\"))","v":""},{"$f":"IF(개인정보점검갱신!C24=\"\",\"\",SUBSTITUTE(개인정보점검갱신!C24,점검결과!C23,\"\"))","v":""},{"$f":"IF(개인정보점검갱신!D24=\"\",\"\",SUBSTITUTE(개인정보점검갱신!D24,점검결과!D23,\"\"))","v":""},{"$f":"IF(개인정보점검갱신!E24=\"\",\"\",SUBSTITUTE(개인정보점검갱신!E24,점검결과!E23,\"\"))","v":""},{"$f":"IF(E23=\"보유\",VLOOKUP(B23,필요서류!$B$6:$C$49,2),\"\")","v":""},null,{"$f":"IF(E23=\"보유\",VLOOKUP(B23,필요서류!$B$6:$D$49,3),\"\")","v":""}]
[{"$f":"IFBLANK(개인정보점검갱신!A25)","v":""},{"$f":"IF(개인정보점검갱신!B25=\"\",\"\",SUBSTITUTE(LEFT(개인정보점검갱신!B25,6),\" \",\"\"))","v":""},{"$f":"IF(개인정보점검갱신!B25=\"\",\"\",SUBSTITUTE(개인정보점검갱신!B25,점검결과!B24,\"\"))","v":""},{"$f":"IF(개인정보점검갱신!C25=\"\",\"\",SUBSTITUTE(개인정보점검갱신!C25,점검결과!C24,\"\"))","v":""},{"$f":"IF(개인정보점검갱신!D25=\"\",\"\",SUBSTITUTE(개인정보점검갱신!D25,점검결과!D24,\"\"))","v":""},{"$f":"IF(개인정보점검갱신!E25=\"\",\"\",SUBSTITUTE(개인정보점검갱신!E25,점검결과!E24,\"\"))","v":""},{"$f":"IF(E24=\"보유\",VLOOKUP(B24,필요서류!$B$6:$C$49,2),\"\")","v":""},null,{"$f":"IF(E24=\"보유\",VLOOKUP(B24,필요서류!$B$6:$D$49,3),\"\")","v":""}]
[{"$f":"IFBLANK(개인정보점검갱신!A26)","v":""},{"$f":"IF(개인정보점검갱신!B26=\"\",\"\",SUBSTITUTE(LEFT(개인정보점검갱신!B26,6),\" \",\"\"))","v":""},{"$f":"IF(개인정보점검갱신!B26=\"\",\"\",SUBSTITUTE(개인정보점검갱신!B26,점검결과!B25,\"\"))","v":""},{"$f":"IF(개인정보점검갱신!C26=\"\",\"\",SUBSTITUTE(개인정보점검갱신!C26,점검결과!C25,\"\"))","v":""},{"$f":"IF(개인정보점검갱신!D26=\"\",\"\",SUBSTITUTE(개인정보점검갱신!D26,점검결과!D25,\"\"))","v":""},{"$f":"IF(개인정보점검갱신!E26=\"\",\"\",SUBSTITUTE(개인정보점검갱신!E26,점검결과!E25,\"\"))","v":""},{"$f":"IF(E25=\"보유\",VLOOKUP(B25,필요서류!$B$6:$C$49,2),\"\")","v":""},null,{"$f":"IF(E25=\"보유\",VLOOKUP(B25,필요서류!$B$6:$D$49,3),\"\")","v":""}]
[{"$f":"IFBLANK(개인정보점검갱신!A27)","v":""},{"$f":"IF(개인정보점검갱신!B27=\"\",\"\",SUBSTITUTE(LEFT(개인정보점검갱신!B27,6),\" \",\"\"))","v":""},{"$f":"IF(개인정보점검갱신!B27=\"\",\"\",SUBSTITUTE(개인정보점검갱신!B27,점검결과!B26,\"\"))","v":""},{"$f":"IF(개인정보점검갱신!C27=\"\",\"\",SUBSTITUTE(개인정보점검갱신!C27,점검결과!C26,\"\"))","v":""},{"$f":"IF(개인정보점검갱신!D27=\"\",\"\",SUBSTITUTE(개인정보점검갱신!D27,점검결과!D26,\"\"))","v":""},{"$f":"IF(개인정보점검갱신!E27=\"\",\"\",SUBSTITUTE(개인정보점검갱신!E27,점검결과!E26,\"\"))","v":""},{"$f":"IF(E26=\"보유\",VLOOKUP(B26,필요서류!$B$6:$C$49,2),\"\")","v":""},null,{"$f":"IF(E26=\"보유\",VLOOKUP(B26,필요서류!$B$6:$D$49,3),\"\")","v":""}]
[{"$f":"IFBLANK(개인정보점검갱신!A28)","v":""},{"$f":"IF(개인정보점검갱신!B28=\"\",\"\",SUBSTITUTE(LEFT(개인정보점검갱신!B28,6),\" \",\"\"))","v":""},{"$f":"IF(개인정보점검갱신!B28=\"\",\"\",SUBSTITUTE(개인정보점검갱신!B28,점검결과!B27,\"\"))","v":""},{"$f":"IF(개인정보점검갱신!C28=\"\",\"\",SUBSTITUTE(개인정보점검갱신!C28,점검결과!C27,\"\"))","v":""},{"$f":"IF(개인정보점검갱신!D28=\"\",\"\",SUBSTITUTE(개인정보점검갱신!D28,점검결과!D27,\"\"))","v":""},{"$f":"IF(개인정보점검갱신!E28=\"\",\"\",SUBSTITUTE(개인정보점검갱신!E28,점검결과!E27,\"\"))","v":""},{"$f":"IF(E27=\"보유\",VLOOKUP(B27,필요서류!$B$6:$C$49,2),\"\")","v":""},null,{"$f":"IF(E27=\"보유\",VLOOKUP(B27,필요서류!$B$6:$D$49,3),\"\")","v":""}]
[{"$f":"IFBLANK(개인정보점검갱신!A29)","v":""},{"$f":"IF(개인정보점검갱신!B29=\"\",\"\",SUBSTITUTE(LEFT(개인정보점검갱신!B29,6),\" \",\"\"))","v":""},{"$f":"IF(개인정보점검갱신!B29=\"\",\"\",SUBSTITUTE(개인정보점검갱신!B29,점검결과!B28,\"\"))","v":""},{"$f":"IF(개인정보점검갱신!C29=\"\",\"\",SUBSTITUTE(개인정보점검갱신!C29,점검결과!C28,\"\"))","v":""},{"$f":"IF(개인정보점검갱신!D29=\"\",\"\",SUBSTITUTE(개인정보점검갱신!D29,점검결과!D28,\"\"))","v":""},{"$f":"IF(개인정보점검갱신!E29=\"\",\"\",SUBSTITUTE(개인정보점검갱신!E29,점검결과!E28,\"\"))","v":""},{"$f":"IF(E28=\"보유\",VLOOKUP(B28,필요서류!$B$6:$C$49,2),\"\")","v":""},null,{"$f":"IF(E28=\"보유\",VLOOKUP(B28,필요서류!$B$6:$D$49,3),\"\")","v":""}]
[{"$f":"IFBLANK(개인정보점검갱신!A30)","v":""},{"$f":"IF(개인정보점검갱신!B30=\"\",\"\",SUBSTITUTE(LEFT(개인정보점검갱신!B30,6),\" \",\"\"))","v":""},{"$f":"IF(개인정보점검갱신!B30=\"\",\"\",SUBSTITUTE(개인정보점검갱신!B30,점검결과!B29,\"\"))","v":""},{"$f":"IF(개인정보점검갱신!C30=\"\",\"\",SUBSTITUTE(개인정보점검갱신!C30,점검결과!C29,\"\"))","v":""},{"$f":"IF(개인정보점검갱신!D30=\"\",\"\",SUBSTITUTE(개인정보점검갱신!D30,점검결과!D29,\"\"))","v":""},{"$f":"IF(개인정보점검갱신!E30=\"\",\"\",SUBSTITUTE(개인정보점검갱신!E30,점검결과!E29,\"\"))","v":""},{"$f":"IF(E29=\"보유\",VLOOKUP(B29,필요서류!$B$6:$C$49,2),\"\")","v":""},null,{"$f":"IF(E29=\"보유\",VLOOKUP(B29,필요서류!$B$6:$D$49,3),\"\")","v":""}]
[{"$f":"IFBLANK(개인정보점검갱신!A31)","v":""},{"$f":"IF(개인정보점검갱신!B31=\"\",\"\",SUBSTITUTE(LEFT(개인정보점검갱신!B31,6),\" \",\"\"))","v":""},{"$f":"IF(개인정보점검갱신!B31=\"\",\"\",SUBSTITUTE(개인정보점검갱신!B31,점검결과!B30,\"\"))","v":""},{"$f":"IF(개인정보점검갱신!C31=\"\",\"\",SUBSTITUTE(개인정보점검갱신!C31,점검결과!C30,\"\"))","v":""},{"$f":"IF(개인정보점검갱신!D31=\"\",\"\",SUBSTITUTE(개인정보점검갱신!D31,점검결과!D30,\"\"))","v":""},{"$f":"IF(개인정보점검갱신!E31=\"\",\"\",SUBSTITUTE(개인정보점검갱신!E31,점검결과!E30,\"\"))","v":""},{"$f":"IF(E30=\"보유\",VLOOKUP(B30,필요서류!$B$6:$C$49,2),\"\")","v":""},null,{"$f":"IF(E30=\"보유\",VLOOKUP(B30,필요서류!$B$6:$D$49,3),\"\")","v":""}]
[{"$f":"IFBLANK(개인정보점검갱신!A32)","v":""},{"$f":"IF(개인정보점검갱신!B32=\"\",\"\",SUBSTITUTE(LEFT(개인정보점검갱신!B32,6),\" \",\"\"))","v":""},{"$f":"IF(개인정보점검갱신!B32=\"\",\"\",SUBSTITUTE(개인정보점검갱신!B32,점검결과!B31,\"\"))","v":""},{"$f":"IF(개인정보점검갱신!C32=\"\",\"\",SUBSTITUTE(개인정보점검갱신!C32,점검결과!C31,\"\"))","v":""},{"$f":"IF(개인정보점검갱신!D32=\"\",\"\",SUBSTITUTE(개인정보점검갱신!D32,점검결과!D31,\"\"))","v":""},{"$f":"IF(개인정보점검갱신!E32=\"\",\"\",SUBSTITUTE(개인정보점검갱신!E32,점검결과!E31,\"\"))","v":""},{"$f":"IF(E31=\"보유\",VLOOKUP(B31,필요서류!$B$6:$C$49,2),\"\")","v":""},null,{"$f":"IF(E31=\"보유\",VLOOKUP(B31,필요서류!$B$6:$D$49,3),\"\")","v":""}]
[{"$f":"IFBLANK(개인정보점검갱신!A33)","v":""},{"$f":"IF(개인정보점검갱신!B33=\"\",\"\",SUBSTITUTE(LEFT(개인정보점검갱신!B33,6),\" \",\"\"))","v":""},{"$f":"IF(개인정보점검갱신!B33=\"\",\"\",SUBSTITUTE(개인정보점검갱신!B33,점검결과!B32,\"\"))","v":""},{"$f":"IF(개인정보점검갱신!C33=\"\",\"\",SUBSTITUTE(개인정보점검갱신!C33,점검결과!C32,\"\"))","v":""},{"$f":"IF(개인정보점검갱신!D33=\"\",\"\",SUBSTITUTE(개인정보점검갱신!D33,점검결과!D32,\"\"))","v":""},{"$f":"IF(개인정보점검갱신!E33=\"\",\"\",SUBSTITUTE(개인정보점검갱신!E33,점검결과!E32,\"\"))","v":""},{"$f":"IF(E32=\"보유\",VLOOKUP(B32,필요서류!$B$6:$C$49,2),\"\")","v":""},null,{"$f":"IF(E32=\"보유\",VLOOKUP(B32,필요서류!$B$6:$D$49,3),\"\")","v":""}]
[{"$f":"IFBLANK(개인정보점검갱신!A34)","v":""},{"$f":"IF(개인정보점검갱신!B34=\"\",\"\",SUBSTITUTE(LEFT(개인정보점검갱신!B34,6),\" \",\"\"))","v":""},{"$f":"IF(개인정보점검갱신!B34=\"\",\"\",SUBSTITUTE(개인정보점검갱신!B34,점검결과!B33,\"\"))","v":""},{"$f":"IF(개인정보점검갱신!C34=\"\",\"\",SUBSTITUTE(개인정보점검갱신!C34,점검결과!C33,\"\"))","v":""},{"$f":"IF(개인정보점검갱신!D34=\"\",\"\",SUBSTITUTE(개인정보점검갱신!D34,점검결과!D33,\"\"))","v":""},{"$f":"IF(개인정보점검갱신!E34=\"\",\"\",SUBSTITUTE(개인정보점검갱신!E34,점검결과!E33,\"\"))","v":""},{"$f":"IF(E33=\"보유\",VLOOKUP(B33,필요서류!$B$6:$C$49,2),\"\")","v":""},null,{"$f":"IF(E33=\"보유\",VLOOKUP(B33,필요서류!$B$6:$D$49,3),\"\")","v":""}]
[{"$f":"IFBLANK(개인정보점검갱신!A35)","v":""},{"$f":"IF(개인정보점검갱신!B35=\"\",\"\",SUBSTITUTE(LEFT(개인정보점검갱신!B35,6),\" \",\"\"))","v":""},{"$f":"IF(개인정보점검갱신!B35=\"\",\"\",SUBSTITUTE(개인정보점검갱신!B35,점검결과!B34,\"\"))","v":""},{"$f":"IF(개인정보점검갱신!C35=\"\",\"\",SUBSTITUTE(개인정보점검갱신!C35,점검결과!C34,\"\"))","v":""},{"$f":"IF(개인정보점검갱신!D35=\"\",\"\",SUBSTITUTE(개인정보점검갱신!D35,점검결과!D34,\"\"))","v":""},{"$f":"IF(개인정보점검갱신!E35=\"\",\"\",SUBSTITUTE(개인정보점검갱신!E35,점검결과!E34,\"\"))","v":""},{"$f":"IF(E34=\"보유\",VLOOKUP(B34,필요서류!$B$6:$C$49,2),\"\")","v":""},null,{"$f":"IF(E34=\"보유\",VLOOKUP(B34,필요서류!$B$6:$D$49,3),\"\")","v":""}]
[{"$f":"IFBLANK(개인정보점검갱신!A36)","v":""},{"$f":"IF(개인정보점검갱신!B36=\"\",\"\",SUBSTITUTE(LEFT(개인정보점검갱신!B36,6),\" \",\"\"))","v":""},{"$f":"IF(개인정보점검갱신!B36=\"\",\"\",SUBSTITUTE(개인정보점검갱신!B36,점검결과!B35,\"\"))","v":""},{"$f":"IF(개인정보점검갱신!C36=\"\",\"\",SUBSTITUTE(개인정보점검갱신!C36,점검결과!C35,\"\"))","v":""},{"$f":"IF(개인정보점검갱신!D36=\"\",\"\",SUBSTITUTE(개인정보점검갱신!D36,점검결과!D35,\"\"))","v":""},{"$f":"IF(개인정보점검갱신!E36=\"\",\"\",SUBSTITUTE(개인정보점검갱신!E36,점검결과!E35,\"\"))","v":""},{"$f":"IF(E35=\"보유\",VLOOKUP(B35,필요서류!$B$6:$C$49,2),\"\")","v":""},null,{"$f":"IF(E35=\"보유\",VLOOKUP(B35,필요서류!$B$6:$D$49,3),\"\")","v":""}]
[{"$f":"IFBLANK(개인정보점검갱신!A37)","v":""},{"$f":"IF(개인정보점검갱신!B37=\"\",\"\",SUBSTITUTE(LEFT(개인정보점검갱신!B37,6),\" \",\"\"))","v":""},{"$f":"IF(개인정보점검갱신!B37=\"\",\"\",SUBSTITUTE(개인정보점검갱신!B37,점검결과!B36,\"\"))","v":""},{"$f":"IF(개인정보점검갱신!C37=\"\",\"\",SUBSTITUTE(개인정보점검갱신!C37,점검결과!C36,\"\"))","v":""},{"$f":"IF(개인정보점검갱신!D37=\"\",\"\",SUBSTITUTE(개인정보점검갱신!D37,점검결과!D36,\"\"))","v":""},{"$f":"IF(개인정보점검갱신!E37=\"\",\"\",SUBSTITUTE(개인정보점검갱신!E37,점검결과!E36,\"\"))","v":""},{"$f":"IF(E36=\"보유\",VLOOKUP(B36,필요서류!$B$6:$C$49,2),\"\")","v":""},null,{"$f":"IF(E36=\"보유\",VLOOKUP(B36,필요서류!$B$6:$D$49,3),\"\")","v":""}]
[{"$f":"IFBLANK(개인정보점검갱신!A38)","v":""},{"$f":"IF(개인정보점검갱신!B38=\"\",\"\",SUBSTITUTE(LEFT(개인정보점검갱신!B38,6),\" \",\"\"))","v":""},{"$f":"IF(개인정보점검갱신!B38=\"\",\"\",SUBSTITUTE(개인정보점검갱신!B38,점검결과!B37,\"\"))","v":""},{"$f":"IF(개인정보점검갱신!C38=\"\",\"\",SUBSTITUTE(개인정보점검갱신!C38,점검결과!C37,\"\"))","v":""},{"$f":"IF(개인정보점검갱신!D38=\"\",\"\",SUBSTITUTE(개인정보점검갱신!D38,점검결과!D37,\"\"))","v":""},{"$f":"IF(개인정보점검갱신!E38=\"\",\"\",SUBSTITUTE(개인정보점검갱신!E38,점검결과!E37,\"\"))","v":""},{"$f":"IF(E37=\"보유\",VLOOKUP(B37,필요서류!$B$6:$C$49,2),\"\")","v":""},null,{"$f":"IF(E37=\"보유\",VLOOKUP(B37,필요서류!$B$6:$D$49,3),\"\")","v":""}]
[{"$f":"IFBLANK(개인정보점검갱신!A39)","v":""},{"$f":"IF(개인정보점검갱신!B39=\"\",\"\",SUBSTITUTE(LEFT(개인정보점검갱신!B39,6),\" \",\"\"))","v":""},{"$f":"IF(개인정보점검갱신!B39=\"\",\"\",SUBSTITUTE(개인정보점검갱신!B39,점검결과!B38,\"\"))","v":""},{"$f":"IF(개인정보점검갱신!C39=\"\",\"\",SUBSTITUTE(개인정보점검갱신!C39,점검결과!C38,\"\"))","v":""},{"$f":"IF(개인정보점검갱신!D39=\"\",\"\",SUBSTITUTE(개인정보점검갱신!D39,점검결과!D38,\"\"))","v":""},{"$f":"IF(개인정보점검갱신!E39=\"\",\"\",SUBSTITUTE(개인정보점검갱신!E39,점검결과!E38,\"\"))","v":""},{"$f":"IF(E38=\"보유\",VLOOKUP(B38,필요서류!$B$6:$C$49,2),\"\")","v":""},null,{"$f":"IF(E38=\"보유\",VLOOKUP(B38,필요서류!$B$6:$D$49,3),\"\")","v":""}]
[{"$f":"IFBLANK(개인정보점검갱신!A40)","v":""},{"$f":"IF(개인정보점검갱신!B40=\"\",\"\",SUBSTITUTE(LEFT(개인정보점검갱신!B40,6),\" \",\"\"))","v":""},{"$f":"IF(개인정보점검갱신!B40=\"\",\"\",SUBSTITUTE(개인정보점검갱신!B40,점검결과!B39,\"\"))","v":""},{"$f":"IF(개인정보점검갱신!C40=\"\",\"\",SUBSTITUTE(개인정보점검갱신!C40,점검결과!C39,\"\"))","v":""},{"$f":"IF(개인정보점검갱신!D40=\"\",\"\",SUBSTITUTE(개인정보점검갱신!D40,점검결과!D39,\"\"))","v":""},{"$f":"IF(개인정보점검갱신!E40=\"\",\"\",SUBSTITUTE(개인정보점검갱신!E40,점검결과!E39,\"\"))","v":""},{"$f":"IF(E39=\"보유\",VLOOKUP(B39,필요서류!$B$6:$C$49,2),\"\")","v":""},null,{"$f":"IF(E39=\"보유\",VLOOKUP(B39,필요서류!$B$6:$D$49,3),\"\")","v":""}]
[{"$f":"IFBLANK(개인정보점검갱신!A41)","v":""},{"$f":"IF(개인정보점검갱신!B41=\"\",\"\",SUBSTITUTE(LEFT(개인정보점검갱신!B41,6),\" \",\"\"))","v":""},{"$f":"IF(개인정보점검갱신!B41=\"\",\"\",SUBSTITUTE(개인정보점검갱신!B41,점검결과!B40,\"\"))","v":""},{"$f":"IF(개인정보점검갱신!C41=\"\",\"\",SUBSTITUTE(개인정보점검갱신!C41,점검결과!C40,\"\"))","v":""},{"$f":"IF(개인정보점검갱신!D41=\"\",\"\",SUBSTITUTE(개인정보점검갱신!D41,점검결과!D40,\"\"))","v":""},{"$f":"IF(개인정보점검갱신!E41=\"\",\"\",SUBSTITUTE(개인정보점검갱신!E41,점검결과!E40,\"\"))","v":""},{"$f":"IF(E40=\"보유\",VLOOKUP(B40,필요서류!$B$6:$C$49,2),\"\")","v":""},null,{"$f":"IF(E40=\"보유\",VLOOKUP(B40,필요서류!$B$6:$D$49,3),\"\")","v":""}]
[{"$f":"IFBLANK(개인정보점검갱신!A42)","v":""},{"$f":"IF(개인정보점검갱신!B42=\"\",\"\",SUBSTITUTE(LEFT(개인정보점검갱신!B42,6),\" \",\"\"))","v":""},{"$f":"IF(개인정보점검갱신!B42=\"\",\"\",SUBSTITUTE(개인정보점검갱신!B42,점검결과!B41,\"\"))","v":""},{"$f":"IF(개인정보점검갱신!C42=\"\",\"\",SUBSTITUTE(개인정보점검갱신!C42,점검결과!C41,\"\"))","v":""},{"$f":"IF(개인정보점검갱신!D42=\"\",\"\",SUBSTITUTE(개인정보점검갱신!D42,점검결과!D41,\"\"))","v":""},{"$f":"IF(개인정보점검갱신!E42=\"\",\"\",SUBSTITUTE(개인정보점검갱신!E42,점검결과!E41,\"\"))","v":""},{"$f":"IF(E41=\"보유\",VLOOKUP(B41,필요서류!$B$6:$C$49,2),\"\")","v":""},null,{"$f":"IF(E41=\"보유\",VLOOKUP(B41,필요서류!$B$6:$D$49,3),\"\")","v":""}]
[{"$f":"IFBLANK(개인정보점검갱신!A43)","v":""},{"$f":"IF(개인정보점검갱신!B43=\"\",\"\",SUBSTITUTE(LEFT(개인정보점검갱신!B43,6),\" \",\"\"))","v":""},{"$f":"IF(개인정보점검갱신!B43=\"\",\"\",SUBSTITUTE(개인정보점검갱신!B43,점검결과!B42,\"\"))","v":""},{"$f":"IF(개인정보점검갱신!C43=\"\",\"\",SUBSTITUTE(개인정보점검갱신!C43,점검결과!C42,\"\"))","v":""},{"$f":"IF(개인정보점검갱신!D43=\"\",\"\",SUBSTITUTE(개인정보점검갱신!D43,점검결과!D42,\"\"))","v":""},{"$f":"IF(개인정보점검갱신!E43=\"\",\"\",SUBSTITUTE(개인정보점검갱신!E43,점검결과!E42,\"\"))","v":""},{"$f":"IF(E42=\"보유\",VLOOKUP(B42,필요서류!$B$6:$C$49,2),\"\")","v":""},null,{"$f":"IF(E42=\"보유\",VLOOKUP(B42,필요서류!$B$6:$D$49,3),\"\")","v":""}]
[{"$f":"IFBLANK(개인정보점검갱신!A44)","v":""},{"$f":"IF(개인정보점검갱신!B44=\"\",\"\",SUBSTITUTE(LEFT(개인정보점검갱신!B44,6),\" \",\"\"))","v":""},{"$f":"IF(개인정보점검갱신!B44=\"\",\"\",SUBSTITUTE(개인정보점검갱신!B44,점검결과!B43,\"\"))","v":""},{"$f":"IF(개인정보점검갱신!C44=\"\",\"\",SUBSTITUTE(개인정보점검갱신!C44,점검결과!C43,\"\"))","v":""},{"$f":"IF(개인정보점검갱신!D44=\"\",\"\",SUBSTITUTE(개인정보점검갱신!D44,점검결과!D43,\"\"))","v":""},{"$f":"IF(개인정보점검갱신!E44=\"\",\"\",SUBSTITUTE(개인정보점검갱신!E44,점검결과!E43,\"\"))","v":""},{"$f":"IF(E43=\"보유\",VLOOKUP(B43,필요서류!$B$6:$C$49,2),\"\")","v":""},null,{"$f":"IF(E43=\"보유\",VLOOKUP(B43,필요서류!$B$7:$D$49,3),\"\")","v":""}]
[{"$f":"IFBLANK(개인정보점검갱신!A45)","v":""},{"$f":"IF(개인정보점검갱신!B45=\"\",\"\",SUBSTITUTE(LEFT(개인정보점검갱신!B45,6),\" \",\"\"))","v":""},{"$f":"IF(개인정보점검갱신!B45=\"\",\"\",SUBSTITUTE(개인정보점검갱신!B45,점검결과!B44,\"\"))","v":""},{"$f":"IF(개인정보점검갱신!C45=\"\",\"\",SUBSTITUTE(개인정보점검갱신!C45,점검결과!C44,\"\"))","v":""},{"$f":"IF(개인정보점검갱신!D45=\"\",\"\",SUBSTITUTE(개인정보점검갱신!D45,점검결과!D44,\"\"))","v":""},{"$f":"IF(개인정보점검갱신!E45=\"\",\"\",SUBSTITUTE(개인정보점검갱신!E45,점검결과!E44,\"\"))","v":""},{"$f":"IF(E44=\"보유\",VLOOKUP(B44,필요서류!$B$6:$C$49,2),\"\")","v":""},null,{"$f":"IF(E44=\"보유\",VLOOKUP(B44,필요서류!$B$7:$D$49,3),\"\")","v":""}]
[{"$f":"IFBLANK(개인정보점검갱신!A46)","v":""},{"$f":"IF(개인정보점검갱신!B46=\"\",\"\",SUBSTITUTE(LEFT(개인정보점검갱신!B46,6),\" \",\"\"))","v":""},{"$f":"IF(개인정보점검갱신!B46=\"\",\"\",SUBSTITUTE(개인정보점검갱신!B46,점검결과!B45,\"\"))","v":""},{"$f":"IF(개인정보점검갱신!C46=\"\",\"\",SUBSTITUTE(개인정보점검갱신!C46,점검결과!C45,\"\"))","v":""},{"$f":"IF(개인정보점검갱신!D46=\"\",\"\",SUBSTITUTE(개인정보점검갱신!D46,점검결과!D45,\"\"))","v":""},{"$f":"IF(개인정보점검갱신!E46=\"\",\"\",SUBSTITUTE(개인정보점검갱신!E46,점검결과!E45,\"\"))","v":""},{"$f":"IF(E45=\"보유\",VLOOKUP(B45,필요서류!$B$6:$C$49,2),\"\")","v":""},null,{"$f":"IF(E45=\"보유\",VLOOKUP(B45,필요서류!$B$7:$D$49,3),\"\")","v":""}]
[{"$f":"IFBLANK(개인정보점검갱신!A47)","v":""},{"$f":"IF(개인정보점검갱신!B47=\"\",\"\",LEFT(개인정보점검갱신!B47,6))","v":""},{"$f":"IF(개인정보점검갱신!B47=\"\",\"\",SUBSTITUTE(개인정보점검갱신!B47,점검결과!B46,\"\"))","v":""},{"$f":"IF(개인정보점검갱신!C47=\"\",\"\",SUBSTITUTE(개인정보점검갱신!C47,점검결과!C46,\"\"))","v":""},{"$f":"IF(개인정보점검갱신!D47=\"\",\"\",SUBSTITUTE(개인정보점검갱신!D47,점검결과!D46,\"\"))","v":""},{"$f":"IF(개인정보점검갱신!E47=\"\",\"\",SUBSTITUTE(개인정보점검갱신!E47,점검결과!E46,\"\"))","v":""},{"$f":"IF(E46=\"보유\",VLOOKUP(B46,필요서류!$B$6:$C$49,2),\"\")","v":""}]
[{"$f":"IFBLANK(개인정보점검갱신!A48)","v":""},{"$f":"IF(개인정보점검갱신!B48=\"\",\"\",LEFT(개인정보점검갱신!B48,6))","v":""},{"$f":"IF(개인정보점검갱신!B48=\"\",\"\",SUBSTITUTE(개인정보점검갱신!B48,점검결과!B47,\"\"))","v":""},{"$f":"IF(개인정보점검갱신!C48=\"\",\"\",SUBSTITUTE(개인정보점검갱신!C48,점검결과!C47,\"\"))","v":""},{"$f":"IF(개인정보점검갱신!D48=\"\",\"\",SUBSTITUTE(개인정보점검갱신!D48,점검결과!D47,\"\"))","v":""},{"$f":"IF(개인정보점검갱신!E48=\"\",\"\",SUBSTITUTE(개인정보점검갱신!E48,점검결과!E47,\"\"))","v":""},{"$f":"IF(E47=\"보유\",VLOOKUP(B47,필요서류!$B$6:$C$49,2),\"\")","v":""}]
[{"$f":"IFBLANK(개인정보점검갱신!A49)","v":""},{"$f":"IF(개인정보점검갱신!B49=\"\",\"\",LEFT(개인정보점검갱신!B49,6))","v":""},{"$f":"IF(개인정보점검갱신!B49=\"\",\"\",SUBSTITUTE(개인정보점검갱신!B49,점검결과!B48,\"\"))","v":""},{"$f":"IF(개인정보점검갱신!C49=\"\",\"\",SUBSTITUTE(개인정보점검갱신!C49,점검결과!C48,\"\"))","v":""},{"$f":"IF(개인정보점검갱신!D49=\"\",\"\",SUBSTITUTE(개인정보점검갱신!D49,점검결과!D48,\"\"))","v":""},{"$f":"IF(개인정보점검갱신!E49=\"\",\"\",SUBSTITUTE(개인정보점검갱신!E49,점검결과!E48,\"\"))","v":""},{"$f":"IF(E48=\"보유\",VLOOKUP(B48,필요서류!$B$6:$C$49,2),\"\")","v":""}]
[{"$f":"IFBLANK(개인정보점검갱신!A50)","v":""},{"$f":"IF(개인정보점검갱신!B50=\"\",\"\",LEFT(개인정보점검갱신!B50,6))","v":""},{"$f":"IF(개인정보점검갱신!B50=\"\",\"\",SUBSTITUTE(개인정보점검갱신!B50,점검결과!B49,\"\"))","v":""},{"$f":"IF(개인정보점검갱신!C50=\"\",\"\",SUBSTITUTE(개인정보점검갱신!C50,점검결과!C49,\"\"))","v":""},{"$f":"IF(개인정보점검갱신!D50=\"\",\"\",SUBSTITUTE(개인정보점검갱신!D50,점검결과!D49,\"\"))","v":""},{"$f":"IF(개인정보점검갱신!E50=\"\",\"\",SUBSTITUTE(개인정보점검갱신!E50,점검결과!E49,\"\"))","v":""},{"$f":"IF(E49=\"보유\",VLOOKUP(B49,필요서류!$B$6:$C$49,2),\"\")","v":""}]

{"sheet":"보유","index":7,"n_rows":49,"n_cols":13,"rows_kept":49,"cut":false,"hidden":false,"merged":[[0,0,0,8]]}
[{"$f":"IFBLANK(요양기관기초정보!D1)&\" 개인정보보호 자율점검 결과-보유하고 있어야할 서류목록\"","v":"팜오피스약국 개인정보보호 자율점검 결과-보유하고 있어야할 서류목록"}]
[]
["순번","항목번호","항목","점검결과","증빙자료","이행예정일자","증빙자료명칭","이행방법","참조",null,"순번","시트이름","증빙자료명칭"]
[1,null,null,null,null,null,null,null,null,null,{"$f":"IFBLANK(A4)","v":1},{"$f":"IFBLANK(I4)","v":""},{"$f":"IFBLANK(G4)","v":""}]
[{"$f":"IF(B5=\"\",\"\",A4+1)","v":""},null,null,null,null,null,null,null,null,null,{"$f":"IFBLANK(A5)","v":""},{"$f":"IFBLANK(I5)","v":""},{"$f":"IFBLANK(G5)","v":""}]
[{"$f":"IF(B6=\"\",\"\",A5+1)","v":""},null,null,null,null,null,null,null,null,null,"","",""]
["",null,null,null,null,null,null,null,null,null,"","",""]
["",null,null,null,null,null,null,null,null,null,"","",""]
["",null,null,null,null,null,null,null,null,null,"","",""]
["",null,null,null,null,null,null,null,null,null,"","",""]
["",null,null,null,null,null,null,null,null,null,"","",""]
["",null,null,null,null,null,null,null,null,null,"","",""]
["",null,null,null,null,null,null,null,null,null,"","",""]
["",null,null,null,null,null,null,null,null,null,"","",""]
["",null,null,null,null,null,null,null,null,null,"","",""]
["",null,null,null,null,null,null,null,null,null,"","",""]
["",null,null,null,null,null,null,null,null,null,"","",""]
["",null,null,null,null,null,null,null,null,null,"","",""]
["",null,null,null,null,null,null,null,null,null,"","",""]
["",null,null,null,null,null,null,null,null,null,"","",""]
["",null,null,null,null,null,null,null,null,null,"","",""]
["",null,null,null,null,null,null,null,null,null,"","",""]
["",null,null,null,null,null,null,null,null,null,{"$f":"IFBLANK(A23)","v":""},{"$f":"IFBLANK(I23)","v":""},{"$f":"IFBLANK(G23)","v":""}]
["",null,null,null,null,null,null,null,null,null,"","",""]
["",null,null,null,null,null,null,null,null,null,"","",""]
["",null,null,null,null,null,null,null,null,null,"","",""]
["",null,null,null,null,null,null,null,null,null,"","",""]
["",null,null,null,null,null,null,null,null,null,"","",""]
["",null,null,null,null,null,null,null,null,null,"","",""]
["",null,null,null,null,null,null,null,null,null,"","",""]
["",null,null,null,null,null,null,null,null,null,"","",""]
["",null,null,null,null,null,null,null,null,null,"","",""]
["",null,null,null,null,null,null,null,null,null,"","",""]
["",null,null,null,null,null,null,null,null,null,"","",""]
[{"$f":"IF(B35=\"\",\"\",A34+1)","v":""},null,null,null,null,null,null,null,null,null,"","",""]
["",null,null,null,null,null,null,null,null,null,"","",""]
["",null,null,null,null,null,null,null,null,null,"","",""]
["",null,null,null,null,null,null,null,null,null,"","",""]
["",null,null,null,null,null,null,null,null,null,"","",""]
["",null,null,null,null,null,null,null,null,null,"","",""]
["",null,null,null,null,null,null,null,null,null,"","",""]
["",null,null,null,null,null,null,null,null,null,"","",""]
["",null,null,null,null,null,null,null,null,null,"","",""]
["",null,null,null,null,null,null,null,null,null,"","",""]
["",null,null,null,null,null,null,null,null,null,"","",""]
["",null,null,null,null,null,null,null,null,null,"","",""]
["",null,null,null,null,null,null,null,null,null,"","",""]
["","","","","","","",null,null,null,"","",""]
["","","","","","","",null,null,null,"","",""]

{"sheet":"고지","index":8,"n_rows":12,"n_cols":5,"rows_kept":12,"cut":false,"hidden":false,"merged":[[5,0,5,5],[2,0,2,5],[3,0,3,1],[3,2,3,3],[3,4,3,5],[0,0,0,5],[1,0,1,5],[4,0,4,1],[4,2,4,3],[4,4,4,5],[9,0,9,5],[6,0,6,5],[7,0,7,5],[8,0,8,5],[11,0,11,5],[10,0,10,5]]}
["조제기록부 작성을 위한 개인정보 수집‧이용, 제공 고지"]
[{"$f":"\" \"&IFERROR(Josa(요양기관기초정보!D1,1),요양기관기초정보!D1&\"은\")&\" 조제기록부작성 위하여 아래와 같이 개인정보를 수집하고자 합니다.\"","v":" 팜오피스약국은 조제기록부작성 위하여 아래와 같이 개인정보를 수집하고자 합니다."}]
[" 개인정보 보호법 제15조제1항제2호에 따라 정보주체의 동의 없이 개인정보를 수집‧이용합니다."]
["개인정보수집사유",null,"개인정보항목",null,"수집근거"]
[{"$f":"IFBLANK(동의서!A22)","v":"조제기록부 작성"},null,"성명, 주민등록번호, 주소, 연락처",null,{"$f":"IFBLANK(동의서!E22)","v":"｢약사법｣ 제30조"}]
["수집된 개인정보는 복약 정보 제공 이외의 목적으로 사용하지 않습니다."]
["개인정보보호관련 서류 비치 및  열람안내"]
[{"$f":"\" \"&IFERROR(Josa(요양기관기초정보!D1,1),요양기관기초정보!D1&\"은\")&\" 고객의 개인정보보호에 최선을 다하고 있습니다\"","v":" 팜오피스약국은 고객의 개인정보보호에 최선을 다하고 있습니다"}]
[" 관련법에  의거 다음의 서류를 비치하고 있으며 열람하실수 있습니다."]
["◈개인정보 내부관리 계획 "]
["◈개인정보 처리방침"]
["◈영상정보처리기기(CCTV) 운영·관리 방침"]

{"sheet":"동의서","index":9,"n_rows":25,"n_cols":9,"rows_kept":25,"cut":false,"hidden":false,"merged":[[18,0,18,5],[13,0,13,5],[16,0,16,5],[17,0,17,5],[7,0,7,5],[11,0,11,5],[12,0,12,5],[9,5,10,5],[8,0,8,2],[9,0,9,2],[10,0,10,2],[9,3,10,4],[14,0,14,1],[15,0,15,1],[14,3,14,4],[15,3,15,4],[24,0,24,5],[19,0,19,5],[20,0,20,1],[21,0,21,1],[20,2,20,3],[21,2,21,3],[20,4,20,5],[23,0,23,2],[21,4,21,5],[22,0,22,2],[0,0,0,5],[1,0,1,5],[2,0,2,5],[3,0,3,2],[4,0,4,2],[5,0,5,5],[6,0,6,5],[8,3,8,4],[3,3,3,4],[4,3,4,4]]}
[{"$f":"IF(I6=\"\",\"○○○\",I6&\" 서비스를 위한 개인정보 수집‧이용, 제공 동의서\")","v":"건강정보안내 서비스를 위한 개인정보 수집‧이용, 제공 동의서"}]
[{"$f":"IFERROR(Josa(요양기관기초정보!D1,1),요양기관기초정보!D1&\"은\")&\" \"&IFBLANK(I6)&\"서비스 제공을 위하여 아래와 같이 개인정보를 수집‧이용 및 제공하고자 합니다. 내용을 자세히 읽으신 후 동의 여부를 결정하여 주십시오.\"","v":"팜오피스약국은 건강정보안내서비스 제공을 위하여 아래와 같이 개인정보를 수집‧이용 및 제공하고자 합니다. 내용을 자세히 읽으신 후 동의 여부를 결정하여 주십시오."}]
["□ 개인정보 수집‧이용 내역(필수사항)"]
["항 목",null,null,"수집목적",null,"보유기간",null,"홈페이지운영이나 DM,문자메세지로  건강정보 제공시 필요"]
["성명, 전화번호",null,null,{"$f":"IFBLANK(I6)","v":"건강정보안내"},null,"1년"]
["※ 위의 개인정보 수집‧이용에 대한 동의를 거부할 권리가 있습니다. 그러나 동의를 거부할 경우 원활한 서비스 제공에 일부 제한을 받을 수 있습니다.",null,null,null,null,null,null,"개인정보 수집목적","건강정보안내"]
["☞ 위와 같이 개인정보를 수집·이용하는데 동의하십니까? (   )예  (   )아니오"]
["□ 선택적 개인정보 수집‧이용 내역(동의거부 가능)"]
["항 목",null,null,"수집목적",null,"보유기간"]
["□ 성별 □ 결혼 여부 ",null,null,{"$f":"IFBLANK(I6)","v":"건강정보안내"},null,"1년"]
["□ 연령 □ 관심 분야"]
[{"$f":"\"※ 위의 개인정보 수집‧이용에 대한 동의를 거부하셔도 \"&IF(I6=\"\",\"○○○\",I6)&\" 서비스는 받으실 수 있습니다.\"","v":"※ 위의 개인정보 수집‧이용에 대한 동의를 거부하셔도 건강정보안내 서비스는 받으실 수 있습니다."}]
["☞ 위와 같이 개인정보를 수집·이용하는데 동의하십니까? (   )예  (   )아니오"]
["□ 개인정보 제3자 제공 내역"]
["제공받는 기관",null,"제공목적","제공하는 항목",null,"보유기간"]
[null,null,null,null,null,"1년"]
["※ 위의 개인정보 제공에 대한 동의를 거부할 권리가 있습니다. 그러나 동의를 거부할 경우 원활한 서비스 제공에 일부 제한을 받을 수 있습니다."]
["☞ 위와 같이 개인정보를 제3자 제공하는데 동의하십니까? (   )예  (   )아니오"]
["<기타 고지 사항>"]
["개인정보 보호법 제15조제1항제2호에 따라 정보주체의 동의 없이 개인정보를 수집‧이용합니다."]
["개인정보 처리사유",null,"개인정보 항목",null,"수집 근거"]
["조제기록부 작성",null,"성명, 주민등록번호, 주소, 연락처",null,"｢약사법｣ 제30조"]
[null,null,null,"본인 성명               ",null,"(서명 또는 인)"]
[null,null,null,"법정대리인 성명 ",null,"(서명 또는 인)"]
[{"$f":"IFBLANK(요양기관기초정보!D1)&\"장 귀중\"","v":"팜오피스약국장 귀중"}]

{"sheet":"열람기준","index":10,"n_rows":68,"n_cols":1,"rows_kept":68,"cut":false,"hidden":false,"merged":[]}
["조제기록부 열람 및 사본발급 기준"]
["보건복지부 지침 제정 2017. 6. 23."]
[]
["제1조(목적) 이 지침은 「약사법 시행규칙」 제18조의2제1항 및 제2항에 따라 약사가 작성한 조제기록부의 열람 및 사본발급에 필요한 제출 서류의 범위 및 기준 등에 관하여 필요한 사항을 정함을 목적으로 한다."]
[]
["제2조(동의서) ① 「약사법 시행규칙」 제18조의2제1항제1호가목에 따른 “환자 본인의 동의서”란 환자가 자필 서명한 별지 제1호서식의 조제기록 열람 및 사본발급 동의서를 말한다. "]
["② 제1항에도 불구하고 환자가 만 14세 미만의 미성년자인 경우에는 환자의 법정대리인이 작성할 수 있다."]
[]
["제3조(신분증) ① 「약사법 시행규칙」 제18조의2제1항제1호나목에 따른 “환자 본인의 신분증 사본”이란 다음 각 호의 어느 하나를 말한다."]
["1. 주민등록증 사본"]
["2. 여권 사본"]
["3. 운전면허증 사본"]
["4. 그 밖에 공공기관에서 발행한 것으로 환자 본인을 확인할 수 있는 신분증 사본"]
["② 「약사법 시행규칙」 제18조의2제1항제1호다목에 따른 “요청인의 신분증 사본”이란 다음 각 호의 어느 하나를 말한다."]
["1. 제1항제1호부터 제3호까지의 서류 중 어느 하나에 해당하는 서류"]
["2. 그 밖에 공공기관에서 발행한 것으로 요청인 본인을 확인할 수 있는 신분증 사본"]
["③ 제1항에도 불구하고 환자가 만 17세 미만의 미성년자인 경우에는 환자 본인의 신분증 사본을 제출하지 아니할 수 있다."]
[]
["제4조(친족관계에 관한 서류) ① 「약사법 시행규칙」 제18조의2제1항제1호라목에 따른 “요청인과 환자가 친족 관계임을 나타내는 서류”란 다음 각 호의 어느 하나를 말한다."]
["1. 가족관계증명서"]
["2. 주민등록표 등본"]
["② 「약사법 시행규칙」 제18조의2제1항제1호에 따라 환자의 형제․자매가 요청하는 경우에는 환자의 배우자 및 직계존속․비속, 배우자의 직계존속이 모두 없음을 증명할 수 있는 서류를 첨부하여야 한다."]
[]
["제5조(지정대리권에 관한 서류) ① 「약사법 시행규칙」 제18조의2제1항제2호나목에 따른 “요청인에게 지정대리권이 있음을 증명하는 서류”란 환자가 자필 서명한 별지 제2호서식의 조제기록 열람 및 사본발급 위임장을 말한다."]
["② 제1항에도 불구하고 환자가 만 14세 미만의 미성년자인 경우에는 환자의 법정대리인이 작성할 수 있다. 이 경우 가족관계증명서 등 법정대리인임을 증명할 수 있는 서류를 첨부하여야 한다."]
[]
["제6조(법정대리권에 관한 서류) 「약사법 시행규칙」 제18조의2제1항제3호나목에 따른 “요청인에게 법정대리권이 있음을 증명하는 서류”란 요청인이 「민법」 제928조 또는 제936조에 따른 후견인임을 확인할 수 있는 법원의 결정문 등을 말한다."]
[]
["제7조(환자의 동의를 받을 수 없는 경우에 관한 서류) ①「약사법 시행규칙」 제18조의2제1항제4호나목에 따른 “환자가 사망하거나 의식이 없는 등 환자의 동의를 받을 수 없음을 증명하는 서류”란 다음 구분에 따른 서류를 말한다."]
["1. 환자가 사망한 경우: 가족관계증명서, 제적등본, 사망진단서 등 환자의 사망사실을 확인할 수 있는 서류"]
["2. 환자가 의식불명 또는 중증의 질환․부상으로 자필서명을 할 수 없는 경우: 환자가 의식불명 또는 중증의 질환․부상으로 자필 서명을 할 수 없음을 확인할 수 있는 의사의 진단서"]
["3. 환자가 행방불명인 경우: 주민등록표 등본, 법원의 실종선고 결정문 사본 등 행망불명 사실을 확인할 수 있는 서류"]
["4. 환자가 의사무능력자인 경우: 의사무능력자임을 확인할 수 있는 정신과 전문의의 진단서"]
["② 「약사법 시행규칙」 제18조의2제1항제4호에 따라 환자의 형제․자매가 요청하는 경우에는 환자의 배우자 및 직계존속․비속, 배우자의 직계존속이 모두 없음을 증명할 수 있는 서류를 첨부하여야 한다."]
[]
["부 칙"]
["이 지침은 2017. 6. 23.부터 시행한다."]
[]
["약사법 제30조(조제기록부)"]
[" ①약사는 약국에서 의약품을 조제(제23조제3항 각 호 외의 부분 단서 및 각 호에 따라 처방전 없이 조제하는 경우를 포함한다. 이하 이 조에서 같다)하면 환자의 인적 사항, 조제 연월일, 처방 약품명과 일수, 조제 내용 및 복약지도 내용, 그 밖에 보건복지부령으로 정하는 사항을 조제기록부(전자문서로 작성한 것을 포함한다)에 적어 5년 동안 보존하여야 한다. <개정 2008.2.29, 2010.1.18, 2011.3.30>"]
["   ② 환자는 약사에게 본인에 관한 기록의 열람 또는 사본의 발급 등 그 내용의 확인을 요청할 수 있다. 이 경우 약사는 정당한 사유 없이 이를 거부하여서는 아니 된다. <개정 2015.12.29>"]
["   ③ 약사는 환자가 아닌 다른 사람에게 환자에 관한 조제기록부를 열람하게 하거나 그 사본을 내주는 등 내용을 확인할 수 있게 하여서는 아니 된다. 다만, 다음 각 호의 어느 하나에 해당하는 경우에는 그 내용을 확인하게 할 수 있다. <신설 2015.12.29>"]
["1. 환자의 배우자, 직계존속ㆍ비속, 형제ㆍ자매(환자의 배우자 및 직계존속ㆍ비속, 배우자의 직계존속이 모두 없는 경우에 한정한다) 또는 배우자의 직계존속이 환자 본인의 동의서와 친족관계임을 나타내는 증명서 등을 첨부하는 등 보건복지부령으로 정하는 요건을 갖추어 요청한 경우"]
["2. 환자가 지정하는 대리인이 환자 본인의 동의서와 대리권이 있음을 증명하는 서류를 첨부하는 등 보건복지부령으로 정하는 요건을 갖추어 요청한 경우"]
["3. 환자의 법정대리인(「민법」 제928조 또는 제936조에 따른 후견인으로 한정한다)이 대리권이 있음을 증명하는 서류를 첨부하는 등 보건복지부령으로 정하는 요건을 갖추어 요청한 경우"]
["4. 환자가 사망하거나 의식이 없는 등 환자의 동의를 받을 수 없어 환자의 배우자, 직계존속ㆍ비속, 형제ㆍ자매(환자의 배우자 및 직계존속ㆍ비속, 배우자의 직계존속이 모두 없는 경우에 한정한다) 또는 배우자의 직계존속이 친족관계임을 나타내는 증명서 등을 첨부하는 등 보건복지부령으로 정하는 요건을 갖추어 요청한 경우"]
["5. 「국민건강보험법」 제14조, 제47조, 제48조 및 제63조에 따라 급여비용 심사ㆍ지급ㆍ대상여부 확인ㆍ사후관리 및 요양급여의 적정성 평가ㆍ가감지급 등을 위하여 국민건강보험공단 또는 건강보험심사평가원에 제공하는 경우"]
["6. 「의료급여법」 제5조, 제11조, 제11조의3 및 제33조에 따라 의료급여 수급권자 확인, 급여비용의 심사ㆍ지급, 사후관리 등 의료급여 업무를 위하여 보장기관(시ㆍ군ㆍ구), 국민건강보험공단, 건강보험심사평가원에 제공하는 경우"]
["7. 「형사소송법」 제106조, 제215조 또는 제218조에 따른 경우"]
["8. 「민사소송법」 제347조에 따라 문서제출을 명한 경우"]
[]
["약사법 시행규칙   제18조의2(조제기록부의 확인 등) "]
["① 약사는 법 제30조제3항 단서에 따라 각 호의 구분에 따른 요청이 있는 경우에는 환자가 아닌 다른 사람에게 환자에 관한 조제기록부의 내용을 확인하게 할 수 있다."]
["1. 법 제30조제3항제1호에 따라 환자의 배우자 등이 요청하는 경우: 다음 각 목의 서류를 모두 제출할 것"]
["가. 환자 본인의 동의서"]
["나. 환자 본인의 신분증 사본"]
["다. 요청인의 신분증 사본"]
["라. 요청인과 환자가 친족 관계임을 나타내는 서류"]
["2. 법 제30조제3항제2호에 따라 환자가 지정하는 대리인이 요청하는 경우: 다음 각 목의 서류를 모두 제출할 것"]
["가. 제1호가목부터 다목까지의 서류"]
["나. 요청인에게 지정대리권이 있음을 증명하는 서류"]
["3. 법 제30조제3항제3호에 따라 환자의 법정대리인이 요청하는 경우: 다음 각 목의 서류를 모두 제출할 것"]
["가. 제1호가목부터 다목까지의 서류"]
["나. 요청인에게 법정대리권이 있음을 증명하는 서류"]
["4. 법 제30조제3항제4호에 따라 환자의 배우자 등이 요청하는 경우: 다음 각 목의 서류를 모두 제출할 것"]
["가. 제1호나목부터 라목까지의 서류"]
["나. 환자가 사망하거나 의식이 없는 등 환자의 동의를 받을 수 없음을 증명하는 서류"]
["② 제1항제1호부터 제4호까지의 규정에 따른 제출서류의 범위 및 기준 등에 관하여 필요한 세부 사항은 보건복지부장관이 정한다."]

{"sheet":"열람동의서","index":11,"n_rows":39,"n_cols":8,"rows_kept":39,"cut":false,"hidden":false,"merged":[[12,1,12,4],[9,2,9,4],[19,7,20,13],[22,7,23,13],[8,0,13,0],[10,2,10,4],[17,0,17,4],[18,0,18,4],[19,0,19,4],[14,0,16,4],[11,1,11,4],[13,1,13,4],[21,0,21,4],[22,0,22,1],[23,0,23,4],[0,0,0,1],[1,0,1,4],[5,0,7,0],[2,0,4,0],[7,2,7,4],[4,2,4,4],[3,2,3,4],[38,0,38,4],[20,0,20,4],[37,0,37,4],[34,0,34,4],[35,0,35,4],[36,0,36,4],[27,0,29,0],[28,2,28,4],[29,2,29,4],[33,0,33,4],[24,0,26,0],[26,2,26,4],[30,0,32,4]]}
["■ [별지 제1호서식] "]
["조제기록 열람 및 사본발급 동의서"]
["환자               본인","성 명",null,"연락처"]
[null,"생년월일 (외국인등록번호)"]
[null,"주 소"]
["신청인","성 명",null,"환자와의 관계"]
[null,"생년월일 (외국인등록번호)",null,"연락처"]
[null,"주 소"]
["열람                   및                  사본               발급               범위","약국명칭",{"$f":"요양기관기초정보!D1","v":"팜오피스약국"},"팩스",{"$f":"IFBLANK(요양기관기초정보!C13)","v":"0505-324-4662"}]
[null,"조제기간"]
[null,"발급사유"]
[null,"발급내용"]
[null," ㅁ 조제기록부 ㅁ 영수증"]
[null," ㅁ 기타 -"]
["본인(또는 법정대리인)은 상기 신청인이 「약사법」 제30조제3항 및 같은 법 시행규칙 제18조의2에 따라 본인의 조제기록을 열람하거나 사본을 발급받는 것에 대하여 동의합니다."]
[]
[]
["년       월       일"]
[]
["본인(또는 법정대리인)                (자필서명)",null,null,null,null,null,null,"법 시행령 제41조(개인정보의 열람절차 등) "]
["*법정대리인-본인의배우자,본인의 직계존비속,배우자의직계존속"]
["*법정대리인 신청시 환자신분증사본+신청인신분증+가족관계증명서나 주민등록표등본"]
["■ [별지 제2호서식] ",null,null,null,null,null,null,"개인정보 처리 방법에 관한 고시"]
["조제기록 열람 및 사본발급 위임장"]
["수임인","성명",null,"전화번호"]
[null,"생년월일(외국인등록번호)",null,"위임인과의 관계"]
[null,"주소"]
["위임인","성명",null,"전화번호",null,null,null,"관련뉴스"]
[null,"생년월일(외국인등록번호)"]
[null,"주소"]
["위임인은 「약사법」제30조제3항 및 같은 법 시행규칙 제18조의2에 따라 「조제기록 열람 및 사본발급 동의서」에 기재된 사항에 대하여 일체 권한을 상기 수임인에게 위임합니다."]
[]
[]
["년       월       일"]
[]
["위임인                 (자필서명)"]
[]
["*위임받은자가  신청시 환자신분증사본+수임인(위임받은자)신분증  첨부"]
["자료를 받을 팩스나 Email을 기록해주세요-"]

{"sheet":"열람안내","index":12,"n_rows":25,"n_cols":13,"rows_kept":25,"cut":false,"hidden":false,"merged":[[8,8,9,10],[10,8,11,10],[0,0,3,13],[6,0,7,2],[8,0,9,2],[10,0,11,2],[4,1,4,7],[5,1,5,7],[18,12,19,13],[8,12,9,13],[10,12,11,13],[6,12,7,13],[12,12,13,13],[12,0,13,2],[14,0,15,2],[6,4,7,6],[8,4,9,6],[10,4,11,6],[12,4,13,6],[14,4,15,6],[24,0,24,13],[21,0,21,13],[14,12,15,13],[16,0,17,2],[16,12,17,13],[16,4,19,6],[16,8,19,10],[6,3,19,3],[6,7,19,7],[6,11,19,11],[20,0,20,13],[6,8,7,10],[12,8,13,10],[14,8,15,10],[22,0,23,13],[18,0,19,2]]}
["조제기록,영수증 -열람,사본 발급시 구비서류"]
[]
[]
[]
["관련법규"," -- 개인정보보호법 35조/개인정보보호법시행령41조"]
[null," -- 약사법30조/약사법시행규칙 18조의2"]
["환자본인발급시",null,null,null,"환자의 친족",null,null,null,"환자가 지정하는 대리인",null,null,null,"요청방법"]
[]
["1.신청인신분증",null,null,null,"1.신청인신분증",null,null,null,"1.신청인신분증",null,null,null,"1.방문"]
[]
[null,null,null,null,"2.환자신분증사본",null,null,null,"2.환자신분증사본",null,null,null,"2.온라인"]
[]
[null,null,null,null,"3.가족관계증명서",null,null,null,"3.환자자필동의서",null,null,null,"  -본인 친족만 가능"]
[]
[null,null,null,null,"4.환자자필동의서",null,null,null,"4.환자자필위임장"]
[]
[null,null,null,null,"친족이라도 위임장 작성하면 가족관계증명서 불필요",null,null,null,"형제,자매,자부,사위,보험회사나 병의원들에서 요청시"]
[]
[]
[]
["▣환자의친족-배우자,직계존속,직계비속,배우자의 직계존속  // 형제,자매,자부,사위는 위임장을 첨부해야 합니다."]
["▣관련법에 의거 5년이전의 자료는 복구불가능하게 삭제되므로 자료를 발급해 드릴수 없습니다."]
["자격이 없는 자가 요청하거나 서류가 구비 되지 않으면 발급이 거절됩니다."]
[]
[{"$f":"요양기관기초정보!D1","v":"팜오피스약국"}]

{"sheet":"표","index":13,"n_rows":27,"n_cols":1,"rows_kept":27,"cut":false,"hidden":true,"merged":[[8,2,9,2],[8,3,9,3],[12,2,13,2],[12,3,13,3],[14,2,15,2],[14,3,15,3],[10,2,11,2],[10,3,11,3],[26,12,29,12],[28,8,29,8],[28,9,29,9],[18,12,21,12],[22,12,25,12],[18,2,19,2],[24,8,25,8],[24,9,25,9],[20,8,21,8],[20,9,21,9],[18,3,19,3],[22,2,23,2],[22,3,23,3],[20,2,21,2],[20,3,21,3],[1,10,1,11],[2,3,3,3],[2,2,3,2],[6,2,7,2],[6,3,7,3],[1,6,1,7],[1,8,1,9],[4,3,5,3],[4,2,5,2],[2,9,3,9],[4,9,5,9],[4,8,5,8],[26,0,29,0],[26,1,29,1],[26,8,27,8],[26,9,27,9],[26,2,27,2],[26,3,27,3],[28,2,29,2],[28,3,29,3],[10,0,13,0],[10,1,13,1],[10,8,11,8],[10,9,11,9],[22,0,25,0],[22,1,25,1],[22,8,23,8],[22,9,23,9],[18,0,21,0],[18,1,21,1],[18,8,19,8],[18,9,19,9],[16,8,17,8],[16,9,17,9],[24,2,25,2],[24,3,25,3],[14,0,17,0],[14,1,17,1],[14,8,15,8],[14,9,15,9],[14,12,17,12],[16,2,17,2],[16,3,17,3],[10,12,13,12],[12,8,13,8],[12,9,13,9],[0,0,0,12],[1,4,1,5],[2,12,5,12],[6,0,9,0],[6,1,9,1],[6,8,7,8],[6,9,7,9],[6,12,9,12],[8,8,9,8],[8,9,9,9],[2,0,5,0],[2,1,5,1],[2,8,3,8]]}
[]
["연번"]
[1]
[]
[]
[]
[2]
[]
[]
[]
[3]
[]
[]
[]
[4]
[]
[]
[]
[5]
[]
[]
[]
[6]
[]
[]
[]
[7]

{"sheet":"용해증명서","index":14,"n_rows":1,"n_cols":1,"rows_kept":1,"cut":false,"hidden":false,"merged":[[0,0,1,8]]}
["용해,소각등 파기사실 증빙서류"]

{"sheet":"파기","index":15,"n_rows":42,"n_cols":10,"rows_kept":42,"cut":false,"hidden":false,"merged":[[0,0,1,7],[21,0,22,7]]}
[{"$f":"IFBLANK(요양기관기초정보!D1)&\" 개인정보 파기 관리대장\"","v":"팜오피스약국 개인정보 파기 관리대장"}]
[]
["번호","개인정보 파일명","자료의 종류","생성기간","폐기일","폐기사유","폐기방법","개인정보처리담당자"]
[{"$f":"IF(B4=\"\",\"\",1)","v":1},"환자 종이 처방전","종이처방전","2012-03-31","2015-03-31","보존기간 경과","용해/증빙서류 보관",{"$f":"IF(E3=\"\",\"\",요양기관기초정보!$C$6)","v":"홍길동"}]
[{"$f":"IF(B5=\"\",\"\",A4+1)","v":2},"환자 조제 내역 정보","전산데이터","2010-12-31","2015-12-31","보존기간 경과","전산자료삭제",{"$f":"IF(E4=\"\",\"\",요양기관기초정보!$C$6)","v":"홍길동"}]
[{"$f":"IF(B6=\"\",\"\",A5+1)","v":""},null,null,null,null,null,null,null,null,"내용을 지우고 사용하세요"]
[""]
[""]
[""]
[""]
[""]
[""]
[""]
[""]
[""]
[{"$f":"IF(B16=\"\",\"\",A15+1)","v":""}]
[""]
[""]
[""]
["",null,null,null,null,null,null,{"$f":"IF(E17=\"\",\"\",요양기관기초정보!$C$6)","v":""}]
[{"$f":"IF(B21=\"\",\"\",A20+1)","v":""},null,null,null,null,null,null,{"$f":"IF(E21=\"\",\"\",요양기관기초정보!$C$35)","v":""}]
[{"$f":"IFBLANK(요양기관기초정보!D1)&\" 개인정보 파기 관리대장\"","v":"팜오피스약국 개인정보 파기 관리대장"}]
[]
["번호","개인정보 파일명","자료의 종류","생성기간","폐기일","폐기사유","폐기방법","개인정보처리담당자"]
[{"$f":"IF(B25=\"\",\"\",A21+1)","v":""}]
[{"$f":"IF(B26=\"\",\"\",A22+1)","v":""}]
[""]
[""]
[""]
[""]
[""]
[""]
[""]
[""]
[""]
[""]
[""]
[""]
[""]
[""]
[""]
[""]

{"sheet":"민감","index":16,"n_rows":18,"n_cols":8,"rows_kept":18,"cut":false,"hidden":false,"merged":[[15,2,15,3],[14,6,14,7],[11,6,11,7],[15,6,15,7],[17,0,17,8],[11,4,11,5],[14,4,14,5],[15,4,15,5],[12,0,12,8],[16,0,16,8],[9,6,9,8],[13,0,13,5],[13,6,13,8],[14,2,14,3],[9,0,9,5],[10,2,10,3],[11,2,11,3],[7,0,7,8],[8,0,8,8],[4,0,4,2],[5,0,5,2],[4,3,4,5],[4,6,4,8],[5,3,5,5],[5,6,5,8],[6,0,6,8],[0,0,0,8],[1,0,1,8],[2,0,2,2],[3,0,3,2],[2,3,2,5],[2,6,2,8],[3,3,3,5],[3,6,3,8]]}
["민감정보 수집‧이용 동의서"]
[{"$f":"IFERROR(Josa(요양기관기초정보!D1,1),요양기관기초정보!D1&\"은\")&\" 개인정보보호법 등 관련 법령상의 개인정보 보호 규정을 준수하며 회원의 개인정 보 보호에 최선을 다하고 있습니다. \"&IFERROR(Josa(요양기관기초정보!D1,1),요양기관기초정보!D1&\"은\")&\" 개인정보보호법 제23조제1호에 근거하여, 다음과 같이 민감정보를 수집․이용하는데 동의를 받고자 합니다.\"","v":"팜오피스약국은 개인정보보호법 등 관련 법령상의 개인정보 보호 규정을 준수하며 회원의 개인정 보 보호에 최선을 다하고 있습니다. 팜오피스약국은 개인정보보호법 제23조제1호에 근거하여, 다음과 같이 민감정보를 수집․이용하는데 동의를 받고자 합니다."}]
["항목",null,null,"수집목적",null,null,"보유기간"]
[]
[]
[]
[]
["  ※ 위와 같이 개인정보를 처리하는데 동의를 거부할 권리가 있습니다. "]
[" 그러나 동의를 거부할 경우 일부 서비스 제공이 제한 될 수 있습니다."]
[" 위와 같이 민감정보를 처리하는데 동의하십니까?  ",null,null,null,null,null,"( 예  ,  아니오)"]
[null,null,"동의 일시",null,null,"년    ","월","일"]
[null,null,"본인 성명",null,null,null,"(서명 또는 날인)"]
[" ※ 정보주체가 만14세 미만의 아동인 경우"]
[" 위와 같이 민감정보를 처리하는데 동의하십니까?  ",null,null,null,null,null,"( 예  ,  아니오)"]
[null,null,"본인 성명",null,null,null,"(서명 또는 날인)"]
[null,null,"법정대리인 성명",null,null,null,"(서명 또는 날인)"]
[]
[{"$f":"IFBLANK(요양기관기초정보!D1)&\" 약국장 귀중\"","v":"팜오피스약국 약국장 귀중"}]

{"sheet":"영상관리","index":17,"n_rows":36,"n_cols":8,"rows_kept":36,"cut":false,"hidden":false,"merged":[[21,5,24,5],[18,0,18,3],[18,5,18,6],[19,5,19,6],[24,0,24,3],[13,5,13,6],[14,5,14,6],[10,5,10,7],[20,5,20,6],[11,5,12,6],[15,5,17,5],[28,0,28,3],[30,0,30,3],[32,0,32,3],[9,0,9,3],[13,0,13,1],[12,2,12,3],[13,2,13,3],[15,0,15,3],[17,0,17,3],[7,0,7,3],[8,0,8,3],[10,0,10,3],[12,0,12,1],[0,0,0,3],[2,0,2,3],[4,0,4,3],[5,0,5,3],[3,0,3,3],[6,0,6,3]]}
["【 영상정보처리기기(CCTV) 운영·관리 방침 】"]
[]
[{"$f":"IFERROR(Josa(요양기관기초정보!D1,1),요양기관기초정보!D1&\"은\")&\"(이하 본사라 함) 영상정보처리기기 운영․관리 방침을 통해 본사에서 처리하는 영상정보가 어떠한 용도와 방식으로 이용․관리되고 있는지 알려드립니다.\"","v":"팜오피스약국은(이하 본사라 함) 영상정보처리기기 운영․관리 방침을 통해 본사에서 처리하는 영상정보가 어떠한 용도와 방식으로 이용․관리되고 있는지 알려드립니다."}]
[]
["1. 영상정보처리기기의 설치 근거 및 설치 목적"]
["본 사는 개인정보보호법 제25조 제1항에 따라 다음과 같은 목적으로 영상정보처리기기를 설치․운영 합니다."]
[]
[{"$f":"IFBLANK(H12)","v":"- 시설안전 및 화재 예방"}]
[{"$f":"IFBLANK(H13)","v":"- 고객의 안전을 위한 범죄 예방"}]
[]
["2. 설치 대수, 설치 위치 및 촬영범위",null,null,null,null,"CCTV"]
[null,null,null,null,null,"설치목적",null,"- 시설안전 및 화재 예방"]
["설치 대수",null,"설치 위치 및 촬영 범위",null,null,null,null,"- 고객의 안전을 위한 범죄 예방"]
[{"$f":"IFBLANK(H14)","v":""},null,{"$f":"IFBLANK(H15)","v":""},null,null,"설치대수"]
[null,null,null,null,null,"설치장소"]
["3. 관리책임자 및 접근권한자",null,null,null,null,"접근권한자 ","이름"]
[null,null,null,null,null,null,"직위"]
["귀하의 영상정보를 보호하고 개인영상정보와 관련한 불만을 처리하기 위하여 아래와 같이 ",null,null,null,null,null,"연락처"]
["개인영상정보 보호책임자를 두고 있습니다.",null,null,null,null,"촬영시간",null,"24시간"]
[null,null,null,null,null,"보관기간",null,"촬영일로부터 300일"]
[null,"이름","직위","연락처",null,"보관장소",null,"1층 "]
["관리책임자",{"$f":"IFBLANK(요양기관기초정보!C6)","v":"홍길동"},"약국장",{"$f":"IFBLANK(요양기관기초정보!C12)","v":"02-324-4650"},null,"수탁업체","업체명"]
["접근권한자",{"$f":"IFBLANK(H16)","v":""},{"$f":"IFBLANK(H17)","v":""},{"$f":"IFBLANK(H18)","v":""},null,null,"연락처"]
[null,null,null,null,null,null,"담당자"]
["4. 영상정보의 촬영시간, 보관기간, 보관장소 및 처리방법",null,null,null,null,null,"휴대전화"]
[]
["촬영시간","보관기간","보관장소","처리방법"]
[{"$f":"IFBLANK(H19)","v":"24시간"},{"$f":"IFBLANK(H20)","v":"촬영일로부터 300일"},{"$f":"IFBLANK(H21)","v":"1층 "},"아래"]
["처리방법 : 개인영상정보의 목적 외 이용, 제3자 제공, 파기, 열람 등 요구에 관한 사항을 , 보관기간 만료 시 복원이 불가능한 방법으로 영구 삭제합니다."]
[]
["5. 영상정보처리기기 설치 및 관리 등의 위탁에 관한 사항 "]
[]
["본 사는 아래와 같이 영상정보처리기기 설치 및 관리 등을 위탁하고 있으며, 관계 법령에 따라 위탁계약 시 개인정보가 안전하게 관리될 수 있도록 필요한 사항을 규정하고 있습니다."]
[]
["수탁업체","대표번호","담당자","연락처"]
[{"$f":"IFBLANK(H22)","v":""},{"$f":"IFBLANK(H23)","v":""},{"$f":"IFBLANK(H24)","v":""},{"$f":"IFBLANK(H25)","v":""}]

{"sheet":"CCTV안내","index":18,"n_rows":80,"n_cols":94,"rows_kept":80,"cut":false,"hidden":false,"merged":[[0,0,20,128],[21,0,89,4],[21,124,89,128],[57,5,76,123],[36,7,39,27],[36,29,39,121],[43,7,46,27],[43,29,46,121],[50,7,53,27],[50,29,53,64],[50,93,53,121],[50,71,53,91],[22,7,25,27],[22,29,25,121],[29,7,32,27],[79,50,84,122],[29,29,32,121]]}
[]
[]
[]
[]
[]
[]
[]
[]
[]
[]
[]
[]
[]
[]
[]
[]
[]
[]
[]
[]
[]
[]
[null,null,null,null,null,null,null,"설치목적",null,null,null,null,null,null,null,null,null,null,null,null,null,null,null,null,null,null,null,null,null,"  범죄 예방 및 시설물 관리,고객안전관리"]
[]
[]
[]
[]
[]
[]
[null,null,null,null,null,null,null,"설치장소",null,null,null,null,null,null,null,null,null,null,null,null,null,null,null,null,null,null,null,null,null,"  매장,계단,창고"]
[]
[]
[]
[]
[]
[]
[null,null,null,null,null,null,null,"촬영범위",null,null,null,null,null,null,null,null,null,null,null,null,null,null,null,null,null,null,null,null,null,"  매장 내외"]
[]
[]
[]
[]
[]
[]
[null,null,null,null,null,null,null,"촬영시간",null,null,null,null,null,null,null,null,null,null,null,null,null,null,null,null,null,null,null,null,null,"  24시간 연속 촬영 / 녹화"]
[]
[]
[]
[]
[]
[]
[null,null,null,null,null,null,null,"관리책임",null,null,null,null,null,null,null,null,null,null,null,null,null,null,null,null,null,null,null,null,null,{"$f":"\"  \"&IFBLANK(요양기관기초정보!D1)&\" 약국장\"","v":"  팜오피스약국 약국장"},null,null,null,null,null,null,null,null,null,null,null,null,null,null,null,null,null,null,null,null,null,null,null,null,null,null,null,null,null,null,null,null,null,null,null,null,null,null,null,null,null,"연 락 처",null,null,null,null,null,null,null,null,null,null,null,null,null,null,null,null,null,null,null,null,null,{"$f":"\"  \"&IFBLANK(요양기관기초정보!C12)","v":"  02-324-4650"}]
[]
[]
[]
[]
[]
[]
[]
[]
[]
[]
[]
[]
[]
[]
[]
[]
[]
[]
[]
[]
[]
[]
[]
[]
[]
[]
[]
[]
[null,null,null,null,null,null,null,null,null,null,null,null,null,null,null,null,null,null,null,null,null,null,null,null,null,null,null,null,null,null,null,null,null,null,null,null,null,null,null,null,null,null,null,null,null,null,null,null,null,null,{"$f":"IFBLANK(요양기관기초정보!D1)","v":"팜오피스약국"}]

{"sheet":"CCTV인증샷","index":19,"n_rows":11,"n_cols":10,"rows_kept":11,"cut":false,"hidden":false,"merged":[[0,0,1,7]]}
["CCTV설치 인증샷"]
[]
[]
[]
[]
[]
[]
[]
[]
[]
[null,null,null,null,null,null,null,null,null,"예시"]

{"sheet":"영상정보관리","index":20,"n_rows":23,"n_cols":9,"rows_kept":23,"cut":false,"hidden":false,"merged":[[22,5,23,8],[2,5,5,5],[2,6,5,6],[2,7,5,7],[2,8,5,8],[6,0,9,0],[6,2,9,2],[6,3,9,3],[6,4,9,4],[6,5,9,5],[6,6,9,6],[6,7,9,7],[6,8,9,8],[2,0,5,0],[2,2,5,2],[2,3,5,3],[2,4,5,4],[10,0,13,0],[10,2,13,2],[10,3,13,3],[10,4,13,4],[10,5,13,5],[10,6,13,6],[10,7,13,7],[10,8,13,8],[14,7,17,7],[14,8,17,8],[0,0,0,8],[18,6,21,6],[18,7,21,7],[18,8,21,8],[14,0,17,0],[14,2,17,2],[14,3,17,3],[14,4,17,4],[14,5,17,5],[14,6,17,6],[18,0,21,0],[18,2,21,2],[18,3,21,3],[18,4,21,4],[18,5,21,5]]}
["개인영상정보 관리대장"]
["번호","구분","일시","파일명/형태","담당자","목적/사유","이용․제공받는           제3자 열람등 요구자","이용·제공·열람                거부시 구체적 사유 ","사본제공사유"]
[1,"□ 이용"]
[null,"□ 제공"]
[null,"□ 열람"]
[null,"□ 파기"]
[2,"□ 이용"]
[null,"□ 제공"]
[null,"□ 열람"]
[null,"□ 파기"]
[3,"□ 이용"]
[null,"□ 제공"]
[null,"□ 열람"]
[null,"□ 파기"]
[4,"□ 이용"]
[null,"□ 제공"]
[null,"□ 열람"]
[null,"□ 파기"]
[5,"□ 이용"]
[null,"□ 제공"]
[null,"□ 열람"]
[null,"□ 파기"]
[null,null,null,null,null,{"$f":"요양기관기초정보!D1","v":"팜오피스약국"}]

{"sheet":"위탁계약서","index":21,"n_rows":52,"n_cols":5,"rows_kept":52,"cut":false,"hidden":false,"merged":[[11,2,11,4],[12,2,12,4],[14,0,14,4],[15,1,15,4],[0,0,0,4],[1,0,1,4],[3,0,3,4],[4,1,4,4],[6,0,6,4],[7,1,7,4],[9,0,9,4],[10,1,10,4],[27,1,27,4],[28,2,28,4],[29,2,29,4],[30,2,30,4],[16,1,16,4],[18,0,18,4],[21,0,21,4],[19,1,19,4],[22,1,22,4],[23,1,23,4],[44,1,47,3],[48,1,51,3],[1,5,7,5],[38,0,38,4],[39,1,39,4],[40,1,40,4],[42,0,42,4],[43,0,43,4],[31,2,31,4],[32,2,32,4],[33,2,33,4],[34,1,34,4],[35,1,35,4],[36,1,36,4],[24,1,24,4],[26,0,26,4]]}
["개인정보처리 위탁 계약서"]
[{"$f":"IFBLANK(요양기관기초정보!D1)&\"(이하 “갑”이라 한다)\"&IFERROR(Josa1(요양기관기초정보!D1,4),\"과\")&\" \"&IFBLANK(요양기관기초정보!C47)&\"(이하 “을”이라 한다)\"&IFERROR(Josa1(요양기관기초정보!C47,1),\"은(는)\")&\" “갑”의 개인정보 처리업무를 “을”에게 위탁함에 있어 다음과 같은 내용으로 본 업무위탁계약을 체결한다.\"","v":"팜오피스약국(이하 “갑”이라 한다)과 유비케어(이하 “을”이라 한다)는 “갑”의 개인정보 처리업무를 “을”에게 위탁함에 있어 다음과 같은 내용으로 본 업무위탁계약을 체결한다."}]
[]
["제1조 (목적)"]
[null,"이 계약은 “갑”이 개인정보처리업무를 “을”에게 위탁하고, “을”은 이를 승낙하여 “을”의 책임아래 성실하게 업무를 완성하도록 하는데 필요한 사항을 정함을 목적으로 한다. "]
[]
["제2조 (용어의 정의)"]
[null,"본 계약에서 별도로 정의되지 아니한 용어는「개인정보 보호법」, 같은 법 시행령 및 시행규칙,「개인정보의 안전성 확보조치 기준」(행정안전부 고시 제2017-1호) 및「표준 개인정보 보호지침」(행정안전부 고시 제2017-1호)에서 정의된 바에 따른다. "]
[]
["제3조 (위탁업무의 목적 및 범위)"]
[null,{"$f":"\"“을”은 계약이 정하는 바에 따라 개인정보처리시스템 -\"&요양기관기초정보!C46&\"-으로 다음과 같은 개인정보처리업무를 수행한다.\"","v":"“을”은 계약이 정하는 바에 따라 개인정보처리시스템 -Upharm-으로 다음과 같은 개인정보처리업무를 수행한다."}]
[null,null,"1. 개인정보의 암호화 "]
[null,null,"2. 프로그램의 유지보수"]
[]
["제4조 (재위탁 제한) "]
[null,"① “을”은 “갑”의 사전 승낙을 얻은 경우를 제외하고 “갑”과의 계약상의 권리와 의무의 전부 또는 일부를 제3자에게 양도하거나 재위탁할 수 없다. "]
[null,"② “을”이 다른 제3의 회사와 수탁계약을 할 경우에는 “을”은 해당 사실을 계약 체결 7일 이전에 “갑”에게 통보하고 협의하여야 한다."]
[]
["제5조 (개인정보의 안전성 확보조치) "]
[null,"“을”은「개인정보 보호법」제23조제2항 및 제24조제3항 및 제29조, 같은 법 시행령 제21조 및 제30조, 「개인정보의 안전성 확보조치 기준」(행정안전부 고시 제2017-1호)에 따라 개인정보의 안전성 확보에 필요한 관리적․기술적 조치를 취하여야 한다."]
[]
["제6조 (개인정보의 처리제한) "]
[null,"① “을”은 계약기간은 물론 계약 종료 후에도 위탁업무 수행 목적 범위를 넘어 개인정보를 이용하거나 이를 제3자에게 제공 또는 누설하여서는 안 된다."]
[null,"② “을”은 계약이 해지되거나 또는 계약기간이 만료된 경우 위탁업무와 관련하여 보유하고 있는 개인정보를 「개인정보 보호법」시행령 제16조 및「개인정보의 안전성 확보조치 기준」(행정안전부 고시 제2017-1호)에 따라 즉시 파기하거나 “갑”에게 반납하여야 한다. "]
[null,"③ 제2항에 따라 “을”이 개인정보를 파기한 경우 지체없이 “갑”에게 그 결과를 통보하여야 한다."]
[]
["제7조 (수탁자에 대한 관리·감독 등)"]
[null," ① “갑”은 “을”에 대하여 다음 각 호의 사항을 관리하도록 요구할 수 있으며, “을”은 특별한 사유가 없는 한 이에 응하여야 한다."]
[null,null,"1. 개인정보의 처리 현황"]
[null,null,"2. 개인정보의 접근 또는 접속현황"]
[null,null,"3. 개인정보 접근 또는 접속 대상자"]
[null,null,"4. 목적외 이용․제공 및 재위탁 금지 준수여부"]
[null,null,"5. 암호화 등 안전성 확보조치 이행여부"]
[null,null,"6. 그 밖에 개인정보의 보호를 위하여 필요한 사항"]
[null," ② “갑”은 “을”에 대하여 제1항 각 호의 사항에 대한 실태를 점검하여 시정을 요구할 수 있으며, “을”은 특별한 사유가 없는 한 이행하여야 한다."]
[null," ③ “갑”은 처리위탁으로 인하여 정보주체의 개인정보가 분실·도난·유출·변조 또는 훼손되지 아니하도록 1년에 ( 1 )회 “을”을 교육할 수 있으며, “을”은 이에 응하여야 한다."]
[null," ④ 제1항에 따른 교육의 시기와 방법 등에 대해서는 “갑”은 “을”과 협의하여 시행한다."]
[]
["제8조 (손해배상) "]
[null," ① “을” 또는 “을”의 임직원 기타 “을”의 수탁자가 이 계약에 의하여 위탁 또는 재위탁받은 업무를 수행함에 있어 이 계약에 따른 의무를 위반하거나 “을” 또는 “을”의 임직원 기타 “을”의 수탁자의 귀책사유로 인하여 이 계약이 해지되어 “갑” 또는 개인정보주체 기타 제3자에게 손해가 발생한 경우 “을”은 그 손해를 배상하여야 한다."]
[null," ② 제1항과 관련하여 개인정보주체 기타 제3자에게 발생한 손해에 대하여 “갑”이 전부 또는 일부를 배상한 때에는 “갑”은 이를 “을”에게 구상할 수 있다. "]
[]
["본 계약의 내용을 증명하기 위하여 계약서 2부를 작성하고, “갑”과 “을”이 서명 또는 날인한 후 각 1부씩 보관한다"]
[]
[null,"갑",null,null,{"$f":"\"업체명 : \"&요양기관기초정보!D1&\" (\"&요양기관기초정보!C14&\")\"","v":"업체명 : 팜오피스약국 (307-06-71688)"}]
[null,null,null,null,{"$f":"\"대표자 : \"&요양기관기초정보!C6&\" (인)\"","v":"대표자 : 홍길동 (인)"}]
[null,null,null,null,{"$f":"\"주  소 : \"&요양기관기초정보!C11","v":"주  소 : 서울 서대문구 연세로 41 (창천동 78-14)"}]
[null,null,null,null,{"$f":"\"연락처 : \"&요양기관기초정보!C12","v":"연락처 : 02-324-4650"}]
[null,"을",null,null,{"$f":"\"업체명 : \"&요양기관기초정보!C47&\" (\"&요양기관기초정보!C50&\")\"","v":"업체명 : 유비케어 ()"}]
[null,null,null,null,{"$f":"\"대표자 : \"&요양기관기초정보!C48","v":"대표자 : 이상경"}]
[null,null,null,null,{"$f":"\"주  소 : \"&요양기관기초정보!C49","v":"주  소 : 서울시 구로구 디지털로 33길 28 우림 e-biz center 1차 10층"}]
[null,null,null,null,{"$f":"\"연락처 : \"&요양기관기초정보!C51","v":"연락처 : 02-2222-5200"}]

{"sheet":"업체점검","index":22,"n_rows":14,"n_cols":6,"rows_kept":14,"cut":false,"hidden":false,"merged":[[0,0,0,5],[13,0,13,5],[3,2,3,4],[3,0,4,0],[3,1,4,1],[3,5,4,5],[1,3,1,5],[2,3,2,5]]}
["수탁업체 개인정보 보호 실태 점검표"]
[null,null,"○ 업체명 : "]
[null,null,"○ 점검일 : "]
["순번","점검항목","점검결과",null,null,"비고"]
[null,null,"양호","취약","해당없움"]
[1,"개인정보 목적 외 이용제공 여부"]
[2,"재위탁 여부"]
[3,"안전성 확보조치 여부"]
[4]
[5]
[6]
[7]
[8]
["※ 『개인정보의 안전성 확보조치 기준(행정안전부고시 제2017-1호)』 참조"]

{"sheet":"처리방침","index":23,"n_rows":62,"n_cols":8,"rows_kept":62,"cut":false,"hidden":false,"merged":[[47,3,47,4],[51,3,51,4],[46,3,46,4],[50,3,50,4],[43,1,43,2],[46,1,46,2],[50,1,50,2],[44,1,44,2],[47,1,47,2],[51,1,51,2],[58,0,58,5],[36,0,36,5],[37,0,37,5],[39,0,39,5],[42,0,42,5],[45,0,45,5],[49,0,49,5],[53,0,53,5],[54,0,54,5],[55,0,55,5],[56,0,56,5],[57,0,57,5],[40,3,40,4],[43,3,43,4],[44,3,44,4],[41,3,41,4],[19,0,19,5],[20,0,20,5],[21,0,21,5],[22,0,22,5],[35,0,35,5],[24,0,24,5],[25,0,25,5],[26,0,26,5],[27,0,27,5],[28,0,28,5],[29,0,29,5],[30,0,30,5],[31,0,31,5],[32,0,32,5],[33,0,33,5],[34,0,34,5],[0,0,0,5],[2,0,2,5],[4,0,4,5],[7,0,7,5],[8,0,8,5],[33,7,34,12],[5,0,5,5],[6,0,6,5],[3,0,3,5],[1,0,1,5],[9,0,9,5],[10,0,10,5],[11,0,11,5],[23,0,23,5],[12,0,12,5],[13,0,13,5],[14,0,14,5],[15,0,15,5],[16,0,16,5],[17,0,17,5],[18,0,18,5]]}
["【 개인정보 처리방침 】"]
[{"$f":"IFERROR(Josa(요양기관기초정보!D1,1),요양기관기초정보!D1&\"은\")&\" 은 귀하의 개인정보보호를 매우 중요시하며, 『개인정보보호법』을 준수하고 있습니다.\"&IFERROR(Josa(요양기관기초정보!D1,1),요양기관기초정보!D1&\"은\")&\" 개인정보 처리방침을 통하여 귀하께서 제공하시는 개인정보가 어떠한 용도와 방식으로 이용되고 있으며 개인정보보호를 위해 어떠한 조치가 취해지고 있는지 알려드립니다.\"","v":"팜오피스약국은 은 귀하의 개인정보보호를 매우 중요시하며, 『개인정보보호법』을 준수하고 있습니다.팜오피스약국은 개인정보 처리방침을 통하여 귀하께서 제공하시는 개인정보가 어떠한 용도와 방식으로 이용되고 있으며 개인정보보호를 위해 어떠한 조치가 취해지고 있는지 알려드립니다."}]
["이 개인정보 처리방침의 순서는 다음과 같습니다. "]
[]
["1. 수집하는 개인정보의 항목 및 수집방법"]
["2. 개인정보의 수집 및 이용목적"]
["3. 개인정보의 보유 및 이용기간 및 파기절차 및 파기방법"]
["4. 이용자 및 법정대리인의 권리와 그 행사방법"]
["5. 개인정보의 제공 및 공유"]
["6. 개인정보의 위탁"]
["7. 개인정보 보호책임자"]
["8. 개인정보의 안전성 확보조치"]
["9. 정책 변경에 따른 공지의무"]
[]
["1. 수집하는 개인정보의 항목 및 수집방법"]
[{"$f":"IFERROR(Josa(요양기관기초정보!D1,1),요양기관기초정보!D1&\"은\")&\" 처방 조제와 투약과 청구에 필요한 최소한의 개인정보만을 수집합니다.\"","v":"팜오피스약국은 처방 조제와 투약과 청구에 필요한 최소한의 개인정보만을 수집합니다."}]
["- 수집항목 : 성명, 주민등록번호, 주소, 연락처, (관련내용 등)"]
["- 수집방법 : 약사법에 의해 개인정보가 포함된 처방전을 접수(정보주체의 별도 동의 없이 수집 가능)"]
[]
["2. 개인정보의 수집 및 이용목적"]
[{"$f":"IFERROR(Josa(요양기관기초정보!D1,1),요양기관기초정보!D1&\"은\")&\" 수집하는 개인정보는 약사법, 국민건강보험법에 따른 업무(처방전, 조제기록부의 보관 등), 건강보험급여의 청구에만 사용하며 이용 목적이 변경될 시에는 사전 동의를 구할 것입니다.\"","v":"팜오피스약국은 수집하는 개인정보는 약사법, 국민건강보험법에 따른 업무(처방전, 조제기록부의 보관 등), 건강보험급여의 청구에만 사용하며 이용 목적이 변경될 시에는 사전 동의를 구할 것입니다."}]
[]
["3. 개인정보의 보유 및 이용기간 및 파기절차 및 파기방법"]
[{"$f":"IFBLANK(요양기관기초정보!D1)&\"에서 수집한 개인정보는 의료법, 약사법, 건강보험법에서 정한 보유기간 동안  보유하며 그 이후는 지체 없이 파기합니다.\"","v":"팜오피스약국에서 수집한 개인정보는 의료법, 약사법, 건강보험법에서 정한 보유기간 동안  보유하며 그 이후는 지체 없이 파기합니다."}]
["- 보유기간 : 처방전 2년(요양급여비용을 청구한 처방전은 3년), 건강보험청구 관련 자료 5년 (법령기간)"]
["- 파기절차 : 법정 보유기간 후 파기방법에 의하여 파기"]
["- 파기방법 : 전자적 파일형태로 저장된 개인정보는 기록을 재생할 수 없는 기술적 방법을 사용하여 삭제하고 종이에 출력된 처방전은 분쇄기로 분쇄하거나 소각하여 파기"]
[]
["4. 이용자 및 법정대리인의 권리와 그 행사방법"]
[{"$f":"\"이용자 및 법정대리인은 개인정보와 관련하여 인터넷, 전화, 서면 등을 이용하여 \"&요양기관기초정보!D1&\"에 연락을 하여 개인정보 열람 등의 권리를 행사할 수 있으며, \"&요양기관기초정보!D1&\"은 지체 없이 필요한 조치를 합니다.\"","v":"이용자 및 법정대리인은 개인정보와 관련하여 인터넷, 전화, 서면 등을 이용하여 팜오피스약국에 연락을 하여 개인정보 열람 등의 권리를 행사할 수 있으며, 팜오피스약국은 지체 없이 필요한 조치를 합니다."}]
[{"$f":"IFBLANK(요양기관기초정보!D1)&\"에서 법에 따라 의무적으로 보관하고 있는 처방전, 건강보험청구 관련 자료는 이용자의 요청이 있더라도 법에서 정한 기간 동안은 변경, 삭제할 수 없습니다.\"","v":"팜오피스약국에서 법에 따라 의무적으로 보관하고 있는 처방전, 건강보험청구 관련 자료는 이용자의 요청이 있더라도 법에서 정한 기간 동안은 변경, 삭제할 수 없습니다."}]
[]
["5. 개인정보의 제3자 제공"]
["국민건강보험법에 의거 건강보험심사평가원에 요양급여비용 청구를 위해 진료기록을 제출합니다.",null,null,null,null,null,null,"개인정보보호종합포털"]
["※ 국민건강보험법에 의해 의무적으로 제출하는 사항이므로 별도의 제공 동의 불필요"]
[]
["6. 개인정보 처리의 위탁"]
["개인정보를 정보시스템을 통해 관리하기 위해 다음의 회사에 개인정보를 위탁하고 있습니다."]
[]
["- 청구프로그램(A/S 등) : 프로그램명, 회사명(연락처) 기입"]
[null,"회사명","프로그램명","연락처"]
[null,{"$f":"IFBLANK(요양기관기초정보!C46)","v":"Upharm"},{"$f":"IFBLANK(요양기관기초정보!C47)","v":"유비케어"},{"$f":"IFBLANK(요양기관기초정보!C51)","v":"02-2222-5200"}]
["- 폐기 : 업체명(연락처) 기입"]
[null,"회사명",null,"연락처"]
[null,{"$f":"IFBLANK(요양기관기초정보!C55)","v":"㈜태웅(선자원)"},null,{"$f":"IFBLANK(요양기관기초정보!C56)","v":"031-403-1432"}]
["- CCTV: 업체명(연락처) 기입"]
[null,"회사명",null,"연락처"]
[null,{"$f":"IFBLANK(요양기관기초정보!C41)","v":"에이디티캡스"},null,{"$f":"IFBLANK(요양기관기초정보!C42)","v":"1588-6400"}]
[]
["7. 개인정보 보호책임자"]
[null,"담당자",null,"연락처"]
[null,{"$f":"IF((요양기관기초정보!C36)=\"\",IFBLANK(요양기관기초정보!C6),IFBLANK(요양기관기초정보!C36))","v":"홍길동"},null,{"$f":"IFBLANK(요양기관기초정보!C12)","v":"02-324-4650"}]
[]
["8. 개인정보의 안전성 확보조치"]
[{"$f":"IFERROR(Josa(요양기관기초정보!D1,1),요양기관기초정보!D1&\"은\")&\"  이용자의 개인정보보호를 위한 기술적 대책으로서 여러 보안장치를 마련하고 있습니다. 이용자께서 제공하신 모든 정보는 방화벽 등 보안장비에 의해 안전하게 보호/관리되고 있습니다.\"","v":"팜오피스약국은  이용자의 개인정보보호를 위한 기술적 대책으로서 여러 보안장치를 마련하고 있습니다. 이용자께서 제공하신 모든 정보는 방화벽 등 보안장비에 의해 안전하게 보호/관리되고 있습니다."}]
[{"$f":"\"또한 \"&IFERROR(Josa(요양기관기초정보!D1,1),요양기관기초정보!D1&\"은\")&\" 이용자의 개인정보보호를 위한 관리적 대책으로서 이용자의 개인정보에 대한 접근 및 관리에 필요한 절차를 마련하고, 이용자의 개인정보를 처리하는 인원을 최소한으로 제한하고 개인정보를 처리하는 시스템의 사용자 비밀번호를 정기적으로 갱신하여 안전하게 관리합니다.\"","v":"또한 팜오피스약국은 이용자의 개인정보보호를 위한 관리적 대책으로서 이용자의 개인정보에 대한 접근 및 관리에 필요한 절차를 마련하고, 이용자의 개인정보를 처리하는 인원을 최소한으로 제한하고 개인정보를 처리하는 시스템의 사용자 비밀번호를 정기적으로 갱신하여 안전하게 관리합니다."}]
[]
["9. 정책 변경에 따른 공지의무"]
[{"$f":"\"이 개인정보 처리방침은 \"&IF(요양기관기초정보!C8<40997,\"2012년3월30일\",YEAR(요양기관기초정보!C8)&\"년\"&MONTH(요양기관기초정보!C8)&\"월\"&DAY(요양기관기초정보!C8)&\"일\")&\"에 제정되었으며 법령ㆍ정책 또는 보안기술의 변경에 따라 내용의 추가ㆍ삭제 및 수정이 있을 시에는 변경되는 개인정보 처리방침을 시행하기 최소 7일전 처방전 접수대에 변경이유 및 내용 등을 공지하도록 하겠습니다.\"","v":"이 개인정보 처리방침은 2012년3월30일에 제정되었으며 법령ㆍ정책 또는 보안기술의 변경에 따라 내용의 추가ㆍ삭제 및 수정이 있을 시에는 변경되는 개인정보 처리방침을 시행하기 최소 7일전 처방전 접수대에 변경이유 및 내용 등을 공지하도록 하겠습니다."}]
[]
[null,null,"공고일자",{"$f":"IF(요양기관기초정보!C8<40998,\"2012년3월30일\",YEAR(요양기관기초정보!C8)&\"년\"&MONTH(요양기관기초정보!C8)&\"월\"&DAY(요양기관기초정보!C8)&\"일\")","v":"2012년3월30일"}]
[null,null,"시행일자",{"$f":"IF(요양기관기초정보!C8<40998,\"2012년4월6일\",YEAR(요양기관기초정보!C8+7)&\"년\"&MONTH(요양기관기초정보!C8+7)&\"월\"&DAY(요양기관기초정보!C8+7)&\"일\")","v":"2012년4월6일"}]

{"sheet":"서약","index":24,"n_rows":75,"n_cols":10,"rows_kept":75,"cut":false,"hidden":false,"merged":[[196,7,196,8],[196,9,196,10],[197,7,197,8],[197,9,197,10],[5,1,5,2],[5,4,5,5],[21,0,21,5],[193,7,193,8],[193,9,193,10],[194,7,194,8],[194,9,194,10],[195,7,195,8],[195,9,195,10],[190,7,190,8],[190,9,190,10],[191,7,191,8],[191,9,191,10],[192,7,192,8],[192,9,192,10],[187,7,187,8],[187,9,187,10],[188,7,188,8],[188,9,188,10],[189,7,189,8],[189,9,189,10],[184,7,184,8],[184,9,184,10],[185,7,185,8],[185,9,185,10],[186,7,186,8],[186,9,186,10],[181,7,181,8],[181,9,181,10],[182,7,182,8],[182,9,182,10],[183,7,183,8],[183,9,183,10],[178,7,178,8],[178,9,178,10],[179,7,179,8],[179,9,179,10],[180,7,180,8],[180,9,180,10],[175,7,175,8],[175,9,175,10],[176,7,176,8],[176,9,176,10],[177,7,177,8],[177,9,177,10],[172,7,172,8],[172,9,172,10],[173,7,173,8],[173,9,173,10],[174,7,174,8],[174,9,174,10],[169,7,169,8],[169,9,169,10],[170,7,170,8],[170,9,170,10],[171,7,171,8],[171,9,171,10],[166,7,166,8],[166,9,166,10],[167,7,167,8],[167,9,167,10],[168,7,168,8],[168,9,168,10],[163,7,163,8],[163,9,163,10],[164,7,164,8],[164,9,164,10],[165,7,165,8],[165,9,165,10],[160,7,160,8],[160,9,160,10],[161,7,161,8],[161,9,161,10],[162,7,162,8],[162,9,162,10],[157,7,157,8],[157,9,157,10],[158,7,158,8],[158,9,158,10],[159,7,159,8],[159,9,159,10],[154,7,154,8],[154,9,154,10],[155,7,155,8],[155,9,155,10],[156,7,156,8],[156,9,156,10],[151,7,151,8],[151,9,151,10],[152,7,152,8],[152,9,152,10],[153,7,153,8],[153,9,153,10],[148,7,148,8],[148,9,148,10],[149,7,149,8],[149,9,149,10],[150,7,150,8],[150,9,150,10],[145,7,145,8],[145,9,145,10],[146,7,146,8],[146,9,146,10],[147,7,147,8],[147,9,147,10],[142,7,142,8],[142,9,142,10],[143,7,143,8],[143,9,143,10],[144,7,144,8],[144,9,144,10],[139,7,139,8],[139,9,139,10],[140,7,140,8],[140,9,140,10],[141,7,141,8],[141,9,141,10],[136,7,136,8],[136,9,136,10],[137,7,137,8],[137,9,137,10],[138,7,138,8],[138,9,138,10],[133,7,133,8],[133,9,133,10],[134,7,134,8],[134,9,134,10],[135,7,135,8],[135,9,135,10],[130,7,130,8],[130,9,130,10],[131,7,131,8],[131,9,131,10],[132,7,132,8],[132,9,132,10],[127,7,127,8],[127,9,127,10],[128,7,128,8],[128,9,128,10],[129,7,129,8],[129,9,129,10],[124,7,124,8],[124,9,124,10],[125,7,125,8],[125,9,125,10],[126,7,126,8],[126,9,126,10],[121,7,121,8],[121,9,121,10],[122,7,122,8],[122,9,122,10],[123,7,123,8],[123,9,123,10],[118,7,118,8],[118,9,118,10],[119,7,119,8],[119,9,119,10],[120,7,120,8],[120,9,120,10],[115,7,115,8],[115,9,115,10],[116,7,116,8],[116,9,116,10],[117,7,117,8],[117,9,117,10],[112,7,112,8],[112,9,112,10],[113,7,113,8],[113,9,113,10],[114,7,114,8],[114,9,114,10],[109,7,109,8],[109,9,109,10],[110,7,110,8],[110,9,110,10],[111,7,111,8],[111,9,111,10],[106,7,106,8],[106,9,106,10],[107,7,107,8],[107,9,107,10],[108,7,108,8],[108,9,108,10],[103,7,103,8],[103,9,103,10],[104,7,104,8],[104,9,104,10],[105,7,105,8],[105,9,105,10],[100,7,100,8],[100,9,100,10],[101,7,101,8],[101,9,101,10],[102,7,102,8],[102,9,102,10],[97,7,97,8],[97,9,97,10],[98,7,98,8],[98,9,98,10],[99,7,99,8],[99,9,99,10],[94,7,94,8],[94,9,94,10],[95,7,95,8],[95,9,95,10],[96,7,96,8],[96,9,96,10],[91,7,91,8],[91,9,91,10],[92,7,92,8],[92,9,92,10],[93,7,93,8],[93,9,93,10],[88,7,88,8],[88,9,88,10],[89,7,89,8],[89,9,89,10],[90,7,90,8],[90,9,90,10],[85,7,85,8],[85,9,85,10],[86,7,86,8],[86,9,86,10],[87,7,87,8],[87,9,87,10],[82,7,82,8],[82,9,82,10],[83,7,83,8],[83,9,83,10],[84,7,84,8],[84,9,84,10],[79,7,79,8],[79,9,79,10],[80,7,80,8],[80,9,80,10],[81,7,81,8],[81,9,81,10],[76,7,76,8],[76,9,76,10],[77,7,77,8],[77,9,77,10],[78,7,78,8],[78,9,78,10],[73,7,73,8],[73,9,73,10],[74,7,74,8],[74,9,74,10],[75,7,75,8],[75,9,75,10],[70,7,70,8],[70,9,70,10],[71,7,71,8],[71,9,71,10],[72,7,72,8],[72,9,72,10],[67,7,67,8],[67,9,67,10],[68,7,68,8],[68,9,68,10],[69,7,69,8],[69,9,69,10],[64,7,64,8],[64,9,64,10],[65,7,65,8],[65,9,65,10],[66,7,66,8],[66,9,66,10],[61,7,61,8],[61,9,61,10],[62,7,62,8],[62,9,62,10],[63,7,63,8],[63,9,63,10],[58,7,58,8],[58,9,58,10],[59,7,59,8],[59,9,59,10],[60,7,60,8],[60,9,60,10],[55,7,55,8],[55,9,55,10],[56,7,56,8],[56,9,56,10],[57,7,57,8],[57,9,57,10],[52,7,52,8],[52,9,52,10],[53,7,53,8],[53,9,53,10],[54,7,54,8],[54,9,54,10],[49,7,49,8],[49,9,49,10],[50,7,50,8],[50,9,50,10],[51,7,51,8],[51,9,51,10],[46,7,46,8],[46,9,46,10],[47,7,47,8],[47,9,47,10],[48,7,48,8],[48,9,48,10],[43,7,43,8],[43,9,43,10],[44,7,44,8],[44,9,44,10],[45,7,45,8],[45,9,45,10],[40,7,40,8],[40,9,40,10],[41,7,41,8],[41,9,41,10],[42,7,42,8],[42,9,42,10],[37,7,37,8],[37,9,37,10],[38,7,38,8],[38,9,38,10],[39,7,39,8],[39,9,39,10],[34,7,34,8],[34,9,34,10],[35,7,35,8],[35,9,35,10],[36,7,36,8],[36,9,36,10],[31,7,31,8],[31,9,31,10],[32,7,32,8],[32,9,32,10],[33,7,33,8],[33,9,33,10],[28,7,28,8],[28,9,28,10],[29,7,29,8],[29,9,29,10],[30,7,30,8],[30,9,30,10],[25,7,25,8],[25,9,25,10],[26,7,26,8],[26,9,26,10],[27,7,27,8],[27,9,27,10],[23,7,23,8],[23,9,23,10],[24,7,24,8],[24,9,24,10],[19,7,19,8],[19,9,19,10],[20,7,20,8],[20,9,20,10],[21,7,21,8],[21,9,21,10],[17,7,17,8],[17,9,17,10],[18,7,18,8],[18,9,18,10],[15,7,15,8],[15,9,15,10],[16,7,16,8],[16,9,16,10],[22,7,22,8],[22,9,22,10],[9,7,9,8],[9,9,9,10],[10,7,10,8],[10,9,10,10],[7,7,7,8],[7,9,7,10],[8,7,8,8],[8,9,8,10],[8,0,16,5],[13,7,13,8],[13,9,13,10],[14,7,14,8],[14,9,14,10],[11,7,11,8],[11,9,11,10],[12,7,12,8],[12,9,12,10],[4,1,4,2],[4,4,4,5],[4,7,4,8],[4,9,4,11],[6,1,6,5],[0,0,2,5],[3,1,3,2],[3,4,3,5],[3,7,3,8],[3,9,3,11]]}
["보안 서약서"]
[]
[]
["성  명",{"$f":"IF(J5=\"없어요\",\"\",VLOOKUP($J$4,사원명부!$A$2:$AB$150,2))","v":"테스트2"},null,"주민등록번호",{"$f":"IF(J5=\"없어요\",\"\",LEFT(VLOOKUP($J$4,사원명부!$A$2:$AB$150,4),8)&\"******\")","v":"680623-1******"},null,null,"사원번호",null,2]
["소  속",{"$f":"IFBLANK(요양기관기초정보!D1)","v":"팜오피스약국"},null,"직  위",{"$f":"IF(J5=\"없어요\",\"\",VLOOKUP($J$4,사원명부!$A$2:$AB$150,8)&\" \"&VLOOKUP($J$4,사원명부!$A$2:$AB$150,9))","v":"조제실 실장"},null,null,"이    름",null,{"$f":"IFERROR(IF($J$4=\"\",\"\",VLOOKUP(J4,사원명부!A2:B100,2,FALSE)),\"없어요\")","v":"테스트2"}]
["입사년월일",{"$f":"IF(J5=\"없어요\",\"\",VLOOKUP($J$4,사원명부!$A$2:$AB$150,11))","v":"2021-01-01"},null,"연락처",{"$f":"IF(J5=\"없어요\",\"\",VLOOKUP($J$4,사원명부!$A$2:$AB$150,6))","v":"010-2345-6789"}]
["주  소",{"$f":"IF(J5=\"없어요\",\"\",VLOOKUP($J$4,사원명부!$A$2:$AB$150,7))","v":"서울시 서대문구연세로 41"}]
[null,null,null,null,null,null,null,1,null,{"$f":"IFERROR(IF(H8=\"\",\"\",VLOOKUP(H8,사원명부!$A$2:$B$100,2,FALSE)),\"\")","v":"테스트1"}]
[{"$f":"\"상기 본인은 \"&IFBLANK(요양기관기초정보!D1)&\"에 근무하면서 업무 중에 알게 된 환자의 개인정보에 대하여 업무 수행중이나 업무 수행 후에도 비밀을 지킬 것을 서약합니다.\n\n또한 환자의 개인정보의 보호를 위해 \"&IFBLANK(요양기관기초정보!D1)&\"에서 정하는 개인정보처리방침 또는 내부관리계획을 준수할 것이며, 적법한 절차 없이 의원 및 환자의 개인정보를 무단으로 조회하거나 유출하지 않을 것을 서약합니다.\"&\"\n\n\"&\"본인은 개인정보보호책임자로부터 개인정보 처리 및 보호의 법적 근거가 되는 “개인정보보호법” 관련 규정을 충분히 설명을 듣고 숙지하였습니다.\"&\"\n\n\"&\"만약, 이러한 서약에도 불구하고 업무상 알게 된 사항에 대하여 비밀을 누설하거나 정당한 사유 없이 조회, 유출, 오용할 경우 민·형사상 처벌은 물론 징계처분을 받을 수 있음을 통고 받았으며, 이러한 제재에 대하여 이의를 제기하지 않을 것을 본인의 자의로 서약합니다.\"","v":"상기 본인은 팜오피스약국에 근무하면서 업무 중에 알게 된 환자의 개인정보에 대하여 업무 수행중이나 업무 수행 후에도 비밀을 지킬 것을 서약합니다.\n\n또한 환자의 개인정보의 보호를 위해 팜오피스약국에서 정하는 개인정보처리방침 또는 내부관리계획을 준수할 것이며, 적법한 절차 없이 의원 및 환자의 개인정보를 무단으로 조회하거나 유출하지 않을 것을 서약합니다.\n\n본인은 개인정보보호책임자로부터 개인정보 처리 및 보호의 법적 근거가 되는 “개인정보보호법” 관련 규정을 충분히 설명을 듣고 숙지하였습니다.\n\n만약, 이러한 서약에도 불구하고 업무상 알게 된 사항에 대하여 비밀을 누설하거나 정당한 사유 없이 조회, 유출, 오용할 경우 민·형사상 처벌은 물론 징계처분을 받을 수 있음을 통고 받았으며, 이러한 제재에 대하여 이의를 제기하지 않을 것을 본인의 자의로 서약합니다."},null,null,null,null,null,null,2,null,{"$f":"IFERROR(IF(H9=\"\",\"\",VLOOKUP(H9,사원명부!$A$2:$B$100,2,FALSE)),\"\")","v":"테스트2"}]
[null,null,null,null,null,null,null,3,null,{"$f":"IFERROR(IF(H10=\"\",\"\",VLOOKUP(H10,사원명부!$A$2:$B$100,2,FALSE)),\"\")","v":""}]
[null,null,null,null,null,null,null,4,null,{"$f":"IFERROR(IF(H11=\"\",\"\",VLOOKUP(H11,사원명부!$A$2:$B$100,2,FALSE)),\"\")","v":""}]
[null,null,null,null,null,null,null,5,null,{"$f":"IFERROR(IF(H12=\"\",\"\",VLOOKUP(H12,사원명부!$A$2:$B$100,2,FALSE)),\"\")","v":""}]
[null,null,null,null,null,null,null,6,null,{"$f":"IFERROR(IF(H13=\"\",\"\",VLOOKUP(H13,사원명부!$A$2:$B$100,2,FALSE)),\"\")","v":""}]
[null,null,null,null,null,null,null,7,null,{"$f":"IFERROR(IF(H14=\"\",\"\",VLOOKUP(H14,사원명부!$A$2:$B$100,2,FALSE)),\"\")","v":""}]
[null,null,null,null,null,null,null,8,null,{"$f":"IFERROR(IF(H15=\"\",\"\",VLOOKUP(H15,사원명부!$A$2:$B$100,2,FALSE)),\"\")","v":""}]
[null,null,null,null,null,null,null,9,null,{"$f":"IFERROR(IF(H16=\"\",\"\",VLOOKUP(H16,사원명부!$A$2:$B$100,2,FALSE)),\"\")","v":""}]
[null,null,null,null,null,null,null,10,null,{"$f":"IFERROR(IF(H17=\"\",\"\",VLOOKUP(H17,사원명부!$A$2:$B$100,2,FALSE)),\"\")","v":""}]
[null,null,null,null,null,null,null,11,null,{"$f":"IFERROR(IF(H18=\"\",\"\",VLOOKUP(H18,사원명부!$A$2:$B$100,2,FALSE)),\"\")","v":""}]
[null,null,null,"서약일 : ",{"$f":"IFBLANK(B6)","v":"2021-01-01"},null,null,12,null,{"$f":"IFERROR(IF(H19=\"\",\"\",VLOOKUP(H19,사원명부!$A$2:$B$100,2,FALSE)),\"\")","v":""}]
[null,null,null,"서약자 : ",{"$f":"IFBLANK(B4)","v":"테스트2"},"(서명 또는 날인)",null,13,null,{"$f":"IFERROR(IF(H20=\"\",\"\",VLOOKUP(H20,사원명부!$A$2:$B$100,2,FALSE)),\"\")","v":""}]
[null,null,null,null,null,null,null,14,null,{"$f":"IFERROR(IF(H21=\"\",\"\",VLOOKUP(H21,사원명부!$A$2:$B$100,2,FALSE)),\"\")","v":""}]
[{"$f":"IFBLANK(요양기관기초정보!D1)&\" 약국장 귀중\"","v":"팜오피스약국 약국장 귀중"},null,null,null,null,null,null,15,null,{"$f":"IFERROR(IF(H22=\"\",\"\",VLOOKUP(H22,사원명부!$A$2:$B$100,2,FALSE)),\"\")","v":""}]
[null,null,null,null,null,null,null,16,null,{"$f":"IFERROR(IF(H23=\"\",\"\",VLOOKUP(H23,사원명부!$A$2:$B$100,2,FALSE)),\"\")","v":""}]
[null,null,null,null,null,null,null,17,null,{"$f":"IFERROR(IF(H24=\"\",\"\",VLOOKUP(H24,사원명부!$A$2:$B$100,2,FALSE)),\"\")","v":""}]
[null,null,null,null,null,null,null,18,null,{"$f":"IFERROR(IF(H25=\"\",\"\",VLOOKUP(H25,사원명부!$A$2:$B$100,2,FALSE)),\"\")","v":""}]
[null,null,null,null,null,null,null,19,null,{"$f":"IFERROR(IF(H26=\"\",\"\",VLOOKUP(H26,사원명부!$A$2:$B$100,2,FALSE)),\"\")","v":""}]
[null,null,null,null,null,null,null,20,null,{"$f":"IFERROR(IF(H27=\"\",\"\",VLOOKUP(H27,사원명부!$A$2:$B$100,2,FALSE)),\"\")","v":""}]
[null,null,null,null,null,null,null,21,null,{"$f":"IFERROR(IF(H28=\"\",\"\",VLOOKUP(H28,사원명부!$A$2:$B$100,2,FALSE)),\"\")","v":""}]
[null,null,null,null,null,null,null,22,null,{"$f":"IFERROR(IF(H29=\"\",\"\",VLOOKUP(H29,사원명부!$A$2:$B$100,2,FALSE)),\"\")","v":""}]
[null,null,null,null,null,null,null,23,null,{"$f":"IFERROR(IF(H30=\"\",\"\",VLOOKUP(H30,사원명부!$A$2:$B$100,2,FALSE)),\"\")","v":""}]
[null,null,null,null,null,null,null,24,null,{"$f":"IFERROR(IF(H31=\"\",\"\",VLOOKUP(H31,사원명부!$A$2:$B$100,2,FALSE)),\"\")","v":""}]
[null,null,null,null,null,null,null,25,null,{"$f":"IFERROR(IF(H32=\"\",\"\",VLOOKUP(H32,사원명부!$A$2:$B$100,2,FALSE)),\"\")","v":""}]
[null,null,null,null,null,null,null,26,null,{"$f":"IFERROR(IF(H33=\"\",\"\",VLOOKUP(H33,사원명부!$A$2:$B$100,2,FALSE)),\"\")","v":""}]
[null,null,null,null,null,null,null,27,null,{"$f":"IFERROR(IF(H34=\"\",\"\",VLOOKUP(H34,사원명부!$A$2:$B$100,2,FALSE)),\"\")","v":""}]
[null,null,null,null,null,null,null,28,null,{"$f":"IFERROR(IF(H35=\"\",\"\",VLOOKUP(H35,사원명부!$A$2:$B$100,2,FALSE)),\"\")","v":""}]
[null,null,null,null,null,null,null,29,null,{"$f":"IFERROR(IF(H36=\"\",\"\",VLOOKUP(H36,사원명부!$A$2:$B$100,2,FALSE)),\"\")","v":""}]
[null,null,null,null,null,null,null,30,null,{"$f":"IFERROR(IF(H37=\"\",\"\",VLOOKUP(H37,사원명부!$A$2:$B$100,2,FALSE)),\"\")","v":""}]
[null,null,null,null,null,null,null,31,null,{"$f":"IFERROR(IF(H38=\"\",\"\",VLOOKUP(H38,사원명부!$A$2:$B$100,2,FALSE)),\"\")","v":""}]
[null,null,null,null,null,null,null,32,null,{"$f":"IFERROR(IF(H39=\"\",\"\",VLOOKUP(H39,사원명부!$A$2:$B$100,2,FALSE)),\"\")","v":""}]
[null,null,null,null,null,null,null,33,null,{"$f":"IFERROR(IF(H40=\"\",\"\",VLOOKUP(H40,사원명부!$A$2:$B$100,2,FALSE)),\"\")","v":""}]
[null,null,null,null,null,null,null,34,null,{"$f":"IFERROR(IF(H41=\"\",\"\",VLOOKUP(H41,사원명부!$A$2:$B$100,2,FALSE)),\"\")","v":""}]
[null,null,null,null,null,null,null,35,null,{"$f":"IFERROR(IF(H42=\"\",\"\",VLOOKUP(H42,사원명부!$A$2:$B$100,2,FALSE)),\"\")","v":""}]
[null,null,null,null,null,null,null,36,null,{"$f":"IFERROR(IF(H43=\"\",\"\",VLOOKUP(H43,사원명부!$A$2:$B$100,2,FALSE)),\"\")","v":""}]
[null,null,null,null,null,null,null,37,null,{"$f":"IFERROR(IF(H44=\"\",\"\",VLOOKUP(H44,사원명부!$A$2:$B$100,2,FALSE)),\"\")","v":""}]
[null,null,null,null,null,null,null,38,null,{"$f":"IFERROR(IF(H45=\"\",\"\",VLOOKUP(H45,사원명부!$A$2:$B$100,2,FALSE)),\"\")","v":""}]
[null,null,null,null,null,null,null,39,null,{"$f":"IFERROR(IF(H46=\"\",\"\",VLOOKUP(H46,사원명부!$A$2:$B$100,2,FALSE)),\"\")","v":""}]
[null,null,null,null,null,null,null,40,null,{"$f":"IFERROR(IF(H47=\"\",\"\",VLOOKUP(H47,사원명부!$A$2:$B$100,2,FALSE)),\"\")","v":""}]
[null,null,null,null,null,null,null,41,null,{"$f":"IFERROR(IF(H48=\"\",\"\",VLOOKUP(H48,사원명부!$A$2:$B$100,2,FALSE)),\"\")","v":""}]
[null,null,null,null,null,null,null,42,null,{"$f":"IFERROR(IF(H49=\"\",\"\",VLOOKUP(H49,사원명부!$A$2:$B$100,2,FALSE)),\"\")","v":""}]
[null,null,null,null,null,null,null,43,null,{"$f":"IFERROR(IF(H50=\"\",\"\",VLOOKUP(H50,사원명부!$A$2:$B$100,2,FALSE)),\"\")","v":""}]
[null,null,null,null,null,null,null,44,null,{"$f":"IFERROR(IF(H51=\"\",\"\",VLOOKUP(H51,사원명부!$A$2:$B$100,2,FALSE)),\"\")","v":""}]
[null,null,null,null,null,null,null,45,null,{"$f":"IFERROR(IF(H52=\"\",\"\",VLOOKUP(H52,사원명부!$A$2:$B$100,2,FALSE)),\"\")","v":""}]
[null,null,null,null,null,null,null,46,null,{"$f":"IFERROR(IF(H53=\"\",\"\",VLOOKUP(H53,사원명부!$A$2:$B$100,2,FALSE)),\"\")","v":""}]
[null,null,null,null,null,null,null,47,null,{"$f":"IFERROR(IF(H54=\"\",\"\",VLOOKUP(H54,사원명부!$A$2:$B$100,2,FALSE)),\"\")","v":""}]
[null,null,null,null,null,null,null,48,null,{"$f":"IFERROR(IF(H55=\"\",\"\",VLOOKUP(H55,사원명부!$A$2:$B$100,2,FALSE)),\"\")","v":""}]
[null,null,null,null,null,null,null,49,null,{"$f":"IFERROR(IF(H56=\"\",\"\",VLOOKUP(H56,사원명부!$A$2:$B$100,2,FALSE)),\"\")","v":""}]
[null,null,null,null,null,null,null,50,null,{"$f":"IFERROR(IF(H57=\"\",\"\",VLOOKUP(H57,사원명부!$A$2:$B$100,2,FALSE)),\"\")","v":""}]
[null,null,null,null,null,null,null,51,null,{"$f":"IFERROR(IF(H58=\"\",\"\",VLOOKUP(H58,사원명부!$A$2:$B$100,2,FALSE)),\"\")","v":""}]
[null,null,null,null,null,null,null,52,null,{"$f":"IFERROR(IF(H59=\"\",\"\",VLOOKUP(H59,사원명부!$A$2:$B$100,2,FALSE)),\"\")","v":""}]
[null,null,null,null,null,null,null,53,null,{"$f":"IFERROR(IF(H60=\"\",\"\",VLOOKUP(H60,사원명부!$A$2:$B$100,2,FALSE)),\"\")","v":""}]
[null,null,null,null,null,null,null,54,null,{"$f":"IFERROR(IF(H61=\"\",\"\",VLOOKUP(H61,사원명부!$A$2:$B$100,2,FALSE)),\"\")","v":""}]
[null,null,null,null,null,null,null,55,null,{"$f":"IFERROR(IF(H62=\"\",\"\",VLOOKUP(H62,사원명부!$A$2:$B$100,2,FALSE)),\"\")","v":""}]
[null,null,null,null,null,null,null,56,null,{"$f":"IFERROR(IF(H63=\"\",\"\",VLOOKUP(H63,사원명부!$A$2:$B$100,2,FALSE)),\"\")","v":""}]
[null,null,null,null,null,null,null,57,null,{"$f":"IFERROR(IF(H64=\"\",\"\",VLOOKUP(H64,사원명부!$A$2:$B$100,2,FALSE)),\"\")","v":""}]
[null,null,null,null,null,null,null,58,null,{"$f":"IFERROR(IF(H65=\"\",\"\",VLOOKUP(H65,사원명부!$A$2:$B$100,2,FALSE)),\"\")","v":""}]
[null,null,null,null,null,null,null,59,null,{"$f":"IFERROR(IF(H66=\"\",\"\",VLOOKUP(H66,사원명부!$A$2:$B$100,2,FALSE)),\"\")","v":""}]
[null,null,null,null,null,null,null,60,null,{"$f":"IFERROR(IF(H67=\"\",\"\",VLOOKUP(H67,사원명부!$A$2:$B$100,2,FALSE)),\"\")","v":""}]
[null,null,null,null,null,null,null,61,null,{"$f":"IFERROR(IF(H68=\"\",\"\",VLOOKUP(H68,사원명부!$A$2:$B$100,2,FALSE)),\"\")","v":""}]
[null,null,null,null,null,null,null,62,null,{"$f":"IFERROR(IF(H69=\"\",\"\",VLOOKUP(H69,사원명부!$A$2:$B$100,2,FALSE)),\"\")","v":""}]
[null,null,null,null,null,null,null,63,null,{"$f":"IFERROR(IF(H70=\"\",\"\",VLOOKUP(H70,사원명부!$A$2:$B$100,2,FALSE)),\"\")","v":""}]
[null,null,null,null,null,null,null,64,null,{"$f":"IFERROR(IF(H71=\"\",\"\",VLOOKUP(H71,사원명부!$A$2:$B$100,2,FALSE)),\"\")","v":""}]
[null,null,null,null,null,null,null,65,null,{"$f":"IFERROR(IF(H72=\"\",\"\",VLOOKUP(H72,사원명부!$A$2:$B$100,2,FALSE)),\"\")","v":""}]
[null,null,null,null,null,null,null,66,null,{"$f":"IFERROR(IF(H73=\"\",\"\",VLOOKUP(H73,사원명부!$A$2:$B$100,2,FALSE)),\"\")","v":""}]
[null,null,null,null,null,null,null,67,null,{"$f":"IFERROR(IF(H74=\"\",\"\",VLOOKUP(H74,사원명부!$A$2:$B$100,2,FALSE)),\"\")","v":""}]
[null,null,null,null,null,null,null,68,null,{"$f":"IFERROR(IF(H75=\"\",\"\",VLOOKUP(H75,사원명부!$A$2:$B$100,2,FALSE)),\"\")","v":""}]

{"sheet":"교육","index":25,"n_rows":67,"n_cols":16,"rows_kept":67,"cut":false,"hidden":false,"merged":[[5,15,6,18],[0,0,0,5],[33,0,33,5],[1,0,1,1],[2,0,2,1],[3,0,3,1],[2,2,2,5],[3,2,3,5],[4,0,4,1],[4,2,4,5]]}
[{"$f":"IFBLANK(요양기관기초정보!D1)&\" 개인 정보 보호 교육 서명록\"","v":"팜오피스약국 개인 정보 보호 교육 서명록"}]
["교육기간 : ",null,"2021-01-01","~","2020-12-31"]
["교육장소 : ",null," 개인 PC및  업무용 PC 로 개인 정보 보호 교육 동영상 시청"]
["교육내용 : ",null," 개인정보보호법 관련"]
[]
["사번","이름","부서명","직급","서명","증빙",null,null,null,null,null,null,null,null,null,"개인정보보호종합포털"]
[1,{"$f":"IFERROR(IF(A7=\"\",\"\",VLOOKUP(A7,사원명부!A2:Z100,2,FALSE)),\"\")","v":"테스트1"},{"$f":"IFERROR(IF(A7=\"\",\"\",VLOOKUP(A7,사원명부!A2:Z100,8,FALSE)),\"\")","v":"관리부"},{"$f":"IFERROR(IF(A7=\"\",\"\",VLOOKUP(A7,사원명부!A2:Z100,9,FALSE)),\"\")","v":"부장"},null,{"$f":"IF(B7=\"\",\"\",\"수료증\")","v":"수료증"}]
[{"$f":"IFBLANK(업무분장내역!B6)","v":""},{"$f":"IFERROR(IF(A8=\"\",\"\",VLOOKUP(A8,사원명부!A3:Z101,2,FALSE)),\"\")","v":""},{"$f":"IFERROR(IF(A8=\"\",\"\",VLOOKUP(A8,사원명부!A3:Z101,8,FALSE)),\"\")","v":""},{"$f":"IFERROR(IF(A8=\"\",\"\",VLOOKUP(A8,사원명부!A3:Z101,9,FALSE)),\"\")","v":""},null,{"$f":"IF(B8=\"\",\"\",\"수료증\")","v":""}]
[{"$f":"IFBLANK(업무분장내역!B7)","v":""},{"$f":"IFERROR(IF(A9=\"\",\"\",VLOOKUP(A9,사원명부!A4:Z102,2,FALSE)),\"\")","v":""},{"$f":"IFERROR(IF(A9=\"\",\"\",VLOOKUP(A9,사원명부!A4:Z102,8,FALSE)),\"\")","v":""},{"$f":"IFERROR(IF(A9=\"\",\"\",VLOOKUP(A9,사원명부!A4:Z102,9,FALSE)),\"\")","v":""},null,""]
[{"$f":"IFBLANK(업무분장내역!B8)","v":""},{"$f":"IFERROR(IF(A10=\"\",\"\",VLOOKUP(A10,사원명부!A5:Z103,2,FALSE)),\"\")","v":""},{"$f":"IFERROR(IF(A10=\"\",\"\",VLOOKUP(A10,사원명부!A5:Z103,8,FALSE)),\"\")","v":""},{"$f":"IFERROR(IF(A10=\"\",\"\",VLOOKUP(A10,사원명부!A5:Z103,9,FALSE)),\"\")","v":""},null,""]
[{"$f":"IFBLANK(업무분장내역!B9)","v":""},{"$f":"IFERROR(IF(A11=\"\",\"\",VLOOKUP(A11,사원명부!A6:Z104,2,FALSE)),\"\")","v":""},{"$f":"IFERROR(IF(A11=\"\",\"\",VLOOKUP(A11,사원명부!A6:Z104,8,FALSE)),\"\")","v":""},{"$f":"IFERROR(IF(A11=\"\",\"\",VLOOKUP(A11,사원명부!A6:Z104,9,FALSE)),\"\")","v":""},null,""]
[{"$f":"IFBLANK(업무분장내역!B10)","v":""},{"$f":"IFERROR(IF(A12=\"\",\"\",VLOOKUP(A12,사원명부!A7:Z105,2,FALSE)),\"\")","v":""},{"$f":"IFERROR(IF(A12=\"\",\"\",VLOOKUP(A12,사원명부!A7:Z105,8,FALSE)),\"\")","v":""},{"$f":"IFERROR(IF(A12=\"\",\"\",VLOOKUP(A12,사원명부!A7:Z105,9,FALSE)),\"\")","v":""},null,""]
[{"$f":"IFBLANK(업무분장내역!B11)","v":""},{"$f":"IFERROR(IF(A13=\"\",\"\",VLOOKUP(A13,사원명부!A8:Z106,2,FALSE)),\"\")","v":""},{"$f":"IFERROR(IF(A13=\"\",\"\",VLOOKUP(A13,사원명부!A8:Z106,8,FALSE)),\"\")","v":""},{"$f":"IFERROR(IF(A13=\"\",\"\",VLOOKUP(A13,사원명부!A8:Z106,9,FALSE)),\"\")","v":""},null,""]
[{"$f":"IFBLANK(업무분장내역!B12)","v":""},{"$f":"IFERROR(IF(A14=\"\",\"\",VLOOKUP(A14,사원명부!A9:Z107,2,FALSE)),\"\")","v":""},{"$f":"IFERROR(IF(A14=\"\",\"\",VLOOKUP(A14,사원명부!A9:Z107,8,FALSE)),\"\")","v":""},{"$f":"IFERROR(IF(A14=\"\",\"\",VLOOKUP(A14,사원명부!A9:Z107,9,FALSE)),\"\")","v":""},null,""]
[{"$f":"IFBLANK(업무분장내역!B13)","v":""},{"$f":"IFERROR(IF(A15=\"\",\"\",VLOOKUP(A15,사원명부!A10:Z108,2,FALSE)),\"\")","v":""},{"$f":"IFERROR(IF(A15=\"\",\"\",VLOOKUP(A15,사원명부!A10:Z108,8,FALSE)),\"\")","v":""},{"$f":"IFERROR(IF(A15=\"\",\"\",VLOOKUP(A15,사원명부!A10:Z108,9,FALSE)),\"\")","v":""},null,""]
[{"$f":"IFBLANK(업무분장내역!B14)","v":""},{"$f":"IFERROR(IF(A16=\"\",\"\",VLOOKUP(A16,사원명부!A11:Z109,2,FALSE)),\"\")","v":""},{"$f":"IFERROR(IF(A16=\"\",\"\",VLOOKUP(A16,사원명부!A11:Z109,8,FALSE)),\"\")","v":""},{"$f":"IFERROR(IF(A16=\"\",\"\",VLOOKUP(A16,사원명부!A11:Z109,9,FALSE)),\"\")","v":""},null,""]
[{"$f":"IFBLANK(업무분장내역!B15)","v":""},{"$f":"IFERROR(IF(A17=\"\",\"\",VLOOKUP(A17,사원명부!A12:Z110,2,FALSE)),\"\")","v":""},{"$f":"IFERROR(IF(A17=\"\",\"\",VLOOKUP(A17,사원명부!A12:Z110,8,FALSE)),\"\")","v":""},{"$f":"IFERROR(IF(A17=\"\",\"\",VLOOKUP(A17,사원명부!A12:Z110,9,FALSE)),\"\")","v":""},null,""]
[{"$f":"IFBLANK(업무분장내역!B16)","v":""},{"$f":"IFERROR(IF(A18=\"\",\"\",VLOOKUP(A18,사원명부!A13:Z111,2,FALSE)),\"\")","v":""},{"$f":"IFERROR(IF(A18=\"\",\"\",VLOOKUP(A18,사원명부!A13:Z111,8,FALSE)),\"\")","v":""},{"$f":"IFERROR(IF(A18=\"\",\"\",VLOOKUP(A18,사원명부!A13:Z111,9,FALSE)),\"\")","v":""},null,{"$f":"IF(B18=\"\",\"\",\"수료증\")","v":""}]
[{"$f":"IFBLANK(업무분장내역!B17)","v":""},{"$f":"IFERROR(IF(A19=\"\",\"\",VLOOKUP(A19,사원명부!A14:Z112,2,FALSE)),\"\")","v":""},{"$f":"IFERROR(IF(A19=\"\",\"\",VLOOKUP(A19,사원명부!A14:Z112,8,FALSE)),\"\")","v":""},{"$f":"IFERROR(IF(A19=\"\",\"\",VLOOKUP(A19,사원명부!A14:Z112,9,FALSE)),\"\")","v":""},null,""]
[{"$f":"IFBLANK(업무분장내역!B18)","v":""},{"$f":"IFERROR(IF(A20=\"\",\"\",VLOOKUP(A20,사원명부!A15:Z113,2,FALSE)),\"\")","v":""},{"$f":"IFERROR(IF(A20=\"\",\"\",VLOOKUP(A20,사원명부!A15:Z113,8,FALSE)),\"\")","v":""},{"$f":"IFERROR(IF(A20=\"\",\"\",VLOOKUP(A20,사원명부!A15:Z113,9,FALSE)),\"\")","v":""},null,""]
[{"$f":"IFBLANK(업무분장내역!B19)","v":""},{"$f":"IFERROR(IF(A21=\"\",\"\",VLOOKUP(A21,사원명부!A16:Z114,2,FALSE)),\"\")","v":""},{"$f":"IFERROR(IF(A21=\"\",\"\",VLOOKUP(A21,사원명부!A16:Z114,8,FALSE)),\"\")","v":""},{"$f":"IFERROR(IF(A21=\"\",\"\",VLOOKUP(A21,사원명부!A16:Z114,9,FALSE)),\"\")","v":""},null,""]
[{"$f":"IFBLANK(업무분장내역!B20)","v":""},{"$f":"IFERROR(IF(A22=\"\",\"\",VLOOKUP(A22,사원명부!A17:Z115,2,FALSE)),\"\")","v":""},{"$f":"IFERROR(IF(A22=\"\",\"\",VLOOKUP(A22,사원명부!A17:Z115,8,FALSE)),\"\")","v":""},{"$f":"IFERROR(IF(A22=\"\",\"\",VLOOKUP(A22,사원명부!A17:Z115,9,FALSE)),\"\")","v":""},null,""]
[{"$f":"IFBLANK(업무분장내역!B21)","v":""},{"$f":"IFERROR(IF(A23=\"\",\"\",VLOOKUP(A23,사원명부!A18:Z116,2,FALSE)),\"\")","v":""},{"$f":"IFERROR(IF(A23=\"\",\"\",VLOOKUP(A23,사원명부!A18:Z116,8,FALSE)),\"\")","v":""},{"$f":"IFERROR(IF(A23=\"\",\"\",VLOOKUP(A23,사원명부!A18:Z116,9,FALSE)),\"\")","v":""},null,""]
[{"$f":"IFBLANK(업무분장내역!B22)","v":""},{"$f":"IFERROR(IF(A24=\"\",\"\",VLOOKUP(A24,사원명부!A19:Z117,2,FALSE)),\"\")","v":""},{"$f":"IFERROR(IF(A24=\"\",\"\",VLOOKUP(A24,사원명부!A19:Z117,8,FALSE)),\"\")","v":""},{"$f":"IFERROR(IF(A24=\"\",\"\",VLOOKUP(A24,사원명부!A19:Z117,9,FALSE)),\"\")","v":""},null,""]
[{"$f":"IFBLANK(업무분장내역!B23)","v":""},{"$f":"IFERROR(IF(A25=\"\",\"\",VLOOKUP(A25,사원명부!A20:Z118,2,FALSE)),\"\")","v":""},{"$f":"IFERROR(IF(A25=\"\",\"\",VLOOKUP(A25,사원명부!A20:Z118,8,FALSE)),\"\")","v":""},{"$f":"IFERROR(IF(A25=\"\",\"\",VLOOKUP(A25,사원명부!A20:Z118,9,FALSE)),\"\")","v":""},null,""]
[{"$f":"IFBLANK(업무분장내역!B24)","v":""},{"$f":"IFERROR(IF(A26=\"\",\"\",VLOOKUP(A26,사원명부!A21:Z119,2,FALSE)),\"\")","v":""},{"$f":"IFERROR(IF(A26=\"\",\"\",VLOOKUP(A26,사원명부!A21:Z119,8,FALSE)),\"\")","v":""},{"$f":"IFERROR(IF(A26=\"\",\"\",VLOOKUP(A26,사원명부!A21:Z119,9,FALSE)),\"\")","v":""},null,""]
[{"$f":"IFBLANK(업무분장내역!B25)","v":""},{"$f":"IFERROR(IF(A27=\"\",\"\",VLOOKUP(A27,사원명부!A22:Z120,2,FALSE)),\"\")","v":""},{"$f":"IFERROR(IF(A27=\"\",\"\",VLOOKUP(A27,사원명부!A22:Z120,8,FALSE)),\"\")","v":""},{"$f":"IFERROR(IF(A27=\"\",\"\",VLOOKUP(A27,사원명부!A22:Z120,9,FALSE)),\"\")","v":""},null,""]
[{"$f":"IFBLANK(업무분장내역!B26)","v":""},{"$f":"IFERROR(IF(A28=\"\",\"\",VLOOKUP(A28,사원명부!A23:Z121,2,FALSE)),\"\")","v":""},{"$f":"IFERROR(IF(A28=\"\",\"\",VLOOKUP(A28,사원명부!A23:Z121,8,FALSE)),\"\")","v":""},{"$f":"IFERROR(IF(A28=\"\",\"\",VLOOKUP(A28,사원명부!A23:Z121,9,FALSE)),\"\")","v":""},null,""]
[{"$f":"IFBLANK(업무분장내역!B27)","v":""},{"$f":"IFERROR(IF(A29=\"\",\"\",VLOOKUP(A29,사원명부!A24:Z122,2,FALSE)),\"\")","v":""},{"$f":"IFERROR(IF(A29=\"\",\"\",VLOOKUP(A29,사원명부!A24:Z122,8,FALSE)),\"\")","v":""},{"$f":"IFERROR(IF(A29=\"\",\"\",VLOOKUP(A29,사원명부!A24:Z122,9,FALSE)),\"\")","v":""},null,""]
[{"$f":"IFBLANK(업무분장내역!B28)","v":""},{"$f":"IFERROR(IF(A30=\"\",\"\",VLOOKUP(A30,사원명부!A25:Z123,2,FALSE)),\"\")","v":""},{"$f":"IFERROR(IF(A30=\"\",\"\",VLOOKUP(A30,사원명부!A25:Z123,8,FALSE)),\"\")","v":""},{"$f":"IFERROR(IF(A30=\"\",\"\",VLOOKUP(A30,사원명부!A25:Z123,9,FALSE)),\"\")","v":""},null,""]
[{"$f":"IFBLANK(업무분장내역!B29)","v":""},{"$f":"IFERROR(IF(A31=\"\",\"\",VLOOKUP(A31,사원명부!A26:Z124,2,FALSE)),\"\")","v":""},{"$f":"IFERROR(IF(A31=\"\",\"\",VLOOKUP(A31,사원명부!A26:Z124,8,FALSE)),\"\")","v":""},{"$f":"IFERROR(IF(A31=\"\",\"\",VLOOKUP(A31,사원명부!A26:Z124,9,FALSE)),\"\")","v":""},null,""]
[{"$f":"IFBLANK(업무분장내역!B30)","v":""},{"$f":"IFERROR(IF(A32=\"\",\"\",VLOOKUP(A32,사원명부!A27:Z125,2,FALSE)),\"\")","v":""},{"$f":"IFERROR(IF(A32=\"\",\"\",VLOOKUP(A32,사원명부!A27:Z125,8,FALSE)),\"\")","v":""},{"$f":"IFERROR(IF(A32=\"\",\"\",VLOOKUP(A32,사원명부!A27:Z125,9,FALSE)),\"\")","v":""},null,""]
[{"$f":"IFBLANK(업무분장내역!B31)","v":""},{"$f":"IFERROR(IF(A33=\"\",\"\",VLOOKUP(A33,사원명부!A28:Z126,2,FALSE)),\"\")","v":""},{"$f":"IFERROR(IF(A33=\"\",\"\",VLOOKUP(A33,사원명부!A28:Z126,8,FALSE)),\"\")","v":""},{"$f":"IFERROR(IF(A33=\"\",\"\",VLOOKUP(A33,사원명부!A28:Z126,9,FALSE)),\"\")","v":""},null,""]
[{"$f":"IFBLANK(요양기관기초정보!D1)&\" 개인 정보 보호 교육 서명록\"","v":"팜오피스약국 개인 정보 보호 교육 서명록"}]
["사번","이름","부서명","직급","서명","증빙"]
[{"$f":"IFBLANK(업무분장내역!B32)","v":""},{"$f":"IFBLANK(업무분장내역!C32)","v":""},{"$f":"IFBLANK(업무분장내역!D32)","v":""},{"$f":"IFBLANK(업무분장내역!E32)","v":""},{"$f":"IFBLANK(업무분장내역!F32)","v":""},{"$f":"IF(B36=\"\",\"\",\"수료증\")","v":""}]
[{"$f":"IFBLANK(업무분장내역!B33)","v":""},{"$f":"IFBLANK(업무분장내역!C33)","v":""},{"$f":"IFBLANK(업무분장내역!D33)","v":""},{"$f":"IFBLANK(업무분장내역!E33)","v":""},{"$f":"IFBLANK(업무분장내역!F33)","v":""},{"$f":"IF(B37=\"\",\"\",\"수료증\")","v":""}]
[{"$f":"IFBLANK(업무분장내역!B34)","v":""},{"$f":"IFBLANK(업무분장내역!C34)","v":""},{"$f":"IFBLANK(업무분장내역!D34)","v":""},{"$f":"IFBLANK(업무분장내역!E34)","v":""},{"$f":"IFBLANK(업무분장내역!F34)","v":""},""]
[{"$f":"IFBLANK(업무분장내역!B35)","v":""},{"$f":"IFBLANK(업무분장내역!C35)","v":""},{"$f":"IFBLANK(업무분장내역!D35)","v":""},{"$f":"IFBLANK(업무분장내역!E35)","v":""},{"$f":"IFBLANK(업무분장내역!F35)","v":""},""]
[{"$f":"IFBLANK(업무분장내역!B36)","v":""},{"$f":"IFBLANK(업무분장내역!C36)","v":""},{"$f":"IFBLANK(업무분장내역!D36)","v":""},{"$f":"IFBLANK(업무분장내역!E36)","v":""},{"$f":"IFBLANK(업무분장내역!F36)","v":""},""]
[{"$f":"IFBLANK(업무분장내역!B37)","v":""},{"$f":"IFBLANK(업무분장내역!C37)","v":""},{"$f":"IFBLANK(업무분장내역!D37)","v":""},{"$f":"IFBLANK(업무분장내역!E37)","v":""},{"$f":"IFBLANK(업무분장내역!F37)","v":""},""]
[{"$f":"IFBLANK(업무분장내역!B38)","v":""},{"$f":"IFBLANK(업무분장내역!C38)","v":""},{"$f":"IFBLANK(업무분장내역!D38)","v":""},{"$f":"IFBLANK(업무분장내역!E38)","v":""},{"$f":"IFBLANK(업무분장내역!F38)","v":""},""]
[{"$f":"IFBLANK(업무분장내역!B39)","v":""},{"$f":"IFBLANK(업무분장내역!C39)","v":""},{"$f":"IFBLANK(업무분장내역!D39)","v":""},{"$f":"IFBLANK(업무분장내역!E39)","v":""},{"$f":"IFBLANK(업무분장내역!F39)","v":""},""]
[{"$f":"IFBLANK(업무분장내역!B40)","v":""},{"$f":"IFBLANK(업무분장내역!C40)","v":""},{"$f":"IFBLANK(업무분장내역!D40)","v":""},{"$f":"IFBLANK(업무분장내역!E40)","v":""},{"$f":"IFBLANK(업무분장내역!F40)","v":""},""]
[{"$f":"IFBLANK(업무분장내역!B41)","v":""},{"$f":"IFBLANK(업무분장내역!C41)","v":""},{"$f":"IFBLANK(업무분장내역!D41)","v":""},{"$f":"IFBLANK(업무분장내역!E41)","v":""},{"$f":"IFBLANK(업무분장내역!F41)","v":""},""]
[{"$f":"IFBLANK(업무분장내역!B42)","v":""},{"$f":"IFBLANK(업무분장내역!C42)","v":""},{"$f":"IFBLANK(업무분장내역!D42)","v":""},{"$f":"IFBLANK(업무분장내역!E42)","v":""},{"$f":"IFBLANK(업무분장내역!F42)","v":""},""]
[{"$f":"IFBLANK(업무분장내역!B43)","v":""},{"$f":"IFBLANK(업무분장내역!C43)","v":""},{"$f":"IFBLANK(업무분장내역!D43)","v":""},{"$f":"IFBLANK(업무분장내역!E43)","v":""},{"$f":"IFBLANK(업무분장내역!F43)","v":""},""]
[{"$f":"IFBLANK(업무분장내역!B44)","v":""},{"$f":"IFBLANK(업무분장내역!C44)","v":""},{"$f":"IFBLANK(업무분장내역!D44)","v":""},{"$f":"IFBLANK(업무분장내역!E44)","v":""},{"$f":"IFBLANK(업무분장내역!F44)","v":""},""]
[{"$f":"IFBLANK(업무분장내역!B45)","v":""},{"$f":"IFBLANK(업무분장내역!C45)","v":""},{"$f":"IFBLANK(업무분장내역!D45)","v":""},{"$f":"IFBLANK(업무분장내역!E45)","v":""},{"$f":"IFBLANK(업무분장내역!F45)","v":""},""]
[{"$f":"IFBLANK(업무분장내역!B46)","v":""},{"$f":"IFBLANK(업무분장내역!C46)","v":""},{"$f":"IFBLANK(업무분장내역!D46)","v":""},{"$f":"IFBLANK(업무분장내역!E46)","v":""},{"$f":"IFBLANK(업무분장내역!F46)","v":""},""]
[{"$f":"IFBLANK(업무분장내역!B47)","v":""},{"$f":"IFBLANK(업무분장내역!C47)","v":""},{"$f":"IFBLANK(업무분장내역!D47)","v":""},{"$f":"IFBLANK(업무분장내역!E47)","v":""},{"$f":"IFBLANK(업무분장내역!F47)","v":""},""]
[{"$f":"IFBLANK(업무분장내역!B48)","v":""},{"$f":"IFBLANK(업무분장내역!C48)","v":""},{"$f":"IFBLANK(업무분장내역!D48)","v":""},{"$f":"IFBLANK(업무분장내역!E48)","v":""},{"$f":"IFBLANK(업무분장내역!F48)","v":""},""]
[{"$f":"IFBLANK(업무분장내역!B49)","v":""},{"$f":"IFBLANK(업무분장내역!C49)","v":""},{"$f":"IFBLANK(업무분장내역!D49)","v":""},{"$f":"IFBLANK(업무분장내역!E49)","v":""},{"$f":"IFBLANK(업무분장내역!F49)","v":""},""]
[{"$f":"IFBLANK(업무분장내역!B50)","v":""},{"$f":"IFBLANK(업무분장내역!C50)","v":""},{"$f":"IFBLANK(업무분장내역!D50)","v":""},{"$f":"IFBLANK(업무분장내역!E50)","v":""},{"$f":"IFBLANK(업무분장내역!F50)","v":""},""]
[{"$f":"IFBLANK(업무분장내역!B51)","v":""},{"$f":"IFBLANK(업무분장내역!C51)","v":""},{"$f":"IFBLANK(업무분장내역!D51)","v":""},{"$f":"IFBLANK(업무분장내역!E51)","v":""},{"$f":"IFBLANK(업무분장내역!F51)","v":""},""]
[{"$f":"IFBLANK(업무분장내역!B52)","v":""},{"$f":"IFBLANK(업무분장내역!C52)","v":""},{"$f":"IFBLANK(업무분장내역!D52)","v":""},{"$f":"IFBLANK(업무분장내역!E52)","v":""},{"$f":"IFBLANK(업무분장내역!F52)","v":""},""]
[{"$f":"IFBLANK(업무분장내역!B53)","v":""},{"$f":"IFBLANK(업무분장내역!C53)","v":""},{"$f":"IFBLANK(업무분장내역!D53)","v":""},{"$f":"IFBLANK(업무분장내역!E53)","v":""},{"$f":"IFBLANK(업무분장내역!F53)","v":""},""]
[{"$f":"IFBLANK(업무분장내역!B54)","v":""},{"$f":"IFBLANK(업무분장내역!C54)","v":""},{"$f":"IFBLANK(업무분장내역!D54)","v":""},{"$f":"IFBLANK(업무분장내역!E54)","v":""},{"$f":"IFBLANK(업무분장내역!F54)","v":""},""]
[{"$f":"IFBLANK(업무분장내역!B55)","v":""},{"$f":"IFBLANK(업무분장내역!C55)","v":""},{"$f":"IFBLANK(업무분장내역!D55)","v":""},{"$f":"IFBLANK(업무분장내역!E55)","v":""},{"$f":"IFBLANK(업무분장내역!F55)","v":""},""]
[{"$f":"IFBLANK(업무분장내역!B56)","v":""},{"$f":"IFBLANK(업무분장내역!C56)","v":""},{"$f":"IFBLANK(업무분장내역!D56)","v":""},{"$f":"IFBLANK(업무분장내역!E56)","v":""},{"$f":"IFBLANK(업무분장내역!F56)","v":""},""]
[{"$f":"IFBLANK(업무분장내역!B57)","v":""},{"$f":"IFBLANK(업무분장내역!C57)","v":""},{"$f":"IFBLANK(업무분장내역!D57)","v":""},{"$f":"IFBLANK(업무분장내역!E57)","v":""},{"$f":"IFBLANK(업무분장내역!F57)","v":""},""]
[{"$f":"IFBLANK(업무분장내역!B58)","v":""},{"$f":"IFBLANK(업무분장내역!C58)","v":""},{"$f":"IFBLANK(업무분장내역!D58)","v":""},{"$f":"IFBLANK(업무분장내역!E58)","v":""},{"$f":"IFBLANK(업무분장내역!F58)","v":""},""]
[{"$f":"IFBLANK(업무분장내역!B59)","v":""},{"$f":"IFBLANK(업무분장내역!C59)","v":""},{"$f":"IFBLANK(업무분장내역!D59)","v":""},{"$f":"IFBLANK(업무분장내역!E59)","v":""},{"$f":"IFBLANK(업무분장내역!F59)","v":""},""]
[{"$f":"IFBLANK(업무분장내역!B60)","v":""},{"$f":"IFBLANK(업무분장내역!C60)","v":""},{"$f":"IFBLANK(업무분장내역!D60)","v":""},{"$f":"IFBLANK(업무분장내역!E60)","v":""},{"$f":"IFBLANK(업무분장내역!F60)","v":""},""]
[{"$f":"IFBLANK(업무분장내역!B61)","v":""},{"$f":"IFBLANK(업무분장내역!C61)","v":""},{"$f":"IFBLANK(업무분장내역!D61)","v":""},{"$f":"IFBLANK(업무분장내역!E61)","v":""},{"$f":"IFBLANK(업무분장내역!F61)","v":""},""]
[{"$f":"IFBLANK(업무분장내역!B62)","v":""},{"$f":"IFBLANK(업무분장내역!C62)","v":""},{"$f":"IFBLANK(업무분장내역!D62)","v":""},{"$f":"IFBLANK(업무분장내역!E62)","v":""},{"$f":"IFBLANK(업무분장내역!F62)","v":""},""]
[{"$f":"IFBLANK(업무분장내역!B63)","v":""},{"$f":"IFBLANK(업무분장내역!C63)","v":""},{"$f":"IFBLANK(업무분장내역!D63)","v":""},{"$f":"IFBLANK(업무분장내역!E63)","v":""},{"$f":"IFBLANK(업무분장내역!F63)","v":""},""]

{"sheet":"관리계획","index":26,"n_rows":200,"n_cols":22,"rows_kept":200,"cut":false,"hidden":false,"merged":[[5,20,7,20],[5,21,7,21],[184,1,185,1],[175,1,176,1],[181,1,182,1],[4,19,7,19]]}
["개인정보 내부관리 계획 "]
[{"$f":"\"[\"&IFBLANK(요양기관기초정보!D1)&\"]\"","v":"[팜오피스약국]"}]
[{"$f":"IF(요양기관기초정보!C8<40998,\"2012년3월30일\",YEAR(요양기관기초정보!C8)&\"년\"&MONTH(요양기관기초정보!C8)&\"월\"&DAY(요양기관기초정보!C8)&\"일\")","v":"2012년3월30일"}]
[]
[null,null,null,null,null,null,null,null,null,null,null,null,null,null,null,null,null,null,null,"결재","대   표","관리책임자"]
[]
["목 차"]
[]
["제1장 총칙"]
["제1조(목적)"]
["제2조(적용범위)"]
["제3조(용어 정의)"]
[]
["제2장 내부관리계획의 수립 및 시행"]
["제4조(내부관리계획의 수립 및 승인)"]
["제5조(내부관리계획의 공표)"]
[]
["제3장 개인정보보호책임자의 의무와 책임"]
["제6조(개인정보보호책임자의 지정)"]
["제7조(개인정보보호책임자의 의무와 책임)"]
["제8조(개인정보취급자의 범위 및 의무와 책임)"]
["제9조(개인정보보호 전담조직 구성 및 운영)"]
[]
["제4장 개인정보의 기술적·관리적 안전조치"]
["제10조(개인정보취급자 접근 권한 관리 및 인증)"]
["제11조(비밀번호 관리)"]
["제12조(접근통제)"]
["제13조(개인정보의 암호화)"]
["제14조(접근기록의 위‧변조 방지)"]
["제15조(보안프로그램의 설치 및 운영)"]
["제16조(물리적 접근제한)"]
[]
["제5장 개인정보보호 교육"]
["제17조(개인정보보호 교육 계획의 수립)"]
["제18조(개인정보보호 교육의 실시)"]
[]
["제6장 개인정보 침해대응 및 피해구제"]
["제19조(개인정보 유출사고 대응)"]
["제20조(권익침해 구제방법)"]
[]
[]
[]
["제1장 총칙"]
[]
["제1조(목적)"]
[{"$f":"\"개인정보보호 내부관리계획은 개인정보보호법 제29조(안전조치의무) 내부관리계획의 수립 및 시행 의무에 따라 제정된 것으로 [\"&IFBLANK(요양기관기초정보!D1)&\"]에 근무하는 직원들이 취급하는 개인정보를 체계적으로 관리하여 개인정보가 분실, 도난, 누출, 변조, 훼손, 오․남용 등이 되지 아니하도록 함을 목적으로 한다.\"","v":"개인정보보호 내부관리계획은 개인정보보호법 제29조(안전조치의무) 내부관리계획의 수립 및 시행 의무에 따라 제정된 것으로 [팜오피스약국]에 근무하는 직원들이 취급하는 개인정보를 체계적으로 관리하여 개인정보가 분실, 도난, 누출, 변조, 훼손, 오․남용 등이 되지 아니하도록 함을 목적으로 한다."}]
[]
["제2조(적용범위)"]
["본 계획은 약국운영상 필요한 처방전, 직원인사기록 등을 통해 수집, 이용, 제공 또는 관리되는 개인정보에 대해서 적용되며, 이러한 개인정보를 취급하는 내부 직원 및 외부업체 직원에 대해 적용된다."]
[]
["제3조(용어 정의)"]
["1. “개인정보”란 살아 있는 개인에 관한 정보로서 성명, 주민등록번호 및 영상 등을 통하여 개인을 알아볼 수 있는 정보(해당 정보만으로는 특정 개인을 알아볼 수 없더라도 다른 정보와 쉽게 결합하여 알아볼 수 있는 것을 포함한다)를 말한다."]
["2. “처리”란 개인정보의 수집, 생성, 기록, 저장, 보유, 가공, 편집, 검색, 출력, 정정(訂正), 복구, 이용, 제공, 공개, 파기(破棄), 그 밖에 이와 유사한 행위를 말한다."]
["3. “정보주체”란 처리되는 정보에 의하여 알아볼 수 있는 사람으로서 그 정보의 주체가 되는 사람을 말한다."]
["4. “개인정보처리자”란 업무를 목적으로 개인정보파일을 운용하기 위하여 스스로 또는 다른 사람을 통하여 개인정보를 처리하는 공공기관, 법인, 단체 및 개인 등을 말한다."]
["5. “개인정보 보호책임자”란 개인정보처리자의 개인정보 처리에 관한 업무를 총괄해서 책임지거나 업무처리를 최종적으로 결정하는 자로서, 법 제31조에 따른 지위에 해당하는 자를 말한다."]
["6. “개인정보 보호담당자”란 개인정보책임자가 업무를 수행함에 있어 보조적인 역할을 하는 자를 말하며 개인정보보호 책임자가 일정 요건의 자격을 갖춘 이를 지정한다."]
["7. “개인정보취급자”란 개인정보처리자의 지휘ㆍ감독을 받아 개인정보를 처리하는 업무를 담당하는 자로서 직접 개인정보에 관한 업무를 담당하는 자와 그 밖에 업무상 필요에 의해 개인정보에 접근하여 처리하는 모든 자를 말한다."]
["8. “개인정보처리시스템”이라 함은 개인정보를 처리할 수 있도록 체계적으로 구성한 데이터베이스시스템을 말한다."]
["9. “영상정보처리기기”란 폐쇄회로텔레비전(CCTV), 네트워크카메라 등 일정한 공간에 지속적으로 설치되어 사람 또는 사물의 영상 등을 촬영하거나 이를 유․무선망을 통하여 전송하는 일체의 장치를 말한다. "]
["10. “개인영상정보”라 함은 영상정보처리기기에 의하여 촬영․처리되는 영상정보 중 개인의 초상, 행동 등 사생활과 관련된 영상으로서 해당 개인의 동일성 여부를 식별할 수 있는 정보를 말한다. "]
["11. “영상정보처리기기 운영자”라 함은 개인정보 보호법 제25조제1항 각호에 따라 영상정보처리기기를 설치․운영하는 자를 말한다."]
["12. “영상정보 보호책임자”라 함은 개인영상정보의 처리에 관한 업무를 총괄해서 책임지는 자로서, 표준지침 제41조에 따라 영상정보처리기기 운영자가 지정한 자를 말한다."]
[]
["제2장(내부관리계획의 수립 및 시행)"]
[]
["제4조(내부관리계획의 수립 및 승인)"]
[{"$f":"\"1. 개인정보 보호책임자는 [\"&IFBLANK(요양기관기초정보!D1)&\"] 고객 및 직원의 개인정보보호를 위한 전반적인 사항을 포함하여 내부관리계획을 수립하여야 한다.\"","v":"1. 개인정보 보호책임자는 [팜오피스약국] 고객 및 직원의 개인정보보호를 위한 전반적인 사항을 포함하여 내부관리계획을 수립하여야 한다."}]
["2. 개인정보 보호책임자는 개인정보보호를 위한 내부관리계획의 수립 시 개인정보보호와 관련한 법령 및 관련 규정을 준수하도록 내부관리계획을 수립하여야 한다."]
["3. 개인정보 보호책임자는 개인정보 보호담당자가 수립한 내부관리계획의 타당성을 검토하여 개인정보보호를 위한 내부관리계획을 승인하여야 한다."]
["4. 개인정보 보호담당자는 개인정보보호 관련 법령의 제․개정 사항 등을 반영하기 위하여 매년 11월말까지 내부관리계획의 타당성과 개정 필요성을 검토하여야 한다."]
["5. 개인정보 보호담당자는 모든 항목의 타당성을 검토한 후 개정할 필요가 있다고 판단되는 경우 12월말까지 내부관리계획의 개정안을 작성하여 개인정보 보호책임자에게 보고하고 개인정보 보호책임자의 승인을 받아야 한다."]
[]
["제5조(내부관리계획의 공표)"]
[{"$f":"\"1. 개인정보보호책임자는 전조에 따라 승인한 내부관리계획을 매년 1월말까지 [\"&IFBLANK(요양기관기초정보!D1)&\"] 전 직원에게 공표한다.\"","v":"1. 개인정보보호책임자는 전조에 따라 승인한 내부관리계획을 매년 1월말까지 [팜오피스약국] 전 직원에게 공표한다."}]
["2. 내부관리계획은 임직원이 언제든지 열람할 수 있는 방법으로 비치하여야 하며, 변경사항이 있는 경우에는 이를 공지하여야 한다."]
[]
["제3장 개인정보보호책임자의 의무와 책임"]
[]
["제6조(개인정보보호책임자의 지정)"]
[{"$f":"\"1. [\"&IFBLANK(요양기관기초정보!D1)&\"]은 개인정보보호법 시행령 제32조제2항에 따라 해당하는 지위에 있는 자를 개인정보보호책임자로 임명한다.\"","v":"1. [팜오피스약국]은 개인정보보호법 시행령 제32조제2항에 따라 해당하는 지위에 있는 자를 개인정보보호책임자로 임명한다."}]
[{"$f":"\"가. [\"&IFBLANK(요양기관기초정보!D1)&\"]의 행정사무를 총괄하는 사람  [약국장 \"&IFBLANK(요양기관기초정보!C6)&\"]\"","v":"가. [팜오피스약국]의 행정사무를 총괄하는 사람  [약국장 홍길동]"}]
[{"$f":"\"나. 개인정보와 관련하여 고객의 고충처리를 담당하는 부서의 장 [\"&IF(요양기관기초정보!D35=\"\",\"약국장 \"&IFBLANK(요양기관기초정보!C6),요양기관기초정보!D35&\" \"&요양기관기초정보!C35)&\"]\"","v":"나. 개인정보와 관련하여 고객의 고충처리를 담당하는 부서의 장 [약국장 홍길동]"}]
["제7조(개인정보보호책임자의 의무와 책임)"]
["1 개인정보보호책임자는 정보주체의 개인정보 보호를 위하여 다음 각 호의 업무를 수행한다."]
["가. 개인정보 보호 계획의 수립 및 시행 "]
["나. 개인정보 처리 실태 및 관행의 정기적인 조사 및 개선 "]
["다. 개인정보 처리와 관련한 불만의 처리 및 피해 구제 "]
["라. 개인정보 유출 및 오용‧남용 방지를 위한 내부통제시스템의 구축 "]
["마. 개인정보 보호 교육 계획의 수립 및 시행 "]
["바. 개인정보파일의 보호 및 관리 감독 "]
["사. 법 제30조에 따른 개인정보 처리방침의 수립‧변경 및 시행 "]
[]
["2. 개인정보보호책임자는 업무를 수행함에 있어서 필요한 경우 개인정보 처리 현황, 처리 체계 등에 대하여 수시로 조사하거나 관련 당사자로부터 보고를 받을 수 있다."]
[]
[{"$f":"\"3. 개인정보보호책임자는 개인정보 보호와 관련하여 이법 및 다른 관계 법령의 위반 사실을 알게 된 경우에는 즉시 개선조치를 하여야 하며, 필요하면 [\"&요양기관기초정보!D1&\"] 약국장에게 개선조치를 보고하여야 한다.\"","v":"3. 개인정보보호책임자는 개인정보 보호와 관련하여 이법 및 다른 관계 법령의 위반 사실을 알게 된 경우에는 즉시 개선조치를 하여야 하며, 필요하면 [팜오피스약국] 약국장에게 개선조치를 보고하여야 한다."}]
[]
["제8조(개인정보취급자의 범위 및 의무와 책임)"]
["1. 개인정보취급자의 범위는 다음과 같다."]
[{"$f":"\"가. [\"&요양기관기초정보!D1&\"] 내 직원 또는 위탁업무를 담당하는 직원들로서 정보주체의 개인정보를 처리하는 업무를 수행하는 자를 말하며, 정규직 이외에 임시직, 파견근로자, 시간제근로자 등 포함될 수 있다.\"","v":"가. [팜오피스약국] 내 직원 또는 위탁업무를 담당하는 직원들로서 정보주체의 개인정보를 처리하는 업무를 수행하는 자를 말하며, 정규직 이외에 임시직, 파견근로자, 시간제근로자 등 포함될 수 있다."}]
["나. 개인정보취급자의 의무와 책임"]
["(1). 내부관리계획의 준수 및 이행"]
["(2). 개인정보의 기술적‧관리적 보호조치 기준 이행"]
["(3). 업무상 알게 된 개인정보를 제3자에게 제공하지 않음"]
[]
["제9조(개인정보보호 전담조직 구성 및 운영)"]
["1. 개인정보보호 활동을 수행하고 관리하는 인력들에 대한 책임, 권한 및 역할을 정의하여야 한다. "]
["가.요양기관장은 개인정보 내부관리의 총괄 책임자이다."]
[]
["제4장 개인정보의 기술적․관리적 보호조치"]
[]
["제10조(개인정보취급자 접근권한 관리 및 인증)"]
["1. 개인정보처리자는 개인정보처리시스템에 대한 접근권한을 업무수행에 필요한 최소한의 범위로 업무 담당자에 따라 차등 부여하여야 한다."]
[]
["2. 개인정보처리자는 휴직 또는 퇴직 등 인사이동이 발생하여 개인정보취급자가 변경되었을 경우 지체 없이 개인정보처리시스템의 접근권한을 변경 또는 말소하여야 하며, 또한 비밀유지의무 등에 대한 보안서약서를 받아야 한다."]
["3. 개인정보처리자는 제1항, 제2항에 의한 권한 부여, 변경 또는 말소에 대한 내역을 기록하고, 그 기록을 최소 3년간 보관하여야 한다."]
["4. 개인정보처리자는 개인정보처리시스템에 접속할 수 있는 사용자 계정을 발급하는 경우, 개인정보취급자 별로 한 개의 사용자계정을 발급하여야 하며, 다른 개인정보취급자와 공유되지 않도록 하여야 한다. "]
["5. 개인정보처리자는 개인정보취급자가 정보통신망을 통해 외부에서 개인정보처리시스템에 접속하려는 경우에는 가상사설망 또는 전용선 등 안전한 접속수단을 적용하여야 한다. "]
[]
["제11조(비밀번호 관리)"]
["1. 개인정보처리자는 개인정보취급자 또는 정보주체가 생일, 주민등록번호, 전화번호 등 추측하기 쉬운 숫자나 개인관련 정보를 패스워드로 이용하지 않도록 비밀번호 작성규칙을 수립하고, 이를 적용 및 운용하여야 한다."]
["2. 개인정보처리자는 비밀번호에 적정한 기간의 유효기간을 설정하여야 한다."]
[]
["제12조(접근통제)"]
["가. 개인정보처리시스템에 대한 접속 권한을 IP(Internet Protocol)주소 등으로 제한하여 인가받지 않은 접근을 제한 "]
["나. 개인정보처리시스템에 접속한 IP(Internet Protocol)주소 등을 재분석하여 불법적인 개인정보 유출 시도를 탐지 "]
["2. 개인정보처리자는 취급중인 개인정보가 인터넷 홈페이지, P2P, 공유설정 등을 통하여 열람권한이 없는 자에게 공개되거나 외부에 유출되지 않도록 개인정보처리시스템 및 업무용 컴퓨터에 조치를 취하여야 한다. "]
[]
["제13조(개인정보의 암호화)"]
["1. 개인정보처리자는 주민등록번호, 비밀번호, 바이오정보에 대해서는 안전한 암호 알고리즘으로 암호화하여 저장하여야 한다. 단, 비밀번호를 저장하는 경우에는 복호화되지 아니하도록 일방향 암호화하여 저장하여야 한다. "]
["2. 개인정보처리자는 정보주체의 개인정보를 정보통신망을 통하여 송‧수신하거나 보조저장매체 등을 통하여 전달하는 경우에는 이를 암호화하여야 한다. "]
["3. 개인정보처리자는 인터넷 구간 및 인터넷 구간과 내부망의 중간 지점(DMZ)에 고유식별정보를 저장하는 경우에는 이를 암호화하여야 한다 "]
["4. 개인정보처리자 또는 개인정보취급자는 정보주체의 개인정보를 업무용 컴퓨터(PC)에 저장할 때에는 상용 암호화 소프트웨어 또는 안전한 암호화 알고리즘을 사용하여 암호화 저장하여야 한다. "]
[]
["제14조(접속기록의 위‧변조 방지)"]
["1. 개인정보처리자는 개인정보취급자가 개인정보처리시스템에 접속한 기록을 최소 6개월 이상 보관하여야 한다. "]
["2. 개인정보처리자는 개인정보취급자의 접속기록이 위‧변조 및 도난, 분실되지 않도록 해당 접속기록을 안전하게 보관하여야 한다. "]
[]
["제15조(보안프로그램 설치 및 운영)"]
["1. 개인정보처리자는 개인정보처리시스템 또는 업무용 컴퓨터에 악성 프로그램 등을 방지‧치료할 수 있는 백신 소프트웨어 등의 보안 프로그램을 설치‧운영하여야 한다. "]
["2. 보안 프로그램의 자동 업데이트 기능을 사용하거나, 또는 일 1회 이상 업데이트를 적용하여야 한다. "]
["3. 악성 프로그램관련 경보가 발령된 경우 또는 사용 중인 응용프로그램이나 운영체제 소프트웨어의 제작업체에서 보안 업데이트 공지가 있는 경우, 즉시 이에 따른 업데이트를 적용하여야 한다. "]
[]
["제16조(물리적 접근제한 및 접근통제 방법)"]
["1. 개인정보처리자는 개인정보를 보관하고 있는 물리적 보관 장소에는 이에 대한 출입통제 절차를 수립․운영하여야 한다. ",null," "]
["2. 개인정보처리자는 개인정보가 포함된 서류, 보조저장매체 등을 잠금장치가 있는 안전한 장소에 보관하여야 한다. "]
["3. 개인정보처리자는 물리적 접근방지를 위한 별도의 보호시설에 출입하거나 개인정보를 열람하는 경우, 그 출입자에 대한 출입사실 및 열람 내용에 관한 관리대장을 작성하도록 하여야 한다."]
[]
["제5장 개인정보보호 교육"]
[]
["제17조(개인정보보호 교육 계획의 수립)"]
["1. 개인정보보호책임자는 다음 각 호의 사항을 포함하는 연간 개인정보보호 교육계획을 매년 12월말까지 수립한다."]
["가. 교육목적 및 대상 "]
["나. 교육내용 "]
["다. 교육 일정 및 방법 "]
["2. 개인정보보호책임자는 수립한 개인정보보호 교육 계획을 실시한 이후에 교육의 성과와 개선 필요성을 검토하여 차년도 교육계획 수립에 반영하여야 한다. "]
[]
["제18조(개인정보보호 교육의 실시)"]
["1. 개인정보보호책임자는 정보주체정보보호에 대한 직원들의 인식제고를 위해 노력해야 하며, 개인정보의 오․남용 또는 유출 등을 적극 예방하기 위해 임․직원을 대상으로 매년 정기적으로 연1회 이상의 개인정보보호 교육을 실시한다."]
["2. 교육 방법은 집체 교육뿐만 아니라, 인터넷 교육, 그룹웨어 교육 등 다양한 방법을 활용하여 실시하고, 필요한 경우 외부 전문기관이나 전문요원에 위탁하여 교육을 실시한다."]
["3. 개인정보보호에 대한 중요한 전파 사례가 있거나 개인정보보호 업무와 관련하여 변경된 사항이 있는 경우, 개인정보보호책임자는 직원 회의 등을 통해 수시 교육을 실시할 수 있다."]
[]
["제6장 개인정보 침해대응 및 피해구제"]
[]
["제19조(개인정보 유출사고 대응)"]
["1. 개인정보가 해킹, 분실, 도난 등으로 내‧외부자에 의하여 유출된 경우 아래와 같이 대응한다."]
[]
["사고인지 및 긴급조치"]
["○ 개인정보 유출사고 신고 접수 및 사고인지"]
["○ 피해 최소화를 위한 긴급조치 수행"]
["※ 유출된 개인정보 삭제조치 및 기술지원 요청"]
["↓"]
["정보주체 유출통지 "]
["○ 정보주체에게 개인정보 유출사실 통지(5일이내)"]
["↓"]
["개인정보 유출신고"]
["○ 1천명 이상의 개인정보 유출시 행정안전부 또는 한국인터넷진흥원(privacy.go.kr)에 유출신고"]
["↓"]
["민원대응반 운영"]
["○ 개인정보 유출사고 규모 및 성격에 따라 민원대응반 구성"]
["↓"]
["고객민원 대응"]
["○ 2차 피해 방지를 위한 고객 민원 대응 및 고객 불안 해소 조치"]
["↓"]
["피해구제 절차"]
["○ 개인정보 유출에 대한 피해구제 절차 안내"]
["↓"]
["보안기능 강화"]
["○ 사고 원인 분석 및 보안 강화·기능 개선"]
["↓"]
["재발방지"]
["○ 개인정보 유출사고 사례 전파 교육 및 개선 대책 시행"]
[]
["제20조(권익침해 구제방법)"]
["1. 개인정보주체는 개인정보침해로 인한 구제를 받기 위하여 개인정보분쟁조정위원회, 한국인터넷진흥원 개인정보침해신고센터 등에 분쟁해결이나 상담 등을 신청한다."]
["이 밖에 기타 개인정보침해의 신고 및 상담에 대하여는 아래의 기관에 문의한다."]
["가. 개인분쟁조정위원회 : (국번없이)1336 [118] http://www.1336.or.kr",null,"제개정시 신구 대조표"]
["나. 정보보호마크인증위원회 : 02-580-0533~4 http://www.eprivacy.or.kr"]
["다. 대검찰청 사이버범죄수사단 : 02-3480-3571 http://www.spo.go.kr"]
["라. 경찰청 사이버테러대응센터 : 02-1566-0112 http://www.ctrc.go.kr"]

{"sheet":"ID","index":27,"n_rows":80,"n_cols":13,"rows_kept":80,"cut":false,"hidden":false,"merged":[[0,0,0,9],[1,7,1,9],[2,8,2,9],[3,8,3,9],[20,0,20,9],[21,7,21,9],[60,0,60,9],[61,7,61,9],[62,8,62,9],[63,8,63,9],[22,8,22,9],[23,8,23,9],[40,0,40,9],[41,7,41,9],[42,8,42,9],[43,8,43,9]]}
[{"$f":"IFBLANK(요양기관기초정보!D1)&\" 개인 정보 처리 시스템(청구소프트웨어) 사용자 ID 관리대장\"","v":"팜오피스약국 개인 정보 처리 시스템(청구소프트웨어) 사용자 ID 관리대장"}]
[null,null,null,null,null,null,null,"개인정보보호책임자"]
[null,null,null,null,null,null,null,"직급",{"$f":"IF(요양기관기초정보!C37=\"\",\"요양기관장\",요양기관기초정보!C37)","v":"요양기관장"}]
[null,null,null,null,null,null,null,"이름",{"$f":"IF(요양기관기초정보!C36=\"\",요양기관기초정보!C6,요양기관기초정보!C36)","v":"홍길동"}]
[]
["연번","사번","사유","유형","날짜","이름","부서명","직급","S/W 사용 권한","ID",null,"사번","이름"]
[{"$f":"IF(B7=\"\",\"\",1)","v":1},0,"입사",{"$f":"IF(B7=0,\"신규\",IF(B7=\"\",\"\",IF(C7=\"\",\"\",IF(C7=\"입사\",\"신규\",IFERROR(IF(VLOOKUP(B7,사원명부!$A$2:$Z$100,7)=\"약사\",\"변경\",\"말소\"),\"\")))))","v":"신규"},{"$f":"IF(B7=0,요양기관기초정보!C8,IF(B7=\"\",\"\",IF(C7=\"퇴사\",VLOOKUP(B7,사원명부!$A$2:$Z$100,12),VLOOKUP(B7,사원명부!$A$2:$Z$100,11))))","v":"2009-01-02"},{"$f":"IF(B7=0,요양기관기초정보!C6,IF(B7=\"\",\"\",VLOOKUP(B7,사원명부!$A$2:$Z$100,2)))","v":"홍길동"},{"$f":"IF(B7=0,요양기관기초정보!D1,IF(B7=\"\",\"\"\"\",VLOOKUP(B7,사원명부!$A$2:$Z$100,8)))","v":"팜오피스약국"},{"$f":"IF(B7=0,\"약국장\",IF(B7=\"\",\"\",VLOOKUP(B7,사원명부!$A$2:$Z$100,9)))","v":"약국장"},{"$f":"IF(B7=0,\"전체관리감독\",IF(B7=\"\",\"\",VLOOKUP(B7,사원명부!$A$2:$Z$100,14)))","v":"전체관리감독"},{"$f":"IF(B7=0,요양기관기초정보!C23,IF(D7=\"말소\",\"\",IF(B7=\"\",\"\",VLOOKUP(B7,사원명부!$A$2:$Z$100,15))))","v":"jm000"},null,1,{"$f":"IF(L7=\"\",\"\",IFERROR(IFBLANK(VLOOKUP(L7,사원명부!$A$2:$Z$100,2,FALSE)),\"\"))","v":"테스트1"}]
[{"$f":"IF(B8=\"\",\"\",A7+1)","v":""},null,null,{"$f":"IF(B8=\"\",\"\",IF(C8=\"\",\"\",IF(C8=\"입사\",\"신규\",IFERROR(IF(VLOOKUP(B8,사원명부!$A$2:$Z$100,7)=\"약사\",\"변경\",\"말소\"),\"\"))))","v":""},{"$f":"IF(B8=\"\",\"\",IF(C8=\"입사\",VLOOKUP(B8,사원명부!$A$2:$Z$100,11),VLOOKUP(B8,사원명부!$A$2:$Z$100,12)))","v":""},{"$f":"IF(B8=\"\",\"\",VLOOKUP(B8,사원명부!$A$2:$Z$100,2))","v":""},{"$f":"IF(B8=\"\",\"\",VLOOKUP(B8,사원명부!$A$2:$Z$100,8))","v":""},{"$f":"IF(B8=\"\",\"\",VLOOKUP(B8,사원명부!$A$2:$Z$100,9))","v":""},{"$f":"IF(B8=\"\",\"\",VLOOKUP(B8,사원명부!$A$2:$Z$100,14))","v":""},{"$f":"IF(D8=\"말소\",\"\",IF(B8=\"\",\"\",VLOOKUP(B8,사원명부!$A$2:$Z$100,15)))","v":""},null,2,{"$f":"IF(L8=\"\",\"\",IFERROR(IFBLANK(VLOOKUP(L8,사원명부!$A$2:$Z$100,2,FALSE)),\"\"))","v":"테스트2"}]
[{"$f":"IF(B9=\"\",\"\",A8+1)","v":""},null,null,{"$f":"IF(B9=\"\",\"\",IF(C9=\"\",\"\",IF(C9=\"입사\",\"신규\",IFERROR(IF(VLOOKUP(B9,사원명부!$A$2:$Z$100,7)=\"약사\",\"변경\",\"말소\"),\"\"))))","v":""},{"$f":"IF(B9=\"\",\"\",IF(C9=\"입사\",VLOOKUP(B9,사원명부!$A$2:$Z$100,11),VLOOKUP(B9,사원명부!$A$2:$Z$100,12)))","v":""},{"$f":"IF(B9=\"\",\"\",VLOOKUP(B9,사원명부!$A$2:$Z$100,2))","v":""},{"$f":"IF(B9=\"\",\"\",VLOOKUP(B9,사원명부!$A$2:$Z$100,8))","v":""},{"$f":"IF(B9=\"\",\"\",VLOOKUP(B9,사원명부!$A$2:$Z$100,9))","v":""},{"$f":"IF(B9=\"\",\"\",VLOOKUP(B9,사원명부!$A$2:$Z$100,14))","v":""},{"$f":"IF(D9=\"말소\",\"\",IF(B9=\"\",\"\",VLOOKUP(B9,사원명부!$A$2:$Z$100,15)))","v":""},null,3,{"$f":"IF(L9=\"\",\"\",IFERROR(IFBLANK(VLOOKUP(L9,사원명부!$A$2:$Z$100,2,FALSE)),\"\"))","v":""}]
["",null,null,{"$f":"IF(B10=\"\",\"\",IF(C10=\"\",\"\",IF(C10=\"입사\",\"신규\",IFERROR(IF(VLOOKUP(B10,사원명부!$A$2:$Z$100,7)=\"약사\",\"변경\",\"말소\"),\"\"))))","v":""},{"$f":"IF(B10=\"\",\"\",IF(C10=\"입사\",VLOOKUP(B10,사원명부!$A$2:$Z$100,11),VLOOKUP(B10,사원명부!$A$2:$Z$100,12)))","v":""},{"$f":"IF(B10=\"\",\"\",VLOOKUP(B10,사원명부!$A$2:$Z$100,2))","v":""},{"$f":"IF(B10=\"\",\"\",VLOOKUP(B10,사원명부!$A$2:$Z$100,8))","v":""},{"$f":"IF(B10=\"\",\"\",VLOOKUP(B10,사원명부!$A$2:$Z$100,9))","v":""},{"$f":"IF(B10=\"\",\"\",VLOOKUP(B10,사원명부!$A$2:$Z$100,14))","v":""},{"$f":"IF(D10=\"말소\",\"\",IF(B10=\"\",\"\",VLOOKUP(B10,사원명부!$A$2:$Z$100,15)))","v":""},null,4,{"$f":"IF(L10=\"\",\"\",IFERROR(IFBLANK(VLOOKUP(L10,사원명부!$A$2:$Z$100,2,FALSE)),\"\"))","v":""}]
["",null,null,{"$f":"IF(B11=\"\",\"\",IF(C11=\"\",\"\",IF(C11=\"입사\",\"신규\",IFERROR(IF(VLOOKUP(B11,사원명부!$A$2:$Z$100,7)=\"약사\",\"변경\",\"말소\"),\"\"))))","v":""},{"$f":"IF(B11=\"\",\"\",IF(C11=\"입사\",VLOOKUP(B11,사원명부!$A$2:$Z$100,11),VLOOKUP(B11,사원명부!$A$2:$Z$100,12)))","v":""},{"$f":"IF(B11=\"\",\"\",VLOOKUP(B11,사원명부!$A$2:$Z$100,2))","v":""},{"$f":"IF(B11=\"\",\"\",VLOOKUP(B11,사원명부!$A$2:$Z$100,8))","v":""},{"$f":"IF(B11=\"\",\"\",VLOOKUP(B11,사원명부!$A$2:$Z$100,9))","v":""},{"$f":"IF(B11=\"\",\"\",VLOOKUP(B11,사원명부!$A$2:$Z$100,14))","v":""},{"$f":"IF(D11=\"말소\",\"\",IF(B11=\"\",\"\",VLOOKUP(B11,사원명부!$A$2:$Z$100,15)))","v":""},null,5,{"$f":"IF(L11=\"\",\"\",IFERROR(IFBLANK(VLOOKUP(L11,사원명부!$A$2:$Z$100,2,FALSE)),\"\"))","v":""}]
["",null,null,{"$f":"IF(B12=\"\",\"\",IF(C12=\"\",\"\",IF(C12=\"입사\",\"신규\",IFERROR(IF(VLOOKUP(B12,사원명부!$A$2:$Z$100,7)=\"약사\",\"변경\",\"말소\"),\"\"))))","v":""},{"$f":"IF(B12=\"\",\"\",IF(C12=\"입사\",VLOOKUP(B12,사원명부!$A$2:$Z$100,11),VLOOKUP(B12,사원명부!$A$2:$Z$100,12)))","v":""},{"$f":"IF(B12=\"\",\"\",VLOOKUP(B12,사원명부!$A$2:$Z$100,2))","v":""},{"$f":"IF(B12=\"\",\"\",VLOOKUP(B12,사원명부!$A$2:$Z$100,8))","v":""},{"$f":"IF(B12=\"\",\"\",VLOOKUP(B12,사원명부!$A$2:$Z$100,9))","v":""},{"$f":"IF(B12=\"\",\"\",VLOOKUP(B12,사원명부!$A$2:$Z$100,14))","v":""},{"$f":"IF(D12=\"말소\",\"\",IF(B12=\"\",\"\",VLOOKUP(B12,사원명부!$A$2:$Z$100,15)))","v":""},null,6,{"$f":"IF(L12=\"\",\"\",IFERROR(IFBLANK(VLOOKUP(L12,사원명부!$A$2:$Z$100,2,FALSE)),\"\"))","v":""}]
["",null,null,{"$f":"IF(B13=\"\",\"\",IF(C13=\"\",\"\",IF(C13=\"입사\",\"신규\",IFERROR(IF(VLOOKUP(B13,사원명부!$A$2:$Z$100,7)=\"약사\",\"변경\",\"말소\"),\"\"))))","v":""},{"$f":"IF(B13=\"\",\"\",IF(C13=\"입사\",VLOOKUP(B13,사원명부!$A$2:$Z$100,11),VLOOKUP(B13,사원명부!$A$2:$Z$100,12)))","v":""},{"$f":"IF(B13=\"\",\"\",VLOOKUP(B13,사원명부!$A$2:$Z$100,2))","v":""},{"$f":"IF(B13=\"\",\"\",VLOOKUP(B13,사원명부!$A$2:$Z$100,8))","v":""},{"$f":"IF(B13=\"\",\"\",VLOOKUP(B13,사원명부!$A$2:$Z$100,9))","v":""},{"$f":"IF(B13=\"\",\"\",VLOOKUP(B13,사원명부!$A$2:$Z$100,14))","v":""},{"$f":"IF(D13=\"말소\",\"\",IF(B13=\"\",\"\",VLOOKUP(B13,사원명부!$A$2:$Z$100,15)))","v":""},null,7,{"$f":"IF(L13=\"\",\"\",IFERROR(IFBLANK(VLOOKUP(L13,사원명부!$A$2:$Z$100,2,FALSE)),\"\"))","v":""}]
["",null,null,{"$f":"IF(B14=\"\",\"\",IF(C14=\"\",\"\",IF(C14=\"입사\",\"신규\",IFERROR(IF(VLOOKUP(B14,사원명부!$A$2:$Z$100,7)=\"약사\",\"변경\",\"말소\"),\"\"))))","v":""},{"$f":"IF(B14=\"\",\"\",IF(C14=\"입사\",VLOOKUP(B14,사원명부!$A$2:$Z$100,11),VLOOKUP(B14,사원명부!$A$2:$Z$100,12)))","v":""},{"$f":"IF(B14=\"\",\"\",VLOOKUP(B14,사원명부!$A$2:$Z$100,2))","v":""},{"$f":"IF(B14=\"\",\"\",VLOOKUP(B14,사원명부!$A$2:$Z$100,8))","v":""},{"$f":"IF(B14=\"\",\"\",VLOOKUP(B14,사원명부!$A$2:$Z$100,9))","v":""},{"$f":"IF(B14=\"\",\"\",VLOOKUP(B14,사원명부!$A$2:$Z$100,14))","v":""},{"$f":"IF(D14=\"말소\",\"\",IF(B14=\"\",\"\",VLOOKUP(B14,사원명부!$A$2:$Z$100,15)))","v":""},null,8,{"$f":"IF(L14=\"\",\"\",IFERROR(IFBLANK(VLOOKUP(L14,사원명부!$A$2:$Z$100,2,FALSE)),\"\"))","v":""}]
["",null,null,{"$f":"IF(B15=\"\",\"\",IF(C15=\"\",\"\",IF(C15=\"입사\",\"신규\",IFERROR(IF(VLOOKUP(B15,사원명부!$A$2:$Z$100,7)=\"약사\",\"변경\",\"말소\"),\"\"))))","v":""},{"$f":"IF(B15=\"\",\"\",IF(C15=\"입사\",VLOOKUP(B15,사원명부!$A$2:$Z$100,11),VLOOKUP(B15,사원명부!$A$2:$Z$100,12)))","v":""},{"$f":"IF(B15=\"\",\"\",VLOOKUP(B15,사원명부!$A$2:$Z$100,2))","v":""},{"$f":"IF(B15=\"\",\"\",VLOOKUP(B15,사원명부!$A$2:$Z$100,8))","v":""},{"$f":"IF(B15=\"\",\"\",VLOOKUP(B15,사원명부!$A$2:$Z$100,9))","v":""},{"$f":"IF(B15=\"\",\"\",VLOOKUP(B15,사원명부!$A$2:$Z$100,14))","v":""},{"$f":"IF(D15=\"말소\",\"\",IF(B15=\"\",\"\",VLOOKUP(B15,사원명부!$A$2:$Z$100,15)))","v":""},null,9,{"$f":"IF(L15=\"\",\"\",IFERROR(IFBLANK(VLOOKUP(L15,사원명부!$A$2:$Z$100,2,FALSE)),\"\"))","v":""}]
["",null,null,{"$f":"IF(B16=\"\",\"\",IF(C16=\"\",\"\",IF(C16=\"입사\",\"신규\",IFERROR(IF(VLOOKUP(B16,사원명부!$A$2:$Z$100,7)=\"약사\",\"변경\",\"말소\"),\"\"))))","v":""},{"$f":"IF(B16=\"\",\"\",IF(C16=\"입사\",VLOOKUP(B16,사원명부!$A$2:$Z$100,11),VLOOKUP(B16,사원명부!$A$2:$Z$100,12)))","v":""},{"$f":"IF(B16=\"\",\"\",VLOOKUP(B16,사원명부!$A$2:$Z$100,2))","v":""},{"$f":"IF(B16=\"\",\"\",VLOOKUP(B16,사원명부!$A$2:$Z$100,8))","v":""},{"$f":"IF(B16=\"\",\"\",VLOOKUP(B16,사원명부!$A$2:$Z$100,9))","v":""},{"$f":"IF(B16=\"\",\"\",VLOOKUP(B16,사원명부!$A$2:$Z$100,14))","v":""},{"$f":"IF(D16=\"말소\",\"\",IF(B16=\"\",\"\",VLOOKUP(B16,사원명부!$A$2:$Z$100,15)))","v":""},null,10,{"$f":"IF(L16=\"\",\"\",IFERROR(IFBLANK(VLOOKUP(L16,사원명부!$A$2:$Z$100,2,FALSE)),\"\"))","v":""}]
["",null,null,{"$f":"IF(B17=\"\",\"\",IF(C17=\"\",\"\",IF(C17=\"입사\",\"신규\",IFERROR(IF(VLOOKUP(B17,사원명부!$A$2:$Z$100,7)=\"약사\",\"변경\",\"말소\"),\"\"))))","v":""},{"$f":"IF(B17=\"\",\"\",IF(C17=\"입사\",VLOOKUP(B17,사원명부!$A$2:$Z$100,11),VLOOKUP(B17,사원명부!$A$2:$Z$100,12)))","v":""},{"$f":"IF(B17=\"\",\"\",VLOOKUP(B17,사원명부!$A$2:$Z$100,2))","v":""},{"$f":"IF(B17=\"\",\"\",VLOOKUP(B17,사원명부!$A$2:$Z$100,8))","v":""},{"$f":"IF(B17=\"\",\"\",VLOOKUP(B17,사원명부!$A$2:$Z$100,9))","v":""},{"$f":"IF(B17=\"\",\"\",VLOOKUP(B17,사원명부!$A$2:$Z$100,14))","v":""},{"$f":"IF(D17=\"말소\",\"\",IF(B17=\"\",\"\",VLOOKUP(B17,사원명부!$A$2:$Z$100,15)))","v":""},null,11,{"$f":"IF(L17=\"\",\"\",IFERROR(IFBLANK(VLOOKUP(L17,사원명부!$A$2:$Z$100,2,FALSE)),\"\"))","v":""}]
["",null,null,{"$f":"IF(B18=\"\",\"\",IF(C18=\"\",\"\",IF(C18=\"입사\",\"신규\",IFERROR(IF(VLOOKUP(B18,사원명부!$A$2:$Z$100,7)=\"약사\",\"변경\",\"말소\"),\"\"))))","v":""},{"$f":"IF(B18=\"\",\"\",IF(C18=\"입사\",VLOOKUP(B18,사원명부!$A$2:$Z$100,11),VLOOKUP(B18,사원명부!$A$2:$Z$100,12)))","v":""},{"$f":"IF(B18=\"\",\"\",VLOOKUP(B18,사원명부!$A$2:$Z$100,2))","v":""},{"$f":"IF(B18=\"\",\"\",VLOOKUP(B18,사원명부!$A$2:$Z$100,8))","v":""},{"$f":"IF(B18=\"\",\"\",VLOOKUP(B18,사원명부!$A$2:$Z$100,9))","v":""},{"$f":"IF(B18=\"\",\"\",VLOOKUP(B18,사원명부!$A$2:$Z$100,14))","v":""},{"$f":"IF(D18=\"말소\",\"\",IF(B18=\"\",\"\",VLOOKUP(B18,사원명부!$A$2:$Z$100,15)))","v":""},null,12,{"$f":"IF(L18=\"\",\"\",IFERROR(IFBLANK(VLOOKUP(L18,사원명부!$A$2:$Z$100,2,FALSE)),\"\"))","v":""}]
["",null,null,{"$f":"IF(B19=\"\",\"\",IF(C19=\"\",\"\",IF(C19=\"입사\",\"신규\",IFERROR(IF(VLOOKUP(B19,사원명부!$A$2:$Z$100,7)=\"약사\",\"변경\",\"말소\"),\"\"))))","v":""},{"$f":"IF(B19=\"\",\"\",IF(C19=\"입사\",VLOOKUP(B19,사원명부!$A$2:$Z$100,11),VLOOKUP(B19,사원명부!$A$2:$Z$100,12)))","v":""},{"$f":"IF(B19=\"\",\"\",VLOOKUP(B19,사원명부!$A$2:$Z$100,2))","v":""},{"$f":"IF(B19=\"\",\"\",VLOOKUP(B19,사원명부!$A$2:$Z$100,8))","v":""},{"$f":"IF(B19=\"\",\"\",VLOOKUP(B19,사원명부!$A$2:$Z$100,9))","v":""},{"$f":"IF(B19=\"\",\"\",VLOOKUP(B19,사원명부!$A$2:$Z$100,14))","v":""},{"$f":"IF(D19=\"말소\",\"\",IF(B19=\"\",\"\",VLOOKUP(B19,사원명부!$A$2:$Z$100,15)))","v":""},null,13,{"$f":"IF(L19=\"\",\"\",IFERROR(IFBLANK(VLOOKUP(L19,사원명부!$A$2:$Z$100,2,FALSE)),\"\"))","v":""}]
["",null,null,{"$f":"IF(B20=\"\",\"\",IF(C20=\"\",\"\",IF(C20=\"입사\",\"신규\",IFERROR(IF(VLOOKUP(B20,사원명부!$A$2:$Z$100,7)=\"약사\",\"변경\",\"말소\"),\"\"))))","v":""},{"$f":"IF(B20=\"\",\"\",IF(C20=\"입사\",VLOOKUP(B20,사원명부!$A$2:$Z$100,11),VLOOKUP(B20,사원명부!$A$2:$Z$100,12)))","v":""},{"$f":"IF(B20=\"\",\"\",VLOOKUP(B20,사원명부!$A$2:$Z$100,2))","v":""},{"$f":"IF(B20=\"\",\"\",VLOOKUP(B20,사원명부!$A$2:$Z$100,8))","v":""},{"$f":"IF(B20=\"\",\"\",VLOOKUP(B20,사원명부!$A$2:$Z$100,9))","v":""},{"$f":"IF(B20=\"\",\"\",VLOOKUP(B20,사원명부!$A$2:$Z$100,14))","v":""},{"$f":"IF(D20=\"말소\",\"\",IF(B20=\"\",\"\",VLOOKUP(B20,사원명부!$A$2:$Z$100,15)))","v":""},null,14,{"$f":"IF(L20=\"\",\"\",IFERROR(IFBLANK(VLOOKUP(L20,사원명부!$A$2:$Z$100,2,FALSE)),\"\"))","v":""}]
[{"$f":"IFBLANK(요양기관기초정보!D1)&\" 개인 정보 처리 시스템(청구소프트웨어) 사용자 ID 관리대장\"","v":"팜오피스약국 개인 정보 처리 시스템(청구소프트웨어) 사용자 ID 관리대장"}]
[null,null,null,null,null,null,null,"개인정보보호책임자"]
[null,null,null,null,null,null,null,"직급",{"$f":"IFBLANK(I3)","v":"요양기관장"}]
[null,null,null,null,null,null,null,"이름",{"$f":"IFBLANK(I4)","v":"홍길동"}]
[]
["연번","사번","사유","유형","날짜","이름","부서명","직급","S/W 사용 권한","ID",null,"사번","이름"]
[{"$f":"IF(A20=\"\",\"\",A20+1)","v":""},null,null,{"$f":"IF(B27=\"\",\"\",IF(C27=\"\",\"\",IF(C27=\"입사\",\"신규\",IFERROR(IF(VLOOKUP(B27,사원명부!$A$2:$Z$100,7)=\"약사\",\"변경\",\"말소\"),\"\"))))","v":""},{"$f":"IF(B27=\"\",\"\",IF(C27=\"입사\",VLOOKUP(B27,사원명부!$A$2:$Z$100,11),VLOOKUP(B27,사원명부!$A$2:$Z$100,12)))","v":""},{"$f":"IF(B27=\"\",\"\",VLOOKUP(B27,사원명부!$A$2:$Z$100,2))","v":""},{"$f":"IF(B27=\"\",\"\",VLOOKUP(B27,사원명부!$A$2:$Z$100,8))","v":""},{"$f":"IF(B27=\"\",\"\",VLOOKUP(B27,사원명부!$A$2:$Z$100,9))","v":""},{"$f":"IF(B27=\"\",\"\",VLOOKUP(B27,사원명부!$A$2:$Z$100,14))","v":""},{"$f":"IF(D27=\"말소\",\"\",IF(B27=\"\",\"\",VLOOKUP(B27,사원명부!$A$2:$Z$100,15)))","v":""},null,15,{"$f":"IF(L27=\"\",\"\",IFERROR(IFBLANK(VLOOKUP(L27,사원명부!$A$2:$Z$100,2,FALSE)),\"\"))","v":""}]
[null,null,null,{"$f":"IF(B28=\"\",\"\",IF(C28=\"\",\"\",IF(C28=\"입사\",\"신규\",IFERROR(IF(VLOOKUP(B28,사원명부!$A$2:$Z$100,7)=\"약사\",\"변경\",\"말소\"),\"\"))))","v":""},{"$f":"IF(B28=\"\",\"\",IF(C28=\"입사\",VLOOKUP(B28,사원명부!$A$2:$Z$100,11),VLOOKUP(B28,사원명부!$A$2:$Z$100,12)))","v":""},{"$f":"IF(B28=\"\",\"\",VLOOKUP(B28,사원명부!$A$2:$Z$100,2))","v":""},{"$f":"IF(B28=\"\",\"\",VLOOKUP(B28,사원명부!$A$2:$Z$100,8))","v":""},{"$f":"IF(B28=\"\",\"\",VLOOKUP(B28,사원명부!$A$2:$Z$100,9))","v":""},{"$f":"IF(B28=\"\",\"\",VLOOKUP(B28,사원명부!$A$2:$Z$100,14))","v":""},{"$f":"IF(D28=\"말소\",\"\",IF(B28=\"\",\"\",VLOOKUP(B28,사원명부!$A$2:$Z$100,15)))","v":""},null,16,{"$f":"IF(L28=\"\",\"\",IFERROR(IFBLANK(VLOOKUP(L28,사원명부!$A$2:$Z$100,2,FALSE)),\"\"))","v":""}]
[null,null,null,{"$f":"IF(B29=\"\",\"\",IF(C29=\"\",\"\",IF(C29=\"입사\",\"신규\",IFERROR(IF(VLOOKUP(B29,사원명부!$A$2:$Z$100,7)=\"약사\",\"변경\",\"말소\"),\"\"))))","v":""},{"$f":"IF(B29=\"\",\"\",IF(C29=\"입사\",VLOOKUP(B29,사원명부!$A$2:$Z$100,11),VLOOKUP(B29,사원명부!$A$2:$Z$100,12)))","v":""},{"$f":"IF(B29=\"\",\"\",VLOOKUP(B29,사원명부!$A$2:$Z$100,2))","v":""},{"$f":"IF(B29=\"\",\"\",VLOOKUP(B29,사원명부!$A$2:$Z$100,8))","v":""},{"$f":"IF(B29=\"\",\"\",VLOOKUP(B29,사원명부!$A$2:$Z$100,9))","v":""},{"$f":"IF(B29=\"\",\"\",VLOOKUP(B29,사원명부!$A$2:$Z$100,14))","v":""},{"$f":"IF(D29=\"말소\",\"\",IF(B29=\"\",\"\",VLOOKUP(B29,사원명부!$A$2:$Z$100,15)))","v":""},null,17,{"$f":"IF(L29=\"\",\"\",IFERROR(IFBLANK(VLOOKUP(L29,사원명부!$A$2:$Z$100,2,FALSE)),\"\"))","v":""}]
["",null,null,{"$f":"IF(B30=\"\",\"\",IF(C30=\"\",\"\",IF(C30=\"입사\",\"신규\",IFERROR(IF(VLOOKUP(B30,사원명부!$A$2:$Z$100,7)=\"약사\",\"변경\",\"말소\"),\"\"))))","v":""},{"$f":"IF(B30=\"\",\"\",IF(C30=\"입사\",VLOOKUP(B30,사원명부!$A$2:$Z$100,11),VLOOKUP(B30,사원명부!$A$2:$Z$100,12)))","v":""},{"$f":"IF(B30=\"\",\"\",VLOOKUP(B30,사원명부!$A$2:$Z$100,2))","v":""},{"$f":"IF(B30=\"\",\"\",VLOOKUP(B30,사원명부!$A$2:$Z$100,8))","v":""},{"$f":"IF(B30=\"\",\"\",VLOOKUP(B30,사원명부!$A$2:$Z$100,9))","v":""},{"$f":"IF(B30=\"\",\"\",VLOOKUP(B30,사원명부!$A$2:$Z$100,14))","v":""},{"$f":"IF(D30=\"말소\",\"\",IF(B30=\"\",\"\",VLOOKUP(B30,사원명부!$A$2:$Z$100,15)))","v":""},null,18,{"$f":"IF(L30=\"\",\"\",IFERROR(IFBLANK(VLOOKUP(L30,사원명부!$A$2:$Z$100,2,FALSE)),\"\"))","v":""}]
["",null,null,{"$f":"IF(B31=\"\",\"\",IF(C31=\"\",\"\",IF(C31=\"입사\",\"신규\",IFERROR(IF(VLOOKUP(B31,사원명부!$A$2:$Z$100,7)=\"약사\",\"변경\",\"말소\"),\"\"))))","v":""},{"$f":"IF(B31=\"\",\"\",IF(C31=\"입사\",VLOOKUP(B31,사원명부!$A$2:$Z$100,11),VLOOKUP(B31,사원명부!$A$2:$Z$100,12)))","v":""},{"$f":"IF(B31=\"\",\"\",VLOOKUP(B31,사원명부!$A$2:$Z$100,2))","v":""},{"$f":"IF(B31=\"\",\"\",VLOOKUP(B31,사원명부!$A$2:$Z$100,8))","v":""},{"$f":"IF(B31=\"\",\"\",VLOOKUP(B31,사원명부!$A$2:$Z$100,9))","v":""},{"$f":"IF(B31=\"\",\"\",VLOOKUP(B31,사원명부!$A$2:$Z$100,14))","v":""},{"$f":"IF(D31=\"말소\",\"\",IF(B31=\"\",\"\",VLOOKUP(B31,사원명부!$A$2:$Z$100,15)))","v":""},null,19,{"$f":"IF(L31=\"\",\"\",IFERROR(IFBLANK(VLOOKUP(L31,사원명부!$A$2:$Z$100,2,FALSE)),\"\"))","v":""}]
["",null,null,{"$f":"IF(B32=\"\",\"\",IF(C32=\"\",\"\",IF(C32=\"입사\",\"신규\",IFERROR(IF(VLOOKUP(B32,사원명부!$A$2:$Z$100,7)=\"약사\",\"변경\",\"말소\"),\"\"))))","v":""},{"$f":"IF(B32=\"\",\"\",IF(C32=\"입사\",VLOOKUP(B32,사원명부!$A$2:$Z$100,11),VLOOKUP(B32,사원명부!$A$2:$Z$100,12)))","v":""},{"$f":"IF(B32=\"\",\"\",VLOOKUP(B32,사원명부!$A$2:$Z$100,2))","v":""},{"$f":"IF(B32=\"\",\"\",VLOOKUP(B32,사원명부!$A$2:$Z$100,8))","v":""},{"$f":"IF(B32=\"\",\"\",VLOOKUP(B32,사원명부!$A$2:$Z$100,9))","v":""},{"$f":"IF(B32=\"\",\"\",VLOOKUP(B32,사원명부!$A$2:$Z$100,14))","v":""},{"$f":"IF(D32=\"말소\",\"\",IF(B32=\"\",\"\",VLOOKUP(B32,사원명부!$A$2:$Z$100,15)))","v":""},null,20,{"$f":"IF(L32=\"\",\"\",IFERROR(IFBLANK(VLOOKUP(L32,사원명부!$A$2:$Z$100,2,FALSE)),\"\"))","v":""}]
["",null,null,{"$f":"IF(B33=\"\",\"\",IF(C33=\"\",\"\",IF(C33=\"입사\",\"신규\",IFERROR(IF(VLOOKUP(B33,사원명부!$A$2:$Z$100,7)=\"약사\",\"변경\",\"말소\"),\"\"))))","v":""},{"$f":"IF(B33=\"\",\"\",IF(C33=\"입사\",VLOOKUP(B33,사원명부!$A$2:$Z$100,11),VLOOKUP(B33,사원명부!$A$2:$Z$100,12)))","v":""},{"$f":"IF(B33=\"\",\"\",VLOOKUP(B33,사원명부!$A$2:$Z$100,2))","v":""},{"$f":"IF(B33=\"\",\"\",VLOOKUP(B33,사원명부!$A$2:$Z$100,8))","v":""},{"$f":"IF(B33=\"\",\"\",VLOOKUP(B33,사원명부!$A$2:$Z$100,9))","v":""},{"$f":"IF(B33=\"\",\"\",VLOOKUP(B33,사원명부!$A$2:$Z$100,14))","v":""},{"$f":"IF(D33=\"말소\",\"\",IF(B33=\"\",\"\",VLOOKUP(B33,사원명부!$A$2:$Z$100,15)))","v":""},null,21,{"$f":"IF(L33=\"\",\"\",IFERROR(IFBLANK(VLOOKUP(L33,사원명부!$A$2:$Z$100,2,FALSE)),\"\"))","v":""}]
["",null,null,{"$f":"IF(B34=\"\",\"\",IF(C34=\"\",\"\",IF(C34=\"입사\",\"신규\",IFERROR(IF(VLOOKUP(B34,사원명부!$A$2:$Z$100,7)=\"약사\",\"변경\",\"말소\"),\"\"))))","v":""},{"$f":"IF(B34=\"\",\"\",IF(C34=\"입사\",VLOOKUP(B34,사원명부!$A$2:$Z$100,11),VLOOKUP(B34,사원명부!$A$2:$Z$100,12)))","v":""},{"$f":"IF(B34=\"\",\"\",VLOOKUP(B34,사원명부!$A$2:$Z$100,2))","v":""},{"$f":"IF(B34=\"\",\"\",VLOOKUP(B34,사원명부!$A$2:$Z$100,8))","v":""},{"$f":"IF(B34=\"\",\"\",VLOOKUP(B34,사원명부!$A$2:$Z$100,9))","v":""},{"$f":"IF(B34=\"\",\"\",VLOOKUP(B34,사원명부!$A$2:$Z$100,14))","v":""},{"$f":"IF(D34=\"말소\",\"\",IF(B34=\"\",\"\",VLOOKUP(B34,사원명부!$A$2:$Z$100,15)))","v":""},null,22,{"$f":"IF(L34=\"\",\"\",IFERROR(IFBLANK(VLOOKUP(L34,사원명부!$A$2:$Z$100,2,FALSE)),\"\"))","v":""}]
["",null,null,{"$f":"IF(B35=\"\",\"\",IF(C35=\"\",\"\",IF(C35=\"입사\",\"신규\",IFERROR(IF(VLOOKUP(B35,사원명부!$A$2:$Z$100,7)=\"약사\",\"변경\",\"말소\"),\"\"))))","v":""},{"$f":"IF(B35=\"\",\"\",IF(C35=\"입사\",VLOOKUP(B35,사원명부!$A$2:$Z$100,11),VLOOKUP(B35,사원명부!$A$2:$Z$100,12)))","v":""},{"$f":"IF(B35=\"\",\"\",VLOOKUP(B35,사원명부!$A$2:$Z$100,2))","v":""},{"$f":"IF(B35=\"\",\"\",VLOOKUP(B35,사원명부!$A$2:$Z$100,8))","v":""},{"$f":"IF(B35=\"\",\"\",VLOOKUP(B35,사원명부!$A$2:$Z$100,9))","v":""},{"$f":"IF(B35=\"\",\"\",VLOOKUP(B35,사원명부!$A$2:$Z$100,14))","v":""},{"$f":"IF(D35=\"말소\",\"\",IF(B35=\"\",\"\",VLOOKUP(B35,사원명부!$A$2:$Z$100,15)))","v":""},null,23,{"$f":"IF(L35=\"\",\"\",IFERROR(IFBLANK(VLOOKUP(L35,사원명부!$A$2:$Z$100,2,FALSE)),\"\"))","v":""}]
["",null,null,{"$f":"IF(B36=\"\",\"\",IF(C36=\"\",\"\",IF(C36=\"입사\",\"신규\",IFERROR(IF(VLOOKUP(B36,사원명부!$A$2:$Z$100,7)=\"약사\",\"변경\",\"말소\"),\"\"))))","v":""},{"$f":"IF(B36=\"\",\"\",IF(C36=\"입사\",VLOOKUP(B36,사원명부!$A$2:$Z$100,11),VLOOKUP(B36,사원명부!$A$2:$Z$100,12)))","v":""},{"$f":"IF(B36=\"\",\"\",VLOOKUP(B36,사원명부!$A$2:$Z$100,2))","v":""},{"$f":"IF(B36=\"\",\"\",VLOOKUP(B36,사원명부!$A$2:$Z$100,8))","v":""},{"$f":"IF(B36=\"\",\"\",VLOOKUP(B36,사원명부!$A$2:$Z$100,9))","v":""},{"$f":"IF(B36=\"\",\"\",VLOOKUP(B36,사원명부!$A$2:$Z$100,14))","v":""},{"$f":"IF(D36=\"말소\",\"\",IF(B36=\"\",\"\",VLOOKUP(B36,사원명부!$A$2:$Z$100,15)))","v":""},null,24,{"$f":"IF(L36=\"\",\"\",IFERROR(IFBLANK(VLOOKUP(L36,사원명부!$A$2:$Z$100,2,FALSE)),\"\"))","v":""}]
["",null,null,{"$f":"IF(B37=\"\",\"\",IF(C37=\"\",\"\",IF(C37=\"입사\",\"신규\",IFERROR(IF(VLOOKUP(B37,사원명부!$A$2:$Z$100,7)=\"약사\",\"변경\",\"말소\"),\"\"))))","v":""},{"$f":"IF(B37=\"\",\"\",IF(C37=\"입사\",VLOOKUP(B37,사원명부!$A$2:$Z$100,11),VLOOKUP(B37,사원명부!$A$2:$Z$100,12)))","v":""},{"$f":"IF(B37=\"\",\"\",VLOOKUP(B37,사원명부!$A$2:$Z$100,2))","v":""},{"$f":"IF(B37=\"\",\"\",VLOOKUP(B37,사원명부!$A$2:$Z$100,8))","v":""},{"$f":"IF(B37=\"\",\"\",VLOOKUP(B37,사원명부!$A$2:$Z$100,9))","v":""},{"$f":"IF(B37=\"\",\"\",VLOOKUP(B37,사원명부!$A$2:$Z$100,14))","v":""},{"$f":"IF(D37=\"말소\",\"\",IF(B37=\"\",\"\",VLOOKUP(B37,사원명부!$A$2:$Z$100,15)))","v":""},null,25,{"$f":"IF(L37=\"\",\"\",IFERROR(IFBLANK(VLOOKUP(L37,사원명부!$A$2:$Z$100,2,FALSE)),\"\"))","v":""}]
["",null,null,{"$f":"IF(B38=\"\",\"\",IF(C38=\"\",\"\",IF(C38=\"입사\",\"신규\",IFERROR(IF(VLOOKUP(B38,사원명부!$A$2:$Z$100,7)=\"약사\",\"변경\",\"말소\"),\"\"))))","v":""},{"$f":"IF(B38=\"\",\"\",IF(C38=\"입사\",VLOOKUP(B38,사원명부!$A$2:$Z$100,11),VLOOKUP(B38,사원명부!$A$2:$Z$100,12)))","v":""},{"$f":"IF(B38=\"\",\"\",VLOOKUP(B38,사원명부!$A$2:$Z$100,2))","v":""},{"$f":"IF(B38=\"\",\"\",VLOOKUP(B38,사원명부!$A$2:$Z$100,8))","v":""},{"$f":"IF(B38=\"\",\"\",VLOOKUP(B38,사원명부!$A$2:$Z$100,9))","v":""},{"$f":"IF(B38=\"\",\"\",VLOOKUP(B38,사원명부!$A$2:$Z$100,14))","v":""},{"$f":"IF(D38=\"말소\",\"\",IF(B38=\"\",\"\",VLOOKUP(B38,사원명부!$A$2:$Z$100,15)))","v":""},null,26,{"$f":"IF(L38=\"\",\"\",IFERROR(IFBLANK(VLOOKUP(L38,사원명부!$A$2:$Z$100,2,FALSE)),\"\"))","v":""}]
[{"$f":"IF(B39=\"\",\"\",A38+1)","v":""},null,null,{"$f":"IF(B39=\"\",\"\",IF(C39=\"\",\"\",IF(C39=\"입사\",\"신규\",IFERROR(IF(VLOOKUP(B39,사원명부!$A$2:$Z$100,7)=\"약사\",\"변경\",\"말소\"),\"\"))))","v":""},{"$f":"IF(B39=\"\",\"\",IF(C39=\"입사\",VLOOKUP(B39,사원명부!$A$2:$Z$100,11),VLOOKUP(B39,사원명부!$A$2:$Z$100,12)))","v":""},{"$f":"IF(B39=\"\",\"\",VLOOKUP(B39,사원명부!$A$2:$Z$100,2))","v":""},{"$f":"IF(B39=\"\",\"\",VLOOKUP(B39,사원명부!$A$2:$Z$100,8))","v":""},{"$f":"IF(B39=\"\",\"\",VLOOKUP(B39,사원명부!$A$2:$Z$100,9))","v":""},{"$f":"IF(B39=\"\",\"\",VLOOKUP(B39,사원명부!$A$2:$Z$100,14))","v":""},{"$f":"IF(D39=\"말소\",\"\",IF(B39=\"\",\"\",VLOOKUP(B39,사원명부!$A$2:$Z$100,15)))","v":""},null,27,{"$f":"IF(L39=\"\",\"\",IFERROR(IFBLANK(VLOOKUP(L39,사원명부!$A$2:$Z$100,2,FALSE)),\"\"))","v":""}]
["",null,null,{"$f":"IF(B40=\"\",\"\",IF(C40=\"\",\"\",IF(C40=\"입사\",\"신규\",IFERROR(IF(VLOOKUP(B40,사원명부!$A$2:$Z$100,7)=\"약사\",\"변경\",\"말소\"),\"\"))))","v":""},{"$f":"IF(B40=\"\",\"\",IF(C40=\"입사\",VLOOKUP(B40,사원명부!$A$2:$Z$100,11),VLOOKUP(B40,사원명부!$A$2:$Z$100,12)))","v":""},{"$f":"IF(B40=\"\",\"\",VLOOKUP(B40,사원명부!$A$2:$Z$100,2))","v":""},{"$f":"IF(B40=\"\",\"\",VLOOKUP(B40,사원명부!$A$2:$Z$100,8))","v":""},{"$f":"IF(B40=\"\",\"\",VLOOKUP(B40,사원명부!$A$2:$Z$100,9))","v":""},{"$f":"IF(B40=\"\",\"\",VLOOKUP(B40,사원명부!$A$2:$Z$100,14))","v":""},{"$f":"IF(D40=\"말소\",\"\",IF(B40=\"\",\"\",VLOOKUP(B40,사원명부!$A$2:$Z$100,15)))","v":""},null,28,{"$f":"IF(L40=\"\",\"\",IFERROR(IFBLANK(VLOOKUP(L40,사원명부!$A$2:$Z$100,2,FALSE)),\"\"))","v":""}]
[{"$f":"IFBLANK(요양기관기초정보!D1)&\" 개인 정보 처리 시스템(청구소프트웨어) 사용자 ID 관리대장\"","v":"팜오피스약국 개인 정보 처리 시스템(청구소프트웨어) 사용자 ID 관리대장"}]
[null,null,null,null,null,null,null,"개인정보보호책임자"]
[null,null,null,null,null,null,null,"직급",{"$f":"IFBLANK(I23)","v":"요양기관장"}]
[null,null,null,null,null,null,null,"이름",{"$f":"IFBLANK(I24)","v":"홍길동"}]
[]
["연번","사번","사유","유형","날짜","이름","부서명","직급","S/W 사용 권한","ID",null,"사번","이름"]
[{"$f":"IF(B47=\"\",\"\",A40+1)","v":""},null,null,{"$f":"IF(B47=\"\",\"\",IF(C47=\"\",\"\",IF(C47=\"입사\",\"신규\",IFERROR(IF(VLOOKUP(B47,사원명부!$A$2:$Z$100,7)=\"약사\",\"변경\",\"말소\"),\"\"))))","v":""},{"$f":"IF(B47=\"\",\"\",IF(C47=\"입사\",VLOOKUP(B47,사원명부!$A$2:$Z$100,11),VLOOKUP(B47,사원명부!$A$2:$Z$100,12)))","v":""},{"$f":"IF(B47=\"\",\"\",VLOOKUP(B47,사원명부!$A$2:$Z$100,2))","v":""},{"$f":"IF(B47=\"\",\"\",VLOOKUP(B47,사원명부!$A$2:$Z$100,8))","v":""},{"$f":"IF(B47=\"\",\"\",VLOOKUP(B47,사원명부!$A$2:$Z$100,9))","v":""},{"$f":"IF(B47=\"\",\"\",VLOOKUP(B47,사원명부!$A$2:$Z$100,14))","v":""},{"$f":"IF(D47=\"말소\",\"\",IF(B47=\"\",\"\",VLOOKUP(B47,사원명부!$A$2:$Z$100,15)))","v":""},null,29,{"$f":"IF(L47=\"\",\"\",IFERROR(IFBLANK(VLOOKUP(L47,사원명부!$A$2:$Z$100,2,FALSE)),\"\"))","v":""}]
[{"$f":"IF(B48=\"\",\"\",A41+1)","v":""},null,null,{"$f":"IF(B48=\"\",\"\",IF(C48=\"\",\"\",IF(C48=\"입사\",\"신규\",IFERROR(IF(VLOOKUP(B48,사원명부!$A$2:$Z$100,7)=\"약사\",\"변경\",\"말소\"),\"\"))))","v":""},{"$f":"IF(B48=\"\",\"\",IF(C48=\"입사\",VLOOKUP(B48,사원명부!$A$2:$Z$100,11),VLOOKUP(B48,사원명부!$A$2:$Z$100,12)))","v":""},{"$f":"IF(B48=\"\",\"\",VLOOKUP(B48,사원명부!$A$2:$Z$100,2))","v":""},{"$f":"IF(B48=\"\",\"\",VLOOKUP(B48,사원명부!$A$2:$Z$100,8))","v":""},{"$f":"IF(B48=\"\",\"\",VLOOKUP(B48,사원명부!$A$2:$Z$100,9))","v":""},{"$f":"IF(B48=\"\",\"\",VLOOKUP(B48,사원명부!$A$2:$Z$100,14))","v":""},{"$f":"IF(D48=\"말소\",\"\",IF(B48=\"\",\"\",VLOOKUP(B48,사원명부!$A$2:$Z$100,15)))","v":""},null,30,{"$f":"IF(L48=\"\",\"\",IFERROR(IFBLANK(VLOOKUP(L48,사원명부!$A$2:$Z$100,2,FALSE)),\"\"))","v":""}]
["",null,null,{"$f":"IF(B49=\"\",\"\",IF(C49=\"\",\"\",IF(C49=\"입사\",\"신규\",IFERROR(IF(VLOOKUP(B49,사원명부!$A$2:$Z$100,7)=\"약사\",\"변경\",\"말소\"),\"\"))))","v":""},{"$f":"IF(B49=\"\",\"\",IF(C49=\"입사\",VLOOKUP(B49,사원명부!$A$2:$Z$100,11),VLOOKUP(B49,사원명부!$A$2:$Z$100,12)))","v":""},{"$f":"IF(B49=\"\",\"\",VLOOKUP(B49,사원명부!$A$2:$Z$100,2))","v":""},{"$f":"IF(B49=\"\",\"\",VLOOKUP(B49,사원명부!$A$2:$Z$100,8))","v":""},{"$f":"IF(B49=\"\",\"\",VLOOKUP(B49,사원명부!$A$2:$Z$100,9))","v":""},{"$f":"IF(B49=\"\",\"\",VLOOKUP(B49,사원명부!$A$2:$Z$100,14))","v":""},{"$f":"IF(D49=\"말소\",\"\",IF(B49=\"\",\"\",VLOOKUP(B49,사원명부!$A$2:$Z$100,15)))","v":""},null,31,{"$f":"IF(L49=\"\",\"\",IFERROR(IFBLANK(VLOOKUP(L49,사원명부!$A$2:$Z$100,2,FALSE)),\"\"))","v":""}]
["",null,null,{"$f":"IF(B50=\"\",\"\",IF(C50=\"\",\"\",IF(C50=\"입사\",\"신규\",IFERROR(IF(VLOOKUP(B50,사원명부!$A$2:$Z$100,7)=\"약사\",\"변경\",\"말소\"),\"\"))))","v":""},{"$f":"IF(B50=\"\",\"\",IF(C50=\"입사\",VLOOKUP(B50,사원명부!$A$2:$Z$100,11),VLOOKUP(B50,사원명부!$A$2:$Z$100,12)))","v":""},{"$f":"IF(B50=\"\",\"\",VLOOKUP(B50,사원명부!$A$2:$Z$100,2))","v":""},{"$f":"IF(B50=\"\",\"\",VLOOKUP(B50,사원명부!$A$2:$Z$100,8))","v":""},{"$f":"IF(B50=\"\",\"\",VLOOKUP(B50,사원명부!$A$2:$Z$100,9))","v":""},{"$f":"IF(B50=\"\",\"\",VLOOKUP(B50,사원명부!$A$2:$Z$100,14))","v":""},{"$f":"IF(D50=\"말소\",\"\",IF(B50=\"\",\"\",VLOOKUP(B50,사원명부!$A$2:$Z$100,15)))","v":""},null,32,{"$f":"IF(L50=\"\",\"\",IFERROR(IFBLANK(VLOOKUP(L50,사원명부!$A$2:$Z$100,2,FALSE)),\"\"))","v":""}]
["",null,null,{"$f":"IF(B51=\"\",\"\",IF(C51=\"\",\"\",IF(C51=\"입사\",\"신규\",IFERROR(IF(VLOOKUP(B51,사원명부!$A$2:$Z$100,7)=\"약사\",\"변경\",\"말소\"),\"\"))))","v":""},{"$f":"IF(B51=\"\",\"\",IF(C51=\"입사\",VLOOKUP(B51,사원명부!$A$2:$Z$100,11),VLOOKUP(B51,사원명부!$A$2:$Z$100,12)))","v":""},{"$f":"IF(B51=\"\",\"\",VLOOKUP(B51,사원명부!$A$2:$Z$100,2))","v":""},{"$f":"IF(B51=\"\",\"\",VLOOKUP(B51,사원명부!$A$2:$Z$100,8))","v":""},{"$f":"IF(B51=\"\",\"\",VLOOKUP(B51,사원명부!$A$2:$Z$100,9))","v":""},{"$f":"IF(B51=\"\",\"\",VLOOKUP(B51,사원명부!$A$2:$Z$100,14))","v":""},{"$f":"IF(D51=\"말소\",\"\",IF(B51=\"\",\"\",VLOOKUP(B51,사원명부!$A$2:$Z$100,15)))","v":""},null,33,{"$f":"IF(L51=\"\",\"\",IFERROR(IFBLANK(VLOOKUP(L51,사원명부!$A$2:$Z$100,2,FALSE)),\"\"))","v":""}]
["",null,null,{"$f":"IF(B52=\"\",\"\",IF(C52=\"\",\"\",IF(C52=\"입사\",\"신규\",IFERROR(IF(VLOOKUP(B52,사원명부!$A$2:$Z$100,7)=\"약사\",\"변경\",\"말소\"),\"\"))))","v":""},{"$f":"IF(B52=\"\",\"\",IF(C52=\"입사\",VLOOKUP(B52,사원명부!$A$2:$Z$100,11),VLOOKUP(B52,사원명부!$A$2:$Z$100,12)))","v":""},{"$f":"IF(B52=\"\",\"\",VLOOKUP(B52,사원명부!$A$2:$Z$100,2))","v":""},{"$f":"IF(B52=\"\",\"\",VLOOKUP(B52,사원명부!$A$2:$Z$100,8))","v":""},{"$f":"IF(B52=\"\",\"\",VLOOKUP(B52,사원명부!$A$2:$Z$100,9))","v":""},{"$f":"IF(B52=\"\",\"\",VLOOKUP(B52,사원명부!$A$2:$Z$100,14))","v":""},{"$f":"IF(D52=\"말소\",\"\",IF(B52=\"\",\"\",VLOOKUP(B52,사원명부!$A$2:$Z$100,15)))","v":""},null,34,{"$f":"IF(L52=\"\",\"\",IFERROR(IFBLANK(VLOOKUP(L52,사원명부!$A$2:$Z$100,2,FALSE)),\"\"))","v":""}]
["",null,null,{"$f":"IF(B53=\"\",\"\",IF(C53=\"\",\"\",IF(C53=\"입사\",\"신규\",IFERROR(IF(VLOOKUP(B53,사원명부!$A$2:$Z$100,7)=\"약사\",\"변경\",\"말소\"),\"\"))))","v":""},{"$f":"IF(B53=\"\",\"\",IF(C53=\"입사\",VLOOKUP(B53,사원명부!$A$2:$Z$100,11),VLOOKUP(B53,사원명부!$A$2:$Z$100,12)))","v":""},{"$f":"IF(B53=\"\",\"\",VLOOKUP(B53,사원명부!$A$2:$Z$100,2))","v":""},{"$f":"IF(B53=\"\",\"\",VLOOKUP(B53,사원명부!$A$2:$Z$100,8))","v":""},{"$f":"IF(B53=\"\",\"\",VLOOKUP(B53,사원명부!$A$2:$Z$100,9))","v":""},{"$f":"IF(B53=\"\",\"\",VLOOKUP(B53,사원명부!$A$2:$Z$100,14))","v":""},{"$f":"IF(D53=\"말소\",\"\",IF(B53=\"\",\"\",VLOOKUP(B53,사원명부!$A$2:$Z$100,15)))","v":""},null,35,{"$f":"IF(L53=\"\",\"\",IFERROR(IFBLANK(VLOOKUP(L53,사원명부!$A$2:$Z$100,2,FALSE)),\"\"))","v":""}]
["",null,null,{"$f":"IF(B54=\"\",\"\",IF(C54=\"\",\"\",IF(C54=\"입사\",\"신규\",IFERROR(IF(VLOOKUP(B54,사원명부!$A$2:$Z$100,7)=\"약사\",\"변경\",\"말소\"),\"\"))))","v":""},{"$f":"IF(B54=\"\",\"\",IF(C54=\"입사\",VLOOKUP(B54,사원명부!$A$2:$Z$100,11),VLOOKUP(B54,사원명부!$A$2:$Z$100,12)))","v":""},{"$f":"IF(B54=\"\",\"\",VLOOKUP(B54,사원명부!$A$2:$Z$100,2))","v":""},{"$f":"IF(B54=\"\",\"\",VLOOKUP(B54,사원명부!$A$2:$Z$100,8))","v":""},{"$f":"IF(B54=\"\",\"\",VLOOKUP(B54,사원명부!$A$2:$Z$100,9))","v":""},{"$f":"IF(B54=\"\",\"\",VLOOKUP(B54,사원명부!$A$2:$Z$100,14))","v":""},{"$f":"IF(D54=\"말소\",\"\",IF(B54=\"\",\"\",VLOOKUP(B54,사원명부!$A$2:$Z$100,15)))","v":""},null,36,{"$f":"IF(L54=\"\",\"\",IFERROR(IFBLANK(VLOOKUP(L54,사원명부!$A$2:$Z$100,2,FALSE)),\"\"))","v":""}]
["",null,null,{"$f":"IF(B55=\"\",\"\",IF(C55=\"\",\"\",IF(C55=\"입사\",\"신규\",IFERROR(IF(VLOOKUP(B55,사원명부!$A$2:$Z$100,7)=\"약사\",\"변경\",\"말소\"),\"\"))))","v":""},{"$f":"IF(B55=\"\",\"\",IF(C55=\"입사\",VLOOKUP(B55,사원명부!$A$2:$Z$100,11),VLOOKUP(B55,사원명부!$A$2:$Z$100,12)))","v":""},{"$f":"IF(B55=\"\",\"\",VLOOKUP(B55,사원명부!$A$2:$Z$100,2))","v":""},{"$f":"IF(B55=\"\",\"\",VLOOKUP(B55,사원명부!$A$2:$Z$100,8))","v":""},{"$f":"IF(B55=\"\",\"\",VLOOKUP(B55,사원명부!$A$2:$Z$100,9))","v":""},{"$f":"IF(B55=\"\",\"\",VLOOKUP(B55,사원명부!$A$2:$Z$100,14))","v":""},{"$f":"IF(D55=\"말소\",\"\",IF(B55=\"\",\"\",VLOOKUP(B55,사원명부!$A$2:$Z$100,15)))","v":""},null,37,{"$f":"IF(L55=\"\",\"\",IFERROR(IFBLANK(VLOOKUP(L55,사원명부!$A$2:$Z$100,2,FALSE)),\"\"))","v":""}]
["",null,null,{"$f":"IF(B56=\"\",\"\",IF(C56=\"\",\"\",IF(C56=\"입사\",\"신규\",IFERROR(IF(VLOOKUP(B56,사원명부!$A$2:$Z$100,7)=\"약사\",\"변경\",\"말소\"),\"\"))))","v":""},{"$f":"IF(B56=\"\",\"\",IF(C56=\"입사\",VLOOKUP(B56,사원명부!$A$2:$Z$100,11),VLOOKUP(B56,사원명부!$A$2:$Z$100,12)))","v":""},{"$f":"IF(B56=\"\",\"\",VLOOKUP(B56,사원명부!$A$2:$Z$100,2))","v":""},{"$f":"IF(B56=\"\",\"\",VLOOKUP(B56,사원명부!$A$2:$Z$100,8))","v":""},{"$f":"IF(B56=\"\",\"\",VLOOKUP(B56,사원명부!$A$2:$Z$100,9))","v":""},{"$f":"IF(B56=\"\",\"\",VLOOKUP(B56,사원명부!$A$2:$Z$100,14))","v":""},{"$f":"IF(D56=\"말소\",\"\",IF(B56=\"\",\"\",VLOOKUP(B56,사원명부!$A$2:$Z$100,15)))","v":""},null,38,{"$f":"IF(L56=\"\",\"\",IFERROR(IFBLANK(VLOOKUP(L56,사원명부!$A$2:$Z$100,2,FALSE)),\"\"))","v":""}]
["",null,null,{"$f":"IF(B57=\"\",\"\",IF(C57=\"\",\"\",IF(C57=\"입사\",\"신규\",IFERROR(IF(VLOOKUP(B57,사원명부!$A$2:$Z$100,7)=\"약사\",\"변경\",\"말소\"),\"\"))))","v":""},{"$f":"IF(B57=\"\",\"\",IF(C57=\"입사\",VLOOKUP(B57,사원명부!$A$2:$Z$100,11),VLOOKUP(B57,사원명부!$A$2:$Z$100,12)))","v":""},{"$f":"IF(B57=\"\",\"\",VLOOKUP(B57,사원명부!$A$2:$Z$100,2))","v":""},{"$f":"IF(B57=\"\",\"\",VLOOKUP(B57,사원명부!$A$2:$Z$100,8))","v":""},{"$f":"IF(B57=\"\",\"\",VLOOKUP(B57,사원명부!$A$2:$Z$100,9))","v":""},{"$f":"IF(B57=\"\",\"\",VLOOKUP(B57,사원명부!$A$2:$Z$100,14))","v":""},{"$f":"IF(D57=\"말소\",\"\",IF(B57=\"\",\"\",VLOOKUP(B57,사원명부!$A$2:$Z$100,15)))","v":""},null,39,{"$f":"IF(L57=\"\",\"\",IFERROR(IFBLANK(VLOOKUP(L57,사원명부!$A$2:$Z$100,2,FALSE)),\"\"))","v":""}]
["",null,null,{"$f":"IF(B58=\"\",\"\",IF(C58=\"\",\"\",IF(C58=\"입사\",\"신규\",IFERROR(IF(VLOOKUP(B58,사원명부!$A$2:$Z$100,7)=\"약사\",\"변경\",\"말소\"),\"\"))))","v":""},{"$f":"IF(B58=\"\",\"\",IF(C58=\"입사\",VLOOKUP(B58,사원명부!$A$2:$Z$100,11),VLOOKUP(B58,사원명부!$A$2:$Z$100,12)))","v":""},{"$f":"IF(B58=\"\",\"\",VLOOKUP(B58,사원명부!$A$2:$Z$100,2))","v":""},{"$f":"IF(B58=\"\",\"\",VLOOKUP(B58,사원명부!$A$2:$Z$100,8))","v":""},{"$f":"IF(B58=\"\",\"\",VLOOKUP(B58,사원명부!$A$2:$Z$100,9))","v":""},{"$f":"IF(B58=\"\",\"\",VLOOKUP(B58,사원명부!$A$2:$Z$100,14))","v":""},{"$f":"IF(D58=\"말소\",\"\",IF(B58=\"\",\"\",VLOOKUP(B58,사원명부!$A$2:$Z$100,15)))","v":""},null,40,{"$f":"IF(L58=\"\",\"\",IFERROR(IFBLANK(VLOOKUP(L58,사원명부!$A$2:$Z$100,2,FALSE)),\"\"))","v":""}]
["",null,null,{"$f":"IF(B59=\"\",\"\",IF(C59=\"\",\"\",IF(C59=\"입사\",\"신규\",IFERROR(IF(VLOOKUP(B59,사원명부!$A$2:$Z$100,7)=\"약사\",\"변경\",\"말소\"),\"\"))))","v":""},{"$f":"IF(B59=\"\",\"\",IF(C59=\"입사\",VLOOKUP(B59,사원명부!$A$2:$Z$100,11),VLOOKUP(B59,사원명부!$A$2:$Z$100,12)))","v":""},{"$f":"IF(B59=\"\",\"\",VLOOKUP(B59,사원명부!$A$2:$Z$100,2))","v":""},{"$f":"IF(B59=\"\",\"\",VLOOKUP(B59,사원명부!$A$2:$Z$100,8))","v":""},{"$f":"IF(B59=\"\",\"\",VLOOKUP(B59,사원명부!$A$2:$Z$100,9))","v":""},{"$f":"IF(B59=\"\",\"\",VLOOKUP(B59,사원명부!$A$2:$Z$100,14))","v":""},{"$f":"IF(D59=\"말소\",\"\",IF(B59=\"\",\"\",VLOOKUP(B59,사원명부!$A$2:$Z$100,15)))","v":""},null,41,{"$f":"IF(L59=\"\",\"\",IFERROR(IFBLANK(VLOOKUP(L59,사원명부!$A$2:$Z$100,2,FALSE)),\"\"))","v":""}]
["",null,null,{"$f":"IF(B60=\"\",\"\",IF(C60=\"\",\"\",IF(C60=\"입사\",\"신규\",IFERROR(IF(VLOOKUP(B60,사원명부!$A$2:$Z$100,7)=\"약사\",\"변경\",\"말소\"),\"\"))))","v":""},{"$f":"IF(B60=\"\",\"\",IF(C60=\"입사\",VLOOKUP(B60,사원명부!$A$2:$Z$100,11),VLOOKUP(B60,사원명부!$A$2:$Z$100,12)))","v":""},{"$f":"IF(B60=\"\",\"\",VLOOKUP(B60,사원명부!$A$2:$Z$100,2))","v":""},{"$f":"IF(B60=\"\",\"\",VLOOKUP(B60,사원명부!$A$2:$Z$100,8))","v":""},{"$f":"IF(B60=\"\",\"\",VLOOKUP(B60,사원명부!$A$2:$Z$100,9))","v":""},{"$f":"IF(B60=\"\",\"\",VLOOKUP(B60,사원명부!$A$2:$Z$100,14))","v":""},{"$f":"IF(D60=\"말소\",\"\",IF(B60=\"\",\"\",VLOOKUP(B60,사원명부!$A$2:$Z$100,15)))","v":""},null,42,{"$f":"IF(L60=\"\",\"\",IFERROR(IFBLANK(VLOOKUP(L60,사원명부!$A$2:$Z$100,2,FALSE)),\"\"))","v":""}]
[{"$f":"IFBLANK(요양기관기초정보!D1)&\" 개인 정보 처리 시스템(청구소프트웨어) 사용자 ID 관리대장\"","v":"팜오피스약국 개인 정보 처리 시스템(청구소프트웨어) 사용자 ID 관리대장"}]
[null,null,null,null,null,null,null,"개인정보보호책임자"]
[null,null,null,null,null,null,null,"직급",{"$f":"IFBLANK(I43)","v":"요양기관장"}]
[null,null,null,null,null,null,null,"이름",{"$f":"IFBLANK(I44)","v":"홍길동"}]
[]
["연번","사번","사유","유형","날짜","이름","부서명","직급","S/W 사용 권한","ID"]
[1,1,"퇴사",{"$f":"IF(B67=\"\",\"\",IF(C67=\"\",\"\",IF(C67=\"입사\",\"신규\",IFERROR(IF(VLOOKUP(B67,사원명부!$A$2:$Z$100,7)=\"약사\",\"변경\",\"말소\"),\"\"))))","v":"말소"},{"$f":"IF(B67=\"\",\"\",IF(C67=\"입사\",VLOOKUP(B67,사원명부!$A$2:$Z$100,11),VLOOKUP(B67,사원명부!$A$2:$Z$100,12)))","v":"00:00:00"},{"$f":"IF(B67=\"\",\"\",VLOOKUP(B67,사원명부!$A$2:$Z$100,2))","v":"테스트1"},{"$f":"IF(B67=\"\",\"\",VLOOKUP(B67,사원명부!$A$2:$Z$100,8))","v":"관리부"},{"$f":"IF(B67=\"\",\"\",VLOOKUP(B67,사원명부!$A$2:$Z$100,9))","v":"부장"},{"$f":"IF(B67=\"\",\"\",VLOOKUP(B67,사원명부!$A$2:$Z$100,14))","v":"사입,반품,고객조회"},{"$f":"IF(D67=\"말소\",\"\",IF(B67=\"\",\"\",VLOOKUP(B67,사원명부!$A$2:$Z$100,15)))","v":""}]
[{"$f":"IF(B68=\"\",\"\",A61+1)","v":""},null,null,{"$f":"IF(B68=\"\",\"\",IF(C68=\"\",\"\",IF(C68=\"입사\",\"신규\",IFERROR(IF(VLOOKUP(B68,사원명부!$A$2:$Z$100,7)=\"약사\",\"변경\",\"말소\"),\"\"))))","v":""},{"$f":"IF(B68=\"\",\"\",IF(C68=\"입사\",VLOOKUP(B68,사원명부!$A$2:$Z$100,11),VLOOKUP(B68,사원명부!$A$2:$Z$100,12)))","v":""},{"$f":"IF(B68=\"\",\"\",VLOOKUP(B68,사원명부!$A$2:$Z$100,2))","v":""},{"$f":"IF(B68=\"\",\"\",VLOOKUP(B68,사원명부!$A$2:$Z$100,8))","v":""},{"$f":"IF(B68=\"\",\"\",VLOOKUP(B68,사원명부!$A$2:$Z$100,9))","v":""},{"$f":"IF(B68=\"\",\"\",VLOOKUP(B68,사원명부!$A$2:$Z$100,14))","v":""},{"$f":"IF(D68=\"말소\",\"\",IF(B68=\"\",\"\",VLOOKUP(B68,사원명부!$A$2:$Z$100,15)))","v":""}]
["",null,null,{"$f":"IF(B69=\"\",\"\",IF(C69=\"\",\"\",IF(C69=\"입사\",\"신규\",IFERROR(IF(VLOOKUP(B69,사원명부!$A$2:$Z$100,7)=\"약사\",\"변경\",\"말소\"),\"\"))))","v":""},{"$f":"IF(B69=\"\",\"\",IF(C69=\"입사\",VLOOKUP(B69,사원명부!$A$2:$Z$100,11),VLOOKUP(B69,사원명부!$A$2:$Z$100,12)))","v":""},{"$f":"IF(B69=\"\",\"\",VLOOKUP(B69,사원명부!$A$2:$Z$100,2))","v":""},{"$f":"IF(B69=\"\",\"\",VLOOKUP(B69,사원명부!$A$2:$Z$100,8))","v":""},{"$f":"IF(B69=\"\",\"\",VLOOKUP(B69,사원명부!$A$2:$Z$100,9))","v":""},{"$f":"IF(B69=\"\",\"\",VLOOKUP(B69,사원명부!$A$2:$Z$100,14))","v":""},{"$f":"IF(D69=\"말소\",\"\",IF(B69=\"\",\"\",VLOOKUP(B69,사원명부!$A$2:$Z$100,15)))","v":""}]
["",null,null,{"$f":"IF(B70=\"\",\"\",IF(C70=\"\",\"\",IF(C70=\"입사\",\"신규\",IFERROR(IF(VLOOKUP(B70,사원명부!$A$2:$Z$100,7)=\"약사\",\"변경\",\"말소\"),\"\"))))","v":""},{"$f":"IF(B70=\"\",\"\",IF(C70=\"입사\",VLOOKUP(B70,사원명부!$A$2:$Z$100,11),VLOOKUP(B70,사원명부!$A$2:$Z$100,12)))","v":""},{"$f":"IF(B70=\"\",\"\",VLOOKUP(B70,사원명부!$A$2:$Z$100,2))","v":""},{"$f":"IF(B70=\"\",\"\",VLOOKUP(B70,사원명부!$A$2:$Z$100,8))","v":""},{"$f":"IF(B70=\"\",\"\",VLOOKUP(B70,사원명부!$A$2:$Z$100,9))","v":""},{"$f":"IF(B70=\"\",\"\",VLOOKUP(B70,사원명부!$A$2:$Z$100,14))","v":""},{"$f":"IF(D70=\"말소\",\"\",IF(B70=\"\",\"\",VLOOKUP(B70,사원명부!$A$2:$Z$100,15)))","v":""}]
["",null,null,{"$f":"IF(B71=\"\",\"\",IF(C71=\"\",\"\",IF(C71=\"입사\",\"신규\",IFERROR(IF(VLOOKUP(B71,사원명부!$A$2:$Z$100,7)=\"약사\",\"변경\",\"말소\"),\"\"))))","v":""},{"$f":"IF(B71=\"\",\"\",IF(C71=\"입사\",VLOOKUP(B71,사원명부!$A$2:$Z$100,11),VLOOKUP(B71,사원명부!$A$2:$Z$100,12)))","v":""},{"$f":"IF(B71=\"\",\"\",VLOOKUP(B71,사원명부!$A$2:$Z$100,2))","v":""},{"$f":"IF(B71=\"\",\"\",VLOOKUP(B71,사원명부!$A$2:$Z$100,8))","v":""},{"$f":"IF(B71=\"\",\"\",VLOOKUP(B71,사원명부!$A$2:$Z$100,9))","v":""},{"$f":"IF(B71=\"\",\"\",VLOOKUP(B71,사원명부!$A$2:$Z$100,14))","v":""},{"$f":"IF(D71=\"말소\",\"\",IF(B71=\"\",\"\",VLOOKUP(B71,사원명부!$A$2:$Z$100,15)))","v":""}]
["",null,null,{"$f":"IF(B72=\"\",\"\",IF(C72=\"\",\"\",IF(C72=\"입사\",\"신규\",IFERROR(IF(VLOOKUP(B72,사원명부!$A$2:$Z$100,7)=\"약사\",\"변경\",\"말소\"),\"\"))))","v":""},{"$f":"IF(B72=\"\",\"\",IF(C72=\"입사\",VLOOKUP(B72,사원명부!$A$2:$Z$100,11),VLOOKUP(B72,사원명부!$A$2:$Z$100,12)))","v":""},{"$f":"IF(B72=\"\",\"\",VLOOKUP(B72,사원명부!$A$2:$Z$100,2))","v":""},{"$f":"IF(B72=\"\",\"\",VLOOKUP(B72,사원명부!$A$2:$Z$100,8))","v":""},{"$f":"IF(B72=\"\",\"\",VLOOKUP(B72,사원명부!$A$2:$Z$100,9))","v":""},{"$f":"IF(B72=\"\",\"\",VLOOKUP(B72,사원명부!$A$2:$Z$100,14))","v":""},{"$f":"IF(D72=\"말소\",\"\",IF(B72=\"\",\"\",VLOOKUP(B72,사원명부!$A$2:$Z$100,15)))","v":""}]
["",null,null,{"$f":"IF(B73=\"\",\"\",IF(C73=\"\",\"\",IF(C73=\"입사\",\"신규\",IFERROR(IF(VLOOKUP(B73,사원명부!$A$2:$Z$100,7)=\"약사\",\"변경\",\"말소\"),\"\"))))","v":""},{"$f":"IF(B73=\"\",\"\",IF(C73=\"입사\",VLOOKUP(B73,사원명부!$A$2:$Z$100,11),VLOOKUP(B73,사원명부!$A$2:$Z$100,12)))","v":""},{"$f":"IF(B73=\"\",\"\",VLOOKUP(B73,사원명부!$A$2:$Z$100,2))","v":""},{"$f":"IF(B73=\"\",\"\",VLOOKUP(B73,사원명부!$A$2:$Z$100,8))","v":""},{"$f":"IF(B73=\"\",\"\",VLOOKUP(B73,사원명부!$A$2:$Z$100,9))","v":""},{"$f":"IF(B73=\"\",\"\",VLOOKUP(B73,사원명부!$A$2:$Z$100,14))","v":""},{"$f":"IF(D73=\"말소\",\"\",IF(B73=\"\",\"\",VLOOKUP(B73,사원명부!$A$2:$Z$100,15)))","v":""}]
["",null,null,{"$f":"IF(B74=\"\",\"\",IF(C74=\"\",\"\",IF(C74=\"입사\",\"신규\",IFERROR(IF(VLOOKUP(B74,사원명부!$A$2:$Z$100,7)=\"약사\",\"변경\",\"말소\"),\"\"))))","v":""},{"$f":"IF(B74=\"\",\"\",IF(C74=\"입사\",VLOOKUP(B74,사원명부!$A$2:$Z$100,11),VLOOKUP(B74,사원명부!$A$2:$Z$100,12)))","v":""},{"$f":"IF(B74=\"\",\"\",VLOOKUP(B74,사원명부!$A$2:$Z$100,2))","v":""},{"$f":"IF(B74=\"\",\"\",VLOOKUP(B74,사원명부!$A$2:$Z$100,8))","v":""},{"$f":"IF(B74=\"\",\"\",VLOOKUP(B74,사원명부!$A$2:$Z$100,9))","v":""},{"$f":"IF(B74=\"\",\"\",VLOOKUP(B74,사원명부!$A$2:$Z$100,14))","v":""},{"$f":"IF(D74=\"말소\",\"\",IF(B74=\"\",\"\",VLOOKUP(B74,사원명부!$A$2:$Z$100,15)))","v":""}]
["",null,null,{"$f":"IF(B75=\"\",\"\",IF(C75=\"\",\"\",IF(C75=\"입사\",\"신규\",IFERROR(IF(VLOOKUP(B75,사원명부!$A$2:$Z$100,7)=\"약사\",\"변경\",\"말소\"),\"\"))))","v":""},{"$f":"IF(B75=\"\",\"\",IF(C75=\"입사\",VLOOKUP(B75,사원명부!$A$2:$Z$100,11),VLOOKUP(B75,사원명부!$A$2:$Z$100,12)))","v":""},{"$f":"IF(B75=\"\",\"\",VLOOKUP(B75,사원명부!$A$2:$Z$100,2))","v":""},{"$f":"IF(B75=\"\",\"\",VLOOKUP(B75,사원명부!$A$2:$Z$100,8))","v":""},{"$f":"IF(B75=\"\",\"\",VLOOKUP(B75,사원명부!$A$2:$Z$100,9))","v":""},{"$f":"IF(B75=\"\",\"\",VLOOKUP(B75,사원명부!$A$2:$Z$100,14))","v":""},{"$f":"IF(D75=\"말소\",\"\",IF(B75=\"\",\"\",VLOOKUP(B75,사원명부!$A$2:$Z$100,15)))","v":""}]
["",null,null,{"$f":"IF(B76=\"\",\"\",IF(C76=\"\",\"\",IF(C76=\"입사\",\"신규\",IFERROR(IF(VLOOKUP(B76,사원명부!$A$2:$Z$100,7)=\"약사\",\"변경\",\"말소\"),\"\"))))","v":""},{"$f":"IF(B76=\"\",\"\",IF(C76=\"입사\",VLOOKUP(B76,사원명부!$A$2:$Z$100,11),VLOOKUP(B76,사원명부!$A$2:$Z$100,12)))","v":""},{"$f":"IF(B76=\"\",\"\",VLOOKUP(B76,사원명부!$A$2:$Z$100,2))","v":""},{"$f":"IF(B76=\"\",\"\",VLOOKUP(B76,사원명부!$A$2:$Z$100,8))","v":""},{"$f":"IF(B76=\"\",\"\",VLOOKUP(B76,사원명부!$A$2:$Z$100,9))","v":""},{"$f":"IF(B76=\"\",\"\",VLOOKUP(B76,사원명부!$A$2:$Z$100,14))","v":""},{"$f":"IF(D76=\"말소\",\"\",IF(B76=\"\",\"\",VLOOKUP(B76,사원명부!$A$2:$Z$100,15)))","v":""}]
["",null,null,{"$f":"IF(B77=\"\",\"\",IF(C77=\"\",\"\",IF(C77=\"입사\",\"신규\",IFERROR(IF(VLOOKUP(B77,사원명부!$A$2:$Z$100,7)=\"약사\",\"변경\",\"말소\"),\"\"))))","v":""},{"$f":"IF(B77=\"\",\"\",IF(C77=\"입사\",VLOOKUP(B77,사원명부!$A$2:$Z$100,11),VLOOKUP(B77,사원명부!$A$2:$Z$100,12)))","v":""},{"$f":"IF(B77=\"\",\"\",VLOOKUP(B77,사원명부!$A$2:$Z$100,2))","v":""},{"$f":"IF(B77=\"\",\"\",VLOOKUP(B77,사원명부!$A$2:$Z$100,8))","v":""},{"$f":"IF(B77=\"\",\"\",VLOOKUP(B77,사원명부!$A$2:$Z$100,9))","v":""},{"$f":"IF(B77=\"\",\"\",VLOOKUP(B77,사원명부!$A$2:$Z$100,14))","v":""},{"$f":"IF(D77=\"말소\",\"\",IF(B77=\"\",\"\",VLOOKUP(B77,사원명부!$A$2:$Z$100,15)))","v":""}]
["",null,null,{"$f":"IF(B78=\"\",\"\",IF(C78=\"\",\"\",IF(C78=\"입사\",\"신규\",IFERROR(IF(VLOOKUP(B78,사원명부!$A$2:$Z$100,7)=\"약사\",\"변경\",\"말소\"),\"\"))))","v":""},{"$f":"IF(B78=\"\",\"\",IF(C78=\"입사\",VLOOKUP(B78,사원명부!$A$2:$Z$100,11),VLOOKUP(B78,사원명부!$A$2:$Z$100,12)))","v":""},{"$f":"IF(B78=\"\",\"\",VLOOKUP(B78,사원명부!$A$2:$Z$100,2))","v":""},{"$f":"IF(B78=\"\",\"\",VLOOKUP(B78,사원명부!$A$2:$Z$100,8))","v":""},{"$f":"IF(B78=\"\",\"\",VLOOKUP(B78,사원명부!$A$2:$Z$100,9))","v":""},{"$f":"IF(B78=\"\",\"\",VLOOKUP(B78,사원명부!$A$2:$Z$100,14))","v":""},{"$f":"IF(D78=\"말소\",\"\",IF(B78=\"\",\"\",VLOOKUP(B78,사원명부!$A$2:$Z$100,15)))","v":""}]
["",null,null,{"$f":"IF(B79=\"\",\"\",IF(C79=\"\",\"\",IF(C79=\"입사\",\"신규\",IFERROR(IF(VLOOKUP(B79,사원명부!$A$2:$Z$100,7)=\"약사\",\"변경\",\"말소\"),\"\"))))","v":""},{"$f":"IF(B79=\"\",\"\",IF(C79=\"입사\",VLOOKUP(B79,사원명부!$A$2:$Z$100,11),VLOOKUP(B79,사원명부!$A$2:$Z$100,12)))","v":""},{"$f":"IF(B79=\"\",\"\",VLOOKUP(B79,사원명부!$A$2:$Z$100,2))","v":""},{"$f":"IF(B79=\"\",\"\",VLOOKUP(B79,사원명부!$A$2:$Z$100,8))","v":""},{"$f":"IF(B79=\"\",\"\",VLOOKUP(B79,사원명부!$A$2:$Z$100,9))","v":""},{"$f":"IF(B79=\"\",\"\",VLOOKUP(B79,사원명부!$A$2:$Z$100,14))","v":""},{"$f":"IF(D79=\"말소\",\"\",IF(B79=\"\",\"\",VLOOKUP(B79,사원명부!$A$2:$Z$100,15)))","v":""}]
["",null,null,{"$f":"IF(B80=\"\",\"\",IF(C80=\"\",\"\",IF(C80=\"입사\",\"신규\",IFERROR(IF(VLOOKUP(B80,사원명부!$A$2:$Z$100,7)=\"약사\",\"변경\",\"말소\"),\"\"))))","v":""},{"$f":"IF(B80=\"\",\"\",IF(C80=\"입사\",VLOOKUP(B80,사원명부!$A$2:$Z$100,11),VLOOKUP(B80,사원명부!$A$2:$Z$100,12)))","v":""},{"$f":"IF(B80=\"\",\"\",VLOOKUP(B80,사원명부!$A$2:$Z$100,2))","v":""},{"$f":"IF(B80=\"\",\"\",VLOOKUP(B80,사원명부!$A$2:$Z$100,8))","v":""},{"$f":"IF(B80=\"\",\"\",VLOOKUP(B80,사원명부!$A$2:$Z$100,9))","v":""},{"$f":"IF(B80=\"\",\"\",VLOOKUP(B80,사원명부!$A$2:$Z$100,14))","v":""},{"$f":"IF(D80=\"말소\",\"\",IF(B80=\"\",\"\",VLOOKUP(B80,사원명부!$A$2:$Z$100,15)))","v":""}]

{"sheet":"필수","index":28,"n_rows":25,"n_cols":5,"rows_kept":25,"cut":false,"hidden":false,"merged":[[21,0,21,1],[22,0,22,4],[23,0,23,4],[24,0,24,4],[0,0,0,4],[1,0,1,1],[3,0,17,0],[18,0,18,4],[19,0,19,1],[19,2,20,2],[19,3,20,3],[19,4,20,4],[20,0,20,1]]}
["내부관리계획에 포함되어야 하는 필수 사항"]
["내부관리계획 포함 사항",null,"유형1","유형2","유형3"]
["항","호","(완화)","(표준)","(강화)"]
["                                                                                                   ■ 개인정보처리자는 개인정보의 분실·도난·유출·위조·변조 또는 훼손되지 아니하도록 내부 의사 결정 절차를 통하여 다음 각 호의 사항을 포함하는 내부 관리계획을 수립·시행하여야 한다. ","1. 개인정보 보호책임자의 지정에 관한 사항 ","-","O","O"]
[null,"2. 개인정보 보호책임자 및 개인정보취급자의 역할 및 책임에 관한 사한","-","O","O"]
[null,"3. 개인정보취급자에 대한 교육에 관한 사항","-","O","O"]
[null,"4. 접근권한의 관리에 관한 사항","-","O","O"]
[null,"5. 접근 통제에 관한 사항","-","O","O"]
[null,"6. 개인정보의 암호화 조치에 관한 사항","-","O","O"]
[null,"7. 접속기록 보관 및 점검에 관한 사항","-","O","O"]
[null,"8. 악성프로그램 등 방지에 관한 사항","-","O","O"]
[null,"9. 물리적 안전조치에 관한 사항","-","O","O"]
[null,"10. 개인정보 보호조직에 관한 구성 및 운영에 관한 사항","-","O","O"]
[null,"11. 개인정보 유출사고 대응 계획 수립‧시행에 관한 사항","-","O","O"]
[null,"12. 위험도 분석 및 대응방안 마련에 관한 사항","-","-","O"]
[null,"13. 재해 및 재난 대비 개인정보처리시스템의 물리적 안전조치에 관한 사항","-","-","O"]
[null,"14. 개인정보 처리업무를 위탁하는 경우 수탁자에 대한 관리 및 감독에 관한 사항","-","-","O"]
[null,"15. 그 밖에 개인정보 보호를 위하여 필요한 사항","-","O","O"]
["■ [별표]의 유형1에 해당하는 개인정보처리자는 제1항에 따른 내부 관리계획을 수립하지 아니할 수 있고, [별표]의 유형2에 해당하는 개인정보처리자는 제1항제12호부터 제14호까지를 내부 관리계획에 포함하지 아니할 수 있다. "]
["■ [별표]의 유형1에 해당하는 개인정보처리자는 제1항에 따른 내부 관리계획을 수립하지 아니할 수 있고,",null,"-","O","O"]
["[별표]의 유형2에 해당하는 개인정보처리자는 제1항제12호부터 제14호까지를 내부 관리계획에 포함하지 아니할 수 있다."]
["■ 개인정보 보호책임자는 연 1회 이상으로 내부 관리계획의 이행 실태를 점검·관리 하여야 한다.",null,"-","O","O"]
["▶ 내부관리계획 수립의무 위반 시, 3천만원 이하 과태료 부과(법 제75조제2항제6호)"]
["▶ 위의 각 사항에 중요한 변경이 있는 경우에는 이를 즉시 반영하여 내부 관리계획을 수정하여 시행하고, 그 수정이력을 관리해야 함"]
["▶ 개인정보 보호책임자는 연 1회 이상 내부관리계획의 이행 실태를 점검‧관리하여야 함"]

{"sheet":"출입","index":29,"n_rows":46,"n_cols":8,"rows_kept":46,"cut":false,"hidden":false,"merged":[[0,0,0,7],[1,0,2,0],[23,0,24,7],[1,1,2,1],[1,2,1,3],[1,4,1,5],[1,6,2,6],[1,7,2,7],[45,1,46,6],[40,1,42,6],[25,0,25,7],[27,1,28,6],[31,1,33,6],[36,1,37,6]]}
["출 입 관 리 대 장"]
["연번","날짜","방문자",null,"시 간",null,"방문목적","확인자"]
[null,null,"소 속","이 름","입실시간","퇴실시간"]
[1]
[2]
[3]
[4]
[5]
[6]
[7]
[8]
[9]
[10]
[11]
[12]
[13]
[14]
[15]
[16]
[17]
[18]
[19]
[20]
[{"$f":"IFBLANK(요양기관기초정보!D1)","v":"팜오피스약국"}]
[]
["출 입 통제 절차"]
[]
[null,"방문자 신분 확인"]
[]
[]
[]
[]
[]
[]
[]
[]
[null,"담당직원 동행 입실"]
[]
[]
[]
[]
[]
[]
[]
[]
[null,"업무종료후 잠금확인"]

{"sheet":"체크","index":30,"n_rows":17,"n_cols":6,"rows_kept":17,"cut":false,"hidden":false,"merged":[[3,0,4,0],[3,1,4,1],[3,2,3,4],[3,5,4,5],[0,0,0,5],[1,4,1,5],[2,4,2,5]]}
[{"$f":"IFBLANK(요양기관기초정보!D1)&\" 개인정보 정기점검 체크리스트\"","v":"팜오피스약국 개인정보 정기점검 체크리스트"}]
[" ",null,null,"○ 점   검   자 :",{"$f":"IFBLANK(ID!I3)&\" \"&IFBLANK(ID!I4)","v":"요양기관장 홍길동"}]
[null,null,null,"○ 점 검 일 자 : ","2020-12-30"]
["순번","점검사항","점검결과",null,null,"비고"]
[null,null,"양 호","취 약","해당 없음"]
[1,"출입통제 관리대장 기록·관리 여부","○ "]
[2,"개인정보처리시스템 접근기록 관리(정상) 여부","○ "]
[3,"백신 프로그램 정기점검 및 최신 업데이트 여부","○ "]
[4,"물리적 접근 방지 및 잠금장치 적용 여부","○ "]
[5,"비밀번호 작성규칙 준수 여부(최소 6개월마다 변경)","○ "]
[6,"직원변경에 따른 ID 및 권한 부여/변경/말소 관리","○ "]
[7,"직원변경에 따른 보안서약서 관리","○ "]
[8,"위탁업체 보안규정 준수여부","○ "]
[9]
[10]
[11]
[12]

{"sheet":"백신","index":31,"n_rows":44,"n_cols":1,"rows_kept":44,"cut":false,"hidden":false,"merged":[[0,0,1,7],[43,0,44,7]]}
["백신프로그램 구입 증빙자료"]
[]
[]
[]
[]
[]
[]
[]
[]
[]
[]
[]
[]
[]
[]
[]
[]
[]
[]
[]
[]
[]
[]
[]
[]
[]
[]
[]
[]
[]
[]
[]
[]
[]
[]
[]
[]
[]
[]
[]
[]
[]
[]
["백신프로그램 구입 증빙자료"]

{"sheet":"컴퓨터관리","index":32,"n_rows":19,"n_cols":14,"rows_kept":19,"cut":false,"hidden":false,"merged":[[0,0,0,13],[3,6,3,8],[3,1,3,5],[3,0,4,0],[3,9,3,13],[1,10,1,11],[2,10,2,11],[1,12,1,13],[2,12,2,13]]}
[{"$f":"IFBLANK(요양기관기초정보!D1)&\" 개인 정보 처리 전산 시스템 사용자 ID 관리대장\"","v":"팜오피스약국 개인 정보 처리 전산 시스템 사용자 ID 관리대장"}]
[null,null,null,null,null,null,null,null,null,null,"○ 점   검   자 :",null,{"$f":"IFBLANK(체크!E2)","v":"요양기관장 홍길동"}]
[null,null,null,null,null,null,null,null,null,null,"○ 점   검   일 :",null,{"$f":"TODAY()","v":"2021-05-31"}]
["연번","P C",null,null,null,null,"사양",null,null," 개인정보관련 소프트웨어 사용자관리"]
[null,"PC명칭","PASSWORD","공유폴더","로컬 IP","용도","CPU","HDD","RAM","사번","이름","직급","ID","PASSWORD"]
[{"$f":"IF(B6=\"\",\"\",1)","v":""},null,null,null,null,null,null,null,null,null,{"$f":"IF(J6=\"\",\"\",IF(J6=0,요양기관기초정보!$C$6,VLOOKUP(J6,사원명부!$A$2:$Z$100,2)))","v":""},{"$f":"IF(J6=\"\",\"\",IF(J6=0,\"약국장\",VLOOKUP(J6,사원명부!$A$2:$Z$100,8)&\" \"&VLOOKUP(J6,사원명부!$A$2:$Z$100,9)))","v":""},{"$f":"IF(J6=\"\",\"\",IF(J6=0,요양기관기초정보!$C$23,VLOOKUP(J6,사원명부!$A$2:$Z$100,15)))","v":""},{"$f":"IF(J6=\"\",\"\",IF(J6=0,\"********\",VLOOKUP(J6,사원명부!$A$2:$Z$100,16)))","v":""}]
[{"$f":"IF(B7=\"\",\"\",A6+1)","v":""},null,null,null,null,null,null,null,null,null,{"$f":"IF(J7=\"\",\"\",IF(J7=0,요양기관기초정보!$C$6,VLOOKUP(J7,사원명부!$A$2:$Z$100,2)))","v":""},{"$f":"IF(J7=\"\",\"\",IF(J7=0,\"약국장\",VLOOKUP(J7,사원명부!$A$2:$Z$100,8)&\" \"&VLOOKUP(J7,사원명부!$A$2:$Z$100,9)))","v":""},{"$f":"IF(J7=\"\",\"\",IF(J7=0,요양기관기초정보!$C$23,VLOOKUP(J7,사원명부!$A$2:$Z$100,15)))","v":""},{"$f":"IF(J7=\"\",\"\",IF(J7=0,\"********\",VLOOKUP(J7,사원명부!$A$2:$Z$100,16)))","v":""}]
["",null,null,null,null,null,null,null,null,null,{"$f":"IF(J8=\"\",\"\",IF(J8=0,요양기관기초정보!$C$6,VLOOKUP(J8,사원명부!$A$2:$Z$100,2)))","v":""},{"$f":"IF(J8=\"\",\"\",IF(J8=0,\"약국장\",VLOOKUP(J8,사원명부!$A$2:$Z$100,8)&\" \"&VLOOKUP(J8,사원명부!$A$2:$Z$100,9)))","v":""},{"$f":"IF(J8=\"\",\"\",IF(J8=0,요양기관기초정보!$C$23,VLOOKUP(J8,사원명부!$A$2:$Z$100,15)))","v":""},{"$f":"IF(J8=\"\",\"\",IF(J8=0,\"********\",VLOOKUP(J8,사원명부!$A$2:$Z$100,16)))","v":""}]
["",null,null,null,null,null,null,null,null,null,{"$f":"IF(J9=\"\",\"\",IF(J9=0,요양기관기초정보!$C$6,VLOOKUP(J9,사원명부!$A$2:$Z$100,2)))","v":""},{"$f":"IF(J9=\"\",\"\",IF(J9=0,\"약국장\",VLOOKUP(J9,사원명부!$A$2:$Z$100,8)&\" \"&VLOOKUP(J9,사원명부!$A$2:$Z$100,9)))","v":""},{"$f":"IF(J9=\"\",\"\",IF(J9=0,요양기관기초정보!$C$23,VLOOKUP(J9,사원명부!$A$2:$Z$100,15)))","v":""},{"$f":"IF(J9=\"\",\"\",IF(J9=0,\"********\",VLOOKUP(J9,사원명부!$A$2:$Z$100,16)))","v":""}]
["",null,null,null,null,null,null,null,null,null,{"$f":"IF(J10=\"\",\"\",IF(J10=0,요양기관기초정보!$C$6,VLOOKUP(J10,사원명부!$A$2:$Z$100,2)))","v":""},{"$f":"IF(J10=\"\",\"\",IF(J10=0,\"약국장\",VLOOKUP(J10,사원명부!$A$2:$Z$100,8)&\" \"&VLOOKUP(J10,사원명부!$A$2:$Z$100,9)))","v":""},{"$f":"IF(J10=\"\",\"\",IF(J10=0,요양기관기초정보!$C$23,VLOOKUP(J10,사원명부!$A$2:$Z$100,15)))","v":""},{"$f":"IF(J10=\"\",\"\",IF(J10=0,\"********\",VLOOKUP(J10,사원명부!$A$2:$Z$100,16)))","v":""}]
["",null,null,null,null,null,null,null,null,null,{"$f":"IF(J11=\"\",\"\",IF(J11=0,요양기관기초정보!$C$6,VLOOKUP(J11,사원명부!$A$2:$Z$100,2)))","v":""},{"$f":"IF(J11=\"\",\"\",IF(J11=0,\"약국장\",VLOOKUP(J11,사원명부!$A$2:$Z$100,8)&\" \"&VLOOKUP(J11,사원명부!$A$2:$Z$100,9)))","v":""},{"$f":"IF(J11=\"\",\"\",IF(J11=0,요양기관기초정보!$C$23,VLOOKUP(J11,사원명부!$A$2:$Z$100,15)))","v":""},{"$f":"IF(J11=\"\",\"\",IF(J11=0,\"********\",VLOOKUP(J11,사원명부!$A$2:$Z$100,16)))","v":""}]
["",null,null,null,null,null,null,null,null,null,{"$f":"IF(J12=\"\",\"\",IF(J12=0,요양기관기초정보!$C$6,VLOOKUP(J12,사원명부!$A$2:$Z$100,2)))","v":""},{"$f":"IF(J12=\"\",\"\",IF(J12=0,\"약국장\",VLOOKUP(J12,사원명부!$A$2:$Z$100,8)&\" \"&VLOOKUP(J12,사원명부!$A$2:$Z$100,9)))","v":""},{"$f":"IF(J12=\"\",\"\",IF(J12=0,요양기관기초정보!$C$23,VLOOKUP(J12,사원명부!$A$2:$Z$100,15)))","v":""},{"$f":"IF(J12=\"\",\"\",IF(J12=0,\"********\",VLOOKUP(J12,사원명부!$A$2:$Z$100,16)))","v":""}]
["",null,null,null,null,null,null,null,null,null,{"$f":"IF(J13=\"\",\"\",IF(J13=0,요양기관기초정보!$C$6,VLOOKUP(J13,사원명부!$A$2:$Z$100,2)))","v":""},{"$f":"IF(J13=\"\",\"\",IF(J13=0,\"약국장\",VLOOKUP(J13,사원명부!$A$2:$Z$100,8)&\" \"&VLOOKUP(J13,사원명부!$A$2:$Z$100,9)))","v":""},{"$f":"IF(J13=\"\",\"\",IF(J13=0,요양기관기초정보!$C$23,VLOOKUP(J13,사원명부!$A$2:$Z$100,15)))","v":""},{"$f":"IF(J13=\"\",\"\",IF(J13=0,\"********\",VLOOKUP(J13,사원명부!$A$2:$Z$100,16)))","v":""}]
["",null,null,null,null,null,null,null,null,null,{"$f":"IF(J14=\"\",\"\",IF(J14=0,요양기관기초정보!$C$6,VLOOKUP(J14,사원명부!$A$2:$Z$100,2)))","v":""},{"$f":"IF(J14=\"\",\"\",IF(J14=0,\"약국장\",VLOOKUP(J14,사원명부!$A$2:$Z$100,8)&\" \"&VLOOKUP(J14,사원명부!$A$2:$Z$100,9)))","v":""},{"$f":"IF(J14=\"\",\"\",IF(J14=0,요양기관기초정보!$C$23,VLOOKUP(J14,사원명부!$A$2:$Z$100,15)))","v":""},{"$f":"IF(J14=\"\",\"\",IF(J14=0,\"********\",VLOOKUP(J14,사원명부!$A$2:$Z$100,16)))","v":""}]
["",null,null,null,null,null,null,null,null,null,{"$f":"IF(J15=\"\",\"\",IF(J15=0,요양기관기초정보!$C$6,VLOOKUP(J15,사원명부!$A$2:$Z$100,2)))","v":""},{"$f":"IF(J15=\"\",\"\",IF(J15=0,\"약국장\",VLOOKUP(J15,사원명부!$A$2:$Z$100,8)&\" \"&VLOOKUP(J15,사원명부!$A$2:$Z$100,9)))","v":""},{"$f":"IF(J15=\"\",\"\",IF(J15=0,요양기관기초정보!$C$23,VLOOKUP(J15,사원명부!$A$2:$Z$100,15)))","v":""},{"$f":"IF(J15=\"\",\"\",IF(J15=0,\"********\",VLOOKUP(J15,사원명부!$A$2:$Z$100,16)))","v":""}]
["",null,null,null,null,null,null,null,null,null,{"$f":"IF(J16=\"\",\"\",IF(J16=0,요양기관기초정보!$C$6,VLOOKUP(J16,사원명부!$A$2:$Z$100,2)))","v":""},{"$f":"IF(J16=\"\",\"\",IF(J16=0,\"약국장\",VLOOKUP(J16,사원명부!$A$2:$Z$100,8)&\" \"&VLOOKUP(J16,사원명부!$A$2:$Z$100,9)))","v":""},{"$f":"IF(J16=\"\",\"\",IF(J16=0,요양기관기초정보!$C$23,VLOOKUP(J16,사원명부!$A$2:$Z$100,15)))","v":""},{"$f":"IF(J16=\"\",\"\",IF(J16=0,\"********\",VLOOKUP(J16,사원명부!$A$2:$Z$100,16)))","v":""}]
["",null,null,null,null,null,null,null,null,null,{"$f":"IF(J17=\"\",\"\",IF(J17=0,요양기관기초정보!$C$6,VLOOKUP(J17,사원명부!$A$2:$Z$100,2)))","v":""},{"$f":"IF(J17=\"\",\"\",IF(J17=0,\"약국장\",VLOOKUP(J17,사원명부!$A$2:$Z$100,8)&\" \"&VLOOKUP(J17,사원명부!$A$2:$Z$100,9)))","v":""},{"$f":"IF(J17=\"\",\"\",IF(J17=0,요양기관기초정보!$C$23,VLOOKUP(J17,사원명부!$A$2:$Z$100,15)))","v":""},{"$f":"IF(J17=\"\",\"\",IF(J17=0,\"********\",VLOOKUP(J17,사원명부!$A$2:$Z$100,16)))","v":""}]
["",null,null,null,null,null,null,null,null,null,{"$f":"IF(J18=\"\",\"\",IF(J18=0,요양기관기초정보!$C$6,VLOOKUP(J18,사원명부!$A$2:$Z$100,2)))","v":""},{"$f":"IF(J18=\"\",\"\",IF(J18=0,\"약국장\",VLOOKUP(J18,사원명부!$A$2:$Z$100,8)&\" \"&VLOOKUP(J18,사원명부!$A$2:$Z$100,9)))","v":""},{"$f":"IF(J18=\"\",\"\",IF(J18=0,요양기관기초정보!$C$23,VLOOKUP(J18,사원명부!$A$2:$Z$100,15)))","v":""},{"$f":"IF(J18=\"\",\"\",IF(J18=0,\"********\",VLOOKUP(J18,사원명부!$A$2:$Z$100,16)))","v":""}]
["",null,null,null,null,null,null,null,null,null,{"$f":"IF(J19=\"\",\"\",IF(J19=0,요양기관기초정보!$C$6,VLOOKUP(J19,사원명부!$A$2:$Z$100,2)))","v":""},{"$f":"IF(J19=\"\",\"\",IF(J19=0,\"약국장\",VLOOKUP(J19,사원명부!$A$2:$Z$100,8)&\" \"&VLOOKUP(J19,사원명부!$A$2:$Z$100,9)))","v":""},{"$f":"IF(J19=\"\",\"\",IF(J19=0,요양기관기초정보!$C$23,VLOOKUP(J19,사원명부!$A$2:$Z$100,15)))","v":""},{"$f":"IF(J19=\"\",\"\",IF(J19=0,\"********\",VLOOKUP(J19,사원명부!$A$2:$Z$100,16)))","v":""}]

{"sheet":"네트워크장비","index":33,"n_rows":20,"n_cols":10,"rows_kept":20,"cut":false,"hidden":false,"merged":[[0,0,0,10],[3,0,4,0],[3,1,3,7],[3,8,3,10],[1,7,1,8],[1,9,1,10],[2,7,2,8],[2,9,2,10]]}
[{"$f":"IFBLANK(요양기관기초정보!D1)&\" 네트워크 장비 관리 대장 \"","v":"팜오피스약국 네트워크 장비 관리 대장 "}]
[null,null,null,null,null,null,null,"○ 점   검   자 :",null,{"$f":"IFBLANK(컴퓨터관리!M2)","v":"요양기관장 홍길동"}]
[null,null,null,null,null,null,null,"○ 점   검   일 :",null,{"$f":"TODAY()","v":"2021-05-31"}]
["연번","네트워크 장비",null,null,null,null,null,null,"점검"]
[null,"장비","모델","ID","PASS","로컬 IP","위치","용도","상반기"]
[{"$f":"IF(B6=\"\",\"\",1)","v":""}]
[{"$f":"IF(B7=\"\",\"\",A6+1)","v":""}]
[{"$f":"IF(B8=\"\",\"\",A7+1)","v":""}]
[""]
[""]
[""]
[""]
[""]
[""]
[""]
[""]
[""]
[""]
[""]
[{"$f":"IF(B20=\"\",\"\",A19+1)","v":""}]

{"sheet":"Wifi","index":34,"n_rows":6,"n_cols":2,"rows_kept":6,"cut":false,"hidden":false,"merged":[[0,0,0,5],[1,0,1,5],[4,0,4,5],[2,0,2,5],[3,0,3,5],[5,1,5,5]]}
["Wifi 비밀번호 비공개 안내"]
["관련근거-개인정보보호법 제 29조(안전조치의무)"]
["개인정보보호법에 의거하여  내부 Wifi 비밀번호를 공개하지 않습니다.  \n\n"]
["개인정보를 다루는 내부망과 연결되어 있으므로  개인정보유출을  방지하기 위해  공개할수 없음을 알려드립니다."]
[]
[null,{"$f":"IFBLANK(요양기관기초정보!D1)","v":"팜오피스약국"}]

{"sheet":"유출","index":35,"n_rows":23,"n_cols":2,"rows_kept":23,"cut":false,"hidden":false,"merged":[[0,0,0,5],[1,0,1,5],[2,0,8,0],[2,1,2,5],[3,1,3,5],[4,1,4,5],[5,1,6,5],[7,1,7,5],[8,1,8,5],[9,0,13,0],[9,1,9,5],[10,1,10,5],[11,1,11,5],[12,1,12,5],[13,1,13,5],[14,0,18,0],[14,1,14,5],[15,1,15,5],[16,1,16,5],[17,1,17,5],[18,1,18,5],[19,0,22,0],[19,1,19,5],[20,1,20,5],[21,1,21,5],[22,1,22,5]]}
["개인정보 유출 시 필수 조치요령"]
["개인정보 유출 사고 발생 시 이것만은 꼭 조치하세요!"]
[1,"◈ 유출된 정보주체 개개인에게 지체 없이 통지"]
[null,"⇨ 개인정보보호법 제34조 제1항"]
[null,"• 시한 : 유출되었음을 알게 되었을 경우 지체 없이(5일 이내) "]
[null,"• 통지 항목 : ①유출된 개인정보의 항목, ②유출 시점과 및 그 경위, ③피해 최소화를 위한 정보주체의 조치방법, ④기관의 대응조치 및 피해구제 절차, ⑤피해 신고 접수 담당부서 및 연락처"]
[]
[null,"* 개인정보보호법 제75조 제2항 제8호(3천만 원 이하의 과태료)"]
[null,"정보주체에게 같은 항 각 호의 사항을 알리지 아니한 자 "]
[2,"◈ 피해 최소화를 위한 대책 마련 및 필요한 조치 실시"]
[null,"⇨ 개인정보보호법 제34조 제2항"]
[null,"• 접속경로 차단, 취약점 점검‧보완, 유출된 개인정보의 삭제 등 피해를 최소화하기 위해 필요한 긴급조치 이행"]
[null,"• 긴급조치 이행 등에 어려움이 있는 경우 전문기관에 기술지원 요청"]
[null,"* 피해 최소화 대책을 마련하지 않거나 필요한 긴급 조치를 하지 않은 경우 : 시정명령"]
[3,"◈ 1천명 이상 유출된 경우 유출 통지 결과를 신고"]
[null,"⇨ 개인정보보호법 제34조 제3항"]
[null,"• 1천명 이상 개인정보가 유출된 경우 유출 통지 및 조치 결과를 지체 없이 행정안전부 또는 전문기관(한국인터넷진흥원, www.privacy.go.kr)에 신고"]
[null,"* 개인정보보호법 제75조 제2항 제9호(3천만 원 이하의 과태료)"]
[null,"조치결과를 신고하지 아니한 자 (행정안전부 또는 전문기관에 통지 결과 등을 신고하지 않은 경우)"]
[4,"◈ 1천명 이상 유출된 경우에는 추가적으로 홈페이지에 공지"]
[null,"⇨ 개인정보보호법 시행령 40조 제3항"]
[null,"• 1천명 이상 개인정보가 유출된 경우 개별 통지와 함께 유출된 사실을 인터넷 홈페이지에 7일 이상 게재"]
[null,"* 홈페이지 등에 공지하지 않거나 7일 미만 게재하는 경우 : 시정명령"]

{"sheet":"유형","index":36,"n_rows":14,"n_cols":3,"rows_kept":14,"cut":false,"hidden":false,"merged":[[0,0,1,2],[3,0,6,0],[3,1,6,1],[7,0,11,0],[12,0,13,0],[12,2,13,2]]}
["[별표] 개인정보처리자 유형 및 개인정보 보유량에 따른 안전조치 기준"]
[]
["유형","적용대상","안전조치 기준"]
["유형1(완화)","· 1만명 미만의 정보주체에 관한 개인정보를 보유한 소상공인, 단체, 개인 ","· 제5조: 제2항부터 제5항까지"]
[null,null,"· 제6조: 제1항, 제3항, 제6항 및 제7항"]
[null,null,"· 제7조: 제1항부터 제5항까지, 제7항"]
[null,null,"· 제8조, 제9조, 제10조, 제11조, 제13조"]
["유형2(표준)","· 100만명 미만의 정보주체에 관한 개인정보를 보유한 중소기업 ","· 제4조: 제1항제1호부터 제11호까지 및 제15호, 제3항부터 제4항까지"]
[null,"· 10만명 미만의 정보주체에 관한 개인정보를 보유한 대기업, 중견기업, 공공기관 ","· 제5조"]
[null,"· 1만명 이상의 정보주체에 관한 개인정보를 보유한 소상공인, 단체, 개인 ","· 제6조: 제1항부터 제7항까지"]
[null,null,"· 제7조: 제1항부터 제5항까지, 제7항"]
[null,null,"· 제8조, 제9조, 제10조, 제11조, 제13조"]
["유형3(강화)","· 10만명 이상의 정보주체에 관한 개인정보를 보유한 대기업, 중견기업, 공공기관 ","· 제4조부터 제13조까지"]
[null,"· 100만명 이상의 정보주체에 관한 개인정보를 보유한 중소기업, 단체"]

{"sheet":"양도","index":37,"n_rows":43,"n_cols":4,"rows_kept":43,"cut":false,"hidden":false,"merged":[[0,0,2,7],[4,1,4,2],[23,2,23,3],[24,2,24,5],[25,2,25,3],[27,3,27,4],[30,3,31,5],[36,1,37,4],[39,1,40,4],[42,0,42,7]]}
["개인정보 보호법에 따른 개인정보  이전 공지"]
[]
[]
[]
["본약국은",{"$f":"D28","v":"2021-05-31"},null,"자로 약국을 양도하기로 하였습니다."]
[]
[]
[]
[]
[]
[]
[]
[]
[]
[]
[]
[]
[]
[]
[]
[]
["□"," 개인정보를 이전 받는자"]
[]
[null,"O 성      명 :"]
[null,"O 주      소 :"]
[null,"O 전화번호 :"]
[]
["□","개인정보이전일",null,"2021-05-31"]
[]
[]
[null,null,null,{"$f":"TODAY()","v":"2021-05-31"}]
[]
[]
[null,null,null,{"$f":"요양기관기초정보!D1&\" 대표 \"&요양기관기초정보!C6&\"  (인)\"","v":"팜오피스약국 대표 홍길동  (인)"}]
[]
["개인정보이전 반대의사표시 전화 연락처"]
[null,{"$f":"요양기관기초정보!C12","v":"02-324-4650"}]
[]
["개인정보이전 반대후 영수증발급,조제내역 열람및 발급문의"]
[null,{"$f":"요양기관기초정보!C10","v":"010-1234-5678"}]
[]
[]
["이 공지문은 양도일부터 30일간 사업장에 게시됩니다."]

{"sheet":"근로기준법 해석","index":38,"n_rows":49,"n_cols":3,"rows_kept":49,"cut":false,"hidden":false,"merged":[[1,2,1,4]]}
["5인 미만 사업장 근록기준법 제11조 Click"]
["1. 상시 5명 이상의 근로자를 사용하는 모든 사업 및 사업체에 적용 혹은 동거하는 친족만을 사용하는 사업 또는 사업장과 가사 사용인에 대해서는 적용되지 아니한다.",null,"노무관리가이드북"]
["2. 이법을 적용하는 경우 상시 사용하는 근로자 수를 산정하는 방법은 대통령령으로 정한다"]
["3. 상시 4명 이하의 근로자를 사용하는 사업 및 사업장에 대해서 대통령령으로 정하는 바에 따라서 이법의 일부 규정을 적용할 수 있음."]
["​"]
["위의 내용 중 \" 상시근로자란\" 간단하게 말해 사장님 혹은 사업 주을 제외된 모든 근로자를 말합니다."]
[]
["5인 미만 사업장 확인 방법"]
["​"]
["1개월 동안의 동원된 총 근로자 연인원 나누기 1개월간 가동한 수"]
["( 연인원 : 어떠한 일에 동원된 인원과 걸린 날의 수)"]
["( 가동일수 : 근로자가 움직여 일을 한 날 )"]
["​"]
["5인 미만 사업장 근로기준법 규정"]
[]
["1. 최저임금"]
["최저임금은 꼭 사업주님께서 지켜야 하는 사항입니다."]
["​"]
["2. 해고 시 30일 전 해고 예고"]
["만약 해고 예고를 하시지 않으신다면 해고예고수당 1개월 분 급여를 지급해야 합니다."]
[]
["3. 주 1회 이상 유급 휴일 보장"]
["보장이 되는 유급 휴일 주 1회 중요합니다."]
["​"]
["4. 1년 이상 근로한 후 퇴직 시 퇴직금 지급"]
["2010년 12월부터 퇴직금 50% 지급~ 2013년 1월부터 퇴직금 전액 지급 변경!"]
[]
["5. 근로계약서 작성 및 교부"]
["근로계약서를 작성해 주시는 것은 필수입니다!"]
["​"]
["6. 출산 휴가 및 육아 휴직 "]
["어느 사업장에서 나 지켜야 할 출산 휴가 및"]
["육아 휴직 또한 겸비해야 합니다."]
["​"]
["5인 미만 사업장 근로기준법 적용되지 않은 규정"]
[]
["1. 1일 8시간 이상 초과근무수당, 휴일수당, 야근수당 적용되지 않음-5인미안사업장에서 적용되지 않은 수당에는 연장근로,휴일근로, 야간근로 시 시급을 더 많이 지급받는 부분."]
[]
["2. 해고 서면통지"]
["해고 사유 및 내용을 구체적으로 명시하여 서면으로 통지할 필요가 없어짐",null,"서면 통지 필요가 없더라도 "]
[null,null,"증빙자료는 남겨 놓을 필요는 있습니다."]
["3. 휴업수당, 사용자가 귀책사유로 휴업하는 경우"]
["사업주의 휴업에 있어 책임이 있어 어쩔 수 없는 휴업이 진행됐다면 원래는 휴업수당을 지급해야 하지만 5인 미만 사업장에서는 적용되지 않음"]
[]
["4. 연차 유급 휴가"]
["5인 미만 사업장에는 의무로 적용되지 않음 연차가 적용이 된다면 유급이 되기 때문에 일을 쉰다 하여도 급여를 받지만 5인 미만 사업장의 경우 사업주의 배려가 필요함"]
[]
["5. 부당 해고 및 구제신청"]
["정당한 이유가 없이 사업주가 원하면 해고가 가능합니다. 근로기준법 23조 1항에 나와있는 내용으로 \"사용자는 근로자에게 정당한 이유 없이 해고, 휴직, 감봉, 정직, 전직 등 이 밖의 징벌을 하지 못한다\"라고 나오지만 5인 미만 사업장은 해당되지 않으며 노동위원회에서 구제 절차 부분을 밟을 수 있는 규정 또한 적용되지가 않습니다."]

{"sheet":"근로기준법상보관서류","index":39,"n_rows":32,"n_cols":6,"rows_kept":32,"cut":false,"hidden":false,"merged":[[5,5,5,7],[0,0,0,2],[1,0,1,2],[17,0,17,2],[18,0,18,2],[1,5,1,7],[16,0,16,2],[2,0,2,2],[3,0,3,2],[4,0,4,2],[15,0,15,2],[24,0,24,2],[23,0,23,2],[30,0,30,2],[31,0,31,2],[19,0,19,2],[20,0,20,2],[21,0,21,2],[25,0,25,2],[26,0,26,2],[27,0,27,2],[28,0,28,2],[29,0,29,2],[22,0,22,2]]}
["근로기준법 제42조(계약 서류의 보존) "]
["사용자는 근로자 명부와 대통령령으로 정하는 근로계약에 관한 중요한 서류를 3년간 보존하여야 한다.",null,null,null,null,"노무관리가이드북"]
["근로기준법 시행령 22조 (보존대상서류등)"]
["사용자는 근로자와의 분쟁이 발생될 경우를 대비하여 근로자명부, 근로계약서, 임금대장 등 근로계약에 관한 중요한 서류를 3년간 보존해야 합니다. 이를 어길 시 근로기준법 제116조에 따라 500만원 이하의 과태료 처분을 받을 수 있습니다."]
["1.보관해야 할 서류와 보전기간의 시작일은 아래와 같습니다."]
["순번","항목","보존기간(3년) 시작일",null,null,"근로기준법 서식자료실"]
[1,"근로자명부","근로자가 해고되거나 퇴직 또는 사망한 날"]
[2,"근로계약서","근로관계가 끝난 날"]
[3,"임금대장","마지막으로 작성한 날"]
[4,"임금의 결정, 지급방법과 임금계산의 기초에 관한 서류","마지막으로 작성한 날"]
[5,"고용, 해고, 퇴직에 관한 서류","근로자가 해고되거나 퇴직한 날"]
[6,"승급,감급에관한서류","승급,감급이 완료된 날"]
[7,"휴가에 관한 서류","휴가를 완료한 날"]
[8,"탄력적, 선택적 근로시간제, 근로시간특례 합의 등에 따른 근로자대표 서면합의서류","서면 합의한 날"]
[9,"18세 미만 연소자 고용 시 연령을 증명하는 가족관계기록사항에 관한 증명서와 친권자 또는 후견인의 동의서","근로자가 18세가 되는 날(18세가 되기전에 해고되거나 퇴직 또는 사망한경우에는 그 해고되거나 퇴직 또는 사망한날)"]
["특히 근로자가 퇴직한 후 개인정보 보호를 이유로 근로계약서, 퇴직원등은 폐기하지 말아야 하며 개인정보가 담겨져 있더라도 근로기준법에서 정하는 서류는 보관해야 합니다.-개인정보 보호법 위반 아님"]
["2. 임금대장 관리 근거 및 가이드"]
["제48조(임금대장) "]
["사용자는 각 사업장별로 임금대장을 작성하고 임금과 가족수당 계산의 기초가 되는 사항, 임금액, 그 밖에 대통령령으로 정하는 사항을 임금을 지급할 때마다 적어야 한다."]
["사용자는 임금을 지급할 때마다 임금대장을 작성하고 분쟁이 발생할 경우를 대비하여 근로자명부, 근로계약서, 임금 대장 등 근로계약에 관한 중요한 서류를 작성하여 3년간 보존해야 합니다."]
["3. 임금대장 기재사항 및 보존방법"]
["사용자는 임금을 지급할 때마다 근로기준법 시행령 제27조 제1항에 따라 다음 사항이 포함된 임금대장을 작성해야 합니다."]
["- 성명, 주민등록번호"]
["- 고용연월일"]
["- 종사하는 업무"]
["- 임금 및 가족수당의 계산기초가 되는 사항"]
["- 근로일 수, 근로시간 수"]
["- 연장근로, 야간근로, 휴일근로는 시킨 경우에는 그 시간 수"]
["- 기본급, 수당, 그 밖의 임금의 내역별 금액"]
["- 법령 또는 단체협약에 따라 임금의 일부를 공제한 경우에는 그 금액"]
["아울러 임금대장은 수기 외 PC 등 전자문서로 작성이 가능하며 필요한 경우 언제라도 출력하여 사용할 수 있다면 임금대장을 전자문서로 보존하는 것도 가능합니다. 단 파일로 보관했어도 해킹, 바이러스 등 문서를 확인할 수 없다면 법 위반의 책임을 질 수 있습니다."]
["​"]

{"sheet":"검색","index":40,"n_rows":3,"n_cols":26,"rows_kept":3,"cut":false,"hidden":false,"merged":[]}
[]
["사번/순번","성명(한글)","한문","주민등록번호","성별","연락처","주소","소속","직위","자격","입사일","퇴사일","취업업무-업무분장","개인정보관리 S/W 사용권한","사용자ID","PASSWORD","평일시업시간","평일종업시간","토요일시업시간","토요일종업시간","토요일","소정근로시간","급여","실수령액/세전구분","상여금","신상신고비"]
[2,{"$f":"IFZERO(VLOOKUP($A$3,사원명부!$A$2:$Z$100,COLUMN(B1)))","v":"테스트2"},{"$f":"IFZERO(VLOOKUP($A$3,사원명부!$A$2:$Z$100,COLUMN(C1)))","v":""},{"$f":"IFZERO(VLOOKUP($A$3,사원명부!$A$2:$Z$100,COLUMN(D1)))","v":"680623-1******"},{"$f":"IFZERO(VLOOKUP($A$3,사원명부!$A$2:$Z$100,COLUMN(E1)))","v":"남"},{"$f":"IFZERO(VLOOKUP($A$3,사원명부!$A$2:$Z$100,COLUMN(F1)))","v":"010-2345-6789"},{"$f":"IFZERO(VLOOKUP($A$3,사원명부!$A$2:$Z$100,COLUMN(G1)))","v":"서울시 서대문구연세로 41"},{"$f":"IFZERO(VLOOKUP($A$3,사원명부!$A$2:$Z$100,COLUMN(H1)))","v":"조제실"},{"$f":"IFZERO(VLOOKUP($A$3,사원명부!$A$2:$Z$100,COLUMN(I1)))","v":"실장"},{"$f":"IFZERO(VLOOKUP($A$3,사원명부!$A$2:$Z$100,COLUMN(J1)))","v":"약사"},{"$f":"IFZERO(VLOOKUP($A$3,사원명부!$A$2:$Z$100,COLUMN(K1)))","v":"2021-01-01"},{"$f":"IFZERO(VLOOKUP($A$3,사원명부!$A$2:$Z$100,COLUMN(L1)))","v":""},{"$f":"IFZERO(VLOOKUP($A$3,사원명부!$A$2:$Z$100,COLUMN(M1)))","v":"조제실관리"},{"$f":"IFZERO(VLOOKUP($A$3,사원명부!$A$2:$Z$100,COLUMN(N1)))","v":"고객조회"},{"$f":"IFZERO(VLOOKUP($A$3,사원명부!$A$2:$Z$100,COLUMN(O1)))","v":"jm010"},{"$f":"IFZERO(VLOOKUP($A$3,사원명부!$A$2:$Z$100,COLUMN(P1)))","v":"******"},{"$f":"IFZERO(VLOOKUP($A$3,사원명부!$A$2:$Z$100,COLUMN(Q1)))","v":"09:00"},{"$f":"IFZERO(VLOOKUP($A$3,사원명부!$A$2:$Z$100,COLUMN(R1)))","v":"18:00"},{"$f":"IFZERO(VLOOKUP($A$3,사원명부!$A$2:$Z$100,COLUMN(S1)))","v":"09:00"},{"$f":"IFZERO(VLOOKUP($A$3,사원명부!$A$2:$Z$100,COLUMN(T1)))","v":"13:00"},{"$f":"IFZERO(VLOOKUP($A$3,사원명부!$A$2:$Z$100,COLUMN(U1)))","v":"격주"},{"$f":"IFZERO(VLOOKUP($A$3,사원명부!$A$2:$Z$100,COLUMN(V1)))","v":""},{"$f":"IFZERO(VLOOKUP($A$3,사원명부!$A$2:$Z$100,COLUMN(W1)))","v":5000000},{"$f":"IFZERO(VLOOKUP($A$3,사원명부!$A$2:$Z$100,COLUMN(X1)))","v":""},{"$f":"IFZERO(VLOOKUP($A$3,사원명부!$A$2:$Z$100,COLUMN(Y1)))","v":500000},{"$f":"IFZERO(VLOOKUP($A$3,사원명부!$A$2:$Z$100,COLUMN(Z1)))","v":"지급"}]

{"sheet":"사원명부","index":41,"n_rows":100,"n_cols":33,"rows_kept":100,"cut":false,"hidden":false,"merged":[[0,0,0,5]]}
[{"$f":"요양기관기초정보!D1&\" 직원 명부\"","v":"팜오피스약국 직원 명부"}]
["사번/순번","성명(한글)","한문","주민등록번호","성별","연락처","주소","소속","직위","자격","입사일","퇴사일","취업업무-업무분장","개인정보관리 S/W 사용권한","사용자ID","PASSWORD","평일시업시간","평일종업시간","토요일시업시간","토요일종업시간","토요일","소정근로시간","급여","실수령액/세전구분","상여금","신상신고비",null,null,null,null,null,null,"조직"]
[1,"테스트1",null,"690114-2******",{"$f":"IF(D3=\"\",\"\",IF(MOD(MID(D3,8,1),2)=0,\"여\",\"남\"))","v":"여"},"010-1234-5678","서울시 서대문구 창천동 78-14","관리부","부장","사원","2021-01-01",null,"주문,반품,재고관리","사입,반품,고객조회","jm009","******","09:00","18:00",null,null,null,null,3000000,null,500000,null,null,null,null,null,null,null,{"$f":"IFBLANK(요양기관기초정보!B26)","v":"관리부"}]
[{"$f":"IF(A3=\"\",\"\",IF(B4=\"\",\"\",A3+1))","v":2},"테스트2",null,"680623-1******",{"$f":"IF(D4=\"\",\"\",IF(MOD(MID(D4,8,1),2)=0,\"여\",\"남\"))","v":"남"},"010-2345-6789","서울시 서대문구연세로 41","조제실","실장","약사","2021-01-01",null,"조제실관리","고객조회","jm010","******","09:00","18:00","09:00","13:00","격주",null,5000000,null,500000,"지급",null,null,null,null,null,null,{"$f":"IFBLANK(요양기관기초정보!B27)","v":"판매부"}]
[{"$f":"IF(A4=\"\",\"\",IF(B5=\"\",\"\",A4+1))","v":""},null,null,null,"",null,null,null,null,null,null,null,null,null,null,null,null,null,null,null,null,null,null,null,null,null,null,null,null,null,null,null,{"$f":"IFBLANK(요양기관기초정보!B28)","v":"조제실"}]
["",null,null,null,"",null,null,null,null,null,null,null,null,null,null,null,null,null,null,null,null,null,null,null,null,null,null,null,null,null,null,null,{"$f":"IFBLANK(요양기관기초정보!B29)","v":""}]
["",null,null,null,"",null,null,null,null,null,null,null,null,null,null,null,null,null,null,null,null,null,null,null,null,null,null,null,null,null,null,null,{"$f":"IFBLANK(요양기관기초정보!B30)","v":""}]
["",null,null,null,"",null,null,null,null,null,null,null,null,null,null,null,null,null,null,null,null,null,null,null,null,null,null,null,null,null,null,null,{"$f":"IFBLANK(요양기관기초정보!B31)","v":""}]
["",null,null,null,"",null,null,null,null,null,null,null,null,null,null,null,null,null,null,null,null,null,null,null,null,null,null,null,null,null,null,null,{"$f":"IFBLANK(요양기관기초정보!B32)","v":""}]
["",null,null,null,"",null,null,null,null,null,null,null,null,null,null,null,null,null,null,null,null,null,null,null,null,null,null,null,null,null,null,null,{"$f":"IFBLANK(요양기관기초정보!B33)","v":""}]
["",null,null,null,"",null,null,null,null,null,null,null,null,null,null,null,null,null,null,null,null,null,null,null,null,null,null,null,null,null,null,null,{"$f":"IFBLANK(요양기관기초정보!B34)","v":""}]
["",null,null,null,""]
["",null,null,null,""]
["",null,null,null,{"$f":"IF(D14=\"\",\"\",IF(MOD(MID(D14,8,1),2)=0,\"여\",\"남\"))","v":""}]
["",null,null,null,""]
["",null,null,null,""]
["",null,null,null,""]
["",null,null,null,""]
["",null,null,null,""]
["",null,null,null,""]
["",null,null,null,""]
["",null,null,null,""]
["",null,null,null,""]
["",null,null,null,""]
["",null,null,null,""]
["",null,null,null,""]
["",null,null,null,""]
["",null,null,null,""]
["",null,null,null,""]
["",null,null,null,""]
["",null,null,null,""]
["",null,null,null,""]
["",null,null,null,""]
["",null,null,null,""]
["",null,null,null,""]
["",null,null,null,""]
["",null,null,null,""]
["",null,null,null,""]
["",null,null,null,""]
["",null,null,null,""]
["",null,null,null,""]
["",null,null,null,""]
["",null,null,null,""]
["",null,null,null,""]
["",null,null,null,""]
["",null,null,null,""]
["",null,null,null,""]
["",null,null,null,""]
["",null,null,null,""]
["",null,null,null,""]
["",null,null,null,""]
["",null,null,null,""]
["",null,null,null,""]
["",null,null,null,""]
["",null,null,null,""]
["",null,null,null,""]
["",null,null,null,""]
["",null,null,null,""]
[{"$f":"IF(A58=\"\",\"\",IF(B59=\"\",\"\",A58+1))","v":""},null,null,null,{"$f":"IF(D59=\"\",\"\",IF(MOD(MID(D59,8,1),2)=0,\"여\",\"남\"))","v":""}]
["",null,null,null,""]
["",null,null,null,""]
["",null,null,null,""]
["",null,null,null,""]
["",null,null,null,""]
["",null,null,null,""]
["",null,null,null,""]
["",null,null,null,""]
["",null,null,null,""]
["",null,null,null,""]
["",null,null,null,""]
["",null,null,null,""]
["",null,null,null,""]
["",null,null,null,""]
["",null,null,null,""]
["",null,null,null,""]
["",null,null,null,""]
["",null,null,null,""]
["",null,null,null,""]
["",null,null,null,""]
["",null,null,null,""]
["",null,null,null,""]
["",null,null,null,""]
["",null,null,null,""]
["",null,null,null,""]
["",null,null,null,""]
["",null,null,null,""]
["",null,null,null,""]
["",null,null,null,""]
["",null,null,null,""]
["",null,null,null,""]
["",null,null,null,""]
["",null,null,null,""]
["",null,null,null,""]
["",null,null,null,""]
["",null,null,null,""]
["",null,null,null,""]
["",null,null,null,""]
["",null,null,null,""]
["",null,null,null,""]
["",null,null,null,""]

{"sheet":"근태","index":42,"n_rows":12,"n_cols":51,"rows_kept":12,"cut":false,"hidden":true,"merged":[[0,2,0,3],[0,4,0,6]]}
[null,null,{"$f":"YEAR(TODAY())","v":2021},null,"1월"]
[null,null,"요일","월요일",{"$f":"UPPER(TEXT(E3,\"aaaa\"))","v":"화요일"},"수요일","목요일","금요일","토요일","일요일","월요일","화요일","수요일","목요일","금요일","토요일","일요일","월요일","화요일","수요일","목요일","금요일","토요일","일요일","월요일","화요일","수요일","목요일","금요일","토요일","일요일","월요일","화요일","수요일","목요일","금요일","토요일","일요일","월요일","화요일"]
[null,null,"일",{"$f":"일+1+DATE(Calendar1Year,Calendar1MonthOption,1)-WEEKDAY(DATE(Calendar1Year,Calendar1MonthOption,1),WeekdayOption)","v":"2020-12-28"},"2020-12-29","2020-12-30","2020-12-31","2021-01-01","2021-01-02","2021-01-03",{"$f":"일+8+DATE(Calendar1Year,Calendar1MonthOption,1)-WEEKDAY(DATE(Calendar1Year,Calendar1MonthOption,1),WeekdayOption)","v":"2021-01-04"},"2021-01-05","2021-01-06","2021-01-07","2021-01-08","2021-01-09","2021-01-10",{"$f":"일+15+DATE(Calendar1Year,Calendar1MonthOption,1)-WEEKDAY(DATE(Calendar1Year,Calendar1MonthOption,1),WeekdayOption)","v":"2021-01-11"},"2021-01-12","2021-01-13","2021-01-14","2021-01-15","2021-01-16","2021-01-17",{"$f":"일+22+DATE(Calendar1Year,Calendar1MonthOption,1)-WEEKDAY(DATE(Calendar1Year,Calendar1MonthOption,1),WeekdayOption)","v":"2021-01-18"},"2021-01-19","2021-01-20","2021-01-21","2021-01-22","2021-01-23","2021-01-24",{"$f":"일+29+DATE(Calendar1Year,Calendar1MonthOption,1)-WEEKDAY(DATE(Calendar1Year,Calendar1MonthOption,1),WeekdayOption)","v":"2021-01-25"},"2021-01-26","2021-01-27","2021-01-28","2021-01-29","2021-01-30","2021-01-31",{"$f":"일+36+DATE(Calendar1Year,Calendar1MonthOption,1)-WEEKDAY(DATE(Calendar1Year,Calendar1MonthOption,1),WeekdayOption)","v":"2021-02-01"},"2021-02-02",null,null,null,null,null,"연차","年","반차","半","토요일","土"]
[1,{"$f":"IF(A4=\"\",\"\",VLOOKUP(A4,사원명부!$A$2:$B$100,2))","v":"테스트1"},null,null,null,null,null,"X","X","X","O","O","O","O","O","X","X","O","O","O","O","O","X","X","O","O","O","O","O","X","X","O","O","O","O","O","X","X"]
[2,{"$f":"IF(A5=\"\",\"\",VLOOKUP(A5,사원명부!$A$2:$B$100,2))","v":"테스트2"},null,null,null,null,null,"X","X","X","O","O","O","O","O","X","X","O","O","O","O","O","X","X","O","O","O","O","年","X","X","O","O","O","O","O","X","X"]
[4,{"$f":"IF(A6=\"\",\"\",VLOOKUP(A6,사원명부!$A$2:$B$100,2))","v":"테스트2"},null,null,null,null,null,"X","X","X","O","O","O","O","O","X","X","O","O","O","O","O","X","X","O","O","O","O","O","X","X","O","O","O","O","年","X","X"]
[6,{"$f":"IF(A7=\"\",\"\",VLOOKUP(A7,사원명부!$A$2:$B$100,2))","v":"테스트2"},null,null,null,null,null,"X","X","X","O","O","O","O","O","土","X","O","O","年","O","O","X","X","O","O","O","O","O","O","X","O","O","O","O","O","X","X"]
[7,{"$f":"IF(A8=\"\",\"\",VLOOKUP(A8,사원명부!$A$2:$B$100,2))","v":"테스트2"},null,null,null,null,null,"X","土","X","O","年","O","O","O","X","X","O","O","O","O","O","土","X","O","O","O","O","O","X","X","O","O","O","O","O","土","X"]
[8,{"$f":"IF(A9=\"\",\"\",VLOOKUP(A9,사원명부!$A$2:$B$100,2))","v":"테스트2"},null,null,null,null,null,"X","土","X","O","O","O","O","O","X","X","O","O","O","O","O","土","X","O","O","O","O","O","X","X","O","O","O","O","O","土","X"]
[9,{"$f":"IF(A10=\"\",\"\",VLOOKUP(A10,사원명부!$A$2:$B$100,2))","v":"테스트2"},null,null,null,null,null,"X","X","X","半","O","O","O","O","土","X","O","O","O","O","O","X","X","O","O","O","半","O","O","X","O","O","O","O","O","X","X"]
[10,{"$f":"IF(A11=\"\",\"\",VLOOKUP(A11,사원명부!$A$2:$B$100,2))","v":"테스트2"},null,null,null,null,null,"X","X","X","O","O","O","O","O","X","X","O","O","O","O","O","X","X","O","O","O","O","O","X","X","O","O","O","O","O","X","X"]
[11,{"$f":"IF(A12=\"\",\"\",VLOOKUP(A12,사원명부!$A$2:$B$100,2))","v":"테스트2"},null,null,null,null,null,"X","X","X","O","O","O","O","O","X","X","O","O","O","O","O","X","X","O","O","O","O","O","X","X","O","O","O","O","O","X","X"]

{"sheet":"업무분장내역","index":43,"n_rows":108,"n_cols":14,"rows_kept":108,"cut":false,"hidden":false,"merged":[[1,1,1,7]]}
[]
[null,{"$f":"IFBLANK(요양기관기초정보!D1)&\" 업무분장내역 (재직직원)\"","v":"팜오피스약국 업무분장내역 (재직직원)"}]
[]
[null,"사원번호","이름","소속","직책","자격","업무내용","비고",null,"성별",null,"신규입사나 퇴직등 인원변동이 발생하면 "]
[null,1,{"$f":"IF(B5=\"\",\"\",VLOOKUP(B5,사원명부!$A$2:$Z$113,2,FALSE))","v":"테스트1"},{"$f":"IF(C5=\"\",\"\",VLOOKUP(B5,사원명부!$A$2:$Z$113,8,FALSE))","v":"관리부"},{"$f":"IF(C5=\"\",\"\",VLOOKUP(B5,사원명부!$A$2:$Z$113,9,FALSE))","v":"부장"},{"$f":"IF(C5=\"\",\"\",IF((VLOOKUP(B5,사원명부!$A$2:$Z$113,10))=\"\",\"\",VLOOKUP(B5,사원명부!$A$2:$Z$113,10)))","v":"사원"},{"$f":"IF(C5=\"\",\"\",VLOOKUP(B5,사원명부!$A$2:$Z$113,13,FALSE)&\" \"&VLOOKUP(B5,사원명부!$A$2:$Z$113,14,FALSE))","v":"주문,반품,재고관리 사입,반품,고객조회"},null,null,{"$f":"IF(C5=\"\",\"\",VLOOKUP(B5,사원명부!$A$2:$Z$113,5,FALSE))","v":"여"},null,"사원명부를 정확히 작성한 다음"]
[null,"",{"$f":"IF(B6=\"\",\"\",VLOOKUP(B6,사원명부!$A$2:$Z$113,2,FALSE))","v":""},{"$f":"IF(C6=\"\",\"\",VLOOKUP(B6,사원명부!$A$2:$Z$113,8,FALSE))","v":""},{"$f":"IF(C6=\"\",\"\",VLOOKUP(B6,사원명부!$A$2:$Z$113,9,FALSE))","v":""},{"$f":"IF(C6=\"\",\"\",IF((VLOOKUP(B6,사원명부!$A$2:$Z$113,10))=\"\",\"\",VLOOKUP(B6,사원명부!$A$2:$Z$113,10)))","v":""},{"$f":"IF(C6=\"\",\"\",VLOOKUP(B6,사원명부!$A$2:$Z$113,13,FALSE)&\" \"&VLOOKUP(B6,사원명부!$A$2:$Z$113,14,FALSE))","v":""},null,null,{"$f":"IF(C6=\"\",\"\",VLOOKUP(B6,사원명부!$A$2:$Z$113,5,FALSE))","v":""},null,"새로고침을 하여  재직중인 직원 리스트만 작성합니다."]
[null,"",{"$f":"IF(B7=\"\",\"\",VLOOKUP(B7,사원명부!$A$2:$Z$113,2,FALSE))","v":""},{"$f":"IF(C7=\"\",\"\",VLOOKUP(B7,사원명부!$A$2:$Z$113,8,FALSE))","v":""},{"$f":"IF(C7=\"\",\"\",VLOOKUP(B7,사원명부!$A$2:$Z$113,9,FALSE))","v":""},{"$f":"IF(C7=\"\",\"\",IF((VLOOKUP(B7,사원명부!$A$2:$Z$113,10))=\"\",\"\",VLOOKUP(B7,사원명부!$A$2:$Z$113,10)))","v":""},{"$f":"IF(C7=\"\",\"\",VLOOKUP(B7,사원명부!$A$2:$Z$113,13,FALSE)&\" \"&VLOOKUP(B7,사원명부!$A$2:$Z$113,14,FALSE))","v":""},null,null,{"$f":"IF(C7=\"\",\"\",VLOOKUP(B7,사원명부!$A$2:$Z$113,5,FALSE))","v":""},null,"여",{"$f":"COUNTIF(J5:J1100,\"여\")","v":1},"명"]
[null,"",{"$f":"IF(B8=\"\",\"\",VLOOKUP(B8,사원명부!$A$2:$Z$113,2,FALSE))","v":""},{"$f":"IF(C8=\"\",\"\",VLOOKUP(B8,사원명부!$A$2:$Z$113,8,FALSE))","v":""},{"$f":"IF(C8=\"\",\"\",VLOOKUP(B8,사원명부!$A$2:$Z$113,9,FALSE))","v":""},{"$f":"IF(C8=\"\",\"\",IF((VLOOKUP(B8,사원명부!$A$2:$Z$113,10))=\"\",\"\",VLOOKUP(B8,사원명부!$A$2:$Z$113,10)))","v":""},{"$f":"IF(C8=\"\",\"\",VLOOKUP(B8,사원명부!$A$2:$Z$113,13,FALSE)&\" \"&VLOOKUP(B8,사원명부!$A$2:$Z$113,14,FALSE))","v":""},null,null,{"$f":"IF(C8=\"\",\"\",VLOOKUP(B8,사원명부!$A$2:$Z$113,5,FALSE))","v":""},null,"계",{"$f":"COUNTIF(J5:J100,\"여\")+COUNTIF(J5:J100,\"남\")","v":1},"명"]
[null,"",{"$f":"IF(B9=\"\",\"\",VLOOKUP(B9,사원명부!$A$2:$Z$113,2,FALSE))","v":""},{"$f":"IF(C9=\"\",\"\",VLOOKUP(B9,사원명부!$A$2:$Z$113,8,FALSE))","v":""},{"$f":"IF(C9=\"\",\"\",VLOOKUP(B9,사원명부!$A$2:$Z$113,9,FALSE))","v":""},{"$f":"IF(C9=\"\",\"\",IF((VLOOKUP(B9,사원명부!$A$2:$Z$113,10))=\"\",\"\",VLOOKUP(B9,사원명부!$A$2:$Z$113,10)))","v":""},{"$f":"IF(C9=\"\",\"\",VLOOKUP(B9,사원명부!$A$2:$Z$113,13,FALSE)&\" \"&VLOOKUP(B9,사원명부!$A$2:$Z$113,14,FALSE))","v":""},null,null,{"$f":"IF(C9=\"\",\"\",VLOOKUP(B9,사원명부!$A$2:$Z$113,5,FALSE))","v":""}]
[null,"",{"$f":"IF(B10=\"\",\"\",VLOOKUP(B10,사원명부!$A$2:$Z$113,2,FALSE))","v":""},{"$f":"IF(C10=\"\",\"\",VLOOKUP(B10,사원명부!$A$2:$Z$113,8,FALSE))","v":""},{"$f":"IF(C10=\"\",\"\",VLOOKUP(B10,사원명부!$A$2:$Z$113,9,FALSE))","v":""},{"$f":"IF(C10=\"\",\"\",IF((VLOOKUP(B10,사원명부!$A$2:$Z$113,10))=\"\",\"\",VLOOKUP(B10,사원명부!$A$2:$Z$113,10)))","v":""},{"$f":"IF(C10=\"\",\"\",VLOOKUP(B10,사원명부!$A$2:$Z$113,13,FALSE)&\" \"&VLOOKUP(B10,사원명부!$A$2:$Z$113,14,FALSE))","v":""},null,null,{"$f":"IF(C10=\"\",\"\",VLOOKUP(B10,사원명부!$A$2:$Z$113,5,FALSE))","v":""}]
[null,"",{"$f":"IF(B11=\"\",\"\",VLOOKUP(B11,사원명부!$A$2:$Z$113,2,FALSE))","v":""},{"$f":"IF(C11=\"\",\"\",VLOOKUP(B11,사원명부!$A$2:$Z$113,8,FALSE))","v":""},{"$f":"IF(C11=\"\",\"\",VLOOKUP(B11,사원명부!$A$2:$Z$113,9,FALSE))","v":""},{"$f":"IF(C11=\"\",\"\",IF((VLOOKUP(B11,사원명부!$A$2:$Z$113,10))=\"\",\"\",VLOOKUP(B11,사원명부!$A$2:$Z$113,10)))","v":""},{"$f":"IF(C11=\"\",\"\",VLOOKUP(B11,사원명부!$A$2:$Z$113,13,FALSE)&\" \"&VLOOKUP(B11,사원명부!$A$2:$Z$113,14,FALSE))","v":""},null,null,{"$f":"IF(C11=\"\",\"\",VLOOKUP(B11,사원명부!$A$2:$Z$113,5,FALSE))","v":""}]
[null,"",{"$f":"IF(B12=\"\",\"\",VLOOKUP(B12,사원명부!$A$2:$Z$113,2,FALSE))","v":""},{"$f":"IF(C12=\"\",\"\",VLOOKUP(B12,사원명부!$A$2:$Z$113,8,FALSE))","v":""},{"$f":"IF(C12=\"\",\"\",VLOOKUP(B12,사원명부!$A$2:$Z$113,9,FALSE))","v":""},{"$f":"IF(C12=\"\",\"\",IF((VLOOKUP(B12,사원명부!$A$2:$Z$113,10))=\"\",\"\",VLOOKUP(B12,사원명부!$A$2:$Z$113,10)))","v":""},{"$f":"IF(C12=\"\",\"\",VLOOKUP(B12,사원명부!$A$2:$Z$113,13,FALSE)&\" \"&VLOOKUP(B12,사원명부!$A$2:$Z$113,14,FALSE))","v":""},null,null,{"$f":"IF(C12=\"\",\"\",VLOOKUP(B12,사원명부!$A$2:$Z$113,5,FALSE))","v":""}]
[null,"",{"$f":"IF(B13=\"\",\"\",VLOOKUP(B13,사원명부!$A$2:$Z$113,2,FALSE))","v":""},{"$f":"IF(C13=\"\",\"\",VLOOKUP(B13,사원명부!$A$2:$Z$113,8,FALSE))","v":""},{"$f":"IF(C13=\"\",\"\",VLOOKUP(B13,사원명부!$A$2:$Z$113,9,FALSE))","v":""},{"$f":"IF(C13=\"\",\"\",IF((VLOOKUP(B13,사원명부!$A$2:$Z$113,10))=\"\",\"\",VLOOKUP(B13,사원명부!$A$2:$Z$113,10)))","v":""},{"$f":"IF(C13=\"\",\"\",VLOOKUP(B13,사원명부!$A$2:$Z$113,13,FALSE)&\" \"&VLOOKUP(B13,사원명부!$A$2:$Z$113,14,FALSE))","v":""},null,null,{"$f":"IF(C13=\"\",\"\",VLOOKUP(B13,사원명부!$A$2:$Z$113,5,FALSE))","v":""}]
[null,"",{"$f":"IF(B14=\"\",\"\",VLOOKUP(B14,사원명부!$A$2:$Z$113,2,FALSE))","v":""},{"$f":"IF(C14=\"\",\"\",VLOOKUP(B14,사원명부!$A$2:$Z$113,8,FALSE))","v":""},{"$f":"IF(C14=\"\",\"\",VLOOKUP(B14,사원명부!$A$2:$Z$113,9,FALSE))","v":""},{"$f":"IF(C14=\"\",\"\",IF((VLOOKUP(B14,사원명부!$A$2:$Z$113,10))=\"\",\"\",VLOOKUP(B14,사원명부!$A$2:$Z$113,10)))","v":""},{"$f":"IF(C14=\"\",\"\",VLOOKUP(B14,사원명부!$A$2:$Z$113,13,FALSE)&\" \"&VLOOKUP(B14,사원명부!$A$2:$Z$113,14,FALSE))","v":""},null,null,{"$f":"IF(C14=\"\",\"\",VLOOKUP(B14,사원명부!$A$2:$Z$113,5,FALSE))","v":""}]
[null,"",{"$f":"IF(B15=\"\",\"\",VLOOKUP(B15,사원명부!$A$2:$Z$113,2,FALSE))","v":""},{"$f":"IF(C15=\"\",\"\",VLOOKUP(B15,사원명부!$A$2:$Z$113,8,FALSE))","v":""},{"$f":"IF(C15=\"\",\"\",VLOOKUP(B15,사원명부!$A$2:$Z$113,9,FALSE))","v":""},{"$f":"IF(C15=\"\",\"\",IF((VLOOKUP(B15,사원명부!$A$2:$Z$113,10))=\"\",\"\",VLOOKUP(B15,사원명부!$A$2:$Z$113,10)))","v":""},{"$f":"IF(C15=\"\",\"\",VLOOKUP(B15,사원명부!$A$2:$Z$113,13,FALSE)&\" \"&VLOOKUP(B15,사원명부!$A$2:$Z$113,14,FALSE))","v":""},null,null,{"$f":"IF(C15=\"\",\"\",VLOOKUP(B15,사원명부!$A$2:$Z$113,5,FALSE))","v":""}]
[null,"",{"$f":"IF(B16=\"\",\"\",VLOOKUP(B16,사원명부!$A$2:$Z$113,2,FALSE))","v":""},{"$f":"IF(C16=\"\",\"\",VLOOKUP(B16,사원명부!$A$2:$Z$113,8,FALSE))","v":""},{"$f":"IF(C16=\"\",\"\",VLOOKUP(B16,사원명부!$A$2:$Z$113,9,FALSE))","v":""},{"$f":"IF(C16=\"\",\"\",IF((VLOOKUP(B16,사원명부!$A$2:$Z$113,10))=\"\",\"\",VLOOKUP(B16,사원명부!$A$2:$Z$113,10)))","v":""},{"$f":"IF(C16=\"\",\"\",VLOOKUP(B16,사원명부!$A$2:$Z$113,13,FALSE)&\" \"&VLOOKUP(B16,사원명부!$A$2:$Z$113,14,FALSE))","v":""},null,null,{"$f":"IF(C16=\"\",\"\",VLOOKUP(B16,사원명부!$A$2:$Z$113,5,FALSE))","v":""}]
[null,"",{"$f":"IF(B17=\"\",\"\",VLOOKUP(B17,사원명부!$A$2:$Z$113,2,FALSE))","v":""},{"$f":"IF(C17=\"\",\"\",VLOOKUP(B17,사원명부!$A$2:$Z$113,8,FALSE))","v":""},{"$f":"IF(C17=\"\",\"\",VLOOKUP(B17,사원명부!$A$2:$Z$113,9,FALSE))","v":""},{"$f":"IF(C17=\"\",\"\",IF((VLOOKUP(B17,사원명부!$A$2:$Z$113,10))=\"\",\"\",VLOOKUP(B17,사원명부!$A$2:$Z$113,10)))","v":""},{"$f":"IF(C17=\"\",\"\",VLOOKUP(B17,사원명부!$A$2:$Z$113,13,FALSE)&\" \"&VLOOKUP(B17,사원명부!$A$2:$Z$113,14,FALSE))","v":""},null,null,{"$f":"IF(C17=\"\",\"\",VLOOKUP(B17,사원명부!$A$2:$Z$113,5,FALSE))","v":""}]
[null,"",{"$f":"IF(B18=\"\",\"\",VLOOKUP(B18,사원명부!$A$2:$Z$113,2,FALSE))","v":""},{"$f":"IF(C18=\"\",\"\",VLOOKUP(B18,사원명부!$A$2:$Z$113,8,FALSE))","v":""},{"$f":"IF(C18=\"\",\"\",VLOOKUP(B18,사원명부!$A$2:$Z$113,9,FALSE))","v":""},{"$f":"IF(C18=\"\",\"\",IF((VLOOKUP(B18,사원명부!$A$2:$Z$113,10))=\"\",\"\",VLOOKUP(B18,사원명부!$A$2:$Z$113,10)))","v":""},{"$f":"IF(C18=\"\",\"\",VLOOKUP(B18,사원명부!$A$2:$Z$113,13,FALSE)&\" \"&VLOOKUP(B18,사원명부!$A$2:$Z$113,14,FALSE))","v":""},null,null,{"$f":"IF(C18=\"\",\"\",VLOOKUP(B18,사원명부!$A$2:$Z$113,5,FALSE))","v":""}]
[null,"",{"$f":"IF(B19=\"\",\"\",VLOOKUP(B19,사원명부!$A$2:$Z$113,2,FALSE))","v":""},{"$f":"IF(C19=\"\",\"\",VLOOKUP(B19,사원명부!$A$2:$Z$113,8,FALSE))","v":""},{"$f":"IF(C19=\"\",\"\",VLOOKUP(B19,사원명부!$A$2:$Z$113,9,FALSE))","v":""},{"$f":"IF(C19=\"\",\"\",IF((VLOOKUP(B19,사원명부!$A$2:$Z$113,10))=\"\",\"\",VLOOKUP(B19,사원명부!$A$2:$Z$113,10)))","v":""},{"$f":"IF(C19=\"\",\"\",VLOOKUP(B19,사원명부!$A$2:$Z$113,13,FALSE)&\" \"&VLOOKUP(B19,사원명부!$A$2:$Z$113,14,FALSE))","v":""},null,null,{"$f":"IF(C19=\"\",\"\",VLOOKUP(B19,사원명부!$A$2:$Z$113,5,FALSE))","v":""}]
[null,"",{"$f":"IF(B20=\"\",\"\",VLOOKUP(B20,사원명부!$A$2:$Z$113,2,FALSE))","v":""},{"$f":"IF(C20=\"\",\"\",VLOOKUP(B20,사원명부!$A$2:$Z$113,8,FALSE))","v":""},{"$f":"IF(C20=\"\",\"\",VLOOKUP(B20,사원명부!$A$2:$Z$113,9,FALSE))","v":""},{"$f":"IF(C20=\"\",\"\",IF((VLOOKUP(B20,사원명부!$A$2:$Z$113,10))=\"\",\"\",VLOOKUP(B20,사원명부!$A$2:$Z$113,10)))","v":""},{"$f":"IF(C20=\"\",\"\",VLOOKUP(B20,사원명부!$A$2:$Z$113,13,FALSE)&\" \"&VLOOKUP(B20,사원명부!$A$2:$Z$113,14,FALSE))","v":""},null,null,{"$f":"IF(C20=\"\",\"\",VLOOKUP(B20,사원명부!$A$2:$Z$113,5,FALSE))","v":""}]
[null,"",{"$f":"IF(B21=\"\",\"\",VLOOKUP(B21,사원명부!$A$2:$Z$113,2,FALSE))","v":""},{"$f":"IF(C21=\"\",\"\",VLOOKUP(B21,사원명부!$A$2:$Z$113,8,FALSE))","v":""},{"$f":"IF(C21=\"\",\"\",VLOOKUP(B21,사원명부!$A$2:$Z$113,9,FALSE))","v":""},{"$f":"IF(C21=\"\",\"\",IF((VLOOKUP(B21,사원명부!$A$2:$Z$113,10))=\"\",\"\",VLOOKUP(B21,사원명부!$A$2:$Z$113,10)))","v":""},{"$f":"IF(C21=\"\",\"\",VLOOKUP(B21,사원명부!$A$2:$Z$113,13,FALSE)&\" \"&VLOOKUP(B21,사원명부!$A$2:$Z$113,14,FALSE))","v":""},null,null,{"$f":"IF(C21=\"\",\"\",VLOOKUP(B21,사원명부!$A$2:$Z$113,5,FALSE))","v":""}]
[null,"",{"$f":"IF(B22=\"\",\"\",VLOOKUP(B22,사원명부!$A$2:$Z$113,2,FALSE))","v":""},{"$f":"IF(C22=\"\",\"\",VLOOKUP(B22,사원명부!$A$2:$Z$113,8,FALSE))","v":""},{"$f":"IF(C22=\"\",\"\",VLOOKUP(B22,사원명부!$A$2:$Z$113,9,FALSE))","v":""},{"$f":"IF(C22=\"\",\"\",IF((VLOOKUP(B22,사원명부!$A$2:$Z$113,10))=\"\",\"\",VLOOKUP(B22,사원명부!$A$2:$Z$113,10)))","v":""},{"$f":"IF(C22=\"\",\"\",VLOOKUP(B22,사원명부!$A$2:$Z$113,13,FALSE)&\" \"&VLOOKUP(B22,사원명부!$A$2:$Z$113,14,FALSE))","v":""},null,null,{"$f":"IF(C22=\"\",\"\",VLOOKUP(B22,사원명부!$A$2:$Z$113,5,FALSE))","v":""}]
[null,"",{"$f":"IF(B23=\"\",\"\",VLOOKUP(B23,사원명부!$A$2:$Z$113,2,FALSE))","v":""},{"$f":"IF(C23=\"\",\"\",VLOOKUP(B23,사원명부!$A$2:$Z$113,8,FALSE))","v":""},{"$f":"IF(C23=\"\",\"\",VLOOKUP(B23,사원명부!$A$2:$Z$113,9,FALSE))","v":""},{"$f":"IF(C23=\"\",\"\",IF((VLOOKUP(B23,사원명부!$A$2:$Z$113,10))=\"\",\"\",VLOOKUP(B23,사원명부!$A$2:$Z$113,10)))","v":""},{"$f":"IF(C23=\"\",\"\",VLOOKUP(B23,사원명부!$A$2:$Z$113,13,FALSE)&\" \"&VLOOKUP(B23,사원명부!$A$2:$Z$113,14,FALSE))","v":""},null,null,{"$f":"IF(C23=\"\",\"\",VLOOKUP(B23,사원명부!$A$2:$Z$113,5,FALSE))","v":""}]
[null,"",{"$f":"IF(B24=\"\",\"\",VLOOKUP(B24,사원명부!$A$2:$Z$113,2,FALSE))","v":""},{"$f":"IF(C24=\"\",\"\",VLOOKUP(B24,사원명부!$A$2:$Z$113,8,FALSE))","v":""},{"$f":"IF(C24=\"\",\"\",VLOOKUP(B24,사원명부!$A$2:$Z$113,9,FALSE))","v":""},{"$f":"IF(C24=\"\",\"\",IF((VLOOKUP(B24,사원명부!$A$2:$Z$113,10))=\"\",\"\",VLOOKUP(B24,사원명부!$A$2:$Z$113,10)))","v":""},{"$f":"IF(C24=\"\",\"\",VLOOKUP(B24,사원명부!$A$2:$Z$113,13,FALSE)&\" \"&VLOOKUP(B24,사원명부!$A$2:$Z$113,14,FALSE))","v":""},null,null,{"$f":"IF(C24=\"\",\"\",VLOOKUP(B24,사원명부!$A$2:$Z$113,5,FALSE))","v":""}]
[null,"",{"$f":"IF(B25=\"\",\"\",VLOOKUP(B25,사원명부!$A$2:$Z$113,2,FALSE))","v":""},{"$f":"IF(C25=\"\",\"\",VLOOKUP(B25,사원명부!$A$2:$Z$113,8,FALSE))","v":""},{"$f":"IF(C25=\"\",\"\",VLOOKUP(B25,사원명부!$A$2:$Z$113,9,FALSE))","v":""},{"$f":"IF(C25=\"\",\"\",IF((VLOOKUP(B25,사원명부!$A$2:$Z$113,10))=\"\",\"\",VLOOKUP(B25,사원명부!$A$2:$Z$113,10)))","v":""},{"$f":"IF(C25=\"\",\"\",VLOOKUP(B25,사원명부!$A$2:$Z$113,13,FALSE)&\" \"&VLOOKUP(B25,사원명부!$A$2:$Z$113,14,FALSE))","v":""},null,null,{"$f":"IF(C25=\"\",\"\",VLOOKUP(B25,사원명부!$A$2:$Z$113,5,FALSE))","v":""}]
[null,"",{"$f":"IF(B26=\"\",\"\",VLOOKUP(B26,사원명부!$A$2:$Z$113,2,FALSE))","v":""},{"$f":"IF(C26=\"\",\"\",VLOOKUP(B26,사원명부!$A$2:$Z$113,8,FALSE))","v":""},{"$f":"IF(C26=\"\",\"\",VLOOKUP(B26,사원명부!$A$2:$Z$113,9,FALSE))","v":""},{"$f":"IF(C26=\"\",\"\",IF((VLOOKUP(B26,사원명부!$A$2:$Z$113,10))=\"\",\"\",VLOOKUP(B26,사원명부!$A$2:$Z$113,10)))","v":""},{"$f":"IF(C26=\"\",\"\",VLOOKUP(B26,사원명부!$A$2:$Z$113,13,FALSE)&\" \"&VLOOKUP(B26,사원명부!$A$2:$Z$113,14,FALSE))","v":""},null,null,{"$f":"IF(C26=\"\",\"\",VLOOKUP(B26,사원명부!$A$2:$Z$113,5,FALSE))","v":""}]
[null,"",{"$f":"IF(B27=\"\",\"\",VLOOKUP(B27,사원명부!$A$2:$Z$113,2,FALSE))","v":""},{"$f":"IF(C27=\"\",\"\",VLOOKUP(B27,사원명부!$A$2:$Z$113,8,FALSE))","v":""},{"$f":"IF(C27=\"\",\"\",VLOOKUP(B27,사원명부!$A$2:$Z$113,9,FALSE))","v":""},{"$f":"IF(C27=\"\",\"\",IF((VLOOKUP(B27,사원명부!$A$2:$Z$113,10))=\"\",\"\",VLOOKUP(B27,사원명부!$A$2:$Z$113,10)))","v":""},{"$f":"IF(C27=\"\",\"\",VLOOKUP(B27,사원명부!$A$2:$Z$113,13,FALSE)&\" \"&VLOOKUP(B27,사원명부!$A$2:$Z$113,14,FALSE))","v":""},null,null,{"$f":"IF(C27=\"\",\"\",VLOOKUP(B27,사원명부!$A$2:$Z$113,5,FALSE))","v":""}]
[null,"",{"$f":"IF(B28=\"\",\"\",VLOOKUP(B28,사원명부!$A$2:$Z$113,2,FALSE))","v":""},{"$f":"IF(C28=\"\",\"\",VLOOKUP(B28,사원명부!$A$2:$Z$113,8,FALSE))","v":""},{"$f":"IF(C28=\"\",\"\",VLOOKUP(B28,사원명부!$A$2:$Z$113,9,FALSE))","v":""},{"$f":"IF(C28=\"\",\"\",IF((VLOOKUP(B28,사원명부!$A$2:$Z$113,10))=\"\",\"\",VLOOKUP(B28,사원명부!$A$2:$Z$113,10)))","v":""},{"$f":"IF(C28=\"\",\"\",VLOOKUP(B28,사원명부!$A$2:$Z$113,13,FALSE)&\" \"&VLOOKUP(B28,사원명부!$A$2:$Z$113,14,FALSE))","v":""},null,null,{"$f":"IF(C28=\"\",\"\",VLOOKUP(B28,사원명부!$A$2:$Z$113,5,FALSE))","v":""}]
[null,"",{"$f":"IF(B29=\"\",\"\",VLOOKUP(B29,사원명부!$A$2:$Z$113,2,FALSE))","v":""},{"$f":"IF(C29=\"\",\"\",VLOOKUP(B29,사원명부!$A$2:$Z$113,8,FALSE))","v":""},{"$f":"IF(C29=\"\",\"\",VLOOKUP(B29,사원명부!$A$2:$Z$113,9,FALSE))","v":""},{"$f":"IF(C29=\"\",\"\",IF((VLOOKUP(B29,사원명부!$A$2:$Z$113,10))=\"\",\"\",VLOOKUP(B29,사원명부!$A$2:$Z$113,10)))","v":""},{"$f":"IF(C29=\"\",\"\",VLOOKUP(B29,사원명부!$A$2:$Z$113,13,FALSE)&\" \"&VLOOKUP(B29,사원명부!$A$2:$Z$113,14,FALSE))","v":""},null,null,{"$f":"IF(C29=\"\",\"\",VLOOKUP(B29,사원명부!$A$2:$Z$113,5,FALSE))","v":""}]
[null,"",{"$f":"IF(B30=\"\",\"\",VLOOKUP(B30,사원명부!$A$2:$Z$113,2,FALSE))","v":""},{"$f":"IF(C30=\"\",\"\",VLOOKUP(B30,사원명부!$A$2:$Z$113,8,FALSE))","v":""},{"$f":"IF(C30=\"\",\"\",VLOOKUP(B30,사원명부!$A$2:$Z$113,9,FALSE))","v":""},{"$f":"IF(C30=\"\",\"\",IF((VLOOKUP(B30,사원명부!$A$2:$Z$113,10))=\"\",\"\",VLOOKUP(B30,사원명부!$A$2:$Z$113,10)))","v":""},{"$f":"IF(C30=\"\",\"\",VLOOKUP(B30,사원명부!$A$2:$Z$113,13,FALSE)&\" \"&VLOOKUP(B30,사원명부!$A$2:$Z$113,14,FALSE))","v":""},null,null,{"$f":"IF(C30=\"\",\"\",VLOOKUP(B30,사원명부!$A$2:$Z$113,5,FALSE))","v":""}]
[null,"",{"$f":"IF(B31=\"\",\"\",VLOOKUP(B31,사원명부!$A$2:$Z$113,2,FALSE))","v":""},{"$f":"IF(C31=\"\",\"\",VLOOKUP(B31,사원명부!$A$2:$Z$113,8,FALSE))","v":""},{"$f":"IF(C31=\"\",\"\",VLOOKUP(B31,사원명부!$A$2:$Z$113,9,FALSE))","v":""},{"$f":"IF(C31=\"\",\"\",IF((VLOOKUP(B31,사원명부!$A$2:$Z$113,10))=\"\",\"\",VLOOKUP(B31,사원명부!$A$2:$Z$113,10)))","v":""},{"$f":"IF(C31=\"\",\"\",VLOOKUP(B31,사원명부!$A$2:$Z$113,13,FALSE)&\" \"&VLOOKUP(B31,사원명부!$A$2:$Z$113,14,FALSE))","v":""},null,null,{"$f":"IF(C31=\"\",\"\",VLOOKUP(B31,사원명부!$A$2:$Z$113,5,FALSE))","v":""}]
[null,"",{"$f":"IF(B32=\"\",\"\",VLOOKUP(B32,사원명부!$A$2:$Z$113,2,FALSE))","v":""},{"$f":"IF(C32=\"\",\"\",VLOOKUP(B32,사원명부!$A$2:$Z$113,8,FALSE))","v":""},{"$f":"IF(C32=\"\",\"\",VLOOKUP(B32,사원명부!$A$2:$Z$113,9,FALSE))","v":""},{"$f":"IF(C32=\"\",\"\",IF((VLOOKUP(B32,사원명부!$A$2:$Z$113,10))=\"\",\"\",VLOOKUP(B32,사원명부!$A$2:$Z$113,10)))","v":""},{"$f":"IF(C32=\"\",\"\",VLOOKUP(B32,사원명부!$A$2:$Z$113,13,FALSE)&\" \"&VLOOKUP(B32,사원명부!$A$2:$Z$113,14,FALSE))","v":""},null,null,{"$f":"IF(C32=\"\",\"\",VLOOKUP(B32,사원명부!$A$2:$Z$113,5,FALSE))","v":""}]
[null,"",{"$f":"IF(B33=\"\",\"\",VLOOKUP(B33,사원명부!$A$2:$Z$113,2,FALSE))","v":""},{"$f":"IF(C33=\"\",\"\",VLOOKUP(B33,사원명부!$A$2:$Z$113,8,FALSE))","v":""},{"$f":"IF(C33=\"\",\"\",VLOOKUP(B33,사원명부!$A$2:$Z$113,9,FALSE))","v":""},{"$f":"IF(C33=\"\",\"\",IF((VLOOKUP(B33,사원명부!$A$2:$Z$113,10))=\"\",\"\",VLOOKUP(B33,사원명부!$A$2:$Z$113,10)))","v":""},{"$f":"IF(C33=\"\",\"\",VLOOKUP(B33,사원명부!$A$2:$Z$113,13,FALSE)&\" \"&VLOOKUP(B33,사원명부!$A$2:$Z$113,14,FALSE))","v":""},null,null,{"$f":"IF(C33=\"\",\"\",VLOOKUP(B33,사원명부!$A$2:$Z$113,5,FALSE))","v":""}]
[null,"",{"$f":"IF(B34=\"\",\"\",VLOOKUP(B34,사원명부!$A$2:$Z$113,2,FALSE))","v":""},{"$f":"IF(C34=\"\",\"\",VLOOKUP(B34,사원명부!$A$2:$Z$113,8,FALSE))","v":""},{"$f":"IF(C34=\"\",\"\",VLOOKUP(B34,사원명부!$A$2:$Z$113,9,FALSE))","v":""},{"$f":"IF(C34=\"\",\"\",IF((VLOOKUP(B34,사원명부!$A$2:$Z$113,10))=\"\",\"\",VLOOKUP(B34,사원명부!$A$2:$Z$113,10)))","v":""},{"$f":"IF(C34=\"\",\"\",VLOOKUP(B34,사원명부!$A$2:$Z$113,13,FALSE)&\" \"&VLOOKUP(B34,사원명부!$A$2:$Z$113,14,FALSE))","v":""},null,null,{"$f":"IF(C34=\"\",\"\",VLOOKUP(B34,사원명부!$A$2:$Z$113,5,FALSE))","v":""}]
[null,"",{"$f":"IF(B35=\"\",\"\",VLOOKUP(B35,사원명부!$A$2:$Z$113,2,FALSE))","v":""},{"$f":"IF(C35=\"\",\"\",VLOOKUP(B35,사원명부!$A$2:$Z$113,8,FALSE))","v":""},{"$f":"IF(C35=\"\",\"\",VLOOKUP(B35,사원명부!$A$2:$Z$113,9,FALSE))","v":""},{"$f":"IF(C35=\"\",\"\",IF((VLOOKUP(B35,사원명부!$A$2:$Z$113,10))=\"\",\"\",VLOOKUP(B35,사원명부!$A$2:$Z$113,10)))","v":""},{"$f":"IF(C35=\"\",\"\",VLOOKUP(B35,사원명부!$A$2:$Z$113,13,FALSE)&\" \"&VLOOKUP(B35,사원명부!$A$2:$Z$113,14,FALSE))","v":""},null,null,{"$f":"IF(C35=\"\",\"\",VLOOKUP(B35,사원명부!$A$2:$Z$113,5,FALSE))","v":""}]
[null,"",{"$f":"IF(B36=\"\",\"\",VLOOKUP(B36,사원명부!$A$2:$Z$113,2,FALSE))","v":""},{"$f":"IF(C36=\"\",\"\",VLOOKUP(B36,사원명부!$A$2:$Z$113,8,FALSE))","v":""},{"$f":"IF(C36=\"\",\"\",VLOOKUP(B36,사원명부!$A$2:$Z$113,9,FALSE))","v":""},{"$f":"IF(C36=\"\",\"\",IF((VLOOKUP(B36,사원명부!$A$2:$Z$113,10))=\"\",\"\",VLOOKUP(B36,사원명부!$A$2:$Z$113,10)))","v":""},{"$f":"IF(C36=\"\",\"\",VLOOKUP(B36,사원명부!$A$2:$Z$113,13,FALSE)&\" \"&VLOOKUP(B36,사원명부!$A$2:$Z$113,14,FALSE))","v":""},null,null,{"$f":"IF(C36=\"\",\"\",VLOOKUP(B36,사원명부!$A$2:$Z$113,5,FALSE))","v":""}]
[null,"",{"$f":"IF(B37=\"\",\"\",VLOOKUP(B37,사원명부!$A$2:$Z$113,2,FALSE))","v":""},{"$f":"IF(C37=\"\",\"\",VLOOKUP(B37,사원명부!$A$2:$Z$113,8,FALSE))","v":""},{"$f":"IF(C37=\"\",\"\",VLOOKUP(B37,사원명부!$A$2:$Z$113,9,FALSE))","v":""},{"$f":"IF(C37=\"\",\"\",IF((VLOOKUP(B37,사원명부!$A$2:$Z$113,10))=\"\",\"\",VLOOKUP(B37,사원명부!$A$2:$Z$113,10)))","v":""},{"$f":"IF(C37=\"\",\"\",VLOOKUP(B37,사원명부!$A$2:$Z$113,13,FALSE)&\" \"&VLOOKUP(B37,사원명부!$A$2:$Z$113,14,FALSE))","v":""},null,null,{"$f":"IF(C37=\"\",\"\",VLOOKUP(B37,사원명부!$A$2:$Z$113,5,FALSE))","v":""}]
[null,"",{"$f":"IF(B38=\"\",\"\",VLOOKUP(B38,사원명부!$A$2:$Z$113,2,FALSE))","v":""},{"$f":"IF(C38=\"\",\"\",VLOOKUP(B38,사원명부!$A$2:$Z$113,8,FALSE))","v":""},{"$f":"IF(C38=\"\",\"\",VLOOKUP(B38,사원명부!$A$2:$Z$113,9,FALSE))","v":""},{"$f":"IF(C38=\"\",\"\",IF((VLOOKUP(B38,사원명부!$A$2:$Z$113,10))=\"\",\"\",VLOOKUP(B38,사원명부!$A$2:$Z$113,10)))","v":""},{"$f":"IF(C38=\"\",\"\",VLOOKUP(B38,사원명부!$A$2:$Z$113,13,FALSE)&\" \"&VLOOKUP(B38,사원명부!$A$2:$Z$113,14,FALSE))","v":""},null,null,{"$f":"IF(C38=\"\",\"\",VLOOKUP(B38,사원명부!$A$2:$Z$113,5,FALSE))","v":""}]
[null,"",{"$f":"IF(B39=\"\",\"\",VLOOKUP(B39,사원명부!$A$2:$Z$113,2,FALSE))","v":""},{"$f":"IF(C39=\"\",\"\",VLOOKUP(B39,사원명부!$A$2:$Z$113,8,FALSE))","v":""},{"$f":"IF(C39=\"\",\"\",VLOOKUP(B39,사원명부!$A$2:$Z$113,9,FALSE))","v":""},{"$f":"IF(C39=\"\",\"\",IF((VLOOKUP(B39,사원명부!$A$2:$Z$113,10))=\"\",\"\",VLOOKUP(B39,사원명부!$A$2:$Z$113,10)))","v":""},{"$f":"IF(C39=\"\",\"\",VLOOKUP(B39,사원명부!$A$2:$Z$113,13,FALSE)&\" \"&VLOOKUP(B39,사원명부!$A$2:$Z$113,14,FALSE))","v":""},null,null,{"$f":"IF(C39=\"\",\"\",VLOOKUP(B39,사원명부!$A$2:$Z$113,5,FALSE))","v":""}]
[null,"",{"$f":"IF(B40=\"\",\"\",VLOOKUP(B40,사원명부!$A$2:$Z$113,2,FALSE))","v":""},{"$f":"IF(C40=\"\",\"\",VLOOKUP(B40,사원명부!$A$2:$Z$113,8,FALSE))","v":""},{"$f":"IF(C40=\"\",\"\",VLOOKUP(B40,사원명부!$A$2:$Z$113,9,FALSE))","v":""},{"$f":"IF(C40=\"\",\"\",IF((VLOOKUP(B40,사원명부!$A$2:$Z$113,10))=\"\",\"\",VLOOKUP(B40,사원명부!$A$2:$Z$113,10)))","v":""},{"$f":"IF(C40=\"\",\"\",VLOOKUP(B40,사원명부!$A$2:$Z$113,13,FALSE)&\" \"&VLOOKUP(B40,사원명부!$A$2:$Z$113,14,FALSE))","v":""},null,null,{"$f":"IF(C40=\"\",\"\",VLOOKUP(B40,사원명부!$A$2:$Z$113,5,FALSE))","v":""}]
[null,"",{"$f":"IF(B41=\"\",\"\",VLOOKUP(B41,사원명부!$A$2:$Z$113,2,FALSE))","v":""},{"$f":"IF(C41=\"\",\"\",VLOOKUP(B41,사원명부!$A$2:$Z$113,8,FALSE))","v":""},{"$f":"IF(C41=\"\",\"\",VLOOKUP(B41,사원명부!$A$2:$Z$113,9,FALSE))","v":""},{"$f":"IF(C41=\"\",\"\",IF((VLOOKUP(B41,사원명부!$A$2:$Z$113,10))=\"\",\"\",VLOOKUP(B41,사원명부!$A$2:$Z$113,10)))","v":""},{"$f":"IF(C41=\"\",\"\",VLOOKUP(B41,사원명부!$A$2:$Z$113,13,FALSE)&\" \"&VLOOKUP(B41,사원명부!$A$2:$Z$113,14,FALSE))","v":""},null,null,{"$f":"IF(C41=\"\",\"\",VLOOKUP(B41,사원명부!$A$2:$Z$113,5,FALSE))","v":""}]
[null,"",{"$f":"IF(B42=\"\",\"\",VLOOKUP(B42,사원명부!$A$2:$Z$113,2,FALSE))","v":""},{"$f":"IF(C42=\"\",\"\",VLOOKUP(B42,사원명부!$A$2:$Z$113,8,FALSE))","v":""},{"$f":"IF(C42=\"\",\"\",VLOOKUP(B42,사원명부!$A$2:$Z$113,9,FALSE))","v":""},{"$f":"IF(C42=\"\",\"\",IF((VLOOKUP(B42,사원명부!$A$2:$Z$113,10))=\"\",\"\",VLOOKUP(B42,사원명부!$A$2:$Z$113,10)))","v":""},{"$f":"IF(C42=\"\",\"\",VLOOKUP(B42,사원명부!$A$2:$Z$113,13,FALSE)&\" \"&VLOOKUP(B42,사원명부!$A$2:$Z$113,14,FALSE))","v":""},null,null,{"$f":"IF(C42=\"\",\"\",VLOOKUP(B42,사원명부!$A$2:$Z$113,5,FALSE))","v":""}]
[null,"",{"$f":"IF(B43=\"\",\"\",VLOOKUP(B43,사원명부!$A$2:$Z$113,2,FALSE))","v":""},{"$f":"IF(C43=\"\",\"\",VLOOKUP(B43,사원명부!$A$2:$Z$113,8,FALSE))","v":""},{"$f":"IF(C43=\"\",\"\",VLOOKUP(B43,사원명부!$A$2:$Z$113,9,FALSE))","v":""},{"$f":"IF(C43=\"\",\"\",IF((VLOOKUP(B43,사원명부!$A$2:$Z$113,10))=\"\",\"\",VLOOKUP(B43,사원명부!$A$2:$Z$113,10)))","v":""},{"$f":"IF(C43=\"\",\"\",VLOOKUP(B43,사원명부!$A$2:$Z$113,13,FALSE)&\" \"&VLOOKUP(B43,사원명부!$A$2:$Z$113,14,FALSE))","v":""},null,null,{"$f":"IF(C43=\"\",\"\",VLOOKUP(B43,사원명부!$A$2:$Z$113,5,FALSE))","v":""}]
[null,"",{"$f":"IF(B44=\"\",\"\",VLOOKUP(B44,사원명부!$A$2:$Z$113,2,FALSE))","v":""},{"$f":"IF(C44=\"\",\"\",VLOOKUP(B44,사원명부!$A$2:$Z$113,8,FALSE))","v":""},{"$f":"IF(C44=\"\",\"\",VLOOKUP(B44,사원명부!$A$2:$Z$113,9,FALSE))","v":""},{"$f":"IF(C44=\"\",\"\",IF((VLOOKUP(B44,사원명부!$A$2:$Z$113,10))=\"\",\"\",VLOOKUP(B44,사원명부!$A$2:$Z$113,10)))","v":""},{"$f":"IF(C44=\"\",\"\",VLOOKUP(B44,사원명부!$A$2:$Z$113,13,FALSE)&\" \"&VLOOKUP(B44,사원명부!$A$2:$Z$113,14,FALSE))","v":""},null,null,{"$f":"IF(C44=\"\",\"\",VLOOKUP(B44,사원명부!$A$2:$Z$113,5,FALSE))","v":""}]
[null,"",{"$f":"IF(B45=\"\",\"\",VLOOKUP(B45,사원명부!$A$2:$Z$113,2,FALSE))","v":""},{"$f":"IF(C45=\"\",\"\",VLOOKUP(B45,사원명부!$A$2:$Z$113,8,FALSE))","v":""},{"$f":"IF(C45=\"\",\"\",VLOOKUP(B45,사원명부!$A$2:$Z$113,9,FALSE))","v":""},{"$f":"IF(C45=\"\",\"\",IF((VLOOKUP(B45,사원명부!$A$2:$Z$113,10))=\"\",\"\",VLOOKUP(B45,사원명부!$A$2:$Z$113,10)))","v":""},{"$f":"IF(C45=\"\",\"\",VLOOKUP(B45,사원명부!$A$2:$Z$113,13,FALSE)&\" \"&VLOOKUP(B45,사원명부!$A$2:$Z$113,14,FALSE))","v":""},null,null,{"$f":"IF(C45=\"\",\"\",VLOOKUP(B45,사원명부!$A$2:$Z$113,5,FALSE))","v":""}]
[null,"",{"$f":"IF(B46=\"\",\"\",VLOOKUP(B46,사원명부!$A$2:$Z$113,2,FALSE))","v":""},{"$f":"IF(C46=\"\",\"\",VLOOKUP(B46,사원명부!$A$2:$Z$113,8,FALSE))","v":""},{"$f":"IF(C46=\"\",\"\",VLOOKUP(B46,사원명부!$A$2:$Z$113,9,FALSE))","v":""},{"$f":"IF(C46=\"\",\"\",IF((VLOOKUP(B46,사원명부!$A$2:$Z$113,10))=\"\",\"\",VLOOKUP(B46,사원명부!$A$2:$Z$113,10)))","v":""},{"$f":"IF(C46=\"\",\"\",VLOOKUP(B46,사원명부!$A$2:$Z$113,13,FALSE)&\" \"&VLOOKUP(B46,사원명부!$A$2:$Z$113,14,FALSE))","v":""},null,null,{"$f":"IF(C46=\"\",\"\",VLOOKUP(B46,사원명부!$A$2:$Z$113,5,FALSE))","v":""}]
[null,"",{"$f":"IF(B47=\"\",\"\",VLOOKUP(B47,사원명부!$A$2:$Z$113,2,FALSE))","v":""},{"$f":"IF(C47=\"\",\"\",VLOOKUP(B47,사원명부!$A$2:$Z$113,8,FALSE))","v":""},{"$f":"IF(C47=\"\",\"\",VLOOKUP(B47,사원명부!$A$2:$Z$113,9,FALSE))","v":""},{"$f":"IF(C47=\"\",\"\",IF((VLOOKUP(B47,사원명부!$A$2:$Z$113,10))=\"\",\"\",VLOOKUP(B47,사원명부!$A$2:$Z$113,10)))","v":""},{"$f":"IF(C47=\"\",\"\",VLOOKUP(B47,사원명부!$A$2:$Z$113,13,FALSE)&\" \"&VLOOKUP(B47,사원명부!$A$2:$Z$113,14,FALSE))","v":""},null,null,{"$f":"IF(C47=\"\",\"\",VLOOKUP(B47,사원명부!$A$2:$Z$113,5,FALSE))","v":""}]
[null,"",{"$f":"IF(B48=\"\",\"\",VLOOKUP(B48,사원명부!$A$2:$Z$113,2,FALSE))","v":""},{"$f":"IF(C48=\"\",\"\",VLOOKUP(B48,사원명부!$A$2:$Z$113,8,FALSE))","v":""},{"$f":"IF(C48=\"\",\"\",VLOOKUP(B48,사원명부!$A$2:$Z$113,9,FALSE))","v":""},{"$f":"IF(C48=\"\",\"\",IF((VLOOKUP(B48,사원명부!$A$2:$Z$113,10))=\"\",\"\",VLOOKUP(B48,사원명부!$A$2:$Z$113,10)))","v":""},{"$f":"IF(C48=\"\",\"\",VLOOKUP(B48,사원명부!$A$2:$Z$113,13,FALSE)&\" \"&VLOOKUP(B48,사원명부!$A$2:$Z$113,14,FALSE))","v":""},null,null,{"$f":"IF(C48=\"\",\"\",VLOOKUP(B48,사원명부!$A$2:$Z$113,5,FALSE))","v":""}]
[null,"",{"$f":"IF(B49=\"\",\"\",VLOOKUP(B49,사원명부!$A$2:$Z$113,2,FALSE))","v":""},{"$f":"IF(C49=\"\",\"\",VLOOKUP(B49,사원명부!$A$2:$Z$113,8,FALSE))","v":""},{"$f":"IF(C49=\"\",\"\",VLOOKUP(B49,사원명부!$A$2:$Z$113,9,FALSE))","v":""},{"$f":"IF(C49=\"\",\"\",IF((VLOOKUP(B49,사원명부!$A$2:$Z$113,10))=\"\",\"\",VLOOKUP(B49,사원명부!$A$2:$Z$113,10)))","v":""},{"$f":"IF(C49=\"\",\"\",VLOOKUP(B49,사원명부!$A$2:$Z$113,13,FALSE)&\" \"&VLOOKUP(B49,사원명부!$A$2:$Z$113,14,FALSE))","v":""},null,null,{"$f":"IF(C49=\"\",\"\",VLOOKUP(B49,사원명부!$A$2:$Z$113,5,FALSE))","v":""}]
[null,"",{"$f":"IF(B50=\"\",\"\",VLOOKUP(B50,사원명부!$A$2:$Z$113,2,FALSE))","v":""},{"$f":"IF(C50=\"\",\"\",VLOOKUP(B50,사원명부!$A$2:$Z$113,8,FALSE))","v":""},{"$f":"IF(C50=\"\",\"\",VLOOKUP(B50,사원명부!$A$2:$Z$113,9,FALSE))","v":""},{"$f":"IF(C50=\"\",\"\",IF((VLOOKUP(B50,사원명부!$A$2:$Z$113,10))=\"\",\"\",VLOOKUP(B50,사원명부!$A$2:$Z$113,10)))","v":""},{"$f":"IF(C50=\"\",\"\",VLOOKUP(B50,사원명부!$A$2:$Z$113,13,FALSE)&\" \"&VLOOKUP(B50,사원명부!$A$2:$Z$113,14,FALSE))","v":""},null,null,{"$f":"IF(C50=\"\",\"\",VLOOKUP(B50,사원명부!$A$2:$Z$113,5,FALSE))","v":""}]
[null,"",{"$f":"IF(B51=\"\",\"\",VLOOKUP(B51,사원명부!$A$2:$Z$113,2,FALSE))","v":""},{"$f":"IF(C51=\"\",\"\",VLOOKUP(B51,사원명부!$A$2:$Z$113,8,FALSE))","v":""},{"$f":"IF(C51=\"\",\"\",VLOOKUP(B51,사원명부!$A$2:$Z$113,9,FALSE))","v":""},{"$f":"IF(C51=\"\",\"\",IF((VLOOKUP(B51,사원명부!$A$2:$Z$113,10))=\"\",\"\",VLOOKUP(B51,사원명부!$A$2:$Z$113,10)))","v":""},{"$f":"IF(C51=\"\",\"\",VLOOKUP(B51,사원명부!$A$2:$Z$113,13,FALSE)&\" \"&VLOOKUP(B51,사원명부!$A$2:$Z$113,14,FALSE))","v":""},null,null,{"$f":"IF(C51=\"\",\"\",VLOOKUP(B51,사원명부!$A$2:$Z$113,5,FALSE))","v":""}]
[null,"",{"$f":"IF(B52=\"\",\"\",VLOOKUP(B52,사원명부!$A$2:$Z$113,2,FALSE))","v":""},{"$f":"IF(C52=\"\",\"\",VLOOKUP(B52,사원명부!$A$2:$Z$113,8,FALSE))","v":""},{"$f":"IF(C52=\"\",\"\",VLOOKUP(B52,사원명부!$A$2:$Z$113,9,FALSE))","v":""},{"$f":"IF(C52=\"\",\"\",IF((VLOOKUP(B52,사원명부!$A$2:$Z$113,10))=\"\",\"\",VLOOKUP(B52,사원명부!$A$2:$Z$113,10)))","v":""},{"$f":"IF(C52=\"\",\"\",VLOOKUP(B52,사원명부!$A$2:$Z$113,13,FALSE)&\" \"&VLOOKUP(B52,사원명부!$A$2:$Z$113,14,FALSE))","v":""},null,null,{"$f":"IF(C52=\"\",\"\",VLOOKUP(B52,사원명부!$A$2:$Z$113,5,FALSE))","v":""}]
[null,"",{"$f":"IF(B53=\"\",\"\",VLOOKUP(B53,사원명부!$A$2:$Z$113,2,FALSE))","v":""},{"$f":"IF(C53=\"\",\"\",VLOOKUP(B53,사원명부!$A$2:$Z$113,8,FALSE))","v":""},{"$f":"IF(C53=\"\",\"\",VLOOKUP(B53,사원명부!$A$2:$Z$113,9,FALSE))","v":""},{"$f":"IF(C53=\"\",\"\",IF((VLOOKUP(B53,사원명부!$A$2:$Z$113,10))=\"\",\"\",VLOOKUP(B53,사원명부!$A$2:$Z$113,10)))","v":""},{"$f":"IF(C53=\"\",\"\",VLOOKUP(B53,사원명부!$A$2:$Z$113,13,FALSE)&\" \"&VLOOKUP(B53,사원명부!$A$2:$Z$113,14,FALSE))","v":""},null,null,{"$f":"IF(C53=\"\",\"\",VLOOKUP(B53,사원명부!$A$2:$Z$113,5,FALSE))","v":""}]
[null,"",{"$f":"IF(B54=\"\",\"\",VLOOKUP(B54,사원명부!$A$2:$Z$113,2,FALSE))","v":""},{"$f":"IF(C54=\"\",\"\",VLOOKUP(B54,사원명부!$A$2:$Z$113,8,FALSE))","v":""},{"$f":"IF(C54=\"\",\"\",VLOOKUP(B54,사원명부!$A$2:$Z$113,9,FALSE))","v":""},{"$f":"IF(C54=\"\",\"\",IF((VLOOKUP(B54,사원명부!$A$2:$Z$113,10))=\"\",\"\",VLOOKUP(B54,사원명부!$A$2:$Z$113,10)))","v":""},{"$f":"IF(C54=\"\",\"\",VLOOKUP(B54,사원명부!$A$2:$Z$113,13,FALSE)&\" \"&VLOOKUP(B54,사원명부!$A$2:$Z$113,14,FALSE))","v":""},null,null,{"$f":"IF(C54=\"\",\"\",VLOOKUP(B54,사원명부!$A$2:$Z$113,5,FALSE))","v":""}]
[null,"",{"$f":"IF(B55=\"\",\"\",VLOOKUP(B55,사원명부!$A$2:$Z$113,2,FALSE))","v":""},{"$f":"IF(C55=\"\",\"\",VLOOKUP(B55,사원명부!$A$2:$Z$113,8,FALSE))","v":""},{"$f":"IF(C55=\"\",\"\",VLOOKUP(B55,사원명부!$A$2:$Z$113,9,FALSE))","v":""},{"$f":"IF(C55=\"\",\"\",IF((VLOOKUP(B55,사원명부!$A$2:$Z$113,10))=\"\",\"\",VLOOKUP(B55,사원명부!$A$2:$Z$113,10)))","v":""},{"$f":"IF(C55=\"\",\"\",VLOOKUP(B55,사원명부!$A$2:$Z$113,13,FALSE)&\" \"&VLOOKUP(B55,사원명부!$A$2:$Z$113,14,FALSE))","v":""},null,null,{"$f":"IF(C55=\"\",\"\",VLOOKUP(B55,사원명부!$A$2:$Z$113,5,FALSE))","v":""}]
[null,"",{"$f":"IF(B56=\"\",\"\",VLOOKUP(B56,사원명부!$A$2:$Z$113,2,FALSE))","v":""},{"$f":"IF(C56=\"\",\"\",VLOOKUP(B56,사원명부!$A$2:$Z$113,8,FALSE))","v":""},{"$f":"IF(C56=\"\",\"\",VLOOKUP(B56,사원명부!$A$2:$Z$113,9,FALSE))","v":""},{"$f":"IF(C56=\"\",\"\",IF((VLOOKUP(B56,사원명부!$A$2:$Z$113,10))=\"\",\"\",VLOOKUP(B56,사원명부!$A$2:$Z$113,10)))","v":""},{"$f":"IF(C56=\"\",\"\",VLOOKUP(B56,사원명부!$A$2:$Z$113,13,FALSE)&\" \"&VLOOKUP(B56,사원명부!$A$2:$Z$113,14,FALSE))","v":""},null,null,{"$f":"IF(C56=\"\",\"\",VLOOKUP(B56,사원명부!$A$2:$Z$113,5,FALSE))","v":""}]
[null,"",{"$f":"IF(B57=\"\",\"\",VLOOKUP(B57,사원명부!$A$2:$Z$113,2,FALSE))","v":""},{"$f":"IF(C57=\"\",\"\",VLOOKUP(B57,사원명부!$A$2:$Z$113,8,FALSE))","v":""},{"$f":"IF(C57=\"\",\"\",VLOOKUP(B57,사원명부!$A$2:$Z$113,9,FALSE))","v":""},{"$f":"IF(C57=\"\",\"\",IF((VLOOKUP(B57,사원명부!$A$2:$Z$113,10))=\"\",\"\",VLOOKUP(B57,사원명부!$A$2:$Z$113,10)))","v":""},{"$f":"IF(C57=\"\",\"\",VLOOKUP(B57,사원명부!$A$2:$Z$113,13,FALSE)&\" \"&VLOOKUP(B57,사원명부!$A$2:$Z$113,14,FALSE))","v":""},null,null,{"$f":"IF(C57=\"\",\"\",VLOOKUP(B57,사원명부!$A$2:$Z$113,5,FALSE))","v":""}]
[null,"",{"$f":"IF(B58=\"\",\"\",VLOOKUP(B58,사원명부!$A$2:$Z$113,2,FALSE))","v":""},{"$f":"IF(C58=\"\",\"\",VLOOKUP(B58,사원명부!$A$2:$Z$113,8,FALSE))","v":""},{"$f":"IF(C58=\"\",\"\",VLOOKUP(B58,사원명부!$A$2:$Z$113,9,FALSE))","v":""},{"$f":"IF(C58=\"\",\"\",IF((VLOOKUP(B58,사원명부!$A$2:$Z$113,10))=\"\",\"\",VLOOKUP(B58,사원명부!$A$2:$Z$113,10)))","v":""},{"$f":"IF(C58=\"\",\"\",VLOOKUP(B58,사원명부!$A$2:$Z$113,13,FALSE)&\" \"&VLOOKUP(B58,사원명부!$A$2:$Z$113,14,FALSE))","v":""},null,null,{"$f":"IF(C58=\"\",\"\",VLOOKUP(B58,사원명부!$A$2:$Z$113,5,FALSE))","v":""}]
[null,"",{"$f":"IF(B59=\"\",\"\",VLOOKUP(B59,사원명부!$A$2:$Z$113,2,FALSE))","v":""},{"$f":"IF(C59=\"\",\"\",VLOOKUP(B59,사원명부!$A$2:$Z$113,8,FALSE))","v":""},{"$f":"IF(C59=\"\",\"\",VLOOKUP(B59,사원명부!$A$2:$Z$113,9,FALSE))","v":""},{"$f":"IF(C59=\"\",\"\",IF((VLOOKUP(B59,사원명부!$A$2:$Z$113,10))=\"\",\"\",VLOOKUP(B59,사원명부!$A$2:$Z$113,10)))","v":""},{"$f":"IF(C59=\"\",\"\",VLOOKUP(B59,사원명부!$A$2:$Z$113,13,FALSE)&\" \"&VLOOKUP(B59,사원명부!$A$2:$Z$113,14,FALSE))","v":""},null,null,{"$f":"IF(C59=\"\",\"\",VLOOKUP(B59,사원명부!$A$2:$Z$113,5,FALSE))","v":""}]
[null,"",{"$f":"IF(B60=\"\",\"\",VLOOKUP(B60,사원명부!$A$2:$Z$113,2,FALSE))","v":""},{"$f":"IF(C60=\"\",\"\",VLOOKUP(B60,사원명부!$A$2:$Z$113,8,FALSE))","v":""},{"$f":"IF(C60=\"\",\"\",VLOOKUP(B60,사원명부!$A$2:$Z$113,9,FALSE))","v":""},{"$f":"IF(C60=\"\",\"\",IF((VLOOKUP(B60,사원명부!$A$2:$Z$113,10))=\"\",\"\",VLOOKUP(B60,사원명부!$A$2:$Z$113,10)))","v":""},{"$f":"IF(C60=\"\",\"\",VLOOKUP(B60,사원명부!$A$2:$Z$113,13,FALSE)&\" \"&VLOOKUP(B60,사원명부!$A$2:$Z$113,14,FALSE))","v":""},null,null,{"$f":"IF(C60=\"\",\"\",VLOOKUP(B60,사원명부!$A$2:$Z$113,5,FALSE))","v":""}]
[null,"",{"$f":"IF(B61=\"\",\"\",VLOOKUP(B61,사원명부!$A$2:$Z$113,2,FALSE))","v":""},{"$f":"IF(C61=\"\",\"\",VLOOKUP(B61,사원명부!$A$2:$Z$113,8,FALSE))","v":""},{"$f":"IF(C61=\"\",\"\",VLOOKUP(B61,사원명부!$A$2:$Z$113,9,FALSE))","v":""},{"$f":"IF(C61=\"\",\"\",IF((VLOOKUP(B61,사원명부!$A$2:$Z$113,10))=\"\",\"\",VLOOKUP(B61,사원명부!$A$2:$Z$113,10)))","v":""},{"$f":"IF(C61=\"\",\"\",VLOOKUP(B61,사원명부!$A$2:$Z$113,13,FALSE)&\" \"&VLOOKUP(B61,사원명부!$A$2:$Z$113,14,FALSE))","v":""},null,null,{"$f":"IF(C61=\"\",\"\",VLOOKUP(B61,사원명부!$A$2:$Z$113,5,FALSE))","v":""}]
[null,"",{"$f":"IF(B62=\"\",\"\",VLOOKUP(B62,사원명부!$A$2:$Z$113,2,FALSE))","v":""},{"$f":"IF(C62=\"\",\"\",VLOOKUP(B62,사원명부!$A$2:$Z$113,8,FALSE))","v":""},{"$f":"IF(C62=\"\",\"\",VLOOKUP(B62,사원명부!$A$2:$Z$113,9,FALSE))","v":""},{"$f":"IF(C62=\"\",\"\",IF((VLOOKUP(B62,사원명부!$A$2:$Z$113,10))=\"\",\"\",VLOOKUP(B62,사원명부!$A$2:$Z$113,10)))","v":""},{"$f":"IF(C62=\"\",\"\",VLOOKUP(B62,사원명부!$A$2:$Z$113,13,FALSE)&\" \"&VLOOKUP(B62,사원명부!$A$2:$Z$113,14,FALSE))","v":""},null,null,{"$f":"IF(C62=\"\",\"\",VLOOKUP(B62,사원명부!$A$2:$Z$113,5,FALSE))","v":""}]
[null,"",{"$f":"IF(B63=\"\",\"\",VLOOKUP(B63,사원명부!$A$2:$Z$113,2,FALSE))","v":""},{"$f":"IF(C63=\"\",\"\",VLOOKUP(B63,사원명부!$A$2:$Z$113,8,FALSE))","v":""},{"$f":"IF(C63=\"\",\"\",VLOOKUP(B63,사원명부!$A$2:$Z$113,9,FALSE))","v":""},{"$f":"IF(C63=\"\",\"\",IF((VLOOKUP(B63,사원명부!$A$2:$Z$113,10))=\"\",\"\",VLOOKUP(B63,사원명부!$A$2:$Z$113,10)))","v":""},{"$f":"IF(C63=\"\",\"\",VLOOKUP(B63,사원명부!$A$2:$Z$113,13,FALSE)&\" \"&VLOOKUP(B63,사원명부!$A$2:$Z$113,14,FALSE))","v":""},null,null,{"$f":"IF(C63=\"\",\"\",VLOOKUP(B63,사원명부!$A$2:$Z$113,5,FALSE))","v":""}]
[null,"",{"$f":"IF(B64=\"\",\"\",VLOOKUP(B64,사원명부!$A$2:$Z$113,2,FALSE))","v":""},{"$f":"IF(C64=\"\",\"\",VLOOKUP(B64,사원명부!$A$2:$Z$113,8,FALSE))","v":""},{"$f":"IF(C64=\"\",\"\",VLOOKUP(B64,사원명부!$A$2:$Z$113,9,FALSE))","v":""},{"$f":"IF(C64=\"\",\"\",IF((VLOOKUP(B64,사원명부!$A$2:$Z$113,10))=\"\",\"\",VLOOKUP(B64,사원명부!$A$2:$Z$113,10)))","v":""},{"$f":"IF(C64=\"\",\"\",VLOOKUP(B64,사원명부!$A$2:$Z$113,13,FALSE)&\" \"&VLOOKUP(B64,사원명부!$A$2:$Z$113,14,FALSE))","v":""},null,null,{"$f":"IF(C64=\"\",\"\",VLOOKUP(B64,사원명부!$A$2:$Z$113,5,FALSE))","v":""}]
[null,"",{"$f":"IF(B65=\"\",\"\",VLOOKUP(B65,사원명부!$A$2:$Z$113,2,FALSE))","v":""},{"$f":"IF(C65=\"\",\"\",VLOOKUP(B65,사원명부!$A$2:$Z$113,8,FALSE))","v":""},{"$f":"IF(C65=\"\",\"\",VLOOKUP(B65,사원명부!$A$2:$Z$113,9,FALSE))","v":""},{"$f":"IF(C65=\"\",\"\",IF((VLOOKUP(B65,사원명부!$A$2:$Z$113,10))=\"\",\"\",VLOOKUP(B65,사원명부!$A$2:$Z$113,10)))","v":""},{"$f":"IF(C65=\"\",\"\",VLOOKUP(B65,사원명부!$A$2:$Z$113,13,FALSE)&\" \"&VLOOKUP(B65,사원명부!$A$2:$Z$113,14,FALSE))","v":""},null,null,{"$f":"IF(C65=\"\",\"\",VLOOKUP(B65,사원명부!$A$2:$Z$113,5,FALSE))","v":""}]
[null,"",{"$f":"IF(B66=\"\",\"\",VLOOKUP(B66,사원명부!$A$2:$Z$113,2,FALSE))","v":""},{"$f":"IF(C66=\"\",\"\",VLOOKUP(B66,사원명부!$A$2:$Z$113,8,FALSE))","v":""},{"$f":"IF(C66=\"\",\"\",VLOOKUP(B66,사원명부!$A$2:$Z$113,9,FALSE))","v":""},{"$f":"IF(C66=\"\",\"\",IF((VLOOKUP(B66,사원명부!$A$2:$Z$113,10))=\"\",\"\",VLOOKUP(B66,사원명부!$A$2:$Z$113,10)))","v":""},{"$f":"IF(C66=\"\",\"\",VLOOKUP(B66,사원명부!$A$2:$Z$113,13,FALSE)&\" \"&VLOOKUP(B66,사원명부!$A$2:$Z$113,14,FALSE))","v":""},null,null,{"$f":"IF(C66=\"\",\"\",VLOOKUP(B66,사원명부!$A$2:$Z$113,5,FALSE))","v":""}]
[null,"",{"$f":"IF(B67=\"\",\"\",VLOOKUP(B67,사원명부!$A$2:$Z$113,2,FALSE))","v":""},{"$f":"IF(C67=\"\",\"\",VLOOKUP(B67,사원명부!$A$2:$Z$113,8,FALSE))","v":""},{"$f":"IF(C67=\"\",\"\",VLOOKUP(B67,사원명부!$A$2:$Z$113,9,FALSE))","v":""},{"$f":"IF(C67=\"\",\"\",IF((VLOOKUP(B67,사원명부!$A$2:$Z$113,10))=\"\",\"\",VLOOKUP(B67,사원명부!$A$2:$Z$113,10)))","v":""},{"$f":"IF(C67=\"\",\"\",VLOOKUP(B67,사원명부!$A$2:$Z$113,13,FALSE)&\" \"&VLOOKUP(B67,사원명부!$A$2:$Z$113,14,FALSE))","v":""},null,null,{"$f":"IF(C67=\"\",\"\",VLOOKUP(B67,사원명부!$A$2:$Z$113,5,FALSE))","v":""}]
[null,"",{"$f":"IF(B68=\"\",\"\",VLOOKUP(B68,사원명부!$A$2:$Z$113,2,FALSE))","v":""},{"$f":"IF(C68=\"\",\"\",VLOOKUP(B68,사원명부!$A$2:$Z$113,8,FALSE))","v":""},{"$f":"IF(C68=\"\",\"\",VLOOKUP(B68,사원명부!$A$2:$Z$113,9,FALSE))","v":""},{"$f":"IF(C68=\"\",\"\",IF((VLOOKUP(B68,사원명부!$A$2:$Z$113,10))=\"\",\"\",VLOOKUP(B68,사원명부!$A$2:$Z$113,10)))","v":""},{"$f":"IF(C68=\"\",\"\",VLOOKUP(B68,사원명부!$A$2:$Z$113,13,FALSE)&\" \"&VLOOKUP(B68,사원명부!$A$2:$Z$113,14,FALSE))","v":""},null,null,{"$f":"IF(C68=\"\",\"\",VLOOKUP(B68,사원명부!$A$2:$Z$113,5,FALSE))","v":""}]
[null,"",{"$f":"IF(B69=\"\",\"\",VLOOKUP(B69,사원명부!$A$2:$Z$113,2,FALSE))","v":""},{"$f":"IF(C69=\"\",\"\",VLOOKUP(B69,사원명부!$A$2:$Z$113,8,FALSE))","v":""},{"$f":"IF(C69=\"\",\"\",VLOOKUP(B69,사원명부!$A$2:$Z$113,9,FALSE))","v":""},{"$f":"IF(C69=\"\",\"\",IF((VLOOKUP(B69,사원명부!$A$2:$Z$113,10))=\"\",\"\",VLOOKUP(B69,사원명부!$A$2:$Z$113,10)))","v":""},{"$f":"IF(C69=\"\",\"\",VLOOKUP(B69,사원명부!$A$2:$Z$113,13,FALSE)&\" \"&VLOOKUP(B69,사원명부!$A$2:$Z$113,14,FALSE))","v":""},null,null,{"$f":"IF(C69=\"\",\"\",VLOOKUP(B69,사원명부!$A$2:$Z$113,5,FALSE))","v":""}]
[null,"",{"$f":"IF(B70=\"\",\"\",VLOOKUP(B70,사원명부!$A$2:$Z$113,2,FALSE))","v":""},{"$f":"IF(C70=\"\",\"\",VLOOKUP(B70,사원명부!$A$2:$Z$113,8,FALSE))","v":""},{"$f":"IF(C70=\"\",\"\",VLOOKUP(B70,사원명부!$A$2:$Z$113,9,FALSE))","v":""},{"$f":"IF(C70=\"\",\"\",IF((VLOOKUP(B70,사원명부!$A$2:$Z$113,10))=\"\",\"\",VLOOKUP(B70,사원명부!$A$2:$Z$113,10)))","v":""},{"$f":"IF(C70=\"\",\"\",VLOOKUP(B70,사원명부!$A$2:$Z$113,13,FALSE)&\" \"&VLOOKUP(B70,사원명부!$A$2:$Z$113,14,FALSE))","v":""},null,null,{"$f":"IF(C70=\"\",\"\",VLOOKUP(B70,사원명부!$A$2:$Z$113,5,FALSE))","v":""}]
[null,"",{"$f":"IF(B71=\"\",\"\",VLOOKUP(B71,사원명부!$A$2:$Z$113,2,FALSE))","v":""},{"$f":"IF(C71=\"\",\"\",VLOOKUP(B71,사원명부!$A$2:$Z$113,8,FALSE))","v":""},{"$f":"IF(C71=\"\",\"\",VLOOKUP(B71,사원명부!$A$2:$Z$113,9,FALSE))","v":""},{"$f":"IF(C71=\"\",\"\",IF((VLOOKUP(B71,사원명부!$A$2:$Z$113,10))=\"\",\"\",VLOOKUP(B71,사원명부!$A$2:$Z$113,10)))","v":""},{"$f":"IF(C71=\"\",\"\",VLOOKUP(B71,사원명부!$A$2:$Z$113,13,FALSE)&\" \"&VLOOKUP(B71,사원명부!$A$2:$Z$113,14,FALSE))","v":""},null,null,{"$f":"IF(C71=\"\",\"\",VLOOKUP(B71,사원명부!$A$2:$Z$113,5,FALSE))","v":""}]
[null,"",{"$f":"IF(B72=\"\",\"\",VLOOKUP(B72,사원명부!$A$2:$Z$113,2,FALSE))","v":""},{"$f":"IF(C72=\"\",\"\",VLOOKUP(B72,사원명부!$A$2:$Z$113,8,FALSE))","v":""},{"$f":"IF(C72=\"\",\"\",VLOOKUP(B72,사원명부!$A$2:$Z$113,9,FALSE))","v":""},{"$f":"IF(C72=\"\",\"\",IF((VLOOKUP(B72,사원명부!$A$2:$Z$113,10))=\"\",\"\",VLOOKUP(B72,사원명부!$A$2:$Z$113,10)))","v":""},{"$f":"IF(C72=\"\",\"\",VLOOKUP(B72,사원명부!$A$2:$Z$113,13,FALSE)&\" \"&VLOOKUP(B72,사원명부!$A$2:$Z$113,14,FALSE))","v":""},null,null,{"$f":"IF(C72=\"\",\"\",VLOOKUP(B72,사원명부!$A$2:$Z$113,5,FALSE))","v":""}]
[null,"",{"$f":"IF(B73=\"\",\"\",VLOOKUP(B73,사원명부!$A$2:$Z$113,2,FALSE))","v":""},{"$f":"IF(C73=\"\",\"\",VLOOKUP(B73,사원명부!$A$2:$Z$113,8,FALSE))","v":""},{"$f":"IF(C73=\"\",\"\",VLOOKUP(B73,사원명부!$A$2:$Z$113,9,FALSE))","v":""},{"$f":"IF(C73=\"\",\"\",IF((VLOOKUP(B73,사원명부!$A$2:$Z$113,10))=\"\",\"\",VLOOKUP(B73,사원명부!$A$2:$Z$113,10)))","v":""},{"$f":"IF(C73=\"\",\"\",VLOOKUP(B73,사원명부!$A$2:$Z$113,13,FALSE)&\" \"&VLOOKUP(B73,사원명부!$A$2:$Z$113,14,FALSE))","v":""},null,null,{"$f":"IF(C73=\"\",\"\",VLOOKUP(B73,사원명부!$A$2:$Z$113,5,FALSE))","v":""}]
[null,"",{"$f":"IF(B74=\"\",\"\",VLOOKUP(B74,사원명부!$A$2:$Z$113,2,FALSE))","v":""},{"$f":"IF(C74=\"\",\"\",VLOOKUP(B74,사원명부!$A$2:$Z$113,8,FALSE))","v":""},{"$f":"IF(C74=\"\",\"\",VLOOKUP(B74,사원명부!$A$2:$Z$113,9,FALSE))","v":""},{"$f":"IF(C74=\"\",\"\",IF((VLOOKUP(B74,사원명부!$A$2:$Z$113,10))=\"\",\"\",VLOOKUP(B74,사원명부!$A$2:$Z$113,10)))","v":""},{"$f":"IF(C74=\"\",\"\",VLOOKUP(B74,사원명부!$A$2:$Z$113,13,FALSE)&\" \"&VLOOKUP(B74,사원명부!$A$2:$Z$113,14,FALSE))","v":""},null,null,{"$f":"IF(C74=\"\",\"\",VLOOKUP(B74,사원명부!$A$2:$Z$113,5,FALSE))","v":""}]
[null,"",{"$f":"IF(B75=\"\",\"\",VLOOKUP(B75,사원명부!$A$2:$Z$113,2,FALSE))","v":""},{"$f":"IF(C75=\"\",\"\",VLOOKUP(B75,사원명부!$A$2:$Z$113,8,FALSE))","v":""},{"$f":"IF(C75=\"\",\"\",VLOOKUP(B75,사원명부!$A$2:$Z$113,9,FALSE))","v":""},{"$f":"IF(C75=\"\",\"\",IF((VLOOKUP(B75,사원명부!$A$2:$Z$113,10))=\"\",\"\",VLOOKUP(B75,사원명부!$A$2:$Z$113,10)))","v":""},{"$f":"IF(C75=\"\",\"\",VLOOKUP(B75,사원명부!$A$2:$Z$113,13,FALSE)&\" \"&VLOOKUP(B75,사원명부!$A$2:$Z$113,14,FALSE))","v":""},null,null,{"$f":"IF(C75=\"\",\"\",VLOOKUP(B75,사원명부!$A$2:$Z$113,5,FALSE))","v":""}]
[null,"",{"$f":"IF(B76=\"\",\"\",VLOOKUP(B76,사원명부!$A$2:$Z$113,2,FALSE))","v":""},{"$f":"IF(C76=\"\",\"\",VLOOKUP(B76,사원명부!$A$2:$Z$113,8,FALSE))","v":""},{"$f":"IF(C76=\"\",\"\",VLOOKUP(B76,사원명부!$A$2:$Z$113,9,FALSE))","v":""},{"$f":"IF(C76=\"\",\"\",IF((VLOOKUP(B76,사원명부!$A$2:$Z$113,10))=\"\",\"\",VLOOKUP(B76,사원명부!$A$2:$Z$113,10)))","v":""},{"$f":"IF(C76=\"\",\"\",VLOOKUP(B76,사원명부!$A$2:$Z$113,13,FALSE)&\" \"&VLOOKUP(B76,사원명부!$A$2:$Z$113,14,FALSE))","v":""},null,null,{"$f":"IF(C76=\"\",\"\",VLOOKUP(B76,사원명부!$A$2:$Z$113,5,FALSE))","v":""}]
[null,"",{"$f":"IF(B77=\"\",\"\",VLOOKUP(B77,사원명부!$A$2:$Z$113,2,FALSE))","v":""},{"$f":"IF(C77=\"\",\"\",VLOOKUP(B77,사원명부!$A$2:$Z$113,8,FALSE))","v":""},{"$f":"IF(C77=\"\",\"\",VLOOKUP(B77,사원명부!$A$2:$Z$113,9,FALSE))","v":""},{"$f":"IF(C77=\"\",\"\",IF((VLOOKUP(B77,사원명부!$A$2:$Z$113,10))=\"\",\"\",VLOOKUP(B77,사원명부!$A$2:$Z$113,10)))","v":""},{"$f":"IF(C77=\"\",\"\",VLOOKUP(B77,사원명부!$A$2:$Z$113,13,FALSE)&\" \"&VLOOKUP(B77,사원명부!$A$2:$Z$113,14,FALSE))","v":""},null,null,{"$f":"IF(C77=\"\",\"\",VLOOKUP(B77,사원명부!$A$2:$Z$113,5,FALSE))","v":""}]
[null,"",{"$f":"IF(B78=\"\",\"\",VLOOKUP(B78,사원명부!$A$2:$Z$113,2,FALSE))","v":""},{"$f":"IF(C78=\"\",\"\",VLOOKUP(B78,사원명부!$A$2:$Z$113,8,FALSE))","v":""},{"$f":"IF(C78=\"\",\"\",VLOOKUP(B78,사원명부!$A$2:$Z$113,9,FALSE))","v":""},{"$f":"IF(C78=\"\",\"\",IF((VLOOKUP(B78,사원명부!$A$2:$Z$113,10))=\"\",\"\",VLOOKUP(B78,사원명부!$A$2:$Z$113,10)))","v":""},{"$f":"IF(C78=\"\",\"\",VLOOKUP(B78,사원명부!$A$2:$Z$113,13,FALSE)&\" \"&VLOOKUP(B78,사원명부!$A$2:$Z$113,14,FALSE))","v":""},null,null,{"$f":"IF(C78=\"\",\"\",VLOOKUP(B78,사원명부!$A$2:$Z$113,5,FALSE))","v":""}]
[null,"",{"$f":"IF(B79=\"\",\"\",VLOOKUP(B79,사원명부!$A$2:$Z$113,2,FALSE))","v":""},{"$f":"IF(C79=\"\",\"\",VLOOKUP(B79,사원명부!$A$2:$Z$113,8,FALSE))","v":""},{"$f":"IF(C79=\"\",\"\",VLOOKUP(B79,사원명부!$A$2:$Z$113,9,FALSE))","v":""},{"$f":"IF(C79=\"\",\"\",IF((VLOOKUP(B79,사원명부!$A$2:$Z$113,10))=\"\",\"\",VLOOKUP(B79,사원명부!$A$2:$Z$113,10)))","v":""},{"$f":"IF(C79=\"\",\"\",VLOOKUP(B79,사원명부!$A$2:$Z$113,13,FALSE)&\" \"&VLOOKUP(B79,사원명부!$A$2:$Z$113,14,FALSE))","v":""},null,null,{"$f":"IF(C79=\"\",\"\",VLOOKUP(B79,사원명부!$A$2:$Z$113,5,FALSE))","v":""}]
[null,"",{"$f":"IF(B80=\"\",\"\",VLOOKUP(B80,사원명부!$A$2:$Z$113,2,FALSE))","v":""},{"$f":"IF(C80=\"\",\"\",VLOOKUP(B80,사원명부!$A$2:$Z$113,8,FALSE))","v":""},{"$f":"IF(C80=\"\",\"\",VLOOKUP(B80,사원명부!$A$2:$Z$113,9,FALSE))","v":""},{"$f":"IF(C80=\"\",\"\",IF((VLOOKUP(B80,사원명부!$A$2:$Z$113,10))=\"\",\"\",VLOOKUP(B80,사원명부!$A$2:$Z$113,10)))","v":""},{"$f":"IF(C80=\"\",\"\",VLOOKUP(B80,사원명부!$A$2:$Z$113,13,FALSE)&\" \"&VLOOKUP(B80,사원명부!$A$2:$Z$113,14,FALSE))","v":""},null,null,{"$f":"IF(C80=\"\",\"\",VLOOKUP(B80,사원명부!$A$2:$Z$113,5,FALSE))","v":""}]
[null,"",{"$f":"IF(B81=\"\",\"\",VLOOKUP(B81,사원명부!$A$2:$Z$113,2,FALSE))","v":""},{"$f":"IF(C81=\"\",\"\",VLOOKUP(B81,사원명부!$A$2:$Z$113,8,FALSE))","v":""},{"$f":"IF(C81=\"\",\"\",VLOOKUP(B81,사원명부!$A$2:$Z$113,9,FALSE))","v":""},{"$f":"IF(C81=\"\",\"\",IF((VLOOKUP(B81,사원명부!$A$2:$Z$113,10))=\"\",\"\",VLOOKUP(B81,사원명부!$A$2:$Z$113,10)))","v":""},{"$f":"IF(C81=\"\",\"\",VLOOKUP(B81,사원명부!$A$2:$Z$113,13,FALSE)&\" \"&VLOOKUP(B81,사원명부!$A$2:$Z$113,14,FALSE))","v":""},null,null,{"$f":"IF(C81=\"\",\"\",VLOOKUP(B81,사원명부!$A$2:$Z$113,5,FALSE))","v":""}]
[null,"",{"$f":"IF(B82=\"\",\"\",VLOOKUP(B82,사원명부!$A$2:$Z$113,2,FALSE))","v":""},{"$f":"IF(C82=\"\",\"\",VLOOKUP(B82,사원명부!$A$2:$Z$113,8,FALSE))","v":""},{"$f":"IF(C82=\"\",\"\",VLOOKUP(B82,사원명부!$A$2:$Z$113,9,FALSE))","v":""},{"$f":"IF(C82=\"\",\"\",IF((VLOOKUP(B82,사원명부!$A$2:$Z$113,10))=\"\",\"\",VLOOKUP(B82,사원명부!$A$2:$Z$113,10)))","v":""},{"$f":"IF(C82=\"\",\"\",VLOOKUP(B82,사원명부!$A$2:$Z$113,13,FALSE)&\" \"&VLOOKUP(B82,사원명부!$A$2:$Z$113,14,FALSE))","v":""},null,null,{"$f":"IF(C82=\"\",\"\",VLOOKUP(B82,사원명부!$A$2:$Z$113,5,FALSE))","v":""}]
[null,"",{"$f":"IF(B83=\"\",\"\",VLOOKUP(B83,사원명부!$A$2:$Z$113,2,FALSE))","v":""},{"$f":"IF(C83=\"\",\"\",VLOOKUP(B83,사원명부!$A$2:$Z$113,8,FALSE))","v":""},{"$f":"IF(C83=\"\",\"\",VLOOKUP(B83,사원명부!$A$2:$Z$113,9,FALSE))","v":""},{"$f":"IF(C83=\"\",\"\",IF((VLOOKUP(B83,사원명부!$A$2:$Z$113,10))=\"\",\"\",VLOOKUP(B83,사원명부!$A$2:$Z$113,10)))","v":""},{"$f":"IF(C83=\"\",\"\",VLOOKUP(B83,사원명부!$A$2:$Z$113,13,FALSE)&\" \"&VLOOKUP(B83,사원명부!$A$2:$Z$113,14,FALSE))","v":""},null,null,{"$f":"IF(C83=\"\",\"\",VLOOKUP(B83,사원명부!$A$2:$Z$113,5,FALSE))","v":""}]
[null,"",{"$f":"IF(B84=\"\",\"\",VLOOKUP(B84,사원명부!$A$2:$Z$113,2,FALSE))","v":""},{"$f":"IF(C84=\"\",\"\",VLOOKUP(B84,사원명부!$A$2:$Z$113,8,FALSE))","v":""},{"$f":"IF(C84=\"\",\"\",VLOOKUP(B84,사원명부!$A$2:$Z$113,9,FALSE))","v":""},{"$f":"IF(C84=\"\",\"\",IF((VLOOKUP(B84,사원명부!$A$2:$Z$113,10))=\"\",\"\",VLOOKUP(B84,사원명부!$A$2:$Z$113,10)))","v":""},{"$f":"IF(C84=\"\",\"\",VLOOKUP(B84,사원명부!$A$2:$Z$113,13,FALSE)&\" \"&VLOOKUP(B84,사원명부!$A$2:$Z$113,14,FALSE))","v":""},null,null,{"$f":"IF(C84=\"\",\"\",VLOOKUP(B84,사원명부!$A$2:$Z$113,5,FALSE))","v":""}]
[null,"",{"$f":"IF(B85=\"\",\"\",VLOOKUP(B85,사원명부!$A$2:$Z$113,2,FALSE))","v":""},{"$f":"IF(C85=\"\",\"\",VLOOKUP(B85,사원명부!$A$2:$Z$113,8,FALSE))","v":""},{"$f":"IF(C85=\"\",\"\",VLOOKUP(B85,사원명부!$A$2:$Z$113,9,FALSE))","v":""},{"$f":"IF(C85=\"\",\"\",IF((VLOOKUP(B85,사원명부!$A$2:$Z$113,10))=\"\",\"\",VLOOKUP(B85,사원명부!$A$2:$Z$113,10)))","v":""},{"$f":"IF(C85=\"\",\"\",VLOOKUP(B85,사원명부!$A$2:$Z$113,13,FALSE)&\" \"&VLOOKUP(B85,사원명부!$A$2:$Z$113,14,FALSE))","v":""},null,null,{"$f":"IF(C85=\"\",\"\",VLOOKUP(B85,사원명부!$A$2:$Z$113,5,FALSE))","v":""}]
[null,"",{"$f":"IF(B86=\"\",\"\",VLOOKUP(B86,사원명부!$A$2:$Z$113,2,FALSE))","v":""},{"$f":"IF(C86=\"\",\"\",VLOOKUP(B86,사원명부!$A$2:$Z$113,8,FALSE))","v":""},{"$f":"IF(C86=\"\",\"\",VLOOKUP(B86,사원명부!$A$2:$Z$113,9,FALSE))","v":""},{"$f":"IF(C86=\"\",\"\",IF((VLOOKUP(B86,사원명부!$A$2:$Z$113,10))=\"\",\"\",VLOOKUP(B86,사원명부!$A$2:$Z$113,10)))","v":""},{"$f":"IF(C86=\"\",\"\",VLOOKUP(B86,사원명부!$A$2:$Z$113,13,FALSE)&\" \"&VLOOKUP(B86,사원명부!$A$2:$Z$113,14,FALSE))","v":""},null,null,{"$f":"IF(C86=\"\",\"\",VLOOKUP(B86,사원명부!$A$2:$Z$113,5,FALSE))","v":""}]
[null,"",{"$f":"IF(B87=\"\",\"\",VLOOKUP(B87,사원명부!$A$2:$Z$113,2,FALSE))","v":""},{"$f":"IF(C87=\"\",\"\",VLOOKUP(B87,사원명부!$A$2:$Z$113,8,FALSE))","v":""},{"$f":"IF(C87=\"\",\"\",VLOOKUP(B87,사원명부!$A$2:$Z$113,9,FALSE))","v":""},{"$f":"IF(C87=\"\",\"\",IF((VLOOKUP(B87,사원명부!$A$2:$Z$113,10))=\"\",\"\",VLOOKUP(B87,사원명부!$A$2:$Z$113,10)))","v":""},{"$f":"IF(C87=\"\",\"\",VLOOKUP(B87,사원명부!$A$2:$Z$113,13,FALSE)&\" \"&VLOOKUP(B87,사원명부!$A$2:$Z$113,14,FALSE))","v":""},null,null,{"$f":"IF(C87=\"\",\"\",VLOOKUP(B87,사원명부!$A$2:$Z$113,5,FALSE))","v":""}]
[null,"",{"$f":"IF(B88=\"\",\"\",VLOOKUP(B88,사원명부!$A$2:$Z$113,2,FALSE))","v":""},{"$f":"IF(C88=\"\",\"\",VLOOKUP(B88,사원명부!$A$2:$Z$113,8,FALSE))","v":""},{"$f":"IF(C88=\"\",\"\",VLOOKUP(B88,사원명부!$A$2:$Z$113,9,FALSE))","v":""},{"$f":"IF(C88=\"\",\"\",IF((VLOOKUP(B88,사원명부!$A$2:$Z$113,10))=\"\",\"\",VLOOKUP(B88,사원명부!$A$2:$Z$113,10)))","v":""},{"$f":"IF(C88=\"\",\"\",VLOOKUP(B88,사원명부!$A$2:$Z$113,13,FALSE)&\" \"&VLOOKUP(B88,사원명부!$A$2:$Z$113,14,FALSE))","v":""},null,null,{"$f":"IF(C88=\"\",\"\",VLOOKUP(B88,사원명부!$A$2:$Z$113,5,FALSE))","v":""}]
[null,"",{"$f":"IF(B89=\"\",\"\",VLOOKUP(B89,사원명부!$A$2:$Z$113,2,FALSE))","v":""},{"$f":"IF(C89=\"\",\"\",VLOOKUP(B89,사원명부!$A$2:$Z$113,8,FALSE))","v":""},{"$f":"IF(C89=\"\",\"\",VLOOKUP(B89,사원명부!$A$2:$Z$113,9,FALSE))","v":""},{"$f":"IF(C89=\"\",\"\",IF((VLOOKUP(B89,사원명부!$A$2:$Z$113,10))=\"\",\"\",VLOOKUP(B89,사원명부!$A$2:$Z$113,10)))","v":""},{"$f":"IF(C89=\"\",\"\",VLOOKUP(B89,사원명부!$A$2:$Z$113,13,FALSE)&\" \"&VLOOKUP(B89,사원명부!$A$2:$Z$113,14,FALSE))","v":""},null,null,{"$f":"IF(C89=\"\",\"\",VLOOKUP(B89,사원명부!$A$2:$Z$113,5,FALSE))","v":""}]
[null,"",{"$f":"IF(B90=\"\",\"\",VLOOKUP(B90,사원명부!$A$2:$Z$113,2,FALSE))","v":""},{"$f":"IF(C90=\"\",\"\",VLOOKUP(B90,사원명부!$A$2:$Z$113,8,FALSE))","v":""},{"$f":"IF(C90=\"\",\"\",VLOOKUP(B90,사원명부!$A$2:$Z$113,9,FALSE))","v":""},{"$f":"IF(C90=\"\",\"\",IF((VLOOKUP(B90,사원명부!$A$2:$Z$113,10))=\"\",\"\",VLOOKUP(B90,사원명부!$A$2:$Z$113,10)))","v":""},{"$f":"IF(C90=\"\",\"\",VLOOKUP(B90,사원명부!$A$2:$Z$113,13,FALSE)&\" \"&VLOOKUP(B90,사원명부!$A$2:$Z$113,14,FALSE))","v":""},null,null,{"$f":"IF(C90=\"\",\"\",VLOOKUP(B90,사원명부!$A$2:$Z$113,5,FALSE))","v":""}]
[null,"",{"$f":"IF(B91=\"\",\"\",VLOOKUP(B91,사원명부!$A$2:$Z$113,2,FALSE))","v":""},{"$f":"IF(C91=\"\",\"\",VLOOKUP(B91,사원명부!$A$2:$Z$113,8,FALSE))","v":""},{"$f":"IF(C91=\"\",\"\",VLOOKUP(B91,사원명부!$A$2:$Z$113,9,FALSE))","v":""},{"$f":"IF(C91=\"\",\"\",IF((VLOOKUP(B91,사원명부!$A$2:$Z$113,10))=\"\",\"\",VLOOKUP(B91,사원명부!$A$2:$Z$113,10)))","v":""},{"$f":"IF(C91=\"\",\"\",VLOOKUP(B91,사원명부!$A$2:$Z$113,13,FALSE)&\" \"&VLOOKUP(B91,사원명부!$A$2:$Z$113,14,FALSE))","v":""},null,null,{"$f":"IF(C91=\"\",\"\",VLOOKUP(B91,사원명부!$A$2:$Z$113,5,FALSE))","v":""}]
[null,"",{"$f":"IF(B92=\"\",\"\",VLOOKUP(B92,사원명부!$A$2:$Z$113,2,FALSE))","v":""},{"$f":"IF(C92=\"\",\"\",VLOOKUP(B92,사원명부!$A$2:$Z$113,8,FALSE))","v":""},{"$f":"IF(C92=\"\",\"\",VLOOKUP(B92,사원명부!$A$2:$Z$113,9,FALSE))","v":""},{"$f":"IF(C92=\"\",\"\",IF((VLOOKUP(B92,사원명부!$A$2:$Z$113,10))=\"\",\"\",VLOOKUP(B92,사원명부!$A$2:$Z$113,10)))","v":""},{"$f":"IF(C92=\"\",\"\",VLOOKUP(B92,사원명부!$A$2:$Z$113,13,FALSE)&\" \"&VLOOKUP(B92,사원명부!$A$2:$Z$113,14,FALSE))","v":""},null,null,{"$f":"IF(C92=\"\",\"\",VLOOKUP(B92,사원명부!$A$2:$Z$113,5,FALSE))","v":""}]
[null,"",{"$f":"IF(B93=\"\",\"\",VLOOKUP(B93,사원명부!$A$2:$Z$113,2,FALSE))","v":""},{"$f":"IF(C93=\"\",\"\",VLOOKUP(B93,사원명부!$A$2:$Z$113,8,FALSE))","v":""},{"$f":"IF(C93=\"\",\"\",VLOOKUP(B93,사원명부!$A$2:$Z$113,9,FALSE))","v":""},{"$f":"IF(C93=\"\",\"\",IF((VLOOKUP(B93,사원명부!$A$2:$Z$113,10))=\"\",\"\",VLOOKUP(B93,사원명부!$A$2:$Z$113,10)))","v":""},{"$f":"IF(C93=\"\",\"\",VLOOKUP(B93,사원명부!$A$2:$Z$113,13,FALSE)&\" \"&VLOOKUP(B93,사원명부!$A$2:$Z$113,14,FALSE))","v":""},null,null,{"$f":"IF(C93=\"\",\"\",VLOOKUP(B93,사원명부!$A$2:$Z$113,5,FALSE))","v":""}]
[null,"",{"$f":"IF(B94=\"\",\"\",VLOOKUP(B94,사원명부!$A$2:$Z$113,2,FALSE))","v":""},{"$f":"IF(C94=\"\",\"\",VLOOKUP(B94,사원명부!$A$2:$Z$113,8,FALSE))","v":""},{"$f":"IF(C94=\"\",\"\",VLOOKUP(B94,사원명부!$A$2:$Z$113,9,FALSE))","v":""},{"$f":"IF(C94=\"\",\"\",IF((VLOOKUP(B94,사원명부!$A$2:$Z$113,10))=\"\",\"\",VLOOKUP(B94,사원명부!$A$2:$Z$113,10)))","v":""},{"$f":"IF(C94=\"\",\"\",VLOOKUP(B94,사원명부!$A$2:$Z$113,13,FALSE)&\" \"&VLOOKUP(B94,사원명부!$A$2:$Z$113,14,FALSE))","v":""},null,null,{"$f":"IF(C94=\"\",\"\",VLOOKUP(B94,사원명부!$A$2:$Z$113,5,FALSE))","v":""}]
[null,"",{"$f":"IF(B95=\"\",\"\",VLOOKUP(B95,사원명부!$A$2:$Z$113,2,FALSE))","v":""},{"$f":"IF(C95=\"\",\"\",VLOOKUP(B95,사원명부!$A$2:$Z$113,8,FALSE))","v":""},{"$f":"IF(C95=\"\",\"\",VLOOKUP(B95,사원명부!$A$2:$Z$113,9,FALSE))","v":""},{"$f":"IF(C95=\"\",\"\",IF((VLOOKUP(B95,사원명부!$A$2:$Z$113,10))=\"\",\"\",VLOOKUP(B95,사원명부!$A$2:$Z$113,10)))","v":""},{"$f":"IF(C95=\"\",\"\",VLOOKUP(B95,사원명부!$A$2:$Z$113,13,FALSE)&\" \"&VLOOKUP(B95,사원명부!$A$2:$Z$113,14,FALSE))","v":""},null,null,{"$f":"IF(C95=\"\",\"\",VLOOKUP(B95,사원명부!$A$2:$Z$113,5,FALSE))","v":""}]
[null,"",{"$f":"IF(B96=\"\",\"\",VLOOKUP(B96,사원명부!$A$2:$Z$113,2,FALSE))","v":""},{"$f":"IF(C96=\"\",\"\",VLOOKUP(B96,사원명부!$A$2:$Z$113,8,FALSE))","v":""},{"$f":"IF(C96=\"\",\"\",VLOOKUP(B96,사원명부!$A$2:$Z$113,9,FALSE))","v":""},{"$f":"IF(C96=\"\",\"\",IF((VLOOKUP(B96,사원명부!$A$2:$Z$113,10))=\"\",\"\",VLOOKUP(B96,사원명부!$A$2:$Z$113,10)))","v":""},{"$f":"IF(C96=\"\",\"\",VLOOKUP(B96,사원명부!$A$2:$Z$113,13,FALSE)&\" \"&VLOOKUP(B96,사원명부!$A$2:$Z$113,14,FALSE))","v":""},null,null,{"$f":"IF(C96=\"\",\"\",VLOOKUP(B96,사원명부!$A$2:$Z$113,5,FALSE))","v":""}]
[null,"",{"$f":"IF(B97=\"\",\"\",VLOOKUP(B97,사원명부!$A$2:$Z$113,2,FALSE))","v":""},{"$f":"IF(C97=\"\",\"\",VLOOKUP(B97,사원명부!$A$2:$Z$113,8,FALSE))","v":""},{"$f":"IF(C97=\"\",\"\",VLOOKUP(B97,사원명부!$A$2:$Z$113,9,FALSE))","v":""},{"$f":"IF(C97=\"\",\"\",IF((VLOOKUP(B97,사원명부!$A$2:$Z$113,10))=\"\",\"\",VLOOKUP(B97,사원명부!$A$2:$Z$113,10)))","v":""},{"$f":"IF(C97=\"\",\"\",VLOOKUP(B97,사원명부!$A$2:$Z$113,13,FALSE)&\" \"&VLOOKUP(B97,사원명부!$A$2:$Z$113,14,FALSE))","v":""},null,null,{"$f":"IF(C97=\"\",\"\",VLOOKUP(B97,사원명부!$A$2:$Z$113,5,FALSE))","v":""}]
[null,"",{"$f":"IF(B98=\"\",\"\",VLOOKUP(B98,사원명부!$A$2:$Z$113,2,FALSE))","v":""},{"$f":"IF(C98=\"\",\"\",VLOOKUP(B98,사원명부!$A$2:$Z$113,8,FALSE))","v":""},{"$f":"IF(C98=\"\",\"\",VLOOKUP(B98,사원명부!$A$2:$Z$113,9,FALSE))","v":""},{"$f":"IF(C98=\"\",\"\",IF((VLOOKUP(B98,사원명부!$A$2:$Z$113,10))=\"\",\"\",VLOOKUP(B98,사원명부!$A$2:$Z$113,10)))","v":""},{"$f":"IF(C98=\"\",\"\",VLOOKUP(B98,사원명부!$A$2:$Z$113,13,FALSE)&\" \"&VLOOKUP(B98,사원명부!$A$2:$Z$113,14,FALSE))","v":""},null,null,{"$f":"IF(C98=\"\",\"\",VLOOKUP(B98,사원명부!$A$2:$Z$113,5,FALSE))","v":""}]
[null,"",{"$f":"IF(B99=\"\",\"\",VLOOKUP(B99,사원명부!$A$2:$Z$113,2,FALSE))","v":""},{"$f":"IF(C99=\"\",\"\",VLOOKUP(B99,사원명부!$A$2:$Z$113,8,FALSE))","v":""},{"$f":"IF(C99=\"\",\"\",VLOOKUP(B99,사원명부!$A$2:$Z$113,9,FALSE))","v":""},{"$f":"IF(C99=\"\",\"\",IF((VLOOKUP(B99,사원명부!$A$2:$Z$113,10))=\"\",\"\",VLOOKUP(B99,사원명부!$A$2:$Z$113,10)))","v":""},{"$f":"IF(C99=\"\",\"\",VLOOKUP(B99,사원명부!$A$2:$Z$113,13,FALSE)&\" \"&VLOOKUP(B99,사원명부!$A$2:$Z$113,14,FALSE))","v":""},null,null,{"$f":"IF(C99=\"\",\"\",VLOOKUP(B99,사원명부!$A$2:$Z$113,5,FALSE))","v":""}]
[null,"",{"$f":"IF(B100=\"\",\"\",VLOOKUP(B100,사원명부!$A$2:$Z$113,2,FALSE))","v":""},{"$f":"IF(C100=\"\",\"\",VLOOKUP(B100,사원명부!$A$2:$Z$113,8,FALSE))","v":""},{"$f":"IF(C100=\"\",\"\",VLOOKUP(B100,사원명부!$A$2:$Z$113,9,FALSE))","v":""},{"$f":"IF(C100=\"\",\"\",IF((VLOOKUP(B100,사원명부!$A$2:$Z$113,10))=\"\",\"\",VLOOKUP(B100,사원명부!$A$2:$Z$113,10)))","v":""},{"$f":"IF(C100=\"\",\"\",VLOOKUP(B100,사원명부!$A$2:$Z$113,13,FALSE)&\" \"&VLOOKUP(B100,사원명부!$A$2:$Z$113,14,FALSE))","v":""},null,null,{"$f":"IF(C100=\"\",\"\",VLOOKUP(B100,사원명부!$A$2:$Z$113,5,FALSE))","v":""}]
[null,"",{"$f":"IF(B101=\"\",\"\",VLOOKUP(B101,사원명부!$A$2:$Z$113,2,FALSE))","v":""},{"$f":"IF(C101=\"\",\"\",VLOOKUP(B101,사원명부!$A$2:$Z$113,8,FALSE))","v":""},{"$f":"IF(C101=\"\",\"\",VLOOKUP(B101,사원명부!$A$2:$Z$113,9,FALSE))","v":""},{"$f":"IF(C101=\"\",\"\",IF((VLOOKUP(B101,사원명부!$A$2:$Z$113,10))=\"\",\"\",VLOOKUP(B101,사원명부!$A$2:$Z$113,10)))","v":""},{"$f":"IF(C101=\"\",\"\",VLOOKUP(B101,사원명부!$A$2:$Z$113,13,FALSE)&\" \"&VLOOKUP(B101,사원명부!$A$2:$Z$113,14,FALSE))","v":""},null,null,{"$f":"IF(C101=\"\",\"\",VLOOKUP(B101,사원명부!$A$2:$Z$113,5,FALSE))","v":""}]
[null,"",{"$f":"IF(B102=\"\",\"\",VLOOKUP(B102,사원명부!$A$2:$Z$113,2,FALSE))","v":""},{"$f":"IF(C102=\"\",\"\",VLOOKUP(B102,사원명부!$A$2:$Z$113,8,FALSE))","v":""},{"$f":"IF(C102=\"\",\"\",VLOOKUP(B102,사원명부!$A$2:$Z$113,9,FALSE))","v":""},{"$f":"IF(C102=\"\",\"\",IF((VLOOKUP(B102,사원명부!$A$2:$Z$113,10))=\"\",\"\",VLOOKUP(B102,사원명부!$A$2:$Z$113,10)))","v":""},{"$f":"IF(C102=\"\",\"\",VLOOKUP(B102,사원명부!$A$2:$Z$113,13,FALSE)&\" \"&VLOOKUP(B102,사원명부!$A$2:$Z$113,14,FALSE))","v":""},null,null,{"$f":"IF(C102=\"\",\"\",VLOOKUP(B102,사원명부!$A$2:$Z$113,5,FALSE))","v":""}]
[null,null,{"$f":"IF(B103=\"\",\"\",VLOOKUP(B103,사원명부!$A$2:$Z$113,2,FALSE))","v":""},{"$f":"IF(C103=\"\",\"\",VLOOKUP(B103,사원명부!$A$2:$Z$113,8,FALSE))","v":""},{"$f":"IF(C103=\"\",\"\",VLOOKUP(B103,사원명부!$A$2:$Z$113,9,FALSE))","v":""},{"$f":"IF(C103=\"\",\"\",IF((VLOOKUP(B103,사원명부!$A$2:$Z$113,10))=\"\",\"\",VLOOKUP(B103,사원명부!$A$2:$Z$113,10)))","v":""},{"$f":"IF(C103=\"\",\"\",VLOOKUP(B103,사원명부!$A$2:$Z$113,13,FALSE)&\" \"&VLOOKUP(B103,사원명부!$A$2:$Z$113,14,FALSE))","v":""},null,null,{"$f":"IF(C103=\"\",\"\",VLOOKUP(B103,사원명부!$A$2:$Z$113,5,FALSE))","v":""}]
[null,null,{"$f":"IF(B104=\"\",\"\",VLOOKUP(B104,사원명부!$A$2:$Z$113,2,FALSE))","v":""},{"$f":"IF(C104=\"\",\"\",VLOOKUP(B104,사원명부!$A$2:$Z$113,8,FALSE))","v":""},{"$f":"IF(C104=\"\",\"\",VLOOKUP(B104,사원명부!$A$2:$Z$113,9,FALSE))","v":""},{"$f":"IF(C104=\"\",\"\",IF((VLOOKUP(B104,사원명부!$A$2:$Z$113,10))=\"\",\"\",VLOOKUP(B104,사원명부!$A$2:$Z$113,10)))","v":""},{"$f":"IF(C104=\"\",\"\",VLOOKUP(B104,사원명부!$A$2:$Z$113,13,FALSE)&\" \"&VLOOKUP(B104,사원명부!$A$2:$Z$113,14,FALSE))","v":""},null,null,{"$f":"IF(C104=\"\",\"\",VLOOKUP(B104,사원명부!$A$2:$Z$113,5,FALSE))","v":""}]
[null,null,{"$f":"IF(B105=\"\",\"\",VLOOKUP(B105,사원명부!$A$2:$Z$113,2,FALSE))","v":""},{"$f":"IF(C105=\"\",\"\",VLOOKUP(B105,사원명부!$A$2:$Z$113,8,FALSE))","v":""},{"$f":"IF(C105=\"\",\"\",VLOOKUP(B105,사원명부!$A$2:$Z$113,9,FALSE))","v":""},{"$f":"IF(C105=\"\",\"\",IF((VLOOKUP(B105,사원명부!$A$2:$Z$113,10))=\"\",\"\",VLOOKUP(B105,사원명부!$A$2:$Z$113,10)))","v":""},{"$f":"IF(C105=\"\",\"\",VLOOKUP(B105,사원명부!$A$2:$Z$113,13,FALSE)&\" \"&VLOOKUP(B105,사원명부!$A$2:$Z$113,14,FALSE))","v":""},null,null,{"$f":"IF(C105=\"\",\"\",VLOOKUP(B105,사원명부!$A$2:$Z$113,5,FALSE))","v":""}]
[null,null,{"$f":"IF(B106=\"\",\"\",VLOOKUP(B106,사원명부!$A$2:$Z$113,2,FALSE))","v":""},{"$f":"IF(C106=\"\",\"\",VLOOKUP(B106,사원명부!$A$2:$Z$113,8,FALSE))","v":""},{"$f":"IF(C106=\"\",\"\",VLOOKUP(B106,사원명부!$A$2:$Z$113,9,FALSE))","v":""},{"$f":"IF(C106=\"\",\"\",IF((VLOOKUP(B106,사원명부!$A$2:$Z$113,10))=\"\",\"\",VLOOKUP(B106,사원명부!$A$2:$Z$113,10)))","v":""},{"$f":"IF(C106=\"\",\"\",VLOOKUP(B106,사원명부!$A$2:$Z$113,13,FALSE)&\" \"&VLOOKUP(B106,사원명부!$A$2:$Z$113,14,FALSE))","v":""},null,null,{"$f":"IF(C106=\"\",\"\",VLOOKUP(B106,사원명부!$A$2:$Z$113,5,FALSE))","v":""}]
[null,null,{"$f":"IF(B107=\"\",\"\",VLOOKUP(B107,사원명부!$A$2:$Z$113,2,FALSE))","v":""},{"$f":"IF(C107=\"\",\"\",VLOOKUP(B107,사원명부!$A$2:$Z$113,8,FALSE))","v":""},{"$f":"IF(C107=\"\",\"\",VLOOKUP(B107,사원명부!$A$2:$Z$113,9,FALSE))","v":""},{"$f":"IF(C107=\"\",\"\",IF((VLOOKUP(B107,사원명부!$A$2:$Z$113,10))=\"\",\"\",VLOOKUP(B107,사원명부!$A$2:$Z$113,10)))","v":""},{"$f":"IF(C107=\"\",\"\",VLOOKUP(B107,사원명부!$A$2:$Z$113,13,FALSE)&\" \"&VLOOKUP(B107,사원명부!$A$2:$Z$113,14,FALSE))","v":""},null,null,{"$f":"IF(C107=\"\",\"\",VLOOKUP(B107,사원명부!$A$2:$Z$113,5,FALSE))","v":""}]
[null,null,{"$f":"IF(B108=\"\",\"\",VLOOKUP(B108,사원명부!$A$2:$Z$113,2,FALSE))","v":""},{"$f":"IF(C108=\"\",\"\",VLOOKUP(B108,사원명부!$A$2:$Z$113,8,FALSE))","v":""},{"$f":"IF(C108=\"\",\"\",VLOOKUP(B108,사원명부!$A$2:$Z$113,9,FALSE))","v":""},{"$f":"IF(C108=\"\",\"\",IF((VLOOKUP(B108,사원명부!$A$2:$Z$113,10))=\"\",\"\",VLOOKUP(B108,사원명부!$A$2:$Z$113,10)))","v":""},{"$f":"IF(C108=\"\",\"\",VLOOKUP(B108,사원명부!$A$2:$Z$113,13,FALSE)&\" \"&VLOOKUP(B108,사원명부!$A$2:$Z$113,14,FALSE))","v":""},null,null,{"$f":"IF(C108=\"\",\"\",VLOOKUP(B108,사원명부!$A$2:$Z$113,5,FALSE))","v":""}]

{"sheet":"업무분장","index":44,"n_rows":5,"n_cols":10,"rows_kept":5,"cut":false,"hidden":true,"merged":[]}
[]
[null,{"$f":"업무분장내역!D4","v":"소속"}]
[null,{"$f":"업무분장표!B3","v":"조제실"}]
[]
[null,{"$f":"업무분장내역!B4","v":"사원번호"},{"$f":"업무분장내역!C4","v":"이름"},{"$f":"업무분장내역!D4","v":"소속"},{"$f":"업무분장내역!E4","v":"직책"},{"$f":"업무분장내역!F4","v":"자격"},{"$f":"업무분장내역!G4","v":"업무내용"},{"$f":"업무분장내역!H4","v":"비고"},null,"성별"]

{"sheet":"업무분장표","index":45,"n_rows":24,"n_cols":11,"rows_kept":24,"cut":false,"hidden":false,"merged":[[4,1,6,7]]}
[]
[null,"부서명",null,null,"업무분장내역에서 새로 고침을 하여"]
[null,"조제실",null,null,"분장표를 작성하세요"]
[]
[null,{"$f":"요양기관기초정보!D1&\" 부서별 업무분장표\"","v":"팜오피스약국 부서별 업무분장표"}]
[]
[null,null,null,null,null,null,null,null,null,null,{"$f":"IFBLANK(요양기관기초정보!B26)","v":"관리부"}]
[null,"◆부 서 명 :",{"$f":"B3","v":"조제실"},null,null,null,null,null,null,null,{"$f":"IFBLANK(요양기관기초정보!B27)","v":"판매부"}]
[null,{"$f":"업무분장내역!B4","v":"사원번호"},{"$f":"업무분장내역!C4","v":"이름"},{"$f":"업무분장내역!D4","v":"소속"},{"$f":"업무분장내역!E4","v":"직책"},{"$f":"업무분장내역!F4","v":"자격"},{"$f":"업무분장내역!G4","v":"업무내용"},{"$f":"업무분장내역!H4","v":"비고"},null,null,{"$f":"IFBLANK(요양기관기초정보!B28)","v":"조제실"}]
[null,{"$f":"업무분장!B6","v":0},{"$f":"업무분장!C6","v":0},{"$f":"업무분장!D6","v":0},{"$f":"업무분장!E6","v":0},{"$f":"업무분장!F6","v":0},{"$f":"업무분장!G6","v":0},{"$f":"업무분장!H6","v":0},null,null,{"$f":"IFBLANK(요양기관기초정보!B29)","v":""}]
[null,{"$f":"업무분장!B7","v":0},{"$f":"업무분장!C7","v":0},{"$f":"업무분장!D7","v":0},{"$f":"업무분장!E7","v":0},{"$f":"업무분장!F7","v":0},{"$f":"업무분장!G7","v":0},{"$f":"업무분장!H7","v":0},null,null,{"$f":"IFBLANK(요양기관기초정보!B30)","v":""}]
[null,{"$f":"업무분장!B8","v":0},{"$f":"업무분장!C8","v":0},{"$f":"업무분장!D8","v":0},{"$f":"업무분장!E8","v":0},{"$f":"업무분장!F8","v":0},{"$f":"업무분장!G8","v":0},{"$f":"업무분장!H8","v":0},null,null,{"$f":"IFBLANK(요양기관기초정보!B31)","v":""}]
[null,{"$f":"업무분장!B9","v":0},{"$f":"업무분장!C9","v":0},{"$f":"업무분장!D9","v":0},{"$f":"업무분장!E9","v":0},{"$f":"업무분장!F9","v":0},{"$f":"업무분장!G9","v":0},{"$f":"업무분장!H9","v":0},null,null,{"$f":"IFBLANK(요양기관기초정보!B32)","v":""}]
[null,{"$f":"업무분장!B10","v":0},{"$f":"업무분장!C10","v":0},{"$f":"업무분장!D10","v":0},{"$f":"업무분장!E10","v":0},{"$f":"업무분장!F10","v":0},{"$f":"업무분장!G10","v":0},{"$f":"업무분장!H10","v":0}]
[null,{"$f":"업무분장!B11","v":0},{"$f":"업무분장!C11","v":0},{"$f":"업무분장!D11","v":0},{"$f":"업무분장!E11","v":0},{"$f":"업무분장!F11","v":0},{"$f":"업무분장!G11","v":0},{"$f":"업무분장!H11","v":0}]
[null,{"$f":"업무분장!B12","v":0},{"$f":"업무분장!C12","v":0},{"$f":"업무분장!D12","v":0},{"$f":"업무분장!E12","v":0},{"$f":"업무분장!F12","v":0},{"$f":"업무분장!G12","v":0},{"$f":"업무분장!H12","v":0}]
[null,{"$f":"업무분장!B13","v":0},{"$f":"업무분장!C13","v":0},{"$f":"업무분장!D13","v":0},{"$f":"업무분장!E13","v":0},{"$f":"업무분장!F13","v":0},{"$f":"업무분장!G13","v":0},{"$f":"업무분장!H13","v":0}]
[null,{"$f":"업무분장!B14","v":0},{"$f":"업무분장!C14","v":0},{"$f":"업무분장!D14","v":0},{"$f":"업무분장!E14","v":0},{"$f":"업무분장!F14","v":0},{"$f":"업무분장!G14","v":0},{"$f":"업무분장!H14","v":0}]
[null,{"$f":"업무분장!B15","v":0},{"$f":"업무분장!C15","v":0},{"$f":"업무분장!D15","v":0},{"$f":"업무분장!E15","v":0},{"$f":"업무분장!F15","v":0},{"$f":"업무분장!G15","v":0},{"$f":"업무분장!H15","v":0}]
[null,{"$f":"업무분장!B16","v":0},{"$f":"업무분장!C16","v":0},{"$f":"업무분장!D16","v":0},{"$f":"업무분장!E16","v":0},{"$f":"업무분장!F16","v":0},{"$f":"업무분장!G16","v":0},{"$f":"업무분장!H16","v":0}]
[null,{"$f":"업무분장!B17","v":0},{"$f":"업무분장!C17","v":0},{"$f":"업무분장!D17","v":0},{"$f":"업무분장!E17","v":0},{"$f":"업무분장!F17","v":0},{"$f":"업무분장!G17","v":0},{"$f":"업무분장!H17","v":0}]
[null,{"$f":"업무분장!B18","v":0},{"$f":"업무분장!C18","v":0},{"$f":"업무분장!D18","v":0},{"$f":"업무분장!E18","v":0},{"$f":"업무분장!F18","v":0},{"$f":"업무분장!G18","v":0},{"$f":"업무분장!H18","v":0}]
[null,{"$f":"업무분장!B19","v":0},{"$f":"업무분장!C19","v":0},{"$f":"업무분장!D19","v":0},{"$f":"업무분장!E19","v":0},{"$f":"업무분장!F19","v":0},{"$f":"업무분장!G19","v":0},{"$f":"업무분장!H19","v":0}]
[null,{"$f":"업무분장!B20","v":0},{"$f":"업무분장!C20","v":0},{"$f":"업무분장!D20","v":0},{"$f":"업무분장!E20","v":0},{"$f":"업무분장!F20","v":0},{"$f":"업무분장!G20","v":0},{"$f":"업무분장!H20","v":0}]

{"sheet":"근로계약서상세","index":46,"n_rows":121,"n_cols":56,"rows_kept":121,"cut":false,"hidden":false,"merged":[[1,11,2,33],[2,35,2,36],[2,37,2,39],[3,35,3,36],[3,37,3,39],[5,51,6,52],[5,53,6,54],[6,11,6,33],[4,35,4,36],[4,37,4,39],[5,37,6,39],[5,43,6,44],[5,45,6,46],[5,47,6,48],[5,35,6,36],[14,35,14,36],[14,37,14,38],[14,49,15,50],[14,51,15,52],[14,53,15,54],[15,37,15,38],[5,49,6,50],[12,35,12,36],[12,37,12,38],[8,35,8,36],[8,37,8,38],[8,43,9,48],[8,49,9,50],[8,51,9,52],[8,53,9,54],[9,35,9,36],[15,35,15,36],[0,37,0,38],[1,37,1,38],[26,43,26,54],[12,24,12,26],[13,35,13,36],[13,37,13,38],[9,37,9,38],[10,35,10,36],[10,37,10,38],[11,35,11,36],[11,37,11,38],[25,43,25,54],[12,43,13,46],[12,47,13,54],[20,43,21,46],[14,43,15,46],[16,43,17,46],[16,47,17,54],[14,47,15,48],[19,35,19,36],[19,37,19,38],[20,37,20,38],[22,35,22,36],[18,47,19,50],[16,35,16,36],[18,43,19,46],[16,37,16,38],[17,35,17,36],[17,37,17,38],[18,35,18,36],[18,37,18,38],[21,35,21,36],[21,37,21,38],[31,37,31,38],[34,35,34,36],[40,37,40,38],[41,35,41,36],[41,37,41,38],[25,37,25,38],[26,35,26,36],[26,37,26,38],[25,35,25,36],[36,35,36,36],[36,37,36,38],[31,35,31,36],[27,35,27,36],[27,37,27,38],[42,35,42,36],[42,37,42,38],[37,35,37,36],[37,37,37,38],[38,35,38,36],[38,37,38,38],[39,35,39,36],[39,37,39,38],[40,35,40,36],[46,37,46,38],[47,35,47,36],[47,37,47,38],[48,35,48,36],[48,37,48,38],[43,35,43,36],[43,37,43,38],[44,35,44,36],[44,37,44,38],[45,35,45,36],[45,37,45,38],[46,35,46,36],[66,35,66,36],[66,37,66,38],[61,35,61,36],[52,37,52,38],[53,35,53,36],[53,37,53,38],[54,35,54,36],[54,37,54,38],[49,35,49,36],[49,37,49,38],[50,35,50,36],[50,37,50,38],[51,35,51,36],[51,37,51,38],[52,35,52,36],[57,35,57,36],[57,37,57,38],[58,35,58,36],[58,37,58,38],[59,35,59,36],[64,35,64,36],[64,37,64,38],[65,35,65,36],[65,37,65,38],[73,35,73,36],[73,37,73,38],[74,35,74,36],[74,37,74,38],[75,35,75,36],[75,37,75,38],[76,35,76,36],[70,37,70,38],[71,35,71,36],[71,37,71,38],[72,35,72,36],[72,37,72,38],[79,35,79,36],[79,37,79,38],[80,35,80,36],[80,37,80,38],[81,35,81,36],[81,37,81,38],[82,35,82,36],[76,37,76,38],[77,35,77,36],[77,37,77,38],[78,35,78,36],[78,37,78,38],[85,35,85,36],[85,37,85,38],[86,35,86,36],[86,37,86,38],[87,35,87,36],[87,37,87,38],[88,35,88,36],[82,37,82,38],[83,35,83,36],[83,37,83,38],[84,35,84,36],[84,37,84,38],[91,37,91,38],[92,35,92,36],[92,37,92,38],[93,35,93,36],[93,37,93,38],[88,37,88,38],[89,35,89,36],[89,37,89,38],[90,35,90,36],[90,37,90,38],[119,35,119,36],[119,37,119,38],[120,35,120,36],[120,37,120,38],[115,35,115,36],[115,37,115,38],[116,35,116,36],[116,37,116,38],[117,35,117,36],[117,37,117,38],[118,37,118,38],[118,35,118,36],[94,35,94,36],[99,37,99,38],[94,37,94,38],[70,35,70,36],[114,37,114,38],[109,35,109,36],[109,37,109,38],[110,35,110,36],[110,37,110,38],[111,35,111,36],[111,37,111,38],[106,37,106,38],[107,35,107,36],[107,37,107,38],[108,35,108,36],[108,37,108,38],[112,35,112,36],[112,37,112,38],[114,35,114,36],[95,35,95,36],[95,37,95,38],[96,35,96,36],[96,37,96,38],[91,35,91,36],[46,0,46,9],[13,0,13,4],[15,0,15,9],[5,4,5,5],[6,4,6,5],[113,35,113,36],[113,37,113,38],[103,35,103,36],[103,37,103,38],[104,35,104,36],[104,37,104,38],[105,35,105,36],[105,37,105,38],[100,37,100,38],[101,35,101,36],[101,37,101,38],[102,35,102,36],[102,37,102,38],[97,35,97,36],[97,37,97,38],[98,35,98,36],[98,37,98,38],[106,35,106,36],[100,35,100,36],[26,2,26,9],[25,0,25,9],[31,0,31,9],[33,0,33,9],[34,0,34,1],[30,0,30,9],[99,35,99,36],[1,0,2,9],[5,0,7,1],[5,2,5,3],[6,2,6,3],[7,2,7,3],[65,0,65,9],[67,0,67,1],[69,0,69,9],[71,5,71,6],[58,0,58,9],[59,0,59,9],[60,0,60,9],[63,0,63,9],[64,0,64,9],[47,0,47,9],[50,0,50,9],[51,0,51,9],[14,0,14,9],[18,0,18,9],[6,6,6,7],[6,8,6,9],[17,0,17,9],[23,0,23,1],[23,2,23,9],[20,0,20,9],[22,0,22,9],[19,0,19,9],[21,0,21,9],[10,4,10,9],[75,7,75,8],[4,0,4,9],[73,7,73,8],[5,6,5,7],[5,8,5,9],[11,4,11,9],[8,0,11,1],[10,2,10,3],[7,4,7,9],[8,4,8,5],[8,6,8,7],[8,8,8,9],[9,4,9,5],[9,6,9,7],[9,8,9,9],[11,2,11,3],[8,2,8,3],[9,2,9,3],[40,0,40,9],[41,0,41,9],[27,0,27,9],[28,0,28,5],[74,0,74,9],[16,0,16,9],[71,11,72,33],[62,11,62,33],[63,11,63,33],[35,8,35,9],[36,8,36,9],[44,0,44,9],[45,0,45,9],[48,0,48,9],[49,0,49,9],[38,0,38,9],[42,0,42,9],[35,2,35,3],[36,2,36,3],[35,4,35,5],[55,0,55,9],[57,0,57,2],[37,0,37,9],[52,0,52,9],[35,0,35,1],[39,0,39,9],[35,12,35,32],[36,12,36,32],[36,0,36,1],[36,4,36,5],[63,37,63,38],[67,35,67,36],[67,37,67,38],[68,35,68,36],[68,37,68,38],[60,11,60,33],[53,0,53,9],[62,0,62,9],[68,0,68,9],[64,11,69,32],[69,35,69,36],[69,37,69,38],[61,37,61,38],[62,35,62,36],[62,37,62,38],[63,35,63,36],[54,0,54,9],[59,37,59,38],[60,35,60,36],[60,37,60,38],[55,35,55,36],[55,37,55,38],[56,35,56,36],[56,37,56,38],[18,55,19,62],[20,47,21,48],[20,49,21,50],[20,51,21,52],[20,53,21,54],[22,43,23,46],[22,47,23,54],[24,0,24,1],[24,2,24,9],[19,17,19,21],[20,35,20,36],[22,55,23,62],[22,37,22,38],[23,35,23,36],[23,37,23,38],[24,35,24,36],[24,37,24,38],[35,6,35,7],[36,6,36,7],[29,0,29,9],[32,0,32,9],[18,51,19,54],[34,4,34,5],[32,35,32,36],[32,37,32,38],[33,35,33,36],[33,37,33,38],[27,49,27,53],[28,35,28,36],[28,37,28,38],[29,35,29,36],[29,37,29,38],[30,35,30,36],[30,37,30,38],[34,37,34,38],[35,35,35,36],[35,37,35,38],[34,2,34,3],[34,6,34,7],[34,8,34,9],[26,0,26,1]]}
[null,null,null,null,null,null,null,null,null,null,null,null,null,null,null,null,null,null,null,null,null,null,null,null,null,null,null,null,null,null,null,null,null,null,null,null,null,"인쇄부수"]
["근 로 계 약 서",null,null,null,null,null,null,null,null,null,null,"근 로 계 약 서",null,null,null,null,null,null,null,null,null,null,null,null,null,null,null,null,null,null,null,null,null,null,null,null,null,2]
[null,null,null,null,null,null,null,null,null,null,null,null,null,null,null,null,null,null,null,null,null,null,null,null,null,null,null,null,null,null,null,null,null,null,null,"사원번호",null,2]
[null,null,null,null,null,null,null,null,null,null,null,null,null,null,null,null,null,null,null,null,null,null,null,null,null,null,null,null,null,null,null,null,null,null,null,"이    름",null,{"$f":"IFERROR(IF(AL3=\"\",\"\",VLOOKUP(AL3,사원명부!A2:B100,2,FALSE)),\"없어요\")","v":"테스트2"}]
["1. 【근로계약의 당사자】",null,null,null,null,null,null,null,null,null,null,{"$f":"IFBLANK(요양기관기초정보!D1)&\"(이하 “갑”이라 한다)\"&IFERROR(Josa1(요양기관기초정보!D1,4),\"과\")&\"  \"&IFBLANK(AL4)&\"(이하 “을”이라 한다)\"&IFERROR(Josa1(AL4,1),\"은(는)\")&\" 아래과 같은 근로계약을  체결하고 \"","v":"팜오피스약국(이하 “갑”이라 한다)과  테스트2(이하 “을”이라 한다)은 아래과 같은 근로계약을  체결하고 "},null,null,null,null,null,null,null,null,null,null,null,null,null,null,null,null,null,null,null,null,null,null,null,"근로자수",null,{"$f":"IFBLANK(업무분장내역!M8)","v":1},null,null,null,null,null,"기간의 정함이 있는 경우(기간제)에만 종료일 기록"]
["   사 용 자",null,"업 체 명",null,{"$f":"IFBLANK(요양기관기초정보!D1)","v":"팜오피스약국"},null,"연 락 처",null,{"$f":"IFBLANK(요양기관기초정보!C12)","v":"02-324-4650"},null,null,"상호 성실히 이행할 것을 약정한다.",null,null,null,null,null,null,null,null,null,null,null,null,null,null,null,null,null,null,null,null,null,null,null,"계약년도",null,2021,null,null,null,null,null,"계약월일",null,5,null,20,null,"종료월일",null,8,null,19]
[null,null,"대 표 자",null,{"$f":"IFBLANK(요양기관기초정보!C6)","v":"홍길동"},null,"주민등록번호",null,{"$f":"IFBLANK(요양기관기초정보!C7)","v":"680623-1234567"},null,null,"==  아   래  =="]
[null,null,"소 재 지",null,{"$f":"\"      \"&IFBLANK(요양기관기초정보!C11)","v":"      서울 서대문구 연세로 41 (창천동 78-14)"}]
["  근 로 자",null,"성     명",null,{"$f":"IFBLANK(AL4)","v":"테스트2"},null,"주민등록번호",null,{"$f":"IF(AL3=\"없어요\",\"\",VLOOKUP(AL3,사원명부!$A$2:$AB$150,4))","v":"680623-1******"},null,null,{"$f":"\"제1조 【계약기간】   \"&AL6&\"년\"&AT6&\"월 \"&AV6&\"일부터 ～ \"&IF(AZ6=\"\",\"\",AL6&\"년\"&AZ6&\"월\"&BB6&\"일까지 \")","v":"제1조 【계약기간】   2021년5월 20일부터 ～ 2021년8월19일까지 "},null,null,null,null,null,null,null,null,null,null,null,null,null,null,null,null,null,null,null,null,null,null,null,1,null,{"$f":"IFBLANK(사원명부!B3)","v":"테스트1"},null,null,null,null,null,"계약서 작성일",null,null,null,null,null,2021,null,5,null,20]
[null,null,"전화번호",null,{"$f":"IF(AL3=\"없어요\",\"\",VLOOKUP(AL3,사원명부!$A$2:$AB$150,6))","v":"010-2345-6789"},null,"근 무 지",null,{"$f":"IFBLANK(E6)","v":"팜오피스약국"},null,null,"제2조 【근로시간 및 휴게시간】",null,null,null,null,null,null,null,null,null,null,null,null,null,null,null,null,null,null,null,null,null,null,null,2,null,{"$f":"IFBLANK(사원명부!B4)","v":"테스트2"}]
[null,null,"주      소",null,{"$f":"\"      \"&IF(AL3=\"없어요\",\"\",VLOOKUP(AL3,사원명부!$A$2:$AB$150,7))","v":"      서울시 서대문구연세로 41"},null,null,null,null,null,null,"        ① 근무시간",null,null,null,null,null,null,null,null,null,null,null,null,null,null,null,null,null,null,null,null,null,null,null,3,null,{"$f":"IFBLANK(사원명부!B5)","v":""}]
[null,null,"업      무",null,{"$f":"\"      \"&IF(AL3=\"없어요\",\"\",VLOOKUP(AL3,사원명부!$A$2:$AB$150,8))&IF(AL3=\"없어요\",\"\",VLOOKUP(AL3,사원명부!$A$2:$AB$150,9))&\"  \"&IF(AL3=\"없어요\",\"\",VLOOKUP(AL3,사원명부!$A$2:$AB$150,13))","v":"      조제실실장  조제실관리"},null,null,null,null,null,null,"         - 평   일 : ",null,null,null,null,null,{"$f":"IF($AL$3=\"\",\"\",LEFT(VLOOKUP($AL$3,사원명부!$A$2:$AB$150,17),2))","v":"09"},":",{"$f":"IF($AL$3=\"\",\"\",RIGHT(VLOOKUP($AL$3,사원명부!$A$2:$AB$150,17),2))","v":"00"},"~",{"$f":"IF($AL$3=\"\",\"\",LEFT(VLOOKUP($AL$3,사원명부!$A$2:$AB$150,18),2))","v":"18"},":",{"$f":"IF($AL$3=\"\",\"\",RIGHT(VLOOKUP($AL$3,사원명부!$A$2:$AB$150,18),2))","v":"00"},null,null,null,null,null,null,null,null,null,null,null,4,null,{"$f":"IFBLANK(사원명부!B6)","v":""}]
[null,null,null,null,null,null,null,null,null,null,null,"         - 토요일 :",null,null,null,null,null,{"$f":"IF($AL$3=\"\",\"\",LEFT(VLOOKUP($AL$3,사원명부!$A$2:$AB$150,19),2))","v":"09"},":",{"$f":"IF($AL$3=\"\",\"\",RIGHT(VLOOKUP($AL$3,사원명부!$A$2:$AB$150,19),2))","v":"00"},"~",{"$f":"IF($AL$3=\"\",\"\",LEFT(VLOOKUP($AL$3,사원명부!$A$2:$AB$150,20),2))","v":"13"},":",{"$f":"IF($AL$3=\"\",\"\",RIGHT(VLOOKUP($AL$3,사원명부!$A$2:$AB$150,20),2))","v":"00"},null,null,null,null,null,null,null,null,null,null,null,5,null,{"$f":"IFBLANK(사원명부!B7)","v":""},null,null,null,null,null,"급여일",null,null,null,"매월 마지막날의 전날"]
["2. 【근로계약기간】",null,null,null,null,null,null,null,null,null,null,"        ② 휴게시간  :  ",null,null,null,null,null,"12",":","00","~","14",":","00","의 시간중 계속된 1시간",null,null,null,null,null,null,null,null,null,null,6,null,{"$f":"IFBLANK(사원명부!B8)","v":""}]
[{"$f":"IFERROR(\"(1) 입사일 : \"&IF($AL$3=\"\",\"\",YEAR(VLOOKUP($AL$3,사원명부!$A$2:$AB$150,11))&\"년\"&MONTH(VLOOKUP($AL$3,사원명부!$A$2:$AB$150,11))&\"월\"&DAY(VLOOKUP($AL$3,사원명부!$A$2:$AB$150,11))&\"일\"),\"(1) 입사일 : \")","v":"(1) 입사일 : 2021년1월1일"},null,null,null,null,null,null,null,null,null,null,"        ③ 평일 근무시간은 \"갑\"과 \"을\"의 협의하에 조정할수 있다",null,null,null,null,null,null,null,null,null,null,null,null,null,null,null,null,null,null,null,null,null,null,null,7,null,{"$f":"IFBLANK(사원명부!B9)","v":""},null,null,null,null,null,"임금산정기간",null,null,null,"당월",null,1,null,"당월",null,"말일"]
["(2) 근로계약기간 : 매년 12월 30일(휴일의경우 전일) 다음해의 근로 계약을 갱신하기로 한다.",null,null,null,null,null,null,null,null,null,null,"제3조 【취업업무】 ",null,null,null,null,null,null,null,null,null,null,null,null,null,null,null,null,null,null,null,null,null,null,null,8,null,{"$f":"IFBLANK(사원명부!B10)","v":""}]
["     따로 계약을 갱신하지 않은 경우 전년도 계약과 같은 조건으로 갱신된것으로 한다.",null,null,null,null,null,null,null,null,null,null,"        ① 취업업무 :",null,null,null,null,null,{"$f":"IF($AL$3=\"\",\"\",VLOOKUP($AL$3,사원명부!$A$2:$AB$150,13)&\"  \"&VLOOKUP($AL$3,사원명부!$A$2:$AB$150,14))","v":"조제실관리  고객조회"},null,null,null,null,null,null,null,null,null,null,null,null,null,null,null,null,null,9,null,{"$f":"IFBLANK(사원명부!B11)","v":""},null,null,null,null,null,"급여지급방법",null,null,null,"근로자의 계좌로 입금"]
[{"$f":"\"     \" &AL6&\"년 \"&AT6&\"월 \"&AV6&\"일부터 ～ \"&IF(AZ6=\"\",\"\",AL6&\"년\"&AZ6&\"월\"&BB6&\"일까지 \")","v":"     2021년 5월 20일부터 ～ 2021년8월19일까지 "},null,null,null,null,null,null,null,null,null,null,"        ② 취업장소 : ",null,null,null,null,null,{"$f":"IFBLANK(요양기관기초정보!D1)","v":"팜오피스약국"},null,null,null,null,null,null,null,null,null,null,null,null,null,null,null,null,null,10,null,{"$f":"IFBLANK(사원명부!B12)","v":""}]
["(3) 수습기간 : 신입사원은 입사 후 3개월 간의 수습기간을 두며, 수습기간 중에 직원으로서 근무",null,null,null,null,null,null,null,null,null,null,"제4조 【보  수】",null,null,null,null,null,null,null,null,null,null,null,null,null,null,null,null,null,null,null,null,null,null,null,11,null,{"$f":"IFBLANK(사원명부!B13)","v":""},null,null,null,null,null,"식대",null,null,null,"월 15만원",null,null,null,"선지급",null,null,null,"식대 선지급 "]
["     태도불량 등 계속근무가 부적격하다고 판단될 때에는 즉시 계약을 해지할 수 있다",null,null,null,null,null,null,null,null,null,null,"        ① 급여 월급 :",null,null,null,null,null,{"$f":"IF($AL$3=\"\",\"\",IF(VLOOKUP($AL$3,사원명부!$A$2:$AB$150,22)=\"\",\"\",VLOOKUP($AL$3,사원명부!$A$2:$AB$150,22)))","v":""},null,null,null,null,null,{"$f":"IF(사원명부!X3=\"\",\"\",사원명부!X3&\"기준\")","v":""},null,null,null,null,null,null,null,null,null,null,null,12,null,{"$f":"IFBLANK(사원명부!B14)","v":""}]
[null,null,null,null,null,null,null,null,null,null,null,{"$f":"\"        ② 급여일은 매월 \"&IFBLANK(AV13)&\"(휴일인 경우 전일)로 하고 \"&IFBLANK(AV17)&\"한다.\"","v":"        ② 급여일은 매월 매월 마지막날의 전날(휴일인 경우 전일)로 하고 근로자의 계좌로 입금한다."},null,null,null,null,null,null,null,null,null,null,null,null,null,null,null,null,null,null,null,null,null,null,null,13,null,{"$f":"IFBLANK(사원명부!B15)","v":""},null,null,null,null,null,"상여금 지급시기",null,null,null,"설날",null,"하계휴가",null,"추석"]
["3. 【근로시간, 휴게시간, 주휴일】",null,null,null,null,null,null,null,null,null,null,{"$f":"\"           ( 임금산정기간은 \"&IFBLANK(AV15)&IFBLANK(AX15)&\"일부터 \"&IFBLANK(AZ15)&IFBLANK(BB15)&\"까지)\"","v":"           ( 임금산정기간은 당월1일부터 당월말일까지)"},null,null,null,null,null,null,null,null,null,null,null,null,null,null,null,null,null,null,null,null,null,null,null,14,null,{"$f":"IFBLANK(사원명부!B16)","v":""}]
["(1) 근로시간",null,null,null,null,null,null,null,null,null,null,{"$f":"\"        ③ 상기임금에는 기본급,연장근로수당,식대(\"&AV19&IF(AZ19=\"\",\")등이 포함된 것으로 한다.\",\" : \"&AZ19&\")등이 포함된 것으로 한다.\")","v":"        ③ 상기임금에는 기본급,연장근로수당,식대(월 15만원 : 선지급)등이 포함된 것으로 한다."},null,null,null,null,null,null,null,null,null,null,null,null,null,null,null,null,null,null,null,null,null,null,null,15,null,{"$f":"IFBLANK(사원명부!B17)","v":""},null,null,null,null,null,"1회 상여금",null,null,null,{"$f":"IF(AL4=\"없어요\",\"\",IF($AL$3=\"\",\"\",VLOOKUP($AL$3,사원명부!$A$2:$AB$150,25)))","v":500000},null,null,null,null,null,null,null,"사원명부에서 기록"]
[{"$f":"\"  - 평   일  : \"","v":"  - 평   일  : "},null,{"$f":"VLOOKUP($AL$3,사원명부!$A$2:$AB$150,17)&\"      ~      \"&VLOOKUP($AL$3,사원명부!$A$2:$AB$150,18)","v":"09:00      ~      18:00"},null,null,null,null,null,null,null,null,"        ④ 실수령액은 4대보험과 갑근세등 근로자 부담분을 공제한 최종수령액이다.(명세서발행-회계사무소)",null,null,null,null,null,null,null,null,null,null,null,null,null,null,null,null,null,null,null,null,null,null,null,16,null,{"$f":"IFBLANK(사원명부!B18)","v":""}]
[{"$f":"\"  - 토요일  : \"","v":"  - 토요일  : "},null,{"$f":"VLOOKUP($AL$3,사원명부!$A$2:$AB$150,19)&\"      ~      \"&VLOOKUP($AL$3,사원명부!$A$2:$AB$150,20)&\"      [\"&VLOOKUP($AL$3,사원명부!$A$2:$AB$150,20)&\"]\"","v":"09:00      ~      13:00      [13:00]"},null,null,null,null,null,null,null,null,{"$f":"IF(AV23=\"\",\"\",\"        ⑤ 상여금은 연\"&COUNTA(AV21:BC22)&\"회 \"&AV21&\" \"&AX21&\" \"&AZ21&\" \"&BB21&\"에 \"&AV23&\"원을 지급한다\")","v":"        ⑤ 상여금은 연3회 설날 하계휴가 추석 에 500000원을 지급한다"},null,null,null,null,null,null,null,null,null,null,null,null,null,null,null,null,null,null,null,null,null,null,null,17,null,{"$f":"IFBLANK(사원명부!B19)","v":""}]
[{"$f":"\"        - 소정근로시간  :  주 40시간 \"","v":"        - 소정근로시간  :  주 40시간 "},null,null,null,null,null,null,null,null,null,null,"제5조 【연차유급휴가】 ",null,null,null,null,null,null,null,null,null,null,null,null,null,null,null,null,null,null,null,null,null,null,null,18,null,{"$f":"IFBLANK(사원명부!B20)","v":""},null,null,null,null,null,"근로계약서를 사용하려면"]
["(2) 휴게시간    :",null,{"$f":"\"12:00\"&\"      ~      \"&\"14:00 의 시간중 계속된 1시간\"","v":"12:00      ~      14:00 의 시간중 계속된 1시간"},null,null,null,null,null,null,null,null,null,"연차유급휴가는 취업규칙에서 정하는 바에 따라서 부여 한다.",null,null,null,null,null,null,null,null,null,null,null,null,null,null,null,null,null,null,null,null,null,null,19,null,{"$f":"IFBLANK(사원명부!B21)","v":""},null,null,null,null,null,"사원명부 시트에  기재사항을 빠짐없이 기록 해야 합니다."]
[" ",null,null,null,null,null,null,null,null,null,null,"제6조 【사회보험적용여부】",null,null,null,null,null,null,null,null,null,null,null,null,null,null,null,null,null,null,null,null,null,null,null,20,null,{"$f":"IFBLANK(사원명부!B22)","v":""}]
["     근무일을 변경할수 있다",null,null,null,null,null,null,null,null,null,null,null," ▣ 고용보험    ▣ 산재보험    ▣ 국민연금    ▣ 국민건강보험",null,null,null,null,null,null,null,null,null,null,null,null,null,null,null,null,null,null,null,null,null,null,21,null,{"$f":"IFBLANK(사원명부!B23)","v":""}]
[{"$f":"\"(4) \"&IF(AL5<5,L61,IF(AL6<2022,IF(AL5<30,L61,L63)))","v":"(4) ‘관공서의 공휴일에 관한규정’ 제 2조에서 정한 공휴일(일요일 제외)은 근로일로 한다."},null,null,null,null,null,null,null,null,null,null,"제7조 【근로계약서의 교부】",null,null,null,null,null,null,null,null,null,null,null,null,null,null,null,null,null,null,null,null,null,null,null,22,null,{"$f":"IFBLANK(사원명부!B24)","v":""}]
[null,null,null,null,null,null,null,null,null,null,null,null,"\"갑\"은 근로계약서를 체결함과 동시에 본계약서 2부를 작성하여 \"을\"에게 1부를 교부한다.",null,null,null,null,null,null,null,null,null,null,null,null,null,null,null,null,null,null,null,null,null,null,23,null,{"$f":"IFBLANK(사원명부!B25)","v":""},null,null,null,null,null,"계약조건이 변경되면 변경된 내용을 기록하여 "]
["4. 【임금의 구성항목 및 계산, 지급방법】",null,null,null,null,null,null,null,null,null,null,"제8조 【근로계약,취업규칙등의 성실한 이행유무】",null,null,null,null,null,null,null,null,null,null,null,null,null,null,null,null,null,null,null,null,null,null,null,24,null,{"$f":"IFBLANK(사원명부!B26)","v":""},null,null,null,null,null,"근로자의 사인을 받아 기존계약서에 첨부합니다."]
["사용자는 근로자의 근로제공에 따라 다음의 급여를 지급한다.",null,null,null,null,null,null,null,null,null,null,"       기타 근로조건은 취업규칙 및 단체협약에 따르고, 정해지지 않은 사항에 대해서는 근로기준",null,null,null,null,null,null,null,null,null,null,null,null,null,null,null,null,null,null,null,null,null,null,null,25,null,{"$f":"IFBLANK(사원명부!B27)","v":""}]
["(1) 급여의 구성항목",null,null,null,null,null,null,null,null,null,null,"       법 등 노동관계 법령에 따른다.",null,null,null,null,null,null,null,null,null,null,null,null,null,null,null,null,null,null,null,null,null,null,null,26,null,{"$f":"IFBLANK(사원명부!B28)","v":""}]
["구   분",null,"기본급(주휴수당포함)",null,"식대등",null,"기타제수당",null,"계",null,null,"제9조 【특약】",null,null,null,null,null,null,null,null,null,null,null,null,null,null,null,null,null,null,null,null,null,null,null,27,null,{"$f":"IFBLANK(사원명부!B29)","v":""}]
["월급여",null,null,null,null,null,null,null,null,null,null,null,{"$f":"IF(VLOOKUP($AL$3,사원명부!$A$2:$AB$150,26)=\"지급\",\"약사 신상신고 비용은 갑이 부담하지만 을이 부득이한 사유로 퇴직하게 되면\",\"\")","v":"약사 신상신고 비용은 갑이 부담하지만 을이 부득이한 사유로 퇴직하게 되면"},null,null,null,null,null,null,null,null,null,null,null,null,null,null,null,null,null,null,null,null,null,null,28,null,{"$f":"IFBLANK(사원명부!B30)","v":""}]
["연   봉",null,null,null,null,null,null,null,null,null,null,null,{"$f":"IF(VLOOKUP($AL$3,사원명부!$A$2:$AB$150,26)=\"지급\",\"근무일까지의 부담분을 제외한 나머지 금액을 마지막 급여에서 차감한다.  \",\"\")","v":"근무일까지의 부담분을 제외한 나머지 금액을 마지막 급여에서 차감한다.  "},null,null,null,null,null,null,null,null,null,null,null,null,null,null,null,null,null,null,null,null,null,null,29,null,{"$f":"IFBLANK(사원명부!B31)","v":""}]
[{"$f":"\"(2) 지급방법 : 급여는 \"&IFBLANK(AV13)&\"(공휴일일 경우 그전날)에 계좌이체하여 지급하기로 한다.\"","v":"(2) 지급방법 : 급여는 매월 마지막날의 전날(공휴일일 경우 그전날)에 계좌이체하여 지급하기로 한다."},null,null,null,null,null,null,null,null,null,null,null,null,null,null,null,null,null,null,null,null,"계약일자    :",null,null,null,{"$f":"AX9&\"년\"&AZ9&\"월\"&BB9&\"일\"","v":"2021년5월20일"},null,null,null,null,null,null,null,null,null,30,null,{"$f":"IFBLANK(사원명부!B32)","v":""}]
["(3) 퇴직급여 : 법에 따라 주 15시간, 1년이상 근로한 자에게 퇴직금 또는 퇴직급여를 지급한다.",null,null,null,null,null,null,null,null,null,null,null,null,null,null,null,null,null,null,null,null,null,null,null,null,null,null,null,null,null,null,null,null,null,null,31,null,{"$f":"IFBLANK(사원명부!B33)","v":""}]
[{"$f":"\"(4) 4대보험료 : 근로자 본인부담금과 갑근세 등은 \"& IF(X20=\"실수령액기준\",\"사용자가 부담한다.(네트계약)\",\"근로자가 부담한다.\")","v":"(4) 4대보험료 : 근로자 본인부담금과 갑근세 등은 근로자가 부담한다."},null,null,null,null,null,null,null,null,null,null,null,null,null,"(갑)",null,"주   소  :",null,null,{"$f":"IFBLANK(요양기관기초정보!C11)","v":"서울 서대문구 연세로 41 (창천동 78-14)"},null,null,null,null,null,null,null,null,null,null,null,null,null,null,null,32,null,{"$f":"IFBLANK(사원명부!B34)","v":""}]
["(5) 식대등과 기타제수당 : 식대등 비과세 항목은 '식대등'에 부정기적인 상여금과 휴일근로 등을",null,null,null,null,null,null,null,null,null,null,null,null,null,null,null,"회사명  :",null,null,{"$f":"IFBLANK(요양기관기초정보!D1)","v":"팜오피스약국"},null,null,null,null,null,null,null,null,null,null,null,null,null,null,null,33,null,{"$f":"IFBLANK(사원명부!B35)","v":""}]
["    '기타제수당'에 반영하기로 한다",null,null,null,null,null,null,null,null,null,null,null,null,null,null,null,"대표자  :",null,null,{"$f":"요양기관기초정보!C6&\"(\"&요양기관기초정보!C7&\")\"&\"   (서명 또는 날인)\"","v":"홍길동(680623-1234567)   (서명 또는 날인)"},null,null,null,null,null,null,null,null,null,null,null,null,null,null,null,34,null,{"$f":"IFBLANK(사원명부!B36)","v":""}]
["(6) 중도입사자 : 전근무지 소득으로 인한 연말정산시 추가부담하는 세금은 근무자가 부담한다.\n",null,null,null,null,null,null,null,null,null,null,null,null,null,null,null,"연락처  :",null,null,{"$f":"IFBLANK(요양기관기초정보!C12)","v":"02-324-4650"},null,null,null,null,null,null,null,null,null,null,null,null,null,null,null,35,null,{"$f":"IFBLANK(사원명부!B37)","v":""}]
[null,null,null,null,null,null,null,null,null,null,null,null,null,null,"(을)",null,"주   소  :",null,null,{"$f":"IF(AL4=\"없어요\",\"\",IF($AL$3=\"\",\"\",VLOOKUP($AL$3,사원명부!$A$2:$AB$150,7)))","v":"서울시 서대문구연세로 41"},null,null,null,null,null,null,null,null,null,null,null,null,null,null,null,36,null,{"$f":"IFBLANK(사원명부!B38)","v":""}]
["5. 【근로자의 의무】",null,null,null,null,null,null,null,null,null,null,null,null,null,null,null,"이   름  :",null,null,{"$f":"IF(AL4=\"없어요\",\"\",IF($AL$3=\"\",\"\",VLOOKUP($AL$3,사원명부!$A$2:$AB$150,2))&\" (\"&IF($AL$3=\"\",\"\",VLOOKUP($AL$3,사원명부!$A$2:$AB$150,4))&\")    (서명 또는 날인)\")","v":"테스트2 (680623-1******)    (서명 또는 날인)"},null,null,null,null,null,null,null,null,null,null,null,null,null,null,null,37,null,{"$f":"IFBLANK(사원명부!B39)","v":""}]
["(1) 근로자는 담당업무와 약국 운영에 필요한 부수적인 업무를 충실히 이행하여야 한다.",null,null,null,null,null,null,null,null,null,null,null,null,null,null,null,"연락처  :",null,null,{"$f":"IF(AL4=\"없어요\",\"\",IF($AL$3=\"\",\"\",VLOOKUP($AL$3,사원명부!$A$2:$AB$150,6)))","v":"010-2345-6789"},null,null,null,null,null,null,null,null,null,null,null,null,null,null,null,38,null,{"$f":"IFBLANK(사원명부!B40)","v":""}]
["(2) 근로자는 사용자의 업무지시 등에 성실히 따라야 한다.",null,null,null,null,null,null,null,null,null,null,null,null,null,null,null,null,null,null,null,null,null,null,null,null,null,null,null,null,null,null,null,null,null,null,39,null,{"$f":"IFBLANK(사원명부!B41)","v":""}]
[null,null,null,null,null,null,null,null,null,null,null,null,null,null,null,null,null,null,null,null,null,null,null,null,null,null,null,null,null,null,null,null,null,null,null,40,null,{"$f":"IFBLANK(사원명부!B42)","v":""}]
["6. 【근로계약의 해지】",null,null,null,null,null,null,null,null,null,null,null,null,null,null,null,null,null,null,null,null,null,null,null,null,null,null,null,null,null,null,null,null,null,null,41,null,{"$f":"IFBLANK(사원명부!B43)","v":""}]
[" 회사는 다음의 경우 고용을 해지할 수 있다.",null,null,null,null,null,null,null,null,null,null,null,null,null,null,null,null,null,null,null,null,null,null,null,null,null,null,null,null,null,null,null,null,null,null,42,null,{"$f":"IFBLANK(사원명부!B44)","v":""}]
["(1) 직원의 업무수행 능력이 심히 부적합하다고 판단될 때",null,null,null,null,null,null,null,null,null,null,"[관공서의 공휴일에 관한규정]",null,null,null,null,null,null,null,null,null,null,null,null,null,null,null,null,null,null,null,null,null,null,null,43,null,{"$f":"IFBLANK(사원명부!B45)","v":""}]
["(2) 직원이 업무상 고의 또는 중대한 과실로 고객 또는 회사에 손해를 끼쳤을 때",null,null,null,null,null,null,null,null,null,null,null,null,null,null,null,null,null,null,null,null,null,null,null,null,null,null,null,null,null,null,null,null,null,null,44,null,{"$f":"IFBLANK(사원명부!B46)","v":""}]
["(3) 경영악화로 인하여 정상영업이 어려운 경우",null,null,null,null,null,null,null,null,null,null,"민간기업에 적용되는 시기",null,null,null,null,null,null,null,null,null,null,null,null,null,null,null,null,null,null,null,null,null,null,null,45,null,{"$f":"IFBLANK(사원명부!B47)","v":""}]
["(4) 비밀유지 의무를 위반한 경우",null,null,null,null,null,null,null,null,null,null," ","상시근무자 5인이상의 기업에 적용되며 4인이하는  관계없으니",null,null,null,null,null,null,null,null,null,null,null,null,null,null,null,null,null,null,null,null,null,null,46,null,{"$f":"IFBLANK(사원명부!B48)","v":""}]
["(5) 계속 3일이상 또는 월 합계 5일이상 결근한 경우, 근로의사가 없는 것으로 간주하여 징계",null,null,null,null,null,null,null,null,null,null,null,"근로 계약서 3조의 (7)을 회사 규정에 맡게 수정하여 사용 할수 있습니다.",null,null,null,null,null,null,null,null,null,null,null,null,null,null,null,null,null,null,null,null,null,null,47,null,{"$f":"IFBLANK(사원명부!B49)","v":""}]
["     절차없이 자동면직한다.(지각3회는 결근 1일로 간주한다)",null,null,null,null,null,null,null,null,null,null,null,"▴ 5～30인 미만 : ’22.1.1",null,null,null,null,null,null,null,null,null,null,null,null,null,null,null,null,null,null,null,null,null,null,48,null,{"$f":"IFBLANK(사원명부!B50)","v":""}]
[null,null,null,null,null,null,null,null,null,null,null," ","▴ 30～300인 미만: ’21.1.1,  ",null,null,null,null,null,null,null,null,null,null,null,null,null,null,null,null,null,null,null,null,null,null,49,null,{"$f":"IFBLANK(사원명부!B51)","v":""}]
["7. 【근로계약의 종료】",null,null,null,null,null,null,null,null,null,null,null,"▴ 300인 이상: ’20.1.1, ",null,null,null,null,null,null,null,null,null,null,null,null,null,null,null,null,null,null,null,null,null,null,50,null,{"$f":"IFBLANK(사원명부!B52)","v":""}]
["직원은 근로계약을 해지하고자 하는 경우 퇴직희망일 30일이전에 사직서를 제출하고 회사의 퇴직승인을 ",null,null,null,null,null,null,null,null,null,null,null,null,null,null,null,null,null,null,null,null,null,null,null,null,null,null,null,null,null,null,null,null,null,null,51,null,{"$f":"IFBLANK(사원명부!B53)","v":""}]
["얻은 후 업무인수인계를 마친 후 퇴직할 수 있으며, 직원이 이를 위반한 경우 회사는 직원에게 손해배상울",null,null,null,null,null,null,null,null,null,null,"법정공휴일을 연차휴가로 대체하거나 근무일에 포함시키는 경우",null,null,null,null,null,null,null,null,null,null,null,null,null,null,null,null,null,null,null,null,null,null,null,52,null,{"$f":"IFBLANK(사원명부!B54)","v":""}]
["청구할 수 있다.",null,null,null,null,null,null,null,null,null,null,"‘관공서의 공휴일에 관한규정’ 제 2조에서 정한 공휴일(일요일 제외)은 근로일로 한다.",null,null,null,null,null,null,null,null,null,null,null,null,null,null,null,null,null,null,null,null,null,null,null,53,null,{"$f":"IFBLANK(사원명부!B55)","v":""}]
[null,null,null,null,null,null,null,null,null,null,null,"2022년부터 상시근로자 5인이상이면",null,null,null,null,null,null,null,null,null,null,null,null,null,null,null,null,null,null,null,null,null,null,null,54,null,{"$f":"IFBLANK(사원명부!B56)","v":""}]
["8. 【비밀유지】",null,null,null,null,null,null,null,null,null,null,"‘관공서의 공휴일에 관한규정’ 제 3조에서 정한 공휴일(일요일 제외)은 유급휴일로 한다",null,null,null,null,null,null,null,null,null,null,null,null,null,null,null,null,null,null,null,null,null,null,null,55,null,{"$f":"IFBLANK(사원명부!B57)","v":""}]
["(1) 직원은 근무 중 취득한 회사의 직무내용등을 타인에게 누설해서는 안되며, 상기 사항의 위반에",null,null,null,null,null,null,null,null,null,null,null,null,null,null,null,null,null,null,null,null,null,null,null,null,null,null,null,null,null,null,null,null,null,null,56,null,{"$f":"IFBLANK(사원명부!B58)","v":""}]
["     대해서는 민,형사상 책임을 진다.",null,null,null,null,null,null,null,null,null,null,"근로기준법 제62조에 따라 공휴일에 연차를 사용하기로 근로자대표와 서면합의를 하는 경우 공휴일에 쉬면서 연차로 대체한 것으로 운영할 수 있다. 하지만 공휴일이 유급휴일로 전환되면, 공휴일은 법정휴일이므로, 연차휴가를 사용한 것으로 대체할 수 없다. 휴가는 소정근로일에 사용하는 것이지, 휴일에 휴가를 사용하고 쉬는 것이 아니기 때문이다. \n따라서 공휴일을 연차휴가로 대체해 운영 중이었다면, 향후 법 시행일에 맞춰 근로기준법에서 정한 연차유급휴가를 부여해야한다. 현재 공휴일 연차휴가대체제를 운용하고 있다면, 공휴일 적용시기 시행일 부터는 법위반이 되므로 유의해야한다.",null,null,null,null,null,null,null,null,null,null,null,null,null,null,null,null,null,null,null,null,null,null,null,57,null,{"$f":"IFBLANK(사원명부!B59)","v":""}]
["(2) 직원은 본인의 급여에 대해 비밀을 유지해야 한다.",null,null,null,null,null,null,null,null,null,null,null,null,null,null,null,null,null,null,null,null,null,null,null,null,null,null,null,null,null,null,null,null,null,null,58,null,{"$f":"IFBLANK(사원명부!B60)","v":""}]
[null,null,null,null,null,null,null,null,null,null,null,null,null,null,null,null,null,null,null,null,null,null,null,null,null,null,null,null,null,null,null,null,null,null,null,59,null,{"$f":"IFBLANK(사원명부!B61)","v":""}]
["9.【 기타】",null,null,null,null,null,null,null,null,null,null,null,null,null,null,null,null,null,null,null,null,null,null,null,null,null,null,null,null,null,null,null,null,null,null,60,null,{"$f":"IFBLANK(사원명부!B62)","v":""}]
["기타 근로조건은 취업규칙에 따르고 ",null,null,null,null,null,null,null,null,null,null,null,null,null,null,null,null,null,null,null,null,null,null,null,null,null,null,null,null,null,null,null,null,null,null,61,null,{"$f":"IFBLANK(사원명부!B63)","v":""}]
["본계약에 정함이 없는 사항은 근로기준법등 관계법령에 따른다.",null,null,null,null,null,null,null,null,null,null,null,null,null,null,null,null,null,null,null,null,null,null,null,null,null,null,null,null,null,null,null,null,null,null,62,null,{"$f":"IFBLANK(사원명부!B64)","v":""}]
[null,null,null,null,null,null,null,null,null,null,null,null,null,null,null,null,null,null,null,null,null,null,null,null,null,null,null,null,null,null,null,null,null,null,null,63,null,{"$f":"IFBLANK(사원명부!B65)","v":""}]
[null,null,null,null,null,{"$f":"Z38","v":"2021년5월20일"},null,null,null,null,null,"제11조(근로계약) 근로자로 채용된 자는 이 규칙에 의한 근로조건에 동의 한 것으로 보고 근로계약서에 서명 날인 하여 근로계약을 채결하여야 한다. ",null,null,null,null,null,null,null,null,null,null,null,null,null,null,null,null,null,null,null,null,null,null,null,64,null,{"$f":"IFBLANK(사원명부!B66)","v":""}]
[null,null,null,null,null,null,null,null,null,null,null,null,null,null,null,null,null,null,null,null,null,null,null,null,null,null,null,null,null,null,null,null,null,null,null,65,null,{"$f":"IFBLANK(사원명부!B67)","v":""}]
[null,null,null,null,null,"사용자  :",{"$f":"IFBLANK(요양기관기초정보!C6)","v":"홍길동"},"(서명 또는 인)",null,null,null,null,null,null,null,null,null,null,null,null,null,null,null,null,null,null,null,null,null,null,null,null,null,null,null,66,null,{"$f":"IFBLANK(사원명부!B68)","v":""}]
[null,null,null,null,null,null,null,null,null,null,null,null,null,null,null,null,null,null,null,null,null,null,null,null,null,null,null,null,null,null,null,null,null,null,null,67,null,{"$f":"IFBLANK(사원명부!B69)","v":""}]
[null,null,null,null,null,"근로자  :",{"$f":"IFBLANK(E9)","v":"테스트2"},"(서명 또는 인)",null,null,null,"    ▴ 300인 이상: ’20.1.1,  ▴ 30～300인 미만: ’21.1.1,  ▴ 5～30인 미만: ’22.1.1",null,null,null,null,null,null,null,null,null,null,null,null,null,null,null,null,null,null,null,null,null,null,null,68,null,{"$f":"IFBLANK(사원명부!B70)","v":""}]
[null,null,null,null,null,null,null,null,null,null,null,null,null,null,null,null,null,null,null,null,null,null,null,null,null,null,null,null,null,null,null,null,null,null,null,69,null,{"$f":"IFBLANK(사원명부!B71)","v":""}]
[null,null,null,null,null,null,null,null,null,null,null,null,null,null,null,null,null,null,null,null,null,null,null,null,null,null,null,null,null,null,null,null,null,null,null,70,null,{"$f":"IFBLANK(사원명부!B72)","v":""}]
[null,null,null,null,null,null,null,null,null,null,null,null,null,null,null,null,null,null,null,null,null,null,null,null,null,null,null,null,null,null,null,null,null,null,null,71,null,{"$f":"IFBLANK(사원명부!B73)","v":""}]
[null,null,null,null,null,null,null,null,null,null,null,null,null,null,null,null,null,null,null,null,null,null,null,null,null,null,null,null,null,null,null,null,null,null,null,72,null,{"$f":"IFBLANK(사원명부!B74)","v":""}]
[null,null,null,null,null,null,null,null,null,null,null,null,null,null,null,null,null,null,null,null,null,null,null,null,null,null,null,null,null,null,null,null,null,null,null,73,null,{"$f":"IFBLANK(사원명부!B75)","v":""}]
[null,null,null,null,null,null,null,null,null,null,null,null,null,null,null,null,null,null,null,null,null,null,null,null,null,null,null,null,null,null,null,null,null,null,null,74,null,{"$f":"IFBLANK(사원명부!B76)","v":""}]
[null,null,null,null,null,null,null,null,null,null,null,null,null,null,null,null,null,null,null,null,null,null,null,null,null,null,null,null,null,null,null,null,null,null,null,75,null,{"$f":"IFBLANK(사원명부!B77)","v":""}]
[null,null,null,null,null,null,null,null,null,null,null,null,null,null,null,null,null,null,null,null,null,null,null,null,null,null,null,null,null,null,null,null,null,null,null,76,null,{"$f":"IFBLANK(사원명부!B78)","v":""}]
[null,null,null,null,null,null,null,null,null,null,null,null,null,null,null,null,null,null,null,null,null,null,null,null,null,null,null,null,null,null,null,null,null,null,null,77,null,{"$f":"IFBLANK(사원명부!B79)","v":""}]
[null,null,null,null,null,null,null,null,null,null,null,null,null,null,null,null,null,null,null,null,null,null,null,null,null,null,null,null,null,null,null,null,null,null,null,78,null,{"$f":"IFBLANK(사원명부!B80)","v":""}]
[null,null,null,null,null,null,null,null,null,null,null,null,null,null,null,null,null,null,null,null,null,null,null,null,null,null,null,null,null,null,null,null,null,null,null,79,null,{"$f":"IFBLANK(사원명부!B81)","v":""}]
[null,null,null,null,null,null,null,null,null,null,null,null,null,null,null,null,null,null,null,null,null,null,null,null,null,null,null,null,null,null,null,null,null,null,null,80,null,{"$f":"IFBLANK(사원명부!B82)","v":""}]
[null,null,null,null,null,null,null,null,null,null,null,null,null,null,null,null,null,null,null,null,null,null,null,null,null,null,null,null,null,null,null,null,null,null,null,81,null,{"$f":"IFBLANK(사원명부!B83)","v":""}]
[null,null,null,null,null,null,null,null,null,null,null,null,null,null,null,null,null,null,null,null,null,null,null,null,null,null,null,null,null,null,null,null,null,null,null,82,null,{"$f":"IFBLANK(사원명부!B84)","v":""}]
[null,null,null,null,null,null,null,null,null,null,null,null,null,null,null,null,null,null,null,null,null,null,null,null,null,null,null,null,null,null,null,null,null,null,null,83,null,{"$f":"IFBLANK(사원명부!B85)","v":""}]
[null,null,null,null,null,null,null,null,null,null,null,null,null,null,null,null,null,null,null,null,null,null,null,null,null,null,null,null,null,null,null,null,null,null,null,84,null,{"$f":"IFBLANK(사원명부!B86)","v":""}]
[null,null,null,null,null,null,null,null,null,null,null,null,null,null,null,null,null,null,null,null,null,null,null,null,null,null,null,null,null,null,null,null,null,null,null,85,null,{"$f":"IFBLANK(사원명부!B87)","v":""}]
[null,null,null,null,null,null,null,null,null,null,null,null,null,null,null,null,null,null,null,null,null,null,null,null,null,null,null,null,null,null,null,null,null,null,null,86,null,{"$f":"IFBLANK(사원명부!B88)","v":""}]
[null,null,null,null,null,null,null,null,null,null,null,null,null,null,null,null,null,null,null,null,null,null,null,null,null,null,null,null,null,null,null,null,null,null,null,87,null,{"$f":"IFBLANK(사원명부!B89)","v":""}]
[null,null,null,null,null,null,null,null,null,null,null,null,null,null,null,null,null,null,null,null,null,null,null,null,null,null,null,null,null,null,null,null,null,null,null,88,null,{"$f":"IFBLANK(사원명부!B90)","v":""}]
[null,null,null,null,null,null,null,null,null,null,null,null,null,null,null,null,null,null,null,null,null,null,null,null,null,null,null,null,null,null,null,null,null,null,null,89,null,{"$f":"IFBLANK(사원명부!B91)","v":""}]
[null,null,null,null,null,null,null,null,null,null,null,null,null,null,null,null,null,null,null,null,null,null,null,null,null,null,null,null,null,null,null,null,null,null,null,90,null,{"$f":"IFBLANK(사원명부!B92)","v":""}]
[null,null,null,null,null,null,null,null,null,null,null,null,null,null,null,null,null,null,null,null,null,null,null,null,null,null,null,null,null,null,null,null,null,null,null,91,null,{"$f":"IFBLANK(사원명부!B93)","v":""}]
[null,null,null,null,null,null,null,null,null,null,null,null,null,null,null,null,null,null,null,null,null,null,null,null,null,null,null,null,null,null,null,null,null,null,null,92,null,{"$f":"IFBLANK(사원명부!B94)","v":""}]
[null,null,null,null,null,null,null,null,null,null,null,null,null,null,null,null,null,null,null,null,null,null,null,null,null,null,null,null,null,null,null,null,null,null,null,93,null,{"$f":"IFBLANK(사원명부!B95)","v":""}]
[null,null,null,null,null,null,null,null,null,null,null,null,null,null,null,null,null,null,null,null,null,null,null,null,null,null,null,null,null,null,null,null,null,null,null,94,null,{"$f":"IFBLANK(사원명부!B96)","v":""}]
[null,null,null,null,null,null,null,null,null,null,null,null,null,null,null,null,null,null,null,null,null,null,null,null,null,null,null,null,null,null,null,null,null,null,null,95,null,{"$f":"IFBLANK(사원명부!B97)","v":""}]
[null,null,null,null,null,null,null,null,null,null,null,null,null,null,null,null,null,null,null,null,null,null,null,null,null,null,null,null,null,null,null,null,null,null,null,96,null,{"$f":"IFBLANK(사원명부!B98)","v":""}]
[null,null,null,null,null,null,null,null,null,null,null,null,null,null,null,null,null,null,null,null,null,null,null,null,null,null,null,null,null,null,null,null,null,null,null,97,null,{"$f":"IFBLANK(사원명부!B99)","v":""}]
[null,null,null,null,null,null,null,null,null,null,null,null,null,null,null,null,null,null,null,null,null,null,null,null,null,null,null,null,null,null,null,null,null,null,null,98,null,{"$f":"IFBLANK(사원명부!B100)","v":""}]
[null,null,null,null,null,null,null,null,null,null,null,null,null,null,null,null,null,null,null,null,null,null,null,null,null,null,null,null,null,null,null,null,null,null,null,99,null,{"$f":"IFBLANK(사원명부!B101)","v":""}]
[null,null,null,null,null,null,null,null,null,null,null,null,null,null,null,null,null,null,null,null,null,null,null,null,null,null,null,null,null,null,null,null,null,null,null,100,null,{"$f":"IFBLANK(사원명부!B102)","v":""}]
[null,null,null,null,null,null,null,null,null,null,null,null,null,null,null,null,null,null,null,null,null,null,null,null,null,null,null,null,null,null,null,null,null,null,null,null,null,""]
[null,null,null,null,null,null,null,null,null,null,null,null,null,null,null,null,null,null,null,null,null,null,null,null,null,null,null,null,null,null,null,null,null,null,null,null,null,""]
[null,null,null,null,null,null,null,null,null,null,null,null,null,null,null,null,null,null,null,null,null,null,null,null,null,null,null,null,null,null,null,null,null,null,null,null,null,""]
[null,null,null,null,null,null,null,null,null,null,null,null,null,null,null,null,null,null,null,null,null,null,null,null,null,null,null,null,null,null,null,null,null,null,null,null,null,""]
[null,null,null,null,null,null,null,null,null,null,null,null,null,null,null,null,null,null,null,null,null,null,null,null,null,null,null,null,null,null,null,null,null,null,null,null,null,""]
[null,null,null,null,null,null,null,null,null,null,null,null,null,null,null,null,null,null,null,null,null,null,null,null,null,null,null,null,null,null,null,null,null,null,null,null,null,""]
[null,null,null,null,null,null,null,null,null,null,null,null,null,null,null,null,null,null,null,null,null,null,null,null,null,null,null,null,null,null,null,null,null,null,null,null,null,""]
[null,null,null,null,null,null,null,null,null,null,null,null,null,null,null,null,null,null,null,null,null,null,null,null,null,null,null,null,null,null,null,null,null,null,null,null,null,""]
[null,null,null,null,null,null,null,null,null,null,null,null,null,null,null,null,null,null,null,null,null,null,null,null,null,null,null,null,null,null,null,null,null,null,null,null,null,""]
[null,null,null,null,null,null,null,null,null,null,null,null,null,null,null,null,null,null,null,null,null,null,null,null,null,null,null,null,null,null,null,null,null,null,null,null,null,""]
[null,null,null,null,null,null,null,null,null,null,null,null,null,null,null,null,null,null,null,null,null,null,null,null,null,null,null,null,null,null,null,null,null,null,null,null,null,""]
[null,null,null,null,null,null,null,null,null,null,null,null,null,null,null,null,null,null,null,null,null,null,null,null,null,null,null,null,null,null,null,null,null,null,null,null,null,""]
[null,null,null,null,null,null,null,null,null,null,null,null,null,null,null,null,null,null,null,null,null,null,null,null,null,null,null,null,null,null,null,null,null,null,null,null,null,""]

{"sheet":"근로자명부","index":47,"n_rows":88,"n_cols":15,"rows_kept":88,"cut":false,"hidden":false,"merged":[[0,0,2,7],[3,2,3,3],[3,6,3,7],[3,12,3,13],[3,14,3,16],[8,12,8,13],[8,14,8,15],[9,12,9,13],[9,14,9,15],[9,2,9,3],[7,12,7,13],[7,14,7,15],[6,4,6,5],[4,12,4,13],[4,14,4,16],[6,2,6,3],[6,6,6,7],[15,14,15,15],[16,14,16,15],[12,12,12,13],[12,14,12,15],[13,12,13,13],[13,14,13,15],[10,12,10,13],[10,14,10,15],[11,12,11,13],[11,14,11,15],[36,12,36,13],[36,14,36,15],[37,12,37,13],[37,14,37,15],[38,12,38,13],[38,14,38,15],[33,12,33,13],[33,14,33,15],[34,12,34,13],[34,14,34,15],[35,12,35,13],[35,14,35,15],[42,12,42,13],[42,14,42,15],[43,12,43,13],[43,14,43,15],[44,12,44,13],[44,14,44,15],[39,12,39,13],[39,14,39,15],[40,12,40,13],[40,14,40,15],[41,12,41,13],[41,14,41,15],[48,12,48,13],[48,14,48,15],[49,12,49,13],[49,14,49,15],[50,12,50,13],[50,14,50,15],[45,12,45,13],[45,14,45,15],[46,12,46,13],[46,14,46,15],[47,12,47,13],[47,14,47,15],[54,12,54,13],[54,14,54,15],[55,12,55,13],[55,14,55,15],[56,12,56,13],[56,14,56,15],[51,12,51,13],[51,14,51,15],[52,12,52,13],[52,14,52,15],[53,12,53,13],[53,14,53,15],[60,12,60,13],[60,14,60,15],[61,12,61,13],[61,14,61,15],[62,12,62,13],[62,14,62,15],[57,12,57,13],[57,14,57,15],[58,12,58,13],[58,14,58,15],[59,12,59,13],[59,14,59,15],[66,12,66,13],[66,14,66,15],[67,12,67,13],[67,14,67,15],[68,12,68,13],[68,14,68,15],[63,12,63,13],[63,14,63,15],[64,12,64,13],[64,14,64,15],[65,12,65,13],[65,14,65,15],[72,12,72,13],[72,14,72,15],[73,12,73,13],[73,14,73,15],[74,12,74,13],[74,14,74,15],[69,12,69,13],[69,14,69,15],[70,12,70,13],[70,14,70,15],[71,12,71,13],[71,14,71,15],[78,12,78,13],[78,14,78,15],[79,12,79,13],[79,14,79,15],[80,12,80,13],[80,14,80,15],[75,12,75,13],[75,14,75,15],[76,12,76,13],[76,14,76,15],[77,12,77,13],[77,14,77,15],[84,12,84,13],[84,14,84,15],[85,12,85,13],[85,14,85,15],[86,12,86,13],[86,14,86,15],[81,12,81,13],[81,14,81,15],[82,12,82,13],[82,14,82,15],[83,12,83,13],[83,14,83,15],[90,12,90,13],[90,14,90,15],[91,12,91,13],[91,14,91,15],[92,12,92,13],[92,14,92,15],[87,12,87,13],[87,14,87,15],[88,12,88,13],[88,14,88,15],[89,12,89,13],[89,14,89,15],[96,12,96,13],[96,14,96,15],[97,12,97,13],[97,14,97,15],[98,12,98,13],[98,14,98,15],[93,12,93,13],[93,14,93,15],[94,12,94,13],[94,14,94,15],[95,12,95,13],[95,14,95,15],[102,12,102,13],[102,14,102,15],[103,12,103,13],[103,14,103,15],[104,12,104,13],[104,14,104,15],[99,12,99,13],[99,14,99,15],[100,12,100,13],[100,14,100,15],[101,12,101,13],[101,14,101,15],[108,12,108,13],[108,14,108,15],[109,12,109,13],[109,14,109,15],[110,12,110,13],[110,14,110,15],[105,12,105,13],[105,14,105,15],[106,12,106,13],[106,14,106,15],[107,12,107,13],[107,14,107,15],[114,12,114,13],[114,14,114,15],[115,12,115,13],[115,14,115,15],[116,12,116,13],[116,14,116,15],[111,12,111,13],[111,14,111,15],[112,12,112,13],[112,14,112,15],[113,12,113,13],[113,14,113,15],[120,12,120,13],[120,14,120,15],[121,12,121,13],[121,14,121,15],[122,12,122,13],[122,14,122,15],[117,12,117,13],[117,14,117,15],[118,12,118,13],[118,14,118,15],[119,12,119,13],[119,14,119,15],[126,12,126,13],[126,14,126,15],[127,12,127,13],[127,14,127,15],[128,12,128,13],[128,14,128,15],[123,12,123,13],[123,14,123,15],[124,12,124,13],[124,14,124,15],[125,12,125,13],[125,14,125,15],[132,12,132,13],[132,14,132,15],[133,12,133,13],[133,14,133,15],[134,12,134,13],[134,14,134,15],[129,12,129,13],[129,14,129,15],[130,12,130,13],[130,14,130,15],[131,12,131,13],[131,14,131,15],[138,12,138,13],[138,14,138,15],[139,12,139,13],[139,14,139,15],[140,12,140,13],[140,14,140,15],[135,12,135,13],[135,14,135,15],[136,12,136,13],[136,14,136,15],[137,12,137,13],[137,14,137,15],[144,12,144,13],[144,14,144,15],[145,12,145,13],[145,14,145,15],[146,12,146,13],[146,14,146,15],[141,12,141,13],[141,14,141,15],[142,12,142,13],[142,14,142,15],[143,12,143,13],[143,14,143,15],[150,12,150,13],[150,14,150,15],[151,12,151,13],[151,14,151,15],[152,12,152,13],[152,14,152,15],[147,12,147,13],[147,14,147,15],[148,12,148,13],[148,14,148,15],[149,12,149,13],[149,14,149,15],[156,12,156,13],[156,14,156,15],[157,12,157,13],[157,14,157,15],[158,12,158,13],[158,14,158,15],[153,12,153,13],[153,14,153,15],[154,12,154,13],[154,14,154,15],[155,12,155,13],[155,14,155,15],[162,12,162,13],[162,14,162,15],[163,12,163,13],[163,14,163,15],[164,12,164,13],[164,14,164,15],[159,12,159,13],[159,14,159,15],[160,12,160,13],[160,14,160,15],[161,12,161,13],[161,14,161,15],[168,12,168,13],[168,14,168,15],[169,12,169,13],[169,14,169,15],[170,12,170,13],[170,14,170,15],[165,12,165,13],[165,14,165,15],[166,12,166,13],[166,14,166,15],[167,12,167,13],[167,14,167,15],[174,12,174,13],[174,14,174,15],[175,12,175,13],[175,14,175,15],[176,12,176,13],[176,14,176,15],[171,12,171,13],[171,14,171,15],[172,12,172,13],[172,14,172,15],[173,12,173,13],[173,14,173,15],[180,12,180,13],[180,14,180,15],[181,12,181,13],[181,14,181,15],[182,12,182,13],[182,14,182,15],[177,12,177,13],[177,14,177,15],[178,12,178,13],[178,14,178,15],[179,12,179,13],[179,14,179,15],[186,12,186,13],[186,14,186,15],[187,12,187,13],[187,14,187,15],[188,12,188,13],[188,14,188,15],[183,12,183,13],[183,14,183,15],[184,12,184,13],[184,14,184,15],[185,12,185,13],[185,14,185,15],[192,12,192,13],[192,14,192,15],[193,12,193,13],[193,14,193,15],[194,12,194,13],[194,14,194,15],[189,12,189,13],[189,14,189,15],[190,12,190,13],[190,14,190,15],[191,12,191,13],[191,14,191,15],[203,12,203,13],[203,14,203,15],[198,12,198,13],[198,14,198,15],[199,12,199,13],[199,14,199,15],[200,12,200,13],[200,14,200,15],[195,12,195,13],[195,14,195,15],[196,12,196,13],[196,14,196,15],[197,12,197,13],[197,14,197,15],[210,12,210,13],[210,14,210,15],[3,0,3,1],[6,0,6,1],[3,4,3,5],[4,2,4,7],[4,0,5,1],[5,2,5,7],[207,12,207,13],[207,14,207,15],[208,12,208,13],[208,14,208,15],[209,12,209,13],[209,14,209,15],[204,12,204,13],[204,14,204,15],[205,12,205,13],[205,14,205,15],[206,12,206,13],[206,14,206,15],[201,12,201,13],[201,14,201,15],[202,12,202,13],[202,14,202,15],[11,0,11,1],[11,4,11,5],[11,6,11,7],[12,1,12,7],[12,0,28,0],[10,2,10,3],[7,4,10,4],[7,6,7,7],[8,6,8,7],[9,6,9,7],[10,6,10,7],[18,1,18,7],[7,0,10,0],[7,2,7,3],[8,2,8,3],[21,3,21,7],[29,12,29,13],[30,12,30,13],[29,0,29,7],[27,12,27,13],[28,12,28,13],[19,12,19,13],[20,12,20,13],[14,3,14,7],[16,3,16,7],[17,4,17,7],[19,3,19,7],[20,3,20,7],[15,1,15,7],[22,1,22,7],[14,12,14,13],[15,12,15,13],[16,12,16,13],[17,12,17,13],[18,12,18,13],[21,12,21,13],[22,12,22,13],[25,14,25,15],[26,14,26,15],[31,14,31,15],[32,14,32,15],[1,12,2,24],[17,14,17,15],[18,14,18,15],[21,14,21,15],[22,14,22,15],[23,14,23,15],[24,14,24,15],[23,12,23,13],[24,12,24,13],[25,12,25,13],[26,12,26,13],[31,12,31,13],[32,12,32,13],[29,14,29,15],[30,14,30,15],[27,14,27,15],[28,14,28,15],[19,14,19,15],[20,14,20,15],[14,14,14,15],[33,0,33,7],[34,0,34,7],[23,2,23,6],[24,2,24,6],[25,2,25,6],[26,2,26,6],[27,2,27,6],[28,2,28,6],[30,0,30,7],[31,0,31,7],[32,0,32,7]]}
["근로자명부"]
[null,null,null,null,null,null,null,null,null,null,null,null,"근로기준법 시행령 제20조(근로자 명부의 기재사항) "]
[]
["성명",null,{"$f":"IFBLANK(O5)","v":"테스트2"},null,"생년월일",null,{"$f":"IF(O5=\"없어요\",\"\",LEFT(VLOOKUP(O4,사원명부!$A$2:$AB$150,4,FALSE),6))","v":"680623"},null,null,null,null,null,"사원번호",null,2]
["주소",null,{"$f":"IF(O5=\"없어요\",\"\",VLOOKUP(O4,사원명부!$A$2:$AB$150,7,FALSE))","v":"서울시 서대문구연세로 41"},null,null,null,null,null,null,null,null,null,"이    름",null,{"$f":"IFERROR(IF($O$4=\"\",\"\",VLOOKUP(O4,사원명부!A2:B100,2,FALSE)),\"없어요\")","v":"테스트2"}]
[null,null,{"$f":"IF(O5=\"없어요\",\"\",VLOOKUP(O4,사원명부!$A$2:$AB$150,6,FALSE))","v":"010-2345-6789"}]
["부양가족",null,null,null,"종사업무",null,{"$f":"IF(O5=\"없어요\",\"\",VLOOKUP(O4,사원명부!$A$2:$AB$150,13,FALSE))","v":"조제실관리"}]
["이력","기능 및 자격",null,null,"퇴직","해 고 일",null,null,null,null,null,null,1,null,{"$f":"IFERROR(IF(M8=\"\",\"\",VLOOKUP(M8,사원명부!$A$2:$B$100,2,FALSE)),\"\")","v":"테스트1"}]
[null,"최종학력",null,null,null,"퇴 직 일",null,null,null,null,null,null,2,null,{"$f":"IFERROR(IF(M9=\"\",\"\",VLOOKUP(M9,사원명부!$A$2:$B$100,2,FALSE)),\"\")","v":"테스트2"}]
[null,"경력",null,null,null,"사     유",null,null,null,null,null,null,3,null,{"$f":"IFERROR(IF(M10=\"\",\"\",VLOOKUP(M10,사원명부!$A$2:$B$100,2,FALSE)),\"\")","v":""}]
[null,"병역",null,null,null,"금품정산등",null,null,null,null,null,null,4,null,{"$f":"IFERROR(IF(M11=\"\",\"\",VLOOKUP(M11,사원명부!$A$2:$B$100,2,FALSE)),\"\")","v":""}]
["고용일(계약기간)",null,{"$f":"IF(O5=\"없어요\",\"\",VLOOKUP(O4,사원명부!$A$2:$AB$150,11,FALSE))","v":"2021-01-01"},null,"근로계약갱신일",null,"매년 12월 30일(휴일의 경우 전일)",null,null,null,null,null,5,null,{"$f":"IFERROR(IF(M12=\"\",\"\",VLOOKUP(M12,사원명부!$A$2:$B$100,2,FALSE)),\"\")","v":""}]
["근로계약조건","1.근무장소및 업무내용",null,null,null,null,null,null,null,null,null,null,6,null,{"$f":"IFERROR(IF(M13=\"\",\"\",VLOOKUP(M13,사원명부!$A$2:$B$100,2,FALSE)),\"\")","v":""}]
[null,null,"근무장소      :",{"$f":"IFBLANK(요양기관기초정보!D1)","v":"팜오피스약국"},null,null,null,null,null,null,null,null,7,null,{"$f":"IFERROR(IF(M14=\"\",\"\",VLOOKUP(M14,사원명부!$A$2:$B$100,2,FALSE)),\"\")","v":""}]
[null,null,"업무내용      :",{"$f":"IF(O5=\"없어요\",\"\",VLOOKUP(O4,사원명부!$A$2:$AB$150,13,FALSE)&\"  \"&VLOOKUP(O4,사원명부!$A$2:$AB$150,14,FALSE))","v":"조제실관리  고객조회"},null,null,null,null,null,null,null,null,8,null,{"$f":"IFERROR(IF(M15=\"\",\"\",VLOOKUP(M15,사원명부!$A$2:$B$100,2,FALSE)),\"\")","v":""}]
[null,"2.임금",null,null,null,null,null,null,null,null,null,null,9,null,{"$f":"IFERROR(IF(M16=\"\",\"\",VLOOKUP(M16,사원명부!$A$2:$B$100,2,FALSE)),\"\")","v":""}]
[null,null,"월   급         :",{"$f":"IF(O5=\"없어요\",\"\",VLOOKUP(O4,사원명부!$A$2:$AB$150,24,FALSE)&\"  \"&VLOOKUP(O4,사원명부!$A$2:$AB$150,23,FALSE))","v":"  5000000"},null,null,null,null,null,null,null,null,10,null,{"$f":"IFERROR(IF(M17=\"\",\"\",VLOOKUP(M17,사원명부!$A$2:$B$100,2,FALSE)),\"\")","v":""}]
[null,null,"상여금         :",{"$f":"IF(O5=\"없어요\",\"\",VLOOKUP(O4,사원명부!$A$2:$AB$150,25,FALSE))","v":500000},"(설,하계휴가,추석 연3회)",null,null,null,null,null,null,null,11,null,{"$f":"IFERROR(IF(M18=\"\",\"\",VLOOKUP(M18,사원명부!$A$2:$B$100,2,FALSE)),\"\")","v":""}]
[null,"      ",null,null,null,null,null,null,null,null,null,null,12,null,{"$f":"IFERROR(IF(M19=\"\",\"\",VLOOKUP(M19,사원명부!$A$2:$B$100,2,FALSE)),\"\")","v":""}]
[null,null,"월 ~ 금요일  :",{"$f":"VLOOKUP(O4,사원명부!$A$2:$AB$150,17)&\"      ~      \"&VLOOKUP(O4,사원명부!$A$2:$AB$150,18)","v":"09:00      ~      18:00"},null,null,null,null,null,null,null,null,13,null,{"$f":"IFERROR(IF(M20=\"\",\"\",VLOOKUP(M20,사원명부!$A$2:$B$100,2,FALSE)),\"\")","v":""}]
[null,null,"토요일         :",{"$f":"VLOOKUP(O4,사원명부!$A$2:$AB$150,19)&\"      ~      \"&VLOOKUP(O4,사원명부!$A$2:$AB$150,20)","v":"09:00      ~      13:00"},null,null,null,null,null,null,null,null,14,null,{"$f":"IFERROR(IF(M21=\"\",\"\",VLOOKUP(M21,사원명부!$A$2:$B$100,2,FALSE)),\"\")","v":""}]
[null,null,"휴게시간      :","12:00      ~      14:00 의 시간중 계속된 1시간",null,null,null,null,null,null,null,null,15,null,{"$f":"IFERROR(IF(M22=\"\",\"\",VLOOKUP(M22,사원명부!$A$2:$B$100,2,FALSE)),\"\")","v":""}]
[null,"3.휴일 및 휴가",null,null,null,null,null,null,null,null,null,null,16,null,{"$f":"IFERROR(IF(M23=\"\",\"\",VLOOKUP(M23,사원명부!$A$2:$B$100,2,FALSE)),\"\")","v":""}]
[null,null,null,null,null,null,null,null,null,null,null,null,17,null,{"$f":"IFERROR(IF(M24=\"\",\"\",VLOOKUP(M24,사원명부!$A$2:$B$100,2,FALSE)),\"\")","v":""}]
[null,null,null,null,null,null,null,null,null,null,null,null,18,null,{"$f":"IFERROR(IF(M25=\"\",\"\",VLOOKUP(M25,사원명부!$A$2:$B$100,2,FALSE)),\"\")","v":""}]
[null,null,null,null,null,null,null,null,null,null,null,null,19,null,{"$f":"IFERROR(IF(M26=\"\",\"\",VLOOKUP(M26,사원명부!$A$2:$B$100,2,FALSE)),\"\")","v":""}]
[null,null,null,null,null,null,null,null,null,null,null,null,20,null,{"$f":"IFERROR(IF(M27=\"\",\"\",VLOOKUP(M27,사원명부!$A$2:$B$100,2,FALSE)),\"\")","v":""}]
[null,null,null,null,null,null,null,null,null,null,null,null,21,null,{"$f":"IFERROR(IF(M28=\"\",\"\",VLOOKUP(M28,사원명부!$A$2:$B$100,2,FALSE)),\"\")","v":""}]
[null,null,null,null,null,null,null,null,null,null,null,null,22,null,{"$f":"IFERROR(IF(M29=\"\",\"\",VLOOKUP(M29,사원명부!$A$2:$B$100,2,FALSE)),\"\")","v":""}]
["특기사항(교육,건강,휴직등)",null,null,null,null,null,null,null,null,null,null,null,23,null,{"$f":"IFERROR(IF(M30=\"\",\"\",VLOOKUP(M30,사원명부!$A$2:$B$100,2,FALSE)),\"\")","v":""}]
[null,null,null,null,null,null,null,null,null,null,null,null,24,null,{"$f":"IFERROR(IF(M31=\"\",\"\",VLOOKUP(M31,사원명부!$A$2:$B$100,2,FALSE)),\"\")","v":""}]
[null,null,null,null,null,null,null,null,null,null,null,null,25,null,{"$f":"IFERROR(IF(M32=\"\",\"\",VLOOKUP(M32,사원명부!$A$2:$B$100,2,FALSE)),\"\")","v":""}]
[null,null,null,null,null,null,null,null,null,null,null,null,26,null,{"$f":"IFERROR(IF(M33=\"\",\"\",VLOOKUP(M33,사원명부!$A$2:$B$100,2,FALSE)),\"\")","v":""}]
[null,null,null,null,null,null,null,null,null,null,null,null,27,null,{"$f":"IFERROR(IF(M34=\"\",\"\",VLOOKUP(M34,사원명부!$A$2:$B$100,2,FALSE)),\"\")","v":""}]
[null,null,null,null,null,null,null,null,null,null,null,null,28,null,{"$f":"IFERROR(IF(M35=\"\",\"\",VLOOKUP(M35,사원명부!$A$2:$B$100,2,FALSE)),\"\")","v":""}]
[null,null,null,null,null,null,null,null,null,null,null,null,29,null,{"$f":"IFERROR(IF(M36=\"\",\"\",VLOOKUP(M36,사원명부!$A$2:$B$100,2,FALSE)),\"\")","v":""}]
[null,null,null,null,null,null,null,null,null,null,null,null,30,null,{"$f":"IFERROR(IF(M37=\"\",\"\",VLOOKUP(M37,사원명부!$A$2:$B$100,2,FALSE)),\"\")","v":""}]
[null,null,null,null,null,null,null,null,null,null,null,null,31,null,{"$f":"IFERROR(IF(M38=\"\",\"\",VLOOKUP(M38,사원명부!$A$2:$B$100,2,FALSE)),\"\")","v":""}]
[null,null,null,null,null,null,null,null,null,null,null,null,32,null,{"$f":"IFERROR(IF(M39=\"\",\"\",VLOOKUP(M39,사원명부!$A$2:$B$100,2,FALSE)),\"\")","v":""}]
[null,null,null,null,null,null,null,null,null,null,null,null,33,null,{"$f":"IFERROR(IF(M40=\"\",\"\",VLOOKUP(M40,사원명부!$A$2:$B$100,2,FALSE)),\"\")","v":""}]
[null,null,null,null,null,null,null,null,null,null,null,null,34,null,{"$f":"IFERROR(IF(M41=\"\",\"\",VLOOKUP(M41,사원명부!$A$2:$B$100,2,FALSE)),\"\")","v":""}]
[null,null,null,null,null,null,null,null,null,null,null,null,35,null,{"$f":"IFERROR(IF(M42=\"\",\"\",VLOOKUP(M42,사원명부!$A$2:$B$100,2,FALSE)),\"\")","v":""}]
[null,null,null,null,null,null,null,null,null,null,null,null,36,null,{"$f":"IFERROR(IF(M43=\"\",\"\",VLOOKUP(M43,사원명부!$A$2:$B$100,2,FALSE)),\"\")","v":""}]
[null,null,null,null,null,null,null,null,null,null,null,null,37,null,{"$f":"IFERROR(IF(M44=\"\",\"\",VLOOKUP(M44,사원명부!$A$2:$B$100,2,FALSE)),\"\")","v":""}]
[null,null,null,null,null,null,null,null,null,null,null,null,38,null,{"$f":"IFERROR(IF(M45=\"\",\"\",VLOOKUP(M45,사원명부!$A$2:$B$100,2,FALSE)),\"\")","v":""}]
[null,null,null,null,null,null,null,null,null,null,null,null,39,null,{"$f":"IFERROR(IF(M46=\"\",\"\",VLOOKUP(M46,사원명부!$A$2:$B$100,2,FALSE)),\"\")","v":""}]
[null,null,null,null,null,null,null,null,null,null,null,null,40,null,{"$f":"IFERROR(IF(M47=\"\",\"\",VLOOKUP(M47,사원명부!$A$2:$B$100,2,FALSE)),\"\")","v":""}]
[null,null,null,null,null,null,null,null,null,null,null,null,41,null,{"$f":"IFERROR(IF(M48=\"\",\"\",VLOOKUP(M48,사원명부!$A$2:$B$100,2,FALSE)),\"\")","v":""}]
[null,null,null,null,null,null,null,null,null,null,null,null,42,null,{"$f":"IFERROR(IF(M49=\"\",\"\",VLOOKUP(M49,사원명부!$A$2:$B$100,2,FALSE)),\"\")","v":""}]
[null,null,null,null,null,null,null,null,null,null,null,null,43,null,{"$f":"IFERROR(IF(M50=\"\",\"\",VLOOKUP(M50,사원명부!$A$2:$B$100,2,FALSE)),\"\")","v":""}]
[null,null,null,null,null,null,null,null,null,null,null,null,44,null,{"$f":"IFERROR(IF(M51=\"\",\"\",VLOOKUP(M51,사원명부!$A$2:$B$100,2,FALSE)),\"\")","v":""}]
[null,null,null,null,null,null,null,null,null,null,null,null,45,null,{"$f":"IFERROR(IF(M52=\"\",\"\",VLOOKUP(M52,사원명부!$A$2:$B$100,2,FALSE)),\"\")","v":""}]
[null,null,null,null,null,null,null,null,null,null,null,null,46,null,{"$f":"IFERROR(IF(M53=\"\",\"\",VLOOKUP(M53,사원명부!$A$2:$B$100,2,FALSE)),\"\")","v":""}]
[null,null,null,null,null,null,null,null,null,null,null,null,47,null,{"$f":"IFERROR(IF(M54=\"\",\"\",VLOOKUP(M54,사원명부!$A$2:$B$100,2,FALSE)),\"\")","v":""}]
[null,null,null,null,null,null,null,null,null,null,null,null,48,null,{"$f":"IFERROR(IF(M55=\"\",\"\",VLOOKUP(M55,사원명부!$A$2:$B$100,2,FALSE)),\"\")","v":""}]
[null,null,null,null,null,null,null,null,null,null,null,null,49,null,{"$f":"IFERROR(IF(M56=\"\",\"\",VLOOKUP(M56,사원명부!$A$2:$B$100,2,FALSE)),\"\")","v":""}]
[null,null,null,null,null,null,null,null,null,null,null,null,50,null,{"$f":"IFERROR(IF(M57=\"\",\"\",VLOOKUP(M57,사원명부!$A$2:$B$100,2,FALSE)),\"\")","v":""}]
[null,null,null,null,null,null,null,null,null,null,null,null,51,null,{"$f":"IFERROR(IF(M58=\"\",\"\",VLOOKUP(M58,사원명부!$A$2:$B$100,2,FALSE)),\"\")","v":""}]
[null,null,null,null,null,null,null,null,null,null,null,null,52,null,{"$f":"IFERROR(IF(M59=\"\",\"\",VLOOKUP(M59,사원명부!$A$2:$B$100,2,FALSE)),\"\")","v":""}]
[null,null,null,null,null,null,null,null,null,null,null,null,53,null,{"$f":"IFERROR(IF(M60=\"\",\"\",VLOOKUP(M60,사원명부!$A$2:$B$100,2,FALSE)),\"\")","v":""}]
[null,null,null,null,null,null,null,null,null,null,null,null,54,null,{"$f":"IFERROR(IF(M61=\"\",\"\",VLOOKUP(M61,사원명부!$A$2:$B$100,2,FALSE)),\"\")","v":""}]
[null,null,null,null,null,null,null,null,null,null,null,null,55,null,{"$f":"IFERROR(IF(M62=\"\",\"\",VLOOKUP(M62,사원명부!$A$2:$B$100,2,FALSE)),\"\")","v":""}]
[null,null,null,null,null,null,null,null,null,null,null,null,56,null,{"$f":"IFERROR(IF(M63=\"\",\"\",VLOOKUP(M63,사원명부!$A$2:$B$100,2,FALSE)),\"\")","v":""}]
[null,null,null,null,null,null,null,null,null,null,null,null,57,null,{"$f":"IFERROR(IF(M64=\"\",\"\",VLOOKUP(M64,사원명부!$A$2:$B$100,2,FALSE)),\"\")","v":""}]
[null,null,null,null,null,null,null,null,null,null,null,null,58,null,{"$f":"IFERROR(IF(M65=\"\",\"\",VLOOKUP(M65,사원명부!$A$2:$B$100,2,FALSE)),\"\")","v":""}]
[null,null,null,null,null,null,null,null,null,null,null,null,59,null,{"$f":"IFERROR(IF(M66=\"\",\"\",VLOOKUP(M66,사원명부!$A$2:$B$100,2,FALSE)),\"\")","v":""}]
[null,null,null,null,null,null,null,null,null,null,null,null,60,null,{"$f":"IFERROR(IF(M67=\"\",\"\",VLOOKUP(M67,사원명부!$A$2:$B$100,2,FALSE)),\"\")","v":""}]
[null,null,null,null,null,null,null,null,null,null,null,null,61,null,{"$f":"IFERROR(IF(M68=\"\",\"\",VLOOKUP(M68,사원명부!$A$2:$B$100,2,FALSE)),\"\")","v":""}]
[null,null,null,null,null,null,null,null,null,null,null,null,62,null,{"$f":"IFERROR(IF(M69=\"\",\"\",VLOOKUP(M69,사원명부!$A$2:$B$100,2,FALSE)),\"\")","v":""}]
[null,null,null,null,null,null,null,null,null,null,null,null,63,null,{"$f":"IFERROR(IF(M70=\"\",\"\",VLOOKUP(M70,사원명부!$A$2:$B$100,2,FALSE)),\"\")","v":""}]
[null,null,null,null,null,null,null,null,null,null,null,null,64,null,{"$f":"IFERROR(IF(M71=\"\",\"\",VLOOKUP(M71,사원명부!$A$2:$B$100,2,FALSE)),\"\")","v":""}]
[null,null,null,null,null,null,null,null,null,null,null,null,65,null,{"$f":"IFERROR(IF(M72=\"\",\"\",VLOOKUP(M72,사원명부!$A$2:$B$100,2,FALSE)),\"\")","v":""}]
[null,null,null,null,null,null,null,null,null,null,null,null,66,null,{"$f":"IFERROR(IF(M73=\"\",\"\",VLOOKUP(M73,사원명부!$A$2:$B$100,2,FALSE)),\"\")","v":""}]
[null,null,null,null,null,null,null,null,null,null,null,null,67,null,{"$f":"IFERROR(IF(M74=\"\",\"\",VLOOKUP(M74,사원명부!$A$2:$B$100,2,FALSE)),\"\")","v":""}]
[null,null,null,null,null,null,null,null,null,null,null,null,68,null,{"$f":"IFERROR(IF(M75=\"\",\"\",VLOOKUP(M75,사원명부!$A$2:$B$100,2,FALSE)),\"\")","v":""}]
[null,null,null,null,null,null,null,null,null,null,null,null,69,null,{"$f":"IFERROR(IF(M76=\"\",\"\",VLOOKUP(M76,사원명부!$A$2:$B$100,2,FALSE)),\"\")","v":""}]
[null,null,null,null,null,null,null,null,null,null,null,null,70,null,{"$f":"IFERROR(IF(M77=\"\",\"\",VLOOKUP(M77,사원명부!$A$2:$B$100,2,FALSE)),\"\")","v":""}]
[null,null,null,null,null,null,null,null,null,null,null,null,71,null,{"$f":"IFERROR(IF(M78=\"\",\"\",VLOOKUP(M78,사원명부!$A$2:$B$100,2,FALSE)),\"\")","v":""}]
[null,null,null,null,null,null,null,null,null,null,null,null,72,null,{"$f":"IFERROR(IF(M79=\"\",\"\",VLOOKUP(M79,사원명부!$A$2:$B$100,2,FALSE)),\"\")","v":""}]
[null,null,null,null,null,null,null,null,null,null,null,null,73,null,{"$f":"IFERROR(IF(M80=\"\",\"\",VLOOKUP(M80,사원명부!$A$2:$B$100,2,FALSE)),\"\")","v":""}]
[null,null,null,null,null,null,null,null,null,null,null,null,74,null,{"$f":"IFERROR(IF(M81=\"\",\"\",VLOOKUP(M81,사원명부!$A$2:$B$100,2,FALSE)),\"\")","v":""}]
[null,null,null,null,null,null,null,null,null,null,null,null,75,null,{"$f":"IFERROR(IF(M82=\"\",\"\",VLOOKUP(M82,사원명부!$A$2:$B$100,2,FALSE)),\"\")","v":""}]
[null,null,null,null,null,null,null,null,null,null,null,null,76,null,{"$f":"IFERROR(IF(M83=\"\",\"\",VLOOKUP(M83,사원명부!$A$2:$B$100,2,FALSE)),\"\")","v":""}]
[null,null,null,null,null,null,null,null,null,null,null,null,77,null,{"$f":"IFERROR(IF(M84=\"\",\"\",VLOOKUP(M84,사원명부!$A$2:$B$100,2,FALSE)),\"\")","v":""}]
[null,null,null,null,null,null,null,null,null,null,null,null,78,null,{"$f":"IFERROR(IF(M85=\"\",\"\",VLOOKUP(M85,사원명부!$A$2:$B$100,2,FALSE)),\"\")","v":""}]
[null,null,null,null,null,null,null,null,null,null,null,null,79,null,{"$f":"IFERROR(IF(M86=\"\",\"\",VLOOKUP(M86,사원명부!$A$2:$B$100,2,FALSE)),\"\")","v":""}]
[null,null,null,null,null,null,null,null,null,null,null,null,80,null,{"$f":"IFERROR(IF(M87=\"\",\"\",VLOOKUP(M87,사원명부!$A$2:$B$100,2,FALSE)),\"\")","v":""}]
[null,null,null,null,null,null,null,null,null,null,null,null,81,null,{"$f":"IFERROR(IF(M88=\"\",\"\",VLOOKUP(M88,사원명부!$A$2:$B$100,2,FALSE)),\"\")","v":""}]

{"sheet":"단기근로계약서","index":48,"n_rows":121,"n_cols":34,"rows_kept":121,"cut":false,"hidden":false,"merged":[[21,33,21,34],[22,33,23,34],[22,27,23,28],[22,29,23,30],[22,31,23,32],[26,30,27,35],[28,22,29,26],[24,24,25,26],[24,20,25,21],[24,22,25,23],[26,27,27,29],[26,20,27,21],[26,22,27,23],[26,24,27,26],[28,20,29,21],[19,20,19,31],[20,20,21,21],[20,22,21,23],[22,20,23,21],[22,22,23,23],[22,24,23,26],[21,31,21,32],[18,20,18,33],[0,12,0,14],[0,15,0,26],[12,12,12,13],[12,14,12,15],[13,12,13,13],[13,14,13,15],[14,12,14,13],[14,14,14,15],[10,12,10,13],[10,14,10,15],[11,12,11,13],[11,14,11,15],[21,12,21,13],[21,14,21,15],[22,12,22,13],[22,14,22,15],[1,1,2,9],[2,12,2,13],[2,14,2,16],[2,25,3,31],[3,12,3,13],[3,14,3,16],[5,24,6,25],[5,26,6,27],[5,28,6,29],[5,30,6,31],[7,1,7,9],[8,12,8,13],[8,14,8,15],[8,20,9,25],[8,26,9,27],[8,28,9,29],[5,12,6,13],[5,14,6,16],[5,20,6,21],[5,22,6,23],[9,12,9,13],[9,14,9,15],[20,7,20,9],[20,12,20,13],[20,14,20,15],[15,12,15,13],[15,14,15,15],[16,12,16,13],[16,14,16,15],[17,12,17,13],[17,14,17,15],[23,12,23,13],[23,14,23,15],[18,12,18,13],[18,14,18,15],[19,12,19,13],[19,14,19,15],[35,12,35,13],[35,14,35,15],[36,12,36,13],[36,14,36,15],[30,12,30,13],[30,14,30,15],[31,12,31,13],[31,14,31,15],[32,12,32,13],[32,14,32,15],[40,12,40,13],[40,14,40,15],[41,12,41,13],[41,14,41,15],[42,12,42,13],[42,14,42,15],[37,12,37,13],[37,14,37,15],[38,12,38,13],[38,14,38,15],[39,12,39,13],[39,14,39,15],[46,12,46,13],[46,14,46,15],[47,12,47,13],[47,14,47,15],[48,12,48,13],[48,14,48,15],[43,12,43,13],[43,14,43,15],[44,12,44,13],[44,14,44,15],[45,12,45,13],[45,14,45,15],[52,12,52,13],[52,14,52,15],[53,12,53,13],[53,14,53,15],[54,12,54,13],[54,14,54,15],[49,12,49,13],[49,14,49,15],[50,12,50,13],[50,14,50,15],[51,12,51,13],[51,14,51,15],[58,12,58,13],[58,14,58,15],[59,12,59,13],[59,14,59,15],[60,12,60,13],[60,14,60,15],[55,12,55,13],[55,14,55,15],[56,12,56,13],[56,14,56,15],[57,12,57,13],[57,14,57,15],[64,12,64,13],[64,14,64,15],[65,12,65,13],[65,14,65,15],[66,12,66,13],[66,14,66,15],[61,12,61,13],[61,14,61,15],[62,12,62,13],[62,14,62,15],[63,12,63,13],[63,14,63,15],[70,12,70,13],[70,14,70,15],[71,12,71,13],[71,14,71,15],[72,12,72,13],[72,14,72,15],[67,12,67,13],[67,14,67,15],[68,12,68,13],[68,14,68,15],[69,12,69,13],[69,14,69,15],[76,12,76,13],[76,14,76,15],[77,12,77,13],[77,14,77,15],[78,12,78,13],[78,14,78,15],[73,12,73,13],[73,14,73,15],[74,12,74,13],[74,14,74,15],[75,12,75,13],[75,14,75,15],[82,12,82,13],[82,14,82,15],[83,12,83,13],[83,14,83,15],[84,12,84,13],[84,14,84,15],[79,12,79,13],[79,14,79,15],[80,12,80,13],[80,14,80,15],[81,12,81,13],[81,14,81,15],[88,12,88,13],[88,14,88,15],[89,12,89,13],[89,14,89,15],[90,12,90,13],[90,14,90,15],[85,12,85,13],[85,14,85,15],[86,12,86,13],[86,14,86,15],[87,12,87,13],[87,14,87,15],[94,12,94,13],[94,14,94,15],[95,12,95,13],[95,14,95,15],[96,12,96,13],[96,14,96,15],[91,12,91,13],[91,14,91,15],[92,12,92,13],[92,14,92,15],[93,12,93,13],[93,14,93,15],[100,12,100,13],[100,14,100,15],[101,12,101,13],[101,14,101,15],[102,12,102,13],[102,14,102,15],[97,12,97,13],[97,14,97,15],[98,12,98,13],[98,14,98,15],[99,12,99,13],[99,14,99,15],[106,12,106,13],[106,14,106,15],[107,12,107,13],[107,14,107,15],[108,12,108,13],[108,14,108,15],[103,12,103,13],[103,14,103,15],[104,12,104,13],[104,14,104,15],[105,12,105,13],[105,14,105,15],[112,12,112,13],[112,14,112,15],[113,12,113,13],[113,14,113,15],[114,12,114,13],[114,14,114,15],[109,12,109,13],[109,14,109,15],[110,12,110,13],[110,14,110,15],[111,12,111,13],[111,14,111,15],[118,12,118,13],[118,14,118,15],[119,12,119,13],[119,14,119,15],[120,12,120,13],[120,14,120,15],[115,12,115,13],[115,14,115,15],[116,12,116,13],[116,14,116,15],[117,12,117,13],[117,14,117,15],[15,20,15,31],[16,20,16,31],[8,30,9,31],[32,2,32,9],[34,12,34,13],[33,14,33,15],[11,20,11,31],[12,20,12,31],[13,20,13,31],[14,20,14,31],[33,12,33,13],[34,14,34,15],[27,12,27,13],[27,14,27,15],[28,12,28,13],[28,14,28,15],[29,12,29,13],[29,14,29,15],[24,12,24,13],[24,14,24,15],[25,12,25,13],[25,14,25,15],[26,12,26,13],[26,14,26,15]]}
[]
[null,"근 로 계 약 서"]
[null,null,null,null,null,null,null,null,null,null,null,null,"사원번호",null,2,null,null,null,null,null,null,null,null,null,null,"버튼 한번 누르면 두장씩 인쇄"]
[null,null,null,null,null,null,null,null,null,null,null,null,"이    름",null,{"$f":"IF(O3=\"\",\"\",VLOOKUP(O3,사원명부!A2:B100,2))","v":"테스트2"}]
[null,{"$f":"IFBLANK(요양기관기초정보!D1)&\"(이하 “갑”이라 한다)\"&IFERROR(Josa1(요양기관기초정보!D1,4),\"과\")&\"  \"&IFBLANK(AL4)&\"(이하 “을”이라 한다)\"&IFERROR(Josa1(AL4,1),\"은(는)\")&\" 아래과 같은 근로계약을  체결하고 \"","v":"팜오피스약국(이하 “갑”이라 한다)과  (이하 “을”이라 한다)은(는) 아래과 같은 근로계약을  체결하고 "}]
[null,"상호 성실히 이행할 것을 약정한다.",null,null,null,null,null,null,null,null,null,null,"계약년도",null,2021,null,null,null,null,null,"계약월일",null,1,null,1,null,"종료월일",null,12,null,31]
[]
[null,"==  아   래  =="]
[null,null,null,null,null,null,null,null,null,null,null,null,1,null,{"$f":"IFBLANK(사원명부!B3)","v":"테스트1"},null,null,null,null,null,"계약서 작성일",null,null,null,null,null,2020,null,12,null,31]
[null,{"$f":"\"제1조 【근로개시일】  \"","v":"제1조 【근로개시일】  "},null,{"$f":"O6&\"년\"&W6&\"월 \"&Y6&\"일부터 ～ \"&O6&\"년\"&AC6&\"월\"&AE6&\"일까지 \"","v":"2021년1월 1일부터 ～ 2021년12월31일까지 "},null,null,null,null,null,null,null,null,2,null,{"$f":"IFBLANK(사원명부!B4)","v":"테스트2"}]
[null,"제2조 【근 무 장 소】 ",null,{"$f":"IFBLANK(요양기관기초정보!D1)","v":"팜오피스약국"},null,null,null,null,null,null,null,null,3,null,{"$f":"IFBLANK(사원명부!B5)","v":""}]
[null,"제3조 【업무의내용】 ",null,{"$f":"IF($O$3=\"\",\"\",VLOOKUP($O$3,사원명부!$A$2:$AB$150,13))","v":"조제실관리"},null,null,null,null,null,null,null,null,4,null,{"$f":"IFBLANK(사원명부!B6)","v":""},null,null,null,null,null,"근로계약서를 사용하려면"]
[null,"제4조 【근로일 및 근로일별 근로시간】 ",null,null,null,null,null,null,null,null,null,null,5,null,{"$f":"IFBLANK(사원명부!B7)","v":""},null,null,null,null,null,"사원명부 시트에  기재사항을 빠짐없이 기록 해야 합니다."]
[null,null,null,"월요일","화요일","수요일","목요일","금요일","토요일","일요일",null,null,6,null,{"$f":"IFBLANK(사원명부!B8)","v":""}]
[null,null,"근로시간",null,null,null,null,null,null,null,null,null,7,null,{"$f":"IFBLANK(사원명부!B9)","v":""}]
[null,null,"시업시간",null,null,null,null,null,null,null,null,null,8,null,{"$f":"IFBLANK(사원명부!B10)","v":""}]
[null,null,"종업시간",null,null,null,null,null,null,null,null,null,9,null,{"$f":"IFBLANK(사원명부!B11)","v":""}]
[null,null,"휴게시간",null,null,null,null,null,null,null,null,null,10,null,{"$f":"IFBLANK(사원명부!B12)","v":""}]
[null,null,"O  주휴일  :",{"$f":"\"매주 \"&IFBLANK(W21)","v":"매주 일요일"},null,null,null,null,null,null,null,null,11,null,{"$f":"IFBLANK(사원명부!B13)","v":""},null,null,null,null,null,"파트타임,아르바이트 계약시 근무시간을 직접 기록 하여 인쇄하세요"]
[null,"제5조 【임 금】",null,null,null,null,null,null,null,null,null,null,12,null,{"$f":"IFBLANK(사원명부!B14)","v":""}]
[null,"­ ",{"$f":"IFBLANK(W23)","v":"시급"},{"$f":"IFBLANK(Y23)","v":10000},"원",null,null,{"$f":"IF($O$3=\"\",\"\",IF(VLOOKUP($O$3,사원명부!$A$2:$AB$150,22)=\"\",\"\",VLOOKUP($O$3,사원명부!$A$2:$AB$150,22)))","v":""},null,null,null,null,13,null,{"$f":"IFBLANK(사원명부!B15)","v":""},null,null,null,null,null,"주휴일",null,"일요일"]
[null,"­ ","상여금",{"$f":"IF(W25=\"없음\",\"\",IFBLANK(Y25))","v":""},"원",null,null,null,null,null,null,null,14,null,{"$f":"IFBLANK(사원명부!B16)","v":""},null,null,null,null,null,null,null,null,null,null,null,null,null,null,null,null,"매주",null,"매월"]
[null,"­ ","기타급여(제수당등)",null,"식대    1일",{"$f":"IF(W27=\"없음\",\"\",IFBLANK(Y27))","v":""},"원",null,null,null,null,null,15,null,{"$f":"IFBLANK(사원명부!B17)","v":""},null,null,null,null,null,"급여구분",null,"시급",null,10000,null,null,"급여일",null,"매월",null,"월요일",null,31]
[null,null,null,null,"주휴수당1주",{"$f":"IFBLANK(W29)","v":""},"원",null,null,null,null,null,16,null,{"$f":"IFBLANK(사원명부!B18)","v":""}]
[null,"­ ","초과근로에 대한 가산임금율",null,null,50,"%",null,null,null,null,null,17,null,{"$f":"IFBLANK(사원명부!B19)","v":""},null,null,null,null,null,"상여금",null,"없음",null,100000]
[null,"­ ","임금지급일",{"$f":"IFBLANK(AD23)","v":"매월"},{"$f":"IF(D26=\"매월\",IFBLANK(AH23)&\"일 (휴일의경우 전일 지급)\",IF(D26=\"매주\",IFBLANK(AF23)&\"(휴일의경우 전일 지급)\",\"\"))","v":"31일 (휴일의경우 전일 지급)"},null,null,null,null,null,null,null,18,null,{"$f":"IFBLANK(사원명부!B20)","v":""}]
[null,"­ ","지급방법",{"$f":"IFBLANK(AE27)","v":"직접지급"},null,null,null,null,null,null,null,null,19,null,{"$f":"IFBLANK(사원명부!B21)","v":""},null,null,null,null,null,"식대",null,"있음",null,null,null,null,"급여지급방법",null,null,"직접지급"]
[null,"제6조 【연차유급휴가】 ",null,null,null,null,null,null,null,null,null,null,20,null,{"$f":"IFBLANK(사원명부!B22)","v":""}]
[null,null,"통상근로자의 근로시간에 비례하여 연차유급휴가를 부여 한다.",null,null,null,null,null,null,null,null,null,21,null,{"$f":"IFBLANK(사원명부!B23)","v":""},null,null,null,null,null,"주휴수당"]
[null,"제7조 【사회보험적용여부】",null,null,null,null,null,null,null,null,null,null,22,null,{"$f":"IFBLANK(사원명부!B24)","v":""}]
[null,null,"▣ 고용보험    ▣ 산재보험    ▣ 국민연금    ▣ 국민건강보험",null,null,null,null,null,null,null,null,null,23,null,{"$f":"IFBLANK(사원명부!B25)","v":""}]
[null,"제8조 【근로계약서의 교부】",null,null,null,null,null,null,null,null,null,null,24,null,{"$f":"IFBLANK(사원명부!B26)","v":""}]
[null,null,"\"갑\"은 근로계약서를 체결함과 동시에 본계약서 2부를 작성하여 \"을\"에게 1부를 교부한다.",null,null,null,null,null,null,null,null,null,25,null,{"$f":"IFBLANK(사원명부!B27)","v":""}]
[null,"제7조 【근로계약,취업규칙등의 성실한 이행유무】",null,null,null,null,null,null,null,null,null,null,26,null,{"$f":"IFBLANK(사원명부!B28)","v":""}]
[null,null,"기타 근로조건은 취업규칙 및 단체협약에 따르고, 정해지지 않은 사항에 대해서는 근로기준법 등 노동",null,null,null,null,null,null,null,null,null,27,null,{"$f":"IFBLANK(사원명부!B29)","v":""}]
[null,null,"관계 법령에 따른다.",null,null,null,null,null,null,null,null,null,28,null,{"$f":"IFBLANK(사원명부!B30)","v":""}]
[null,null,null,null,null,null,null,null,null,null,null,null,29,null,{"$f":"IFBLANK(사원명부!B31)","v":""}]
[null,null,null,null,"계약일자  :",{"$f":"AA9&\"년\"&AC9&\"월\"&AE9&\"일\"","v":"2020년12월31일"},null,null,null,null,null,null,30,null,{"$f":"IFBLANK(사원명부!B32)","v":""}]
[null,null,null,null,null,null,null,null,null,null,null,null,31,null,{"$f":"IFBLANK(사원명부!B33)","v":""}]
[null,null,null,"(갑)","주   소  :",{"$f":"IFBLANK(요양기관기초정보!C11)","v":"서울 서대문구 연세로 41 (창천동 78-14)"},null,null,null,null,null,null,32,null,{"$f":"IFBLANK(사원명부!B34)","v":""}]
[null,null,null,null,"회사명  :",{"$f":"IFBLANK(요양기관기초정보!D1)","v":"팜오피스약국"},null,null,null,null,null,null,33,null,{"$f":"IFBLANK(사원명부!B35)","v":""}]
[null,null,null,null,"대표자  :",{"$f":"요양기관기초정보!C6&\"(\"&요양기관기초정보!C7&\")\"&\"   (서명 또는 날인)\"","v":"홍길동(680623-1234567)   (서명 또는 날인)"},null,null,null,null,null,null,34,null,{"$f":"IFBLANK(사원명부!B36)","v":""}]
[null,null,null,null,"연락처  :",{"$f":"IFBLANK(요양기관기초정보!C12)","v":"02-324-4650"},null,null,null,null,null,null,35,null,{"$f":"IFBLANK(사원명부!B37)","v":""}]
[null,null,null,"(을)","주   소  :",{"$f":"IF($O$3=\"\",\"\",VLOOKUP($O$3,사원명부!$A$2:$AB$150,7))","v":"서울시 서대문구연세로 41"},null,null,null,null,null,null,36,null,{"$f":"IFBLANK(사원명부!B38)","v":""}]
[null,null,null,null,"이   름  :",{"$f":"IF($O$3=\"\",\"\",VLOOKUP($O$3,사원명부!$A$2:$AB$150,2))&\" (\"&IF($O$3=\"\",\"\",VLOOKUP($O$3,사원명부!$A$2:$AB$150,4))&\")    (서명 또는 날인)\"","v":"테스트2 (680623-1******)    (서명 또는 날인)"},null,null,null,null,null,null,37,null,{"$f":"IFBLANK(사원명부!B39)","v":""}]
[null,null,null,null,"연락처  :",{"$f":"IF($O$3=\"\",\"\",VLOOKUP($O$3,사원명부!$A$2:$AB$150,6))","v":"010-2345-6789"},null,null,null,null,null,null,38,null,{"$f":"IFBLANK(사원명부!B40)","v":""}]
[null,null,null,null,null,null,null,null,null,null,null,null,39,null,{"$f":"IFBLANK(사원명부!B41)","v":""}]
[null,null,null,null,null,null,null,null,null,null,null,null,40,null,{"$f":"IFBLANK(사원명부!B42)","v":""}]
[null,null,null,null,null,null,null,null,null,null,null,null,41,null,{"$f":"IFBLANK(사원명부!B43)","v":""}]
[null,null,null,null,null,null,null,null,null,null,null,null,42,null,{"$f":"IFBLANK(사원명부!B44)","v":""}]
[null,null,null,null,null,null,null,null,null,null,null,null,43,null,{"$f":"IFBLANK(사원명부!B45)","v":""}]
[null,null,null,null,null,null,null,null,null,null,null,null,44,null,{"$f":"IFBLANK(사원명부!B46)","v":""}]
[null,null,null,null,null,null,null,null,null,null,null,null,45,null,{"$f":"IFBLANK(사원명부!B47)","v":""}]
[null,null,null,null,null,null,null,null,null,null,null,null,46,null,{"$f":"IFBLANK(사원명부!B48)","v":""}]
[null,null,null,null,null,null,null,null,null,null,null,null,47,null,{"$f":"IFBLANK(사원명부!B49)","v":""}]
[null,null,null,null,null,null,null,null,null,null,null,null,48,null,{"$f":"IFBLANK(사원명부!B50)","v":""}]
[null,null,null,null,null,null,null,null,null,null,null,null,49,null,{"$f":"IFBLANK(사원명부!B51)","v":""}]
[null,null,null,null,null,null,null,null,null,null,null,null,50,null,{"$f":"IFBLANK(사원명부!B52)","v":""}]
[null,null,null,null,null,null,null,null,null,null,null,null,51,null,{"$f":"IFBLANK(사원명부!B53)","v":""}]
[null,null,null,null,null,null,null,null,null,null,null,null,52,null,{"$f":"IFBLANK(사원명부!B54)","v":""}]
[null,null,null,null,null,null,null,null,null,null,null,null,53,null,{"$f":"IFBLANK(사원명부!B55)","v":""}]
[null,null,null,null,null,null,null,null,null,null,null,null,54,null,{"$f":"IFBLANK(사원명부!B56)","v":""}]
[null,null,null,null,null,null,null,null,null,null,null,null,55,null,{"$f":"IFBLANK(사원명부!B57)","v":""}]
[null,null,null,null,null,null,null,null,null,null,null,null,56,null,{"$f":"IFBLANK(사원명부!B58)","v":""}]
[null,null,null,null,null,null,null,null,null,null,null,null,57,null,{"$f":"IFBLANK(사원명부!B59)","v":""}]
[null,null,null,null,null,null,null,null,null,null,null,null,58,null,{"$f":"IFBLANK(사원명부!B60)","v":""}]
[null,null,null,null,null,null,null,null,null,null,null,null,59,null,{"$f":"IFBLANK(사원명부!B61)","v":""}]
[null,null,null,null,null,null,null,null,null,null,null,null,60,null,{"$f":"IFBLANK(사원명부!B62)","v":""}]
[null,null,null,null,null,null,null,null,null,null,null,null,61,null,{"$f":"IFBLANK(사원명부!B63)","v":""}]
[null,null,null,null,null,null,null,null,null,null,null,null,62,null,{"$f":"IFBLANK(사원명부!B64)","v":""}]
[null,null,null,null,null,null,null,null,null,null,null,null,63,null,{"$f":"IFBLANK(사원명부!B65)","v":""}]
[null,null,null,null,null,null,null,null,null,null,null,null,64,null,{"$f":"IFBLANK(사원명부!B66)","v":""}]
[null,null,null,null,null,null,null,null,null,null,null,null,65,null,{"$f":"IFBLANK(사원명부!B67)","v":""}]
[null,null,null,null,null,null,null,null,null,null,null,null,66,null,{"$f":"IFBLANK(사원명부!B68)","v":""}]
[null,null,null,null,null,null,null,null,null,null,null,null,67,null,{"$f":"IFBLANK(사원명부!B69)","v":""}]
[null,null,null,null,null,null,null,null,null,null,null,null,68,null,{"$f":"IFBLANK(사원명부!B70)","v":""}]
[null,null,null,null,null,null,null,null,null,null,null,null,69,null,{"$f":"IFBLANK(사원명부!B71)","v":""}]
[null,null,null,null,null,null,null,null,null,null,null,null,70,null,{"$f":"IFBLANK(사원명부!B72)","v":""}]
[null,null,null,null,null,null,null,null,null,null,null,null,71,null,{"$f":"IFBLANK(사원명부!B73)","v":""}]
[null,null,null,null,null,null,null,null,null,null,null,null,72,null,{"$f":"IFBLANK(사원명부!B74)","v":""}]
[null,null,null,null,null,null,null,null,null,null,null,null,73,null,{"$f":"IFBLANK(사원명부!B75)","v":""}]
[null,null,null,null,null,null,null,null,null,null,null,null,74,null,{"$f":"IFBLANK(사원명부!B76)","v":""}]
[null,null,null,null,null,null,null,null,null,null,null,null,75,null,{"$f":"IFBLANK(사원명부!B77)","v":""}]
[null,null,null,null,null,null,null,null,null,null,null,null,76,null,{"$f":"IFBLANK(사원명부!B78)","v":""}]
[null,null,null,null,null,null,null,null,null,null,null,null,77,null,{"$f":"IFBLANK(사원명부!B79)","v":""}]
[null,null,null,null,null,null,null,null,null,null,null,null,78,null,{"$f":"IFBLANK(사원명부!B80)","v":""}]
[null,null,null,null,null,null,null,null,null,null,null,null,79,null,{"$f":"IFBLANK(사원명부!B81)","v":""}]
[null,null,null,null,null,null,null,null,null,null,null,null,80,null,{"$f":"IFBLANK(사원명부!B82)","v":""}]
[null,null,null,null,null,null,null,null,null,null,null,null,81,null,{"$f":"IFBLANK(사원명부!B83)","v":""}]
[null,null,null,null,null,null,null,null,null,null,null,null,82,null,{"$f":"IFBLANK(사원명부!B84)","v":""}]
[null,null,null,null,null,null,null,null,null,null,null,null,83,null,{"$f":"IFBLANK(사원명부!B85)","v":""}]
[null,null,null,null,null,null,null,null,null,null,null,null,84,null,{"$f":"IFBLANK(사원명부!B86)","v":""}]
[null,null,null,null,null,null,null,null,null,null,null,null,85,null,{"$f":"IFBLANK(사원명부!B87)","v":""}]
[null,null,null,null,null,null,null,null,null,null,null,null,86,null,{"$f":"IFBLANK(사원명부!B88)","v":""}]
[null,null,null,null,null,null,null,null,null,null,null,null,87,null,{"$f":"IFBLANK(사원명부!B89)","v":""}]
[null,null,null,null,null,null,null,null,null,null,null,null,88,null,{"$f":"IFBLANK(사원명부!B90)","v":""}]
[null,null,null,null,null,null,null,null,null,null,null,null,89,null,{"$f":"IFBLANK(사원명부!B91)","v":""}]
[null,null,null,null,null,null,null,null,null,null,null,null,90,null,{"$f":"IFBLANK(사원명부!B92)","v":""}]
[null,null,null,null,null,null,null,null,null,null,null,null,91,null,{"$f":"IFBLANK(사원명부!B93)","v":""}]
[null,null,null,null,null,null,null,null,null,null,null,null,92,null,{"$f":"IFBLANK(사원명부!B94)","v":""}]
[null,null,null,null,null,null,null,null,null,null,null,null,93,null,{"$f":"IFBLANK(사원명부!B95)","v":""}]
[null,null,null,null,null,null,null,null,null,null,null,null,94,null,{"$f":"IFBLANK(사원명부!B96)","v":""}]
[null,null,null,null,null,null,null,null,null,null,null,null,95,null,{"$f":"IFBLANK(사원명부!B97)","v":""}]
[null,null,null,null,null,null,null,null,null,null,null,null,96,null,{"$f":"IFBLANK(사원명부!B98)","v":""}]
[null,null,null,null,null,null,null,null,null,null,null,null,97,null,{"$f":"IFBLANK(사원명부!B99)","v":""}]
[null,null,null,null,null,null,null,null,null,null,null,null,98,null,{"$f":"IFBLANK(사원명부!B100)","v":""}]
[null,null,null,null,null,null,null,null,null,null,null,null,99,null,{"$f":"IFBLANK(사원명부!B101)","v":""}]
[null,null,null,null,null,null,null,null,null,null,null,null,100,null,{"$f":"IFBLANK(사원명부!B102)","v":""}]
[null,null,null,null,null,null,null,null,null,null,null,null,null,null,""]
[null,null,null,null,null,null,null,null,null,null,null,null,null,null,""]
[null,null,null,null,null,null,null,null,null,null,null,null,null,null,""]
[null,null,null,null,null,null,null,null,null,null,null,null,null,null,""]
[null,null,null,null,null,null,null,null,null,null,null,null,null,null,""]
[null,null,null,null,null,null,null,null,null,null,null,null,null,null,""]
[null,null,null,null,null,null,null,null,null,null,null,null,null,null,""]
[null,null,null,null,null,null,null,null,null,null,null,null,null,null,""]
[null,null,null,null,null,null,null,null,null,null,null,null,null,null,""]
[null,null,null,null,null,null,null,null,null,null,null,null,null,null,""]
[null,null,null,null,null,null,null,null,null,null,null,null,null,null,""]
[null,null,null,null,null,null,null,null,null,null,null,null,null,null,""]
[null,null,null,null,null,null,null,null,null,null,null,null,null,null,""]

{"sheet":"계약변경","index":49,"n_rows":75,"n_cols":14,"rows_kept":75,"cut":false,"hidden":false,"merged":[[3,13,3,17],[4,13,4,17],[195,6,195,7],[195,8,195,9],[196,6,196,7],[196,8,196,9],[197,6,197,7],[197,8,197,9],[192,6,192,7],[192,8,192,9],[193,6,193,7],[193,8,193,9],[194,6,194,7],[194,8,194,9],[189,6,189,7],[189,8,189,9],[190,6,190,7],[190,8,190,9],[191,6,191,7],[191,8,191,9],[186,6,186,7],[186,8,186,9],[187,6,187,7],[187,8,187,9],[188,6,188,7],[188,8,188,9],[183,6,183,7],[183,8,183,9],[184,6,184,7],[184,8,184,9],[185,6,185,7],[185,8,185,9],[180,6,180,7],[180,8,180,9],[181,6,181,7],[181,8,181,9],[182,6,182,7],[182,8,182,9],[177,6,177,7],[177,8,177,9],[178,6,178,7],[178,8,178,9],[179,6,179,7],[179,8,179,9],[174,6,174,7],[174,8,174,9],[175,6,175,7],[175,8,175,9],[176,6,176,7],[176,8,176,9],[171,6,171,7],[171,8,171,9],[172,6,172,7],[172,8,172,9],[173,6,173,7],[173,8,173,9],[168,6,168,7],[168,8,168,9],[169,6,169,7],[169,8,169,9],[170,6,170,7],[170,8,170,9],[165,6,165,7],[165,8,165,9],[166,6,166,7],[166,8,166,9],[167,6,167,7],[167,8,167,9],[162,6,162,7],[162,8,162,9],[163,6,163,7],[163,8,163,9],[164,6,164,7],[164,8,164,9],[159,6,159,7],[159,8,159,9],[160,6,160,7],[160,8,160,9],[161,6,161,7],[161,8,161,9],[156,6,156,7],[156,8,156,9],[157,6,157,7],[157,8,157,9],[158,6,158,7],[158,8,158,9],[153,6,153,7],[153,8,153,9],[154,6,154,7],[154,8,154,9],[155,6,155,7],[155,8,155,9],[150,6,150,7],[150,8,150,9],[151,6,151,7],[151,8,151,9],[152,6,152,7],[152,8,152,9],[147,6,147,7],[147,8,147,9],[148,6,148,7],[148,8,148,9],[149,6,149,7],[149,8,149,9],[144,6,144,7],[144,8,144,9],[145,6,145,7],[145,8,145,9],[146,6,146,7],[146,8,146,9],[141,6,141,7],[141,8,141,9],[142,6,142,7],[142,8,142,9],[143,6,143,7],[143,8,143,9],[138,6,138,7],[138,8,138,9],[139,6,139,7],[139,8,139,9],[140,6,140,7],[140,8,140,9],[135,6,135,7],[135,8,135,9],[136,6,136,7],[136,8,136,9],[137,6,137,7],[137,8,137,9],[132,6,132,7],[132,8,132,9],[133,6,133,7],[133,8,133,9],[134,6,134,7],[134,8,134,9],[129,6,129,7],[129,8,129,9],[130,6,130,7],[130,8,130,9],[131,6,131,7],[131,8,131,9],[126,6,126,7],[126,8,126,9],[127,6,127,7],[127,8,127,9],[128,6,128,7],[128,8,128,9],[123,6,123,7],[123,8,123,9],[124,6,124,7],[124,8,124,9],[125,6,125,7],[125,8,125,9],[120,6,120,7],[120,8,120,9],[121,6,121,7],[121,8,121,9],[122,6,122,7],[122,8,122,9],[117,6,117,7],[117,8,117,9],[118,6,118,7],[118,8,118,9],[119,6,119,7],[119,8,119,9],[114,6,114,7],[114,8,114,9],[115,6,115,7],[115,8,115,9],[116,6,116,7],[116,8,116,9],[111,6,111,7],[111,8,111,9],[112,6,112,7],[112,8,112,9],[113,6,113,7],[113,8,113,9],[108,6,108,7],[108,8,108,9],[109,6,109,7],[109,8,109,9],[110,6,110,7],[110,8,110,9],[105,6,105,7],[105,8,105,9],[106,6,106,7],[106,8,106,9],[107,6,107,7],[107,8,107,9],[102,6,102,7],[102,8,102,9],[103,6,103,7],[103,8,103,9],[104,6,104,7],[104,8,104,9],[99,6,99,7],[99,8,99,9],[100,6,100,7],[100,8,100,9],[101,6,101,7],[101,8,101,9],[96,6,96,7],[96,8,96,9],[97,6,97,7],[97,8,97,9],[98,6,98,7],[98,8,98,9],[93,6,93,7],[93,8,93,9],[94,6,94,7],[94,8,94,9],[95,6,95,7],[95,8,95,9],[90,6,90,7],[90,8,90,9],[91,6,91,7],[91,8,91,9],[92,6,92,7],[92,8,92,9],[87,6,87,7],[87,8,87,9],[88,6,88,7],[88,8,88,9],[89,6,89,7],[89,8,89,9],[84,6,84,7],[84,8,84,9],[85,6,85,7],[85,8,85,9],[86,6,86,7],[86,8,86,9],[81,6,81,7],[81,8,81,9],[82,6,82,7],[82,8,82,9],[83,6,83,7],[83,8,83,9],[78,6,78,7],[78,8,78,9],[79,6,79,7],[79,8,79,9],[80,6,80,7],[80,8,80,9],[75,6,75,7],[75,8,75,9],[76,6,76,7],[76,8,76,9],[77,6,77,7],[77,8,77,9],[72,6,72,7],[72,8,72,9],[73,6,73,7],[73,8,73,9],[74,6,74,7],[74,8,74,9],[69,6,69,7],[69,8,69,9],[70,6,70,7],[70,8,70,9],[71,6,71,7],[71,8,71,9],[66,6,66,7],[66,8,66,9],[67,6,67,7],[67,8,67,9],[68,6,68,7],[68,8,68,9],[63,6,63,7],[63,8,63,9],[64,6,64,7],[64,8,64,9],[65,6,65,7],[65,8,65,9],[60,6,60,7],[60,8,60,9],[61,6,61,7],[61,8,61,9],[62,6,62,7],[62,8,62,9],[57,6,57,7],[57,8,57,9],[58,6,58,7],[58,8,58,9],[59,6,59,7],[59,8,59,9],[54,6,54,7],[54,8,54,9],[55,6,55,7],[55,8,55,9],[56,6,56,7],[56,8,56,9],[51,6,51,7],[51,8,51,9],[52,6,52,7],[52,8,52,9],[53,6,53,7],[53,8,53,9],[48,6,48,7],[48,8,48,9],[49,6,49,7],[49,8,49,9],[50,6,50,7],[50,8,50,9],[45,6,45,7],[45,8,45,9],[46,6,46,7],[46,8,46,9],[47,6,47,7],[47,8,47,9],[42,6,42,7],[42,8,42,9],[43,6,43,7],[43,8,43,9],[44,6,44,7],[44,8,44,9],[39,6,39,7],[39,8,39,9],[40,6,40,7],[40,8,40,9],[41,6,41,7],[41,8,41,9],[36,6,36,7],[36,8,36,9],[37,6,37,7],[37,8,37,9],[38,6,38,7],[38,8,38,9],[33,6,33,7],[33,8,33,9],[34,6,34,7],[34,8,34,9],[35,6,35,7],[35,8,35,9],[30,6,30,7],[30,8,30,9],[31,6,31,7],[31,8,31,9],[32,6,32,7],[32,8,32,9],[27,6,27,7],[27,8,27,9],[28,6,28,7],[28,8,28,9],[29,6,29,7],[29,8,29,9],[24,6,24,7],[24,8,24,9],[25,6,25,7],[25,8,25,9],[26,6,26,7],[26,8,26,9],[21,6,21,7],[21,8,21,9],[22,6,22,7],[22,8,22,9],[23,6,23,7],[23,8,23,9],[18,6,18,7],[18,8,18,9],[19,6,19,7],[19,8,19,9],[20,6,20,7],[20,8,20,9],[15,6,15,7],[15,8,15,9],[16,6,16,7],[16,8,16,9],[17,6,17,7],[17,8,17,9],[12,6,12,7],[12,8,12,9],[13,6,13,7],[13,8,13,9],[14,6,14,7],[14,8,14,9],[9,8,9,9],[10,6,10,7],[10,8,10,9],[11,6,11,7],[11,8,11,9],[7,6,7,7],[7,8,7,9],[8,6,8,7],[8,8,8,9],[1,6,1,18],[2,6,2,18],[3,6,3,7],[3,8,3,10],[4,6,4,7],[4,8,4,10],[21,0,22,0],[21,3,22,3],[21,4,22,4],[5,0,6,0],[5,3,6,3],[5,4,6,4],[7,0,8,0],[7,3,8,3],[7,4,8,4],[17,0,18,0],[17,3,18,3],[17,4,18,4],[19,0,20,0],[19,3,20,3],[19,4,20,4],[13,0,14,0],[13,3,14,3],[9,6,9,7],[3,4,4,4],[3,3,4,3],[3,0,4,0],[0,0,0,4],[13,4,14,4],[15,0,16,0],[15,3,16,3],[15,4,16,4],[9,0,10,0],[9,3,10,3],[9,4,10,4],[11,0,12,0],[11,3,12,3],[11,4,12,4]]}
["근로 계약서 변경 내역"]
[null,null,null,"이름",{"$f":"IFBLANK(I5)","v":"테스트2"},null,"근로계약서를 해마다 갱신해도 되지만"]
["연번","기간","변경사항","근로자(서명)","사용자(인)",null,"변경내역만 기록하여 근로자의 사인을 받아 원계약서에 첨부하여도 됩니다."]
[1,{"$f":"$N$5+A4","v":2021},null,{"$f":"IFBLANK($E$2)","v":"테스트2"},{"$f":"IFBLANK(요양기관기초정보!$C$6)","v":"홍길동"},null,"사원번호",null,2,null,null,null,null,"최초계약연도/또는 갱신연도"]
[null,{"$f":"$N$5+A4","v":2021},null,null,null,null,"이    름",null,{"$f":"IFERROR(IF($I$4=\"\",\"\",VLOOKUP(I4,사원명부!A2:B100,2,FALSE)),\"없어요\")","v":"테스트2"},null,null,null,null,2020]
[2,{"$f":"$N$5+A6","v":2022},null,{"$f":"IFBLANK($E$2)","v":"테스트2"},{"$f":"IFBLANK(요양기관기초정보!$C$6)","v":"홍길동"}]
[null,{"$f":"$N$5+A6","v":2022}]
[3,{"$f":"$N$5+A8","v":2023},null,{"$f":"IFBLANK($E$2)","v":"테스트2"},{"$f":"IFBLANK(요양기관기초정보!$C$6)","v":"홍길동"},null,1,null,{"$f":"IFERROR(IF(G8=\"\",\"\",VLOOKUP(G8,사원명부!$A$2:$B$100,2,FALSE)),\"\")","v":"테스트1"}]
[null,{"$f":"$N$5+A8","v":2023},null,null,null,null,2,null,{"$f":"IFERROR(IF(G9=\"\",\"\",VLOOKUP(G9,사원명부!$A$2:$B$100,2,FALSE)),\"\")","v":"테스트2"}]
[4,{"$f":"$N$5+A10","v":2024},null,{"$f":"IFBLANK($E$2)","v":"테스트2"},{"$f":"IFBLANK(요양기관기초정보!$C$6)","v":"홍길동"},null,3,null,{"$f":"IFERROR(IF(G10=\"\",\"\",VLOOKUP(G10,사원명부!$A$2:$B$100,2,FALSE)),\"\")","v":""}]
[null,{"$f":"$N$5+A10","v":2024},null,null,null,null,4,null,{"$f":"IFERROR(IF(G11=\"\",\"\",VLOOKUP(G11,사원명부!$A$2:$B$100,2,FALSE)),\"\")","v":""}]
[5,{"$f":"$N$5+A12","v":2025},null,{"$f":"IFBLANK($E$2)","v":"테스트2"},{"$f":"IFBLANK(요양기관기초정보!$C$6)","v":"홍길동"},null,5,null,{"$f":"IFERROR(IF(G12=\"\",\"\",VLOOKUP(G12,사원명부!$A$2:$B$100,2,FALSE)),\"\")","v":""}]
[null,{"$f":"$N$5+A12","v":2025},null,null,null,null,6,null,{"$f":"IFERROR(IF(G13=\"\",\"\",VLOOKUP(G13,사원명부!$A$2:$B$100,2,FALSE)),\"\")","v":""}]
[6,{"$f":"$N$5+A14","v":2026},null,{"$f":"IFBLANK($E$2)","v":"테스트2"},{"$f":"IFBLANK(요양기관기초정보!$C$6)","v":"홍길동"},null,7,null,{"$f":"IFERROR(IF(G14=\"\",\"\",VLOOKUP(G14,사원명부!$A$2:$B$100,2,FALSE)),\"\")","v":""}]
[null,{"$f":"$N$5+A14","v":2026},null,null,null,null,8,null,{"$f":"IFERROR(IF(G15=\"\",\"\",VLOOKUP(G15,사원명부!$A$2:$B$100,2,FALSE)),\"\")","v":""}]
[7,{"$f":"$N$5+A16","v":2027},null,{"$f":"IFBLANK($E$2)","v":"테스트2"},{"$f":"IFBLANK(요양기관기초정보!$C$6)","v":"홍길동"},null,9,null,{"$f":"IFERROR(IF(G16=\"\",\"\",VLOOKUP(G16,사원명부!$A$2:$B$100,2,FALSE)),\"\")","v":""}]
[null,{"$f":"$N$5+A16","v":2027},null,null,null,null,10,null,{"$f":"IFERROR(IF(G17=\"\",\"\",VLOOKUP(G17,사원명부!$A$2:$B$100,2,FALSE)),\"\")","v":""}]
[8,{"$f":"$N$5+A18","v":2028},null,{"$f":"IFBLANK($E$2)","v":"테스트2"},{"$f":"IFBLANK(요양기관기초정보!$C$6)","v":"홍길동"},null,11,null,{"$f":"IFERROR(IF(G18=\"\",\"\",VLOOKUP(G18,사원명부!$A$2:$B$100,2,FALSE)),\"\")","v":""}]
[null,{"$f":"$N$5+A18","v":2028},null,null,null,null,12,null,{"$f":"IFERROR(IF(G19=\"\",\"\",VLOOKUP(G19,사원명부!$A$2:$B$100,2,FALSE)),\"\")","v":""}]
[9,{"$f":"$N$5+A20","v":2029},null,{"$f":"IFBLANK($E$2)","v":"테스트2"},{"$f":"IFBLANK(요양기관기초정보!$C$6)","v":"홍길동"},null,13,null,{"$f":"IFERROR(IF(G20=\"\",\"\",VLOOKUP(G20,사원명부!$A$2:$B$100,2,FALSE)),\"\")","v":""}]
[null,{"$f":"$N$5+A20","v":2029},null,null,null,null,14,null,{"$f":"IFERROR(IF(G21=\"\",\"\",VLOOKUP(G21,사원명부!$A$2:$B$100,2,FALSE)),\"\")","v":""}]
[10,{"$f":"$N$5+A22","v":2030},null,{"$f":"IFBLANK($E$2)","v":"테스트2"},{"$f":"IFBLANK(요양기관기초정보!$C$6)","v":"홍길동"},null,15,null,{"$f":"IFERROR(IF(G22=\"\",\"\",VLOOKUP(G22,사원명부!$A$2:$B$100,2,FALSE)),\"\")","v":""}]
[null,{"$f":"$N$5+A22","v":2030},null,null,null,null,16,null,{"$f":"IFERROR(IF(G23=\"\",\"\",VLOOKUP(G23,사원명부!$A$2:$B$100,2,FALSE)),\"\")","v":""}]
[null,null,null,null,null,null,17,null,{"$f":"IFERROR(IF(G24=\"\",\"\",VLOOKUP(G24,사원명부!$A$2:$B$100,2,FALSE)),\"\")","v":""}]
[null,null,null,null,null,null,18,null,{"$f":"IFERROR(IF(G25=\"\",\"\",VLOOKUP(G25,사원명부!$A$2:$B$100,2,FALSE)),\"\")","v":""}]
[null,null,null,null,null,null,19,null,{"$f":"IFERROR(IF(G26=\"\",\"\",VLOOKUP(G26,사원명부!$A$2:$B$100,2,FALSE)),\"\")","v":""}]
[null,null,null,null,null,null,20,null,{"$f":"IFERROR(IF(G27=\"\",\"\",VLOOKUP(G27,사원명부!$A$2:$B$100,2,FALSE)),\"\")","v":""}]
[null,null,null,null,null,null,21,null,{"$f":"IFERROR(IF(G28=\"\",\"\",VLOOKUP(G28,사원명부!$A$2:$B$100,2,FALSE)),\"\")","v":""}]
[null,null,null,null,null,null,22,null,{"$f":"IFERROR(IF(G29=\"\",\"\",VLOOKUP(G29,사원명부!$A$2:$B$100,2,FALSE)),\"\")","v":""}]
[null,null,null,null,null,null,23,null,{"$f":"IFERROR(IF(G30=\"\",\"\",VLOOKUP(G30,사원명부!$A$2:$B$100,2,FALSE)),\"\")","v":""}]
[null,null,null,null,null,null,24,null,{"$f":"IFERROR(IF(G31=\"\",\"\",VLOOKUP(G31,사원명부!$A$2:$B$100,2,FALSE)),\"\")","v":""}]
[null,null,null,null,null,null,25,null,{"$f":"IFERROR(IF(G32=\"\",\"\",VLOOKUP(G32,사원명부!$A$2:$B$100,2,FALSE)),\"\")","v":""}]
[null,null,null,null,null,null,26,null,{"$f":"IFERROR(IF(G33=\"\",\"\",VLOOKUP(G33,사원명부!$A$2:$B$100,2,FALSE)),\"\")","v":""}]
[null,null,null,null,null,null,27,null,{"$f":"IFERROR(IF(G34=\"\",\"\",VLOOKUP(G34,사원명부!$A$2:$B$100,2,FALSE)),\"\")","v":""}]
[null,null,null,null,null,null,28,null,{"$f":"IFERROR(IF(G35=\"\",\"\",VLOOKUP(G35,사원명부!$A$2:$B$100,2,FALSE)),\"\")","v":""}]
[null,null,null,null,null,null,29,null,{"$f":"IFERROR(IF(G36=\"\",\"\",VLOOKUP(G36,사원명부!$A$2:$B$100,2,FALSE)),\"\")","v":""}]
[null,null,null,null,null,null,30,null,{"$f":"IFERROR(IF(G37=\"\",\"\",VLOOKUP(G37,사원명부!$A$2:$B$100,2,FALSE)),\"\")","v":""}]
[null,null,null,null,null,null,31,null,{"$f":"IFERROR(IF(G38=\"\",\"\",VLOOKUP(G38,사원명부!$A$2:$B$100,2,FALSE)),\"\")","v":""}]
[null,null,null,null,null,null,32,null,{"$f":"IFERROR(IF(G39=\"\",\"\",VLOOKUP(G39,사원명부!$A$2:$B$100,2,FALSE)),\"\")","v":""}]
[null,null,null,null,null,null,33,null,{"$f":"IFERROR(IF(G40=\"\",\"\",VLOOKUP(G40,사원명부!$A$2:$B$100,2,FALSE)),\"\")","v":""}]
[null,null,null,null,null,null,34,null,{"$f":"IFERROR(IF(G41=\"\",\"\",VLOOKUP(G41,사원명부!$A$2:$B$100,2,FALSE)),\"\")","v":""}]
[null,null,null,null,null,null,35,null,{"$f":"IFERROR(IF(G42=\"\",\"\",VLOOKUP(G42,사원명부!$A$2:$B$100,2,FALSE)),\"\")","v":""}]
[null,null,null,null,null,null,36,null,{"$f":"IFERROR(IF(G43=\"\",\"\",VLOOKUP(G43,사원명부!$A$2:$B$100,2,FALSE)),\"\")","v":""}]
[null,null,null,null,null,null,37,null,{"$f":"IFERROR(IF(G44=\"\",\"\",VLOOKUP(G44,사원명부!$A$2:$B$100,2,FALSE)),\"\")","v":""}]
[null,null,null,null,null,null,38,null,{"$f":"IFERROR(IF(G45=\"\",\"\",VLOOKUP(G45,사원명부!$A$2:$B$100,2,FALSE)),\"\")","v":""}]
[null,null,null,null,null,null,39,null,{"$f":"IFERROR(IF(G46=\"\",\"\",VLOOKUP(G46,사원명부!$A$2:$B$100,2,FALSE)),\"\")","v":""}]
[null,null,null,null,null,null,40,null,{"$f":"IFERROR(IF(G47=\"\",\"\",VLOOKUP(G47,사원명부!$A$2:$B$100,2,FALSE)),\"\")","v":""}]
[null,null,null,null,null,null,41,null,{"$f":"IFERROR(IF(G48=\"\",\"\",VLOOKUP(G48,사원명부!$A$2:$B$100,2,FALSE)),\"\")","v":""}]
[null,null,null,null,null,null,42,null,{"$f":"IFERROR(IF(G49=\"\",\"\",VLOOKUP(G49,사원명부!$A$2:$B$100,2,FALSE)),\"\")","v":""}]
[null,null,null,null,null,null,43,null,{"$f":"IFERROR(IF(G50=\"\",\"\",VLOOKUP(G50,사원명부!$A$2:$B$100,2,FALSE)),\"\")","v":""}]
[null,null,null,null,null,null,44,null,{"$f":"IFERROR(IF(G51=\"\",\"\",VLOOKUP(G51,사원명부!$A$2:$B$100,2,FALSE)),\"\")","v":""}]
[null,null,null,null,null,null,45,null,{"$f":"IFERROR(IF(G52=\"\",\"\",VLOOKUP(G52,사원명부!$A$2:$B$100,2,FALSE)),\"\")","v":""}]
[null,null,null,null,null,null,46,null,{"$f":"IFERROR(IF(G53=\"\",\"\",VLOOKUP(G53,사원명부!$A$2:$B$100,2,FALSE)),\"\")","v":""}]
[null,null,null,null,null,null,47,null,{"$f":"IFERROR(IF(G54=\"\",\"\",VLOOKUP(G54,사원명부!$A$2:$B$100,2,FALSE)),\"\")","v":""}]
[null,null,null,null,null,null,48,null,{"$f":"IFERROR(IF(G55=\"\",\"\",VLOOKUP(G55,사원명부!$A$2:$B$100,2,FALSE)),\"\")","v":""}]
[null,null,null,null,null,null,49,null,{"$f":"IFERROR(IF(G56=\"\",\"\",VLOOKUP(G56,사원명부!$A$2:$B$100,2,FALSE)),\"\")","v":""}]
[null,null,null,null,null,null,50,null,{"$f":"IFERROR(IF(G57=\"\",\"\",VLOOKUP(G57,사원명부!$A$2:$B$100,2,FALSE)),\"\")","v":""}]
[null,null,null,null,null,null,51,null,{"$f":"IFERROR(IF(G58=\"\",\"\",VLOOKUP(G58,사원명부!$A$2:$B$100,2,FALSE)),\"\")","v":""}]
[null,null,null,null,null,null,52,null,{"$f":"IFERROR(IF(G59=\"\",\"\",VLOOKUP(G59,사원명부!$A$2:$B$100,2,FALSE)),\"\")","v":""}]
[null,null,null,null,null,null,53,null,{"$f":"IFERROR(IF(G60=\"\",\"\",VLOOKUP(G60,사원명부!$A$2:$B$100,2,FALSE)),\"\")","v":""}]
[null,null,null,null,null,null,54,null,{"$f":"IFERROR(IF(G61=\"\",\"\",VLOOKUP(G61,사원명부!$A$2:$B$100,2,FALSE)),\"\")","v":""}]
[null,null,null,null,null,null,55,null,{"$f":"IFERROR(IF(G62=\"\",\"\",VLOOKUP(G62,사원명부!$A$2:$B$100,2,FALSE)),\"\")","v":""}]
[null,null,null,null,null,null,56,null,{"$f":"IFERROR(IF(G63=\"\",\"\",VLOOKUP(G63,사원명부!$A$2:$B$100,2,FALSE)),\"\")","v":""}]
[null,null,null,null,null,null,57,null,{"$f":"IFERROR(IF(G64=\"\",\"\",VLOOKUP(G64,사원명부!$A$2:$B$100,2,FALSE)),\"\")","v":""}]
[null,null,null,null,null,null,58,null,{"$f":"IFERROR(IF(G65=\"\",\"\",VLOOKUP(G65,사원명부!$A$2:$B$100,2,FALSE)),\"\")","v":""}]
[null,null,null,null,null,null,59,null,{"$f":"IFERROR(IF(G66=\"\",\"\",VLOOKUP(G66,사원명부!$A$2:$B$100,2,FALSE)),\"\")","v":""}]
[null,null,null,null,null,null,60,null,{"$f":"IFERROR(IF(G67=\"\",\"\",VLOOKUP(G67,사원명부!$A$2:$B$100,2,FALSE)),\"\")","v":""}]
[null,null,null,null,null,null,61,null,{"$f":"IFERROR(IF(G68=\"\",\"\",VLOOKUP(G68,사원명부!$A$2:$B$100,2,FALSE)),\"\")","v":""}]
[null,null,null,null,null,null,62,null,{"$f":"IFERROR(IF(G69=\"\",\"\",VLOOKUP(G69,사원명부!$A$2:$B$100,2,FALSE)),\"\")","v":""}]
[null,null,null,null,null,null,63,null,{"$f":"IFERROR(IF(G70=\"\",\"\",VLOOKUP(G70,사원명부!$A$2:$B$100,2,FALSE)),\"\")","v":""}]
[null,null,null,null,null,null,64,null,{"$f":"IFERROR(IF(G71=\"\",\"\",VLOOKUP(G71,사원명부!$A$2:$B$100,2,FALSE)),\"\")","v":""}]
[null,null,null,null,null,null,65,null,{"$f":"IFERROR(IF(G72=\"\",\"\",VLOOKUP(G72,사원명부!$A$2:$B$100,2,FALSE)),\"\")","v":""}]
[null,null,null,null,null,null,66,null,{"$f":"IFERROR(IF(G73=\"\",\"\",VLOOKUP(G73,사원명부!$A$2:$B$100,2,FALSE)),\"\")","v":""}]
[null,null,null,null,null,null,67,null,{"$f":"IFERROR(IF(G74=\"\",\"\",VLOOKUP(G74,사원명부!$A$2:$B$100,2,FALSE)),\"\")","v":""}]
[null,null,null,null,null,null,68,null,{"$f":"IFERROR(IF(G75=\"\",\"\",VLOOKUP(G75,사원명부!$A$2:$B$100,2,FALSE)),\"\")","v":""}]

{"sheet":"인사","index":50,"n_rows":198,"n_cols":22,"rows_kept":198,"cut":false,"hidden":false,"merged":[[68,13,68,14],[68,15,68,16],[16,0,16,9],[7,0,7,1],[27,0,27,9],[18,0,18,9],[22,0,22,9],[30,0,30,9],[31,0,31,9],[32,1,32,4],[25,6,25,8],[26,5,26,7],[26,8,26,9],[32,6,32,9],[33,6,33,9],[34,1,34,9],[33,1,33,4],[45,5,45,7],[46,4,46,6],[46,7,46,8],[49,0,49,9],[50,0,50,9],[51,0,51,9],[52,1,52,3],[0,0,0,9],[1,0,1,9],[2,0,2,9],[3,1,4,1],[3,2,3,3],[3,4,3,5],[3,6,3,7],[3,8,3,9],[4,2,4,3],[4,4,4,5],[4,6,4,7],[4,8,4,9],[5,2,5,9],[6,0,6,1],[3,0,5,0],[19,0,21,0],[29,0,29,9],[6,2,6,9],[17,0,17,9],[8,0,8,1],[8,2,8,9],[9,0,11,1],[9,2,9,9],[10,2,10,9],[11,2,11,9],[12,0,12,9],[13,0,13,9],[14,0,14,9],[15,0,15,9],[52,4,52,6],[52,7,52,9],[35,1,35,9],[36,0,36,9],[44,0,44,9],[47,0,47,9],[5,13,5,14],[5,15,5,17],[6,13,6,14],[6,15,6,17],[7,13,7,14],[7,15,7,16],[8,13,8,14],[8,15,8,16],[9,13,9,14],[9,15,9,16],[10,13,10,14],[10,15,10,16],[24,15,24,16],[25,13,25,14],[25,15,25,16],[20,13,20,14],[20,15,20,16],[21,13,21,14],[73,1,73,9],[74,1,74,9],[85,0,85,9],[81,3,81,9],[76,0,76,9],[67,0,67,9],[69,0,69,9],[71,0,72,0],[71,1,71,3],[71,4,71,6],[71,7,71,9],[72,1,72,3],[72,4,72,6],[72,7,72,9],[70,0,70,9],[55,1,55,9],[66,0,66,9],[56,0,56,9],[11,13,11,14],[11,15,11,16],[12,13,12,14],[12,15,12,16],[13,13,13,14],[13,15,13,16],[17,13,17,14],[17,15,17,16],[18,13,18,14],[18,15,18,16],[19,13,19,14],[19,15,19,16],[14,13,14,14],[14,15,14,16],[15,13,15,14],[15,15,15,16],[16,13,16,14],[16,15,16,16],[23,13,23,14],[23,15,23,16],[24,13,24,14],[21,15,21,16],[22,13,22,14],[22,15,22,16],[29,13,29,14],[29,15,29,16],[30,13,30,14],[30,15,30,16],[31,13,31,14],[31,15,31,16],[26,13,26,14],[26,15,26,16],[27,13,27,14],[27,15,27,16],[28,13,28,14],[28,15,28,16],[35,13,35,14],[35,15,35,16],[36,13,36,14],[36,15,36,16],[37,13,37,14],[37,15,37,16],[32,13,32,14],[32,15,32,16],[33,13,33,14],[33,15,33,16],[34,13,34,14],[34,15,34,16],[41,13,41,14],[41,15,41,16],[42,13,42,14],[42,15,42,16],[43,13,43,14],[43,15,43,16],[38,13,38,14],[38,15,38,16],[39,13,39,14],[39,15,39,16],[40,13,40,14],[40,15,40,16],[47,13,47,14],[47,15,47,16],[48,13,48,14],[48,15,48,16],[49,13,49,14],[49,15,49,16],[44,13,44,14],[44,15,44,16],[45,13,45,14],[45,15,45,16],[46,13,46,14],[46,15,46,16],[53,13,53,14],[53,15,53,16],[54,13,54,14],[54,15,54,16],[55,13,55,14],[55,15,55,16],[50,13,50,14],[50,15,50,16],[51,13,51,14],[51,15,51,16],[52,13,52,14],[52,15,52,16],[59,13,59,14],[59,15,59,16],[60,13,60,14],[60,15,60,16],[61,13,61,14],[61,15,61,16],[56,13,56,14],[56,15,56,16],[57,13,57,14],[57,15,57,16],[58,13,58,14],[58,15,58,16],[65,13,65,14],[65,15,65,16],[66,13,66,14],[66,15,66,16],[67,13,67,14],[67,15,67,16],[62,13,62,14],[62,15,62,16],[63,13,63,14],[63,15,63,16],[64,13,64,14],[64,15,64,16],[72,13,72,14],[72,15,72,16],[73,13,73,14],[73,15,73,16],[74,13,74,14],[74,15,74,16],[69,13,69,14],[69,15,69,16],[70,13,70,14],[70,15,70,16],[71,13,71,14],[71,15,71,16],[78,13,78,14],[78,15,78,16],[79,13,79,14],[79,15,79,16],[75,13,75,14],[75,15,75,16],[76,13,76,14],[76,15,76,16],[77,13,77,14],[77,15,77,16],[83,13,83,14],[83,15,83,16],[84,13,84,14],[84,15,84,16],[85,13,85,14],[85,15,85,16],[80,13,80,14],[80,15,80,16],[81,13,81,14],[81,15,81,16],[82,13,82,14],[82,15,82,16],[89,13,89,14],[89,15,89,16],[90,13,90,14],[90,15,90,16],[91,13,91,14],[91,15,91,16],[86,13,86,14],[86,15,86,16],[87,13,87,14],[87,15,87,16],[88,13,88,14],[88,15,88,16],[95,13,95,14],[95,15,95,16],[96,13,96,14],[96,15,96,16],[97,13,97,14],[97,15,97,16],[92,13,92,14],[92,15,92,16],[93,13,93,14],[93,15,93,16],[94,13,94,14],[94,15,94,16],[101,13,101,14],[101,15,101,16],[102,13,102,14],[102,15,102,16],[103,13,103,14],[103,15,103,16],[98,13,98,14],[98,15,98,16],[99,13,99,14],[99,15,99,16],[100,13,100,14],[100,15,100,16],[107,13,107,14],[107,15,107,16],[108,13,108,14],[108,15,108,16],[109,13,109,14],[109,15,109,16],[104,13,104,14],[104,15,104,16],[105,13,105,14],[105,15,105,16],[106,13,106,14],[106,15,106,16],[113,13,113,14],[113,15,113,16],[114,13,114,14],[114,15,114,16],[115,13,115,14],[115,15,115,16],[110,13,110,14],[110,15,110,16],[111,13,111,14],[111,15,111,16],[112,13,112,14],[112,15,112,16],[119,13,119,14],[119,15,119,16],[120,13,120,14],[120,15,120,16],[121,13,121,14],[121,15,121,16],[116,13,116,14],[116,15,116,16],[117,13,117,14],[117,15,117,16],[118,13,118,14],[118,15,118,16],[125,13,125,14],[125,15,125,16],[126,13,126,14],[126,15,126,16],[127,13,127,14],[127,15,127,16],[122,13,122,14],[122,15,122,16],[123,13,123,14],[123,15,123,16],[124,13,124,14],[124,15,124,16],[131,13,131,14],[131,15,131,16],[132,13,132,14],[132,15,132,16],[133,13,133,14],[133,15,133,16],[128,13,128,14],[128,15,128,16],[129,13,129,14],[129,15,129,16],[130,13,130,14],[130,15,130,16],[137,13,137,14],[137,15,137,16],[138,13,138,14],[138,15,138,16],[139,13,139,14],[139,15,139,16],[134,13,134,14],[134,15,134,16],[135,13,135,14],[135,15,135,16],[136,13,136,14],[136,15,136,16],[143,13,143,14],[143,15,143,16],[144,13,144,14],[144,15,144,16],[145,13,145,14],[145,15,145,16],[140,13,140,14],[140,15,140,16],[141,13,141,14],[141,15,141,16],[142,13,142,14],[142,15,142,16],[149,13,149,14],[149,15,149,16],[150,13,150,14],[150,15,150,16],[151,13,151,14],[151,15,151,16],[146,13,146,14],[146,15,146,16],[147,13,147,14],[147,15,147,16],[148,13,148,14],[148,15,148,16],[155,13,155,14],[155,15,155,16],[156,13,156,14],[156,15,156,16],[157,13,157,14],[157,15,157,16],[152,13,152,14],[152,15,152,16],[153,13,153,14],[153,15,153,16],[154,13,154,14],[154,15,154,16],[161,13,161,14],[161,15,161,16],[162,13,162,14],[162,15,162,16],[163,13,163,14],[163,15,163,16],[158,13,158,14],[158,15,158,16],[159,13,159,14],[159,15,159,16],[160,13,160,14],[160,15,160,16],[167,13,167,14],[167,15,167,16],[168,13,168,14],[168,15,168,16],[169,13,169,14],[169,15,169,16],[164,13,164,14],[164,15,164,16],[165,13,165,14],[165,15,165,16],[166,13,166,14],[166,15,166,16],[173,13,173,14],[173,15,173,16],[174,13,174,14],[174,15,174,16],[175,13,175,14],[175,15,175,16],[170,13,170,14],[170,15,170,16],[171,13,171,14],[171,15,171,16],[172,13,172,14],[172,15,172,16],[179,13,179,14],[179,15,179,16],[180,13,180,14],[180,15,180,16],[181,13,181,14],[181,15,181,16],[176,13,176,14],[176,15,176,16],[177,13,177,14],[177,15,177,16],[178,13,178,14],[178,15,178,16],[185,15,185,16],[186,13,186,14],[186,15,186,16],[187,13,187,14],[187,15,187,16],[182,13,182,14],[182,15,182,16],[183,13,183,14],[183,15,183,16],[184,13,184,14],[184,15,184,16],[197,13,197,14],[197,15,197,16],[3,12,3,15],[3,16,3,18],[3,19,3,21],[194,13,194,14],[194,15,194,16],[195,13,195,14],[195,15,195,16],[196,13,196,14],[196,15,196,16],[191,13,191,14],[191,15,191,16],[192,13,192,14],[192,15,192,16],[193,13,193,14],[193,15,193,16],[188,13,188,14],[188,15,188,16],[189,13,189,14],[189,15,189,16],[190,13,190,14],[190,15,190,16],[185,13,185,14],[60,6,60,7],[79,5,79,7],[83,6,83,7],[19,6,19,7],[19,8,19,9],[20,6,20,7],[20,8,20,9],[21,2,21,9],[19,1,20,1],[19,2,19,3],[20,2,20,3],[19,4,19,5],[20,4,20,5],[57,0,57,9],[53,1,53,3],[53,4,53,6],[53,7,53,9],[52,0,53,0],[54,1,54,9],[58,4,58,5],[59,4,59,5],[60,4,60,5],[58,6,58,7],[59,6,59,7]]}
[]
["출 석 통 지 서"]
[]
["인적사항","① 성명","한글",null,{"$f":"IF(P7=\"없어요\",\"\",VLOOKUP(P6,사원명부!$A$2:$AB$150,2,FALSE))","v":"테스트2"},null,"② 소 속",null,{"$f":"IF(P7=\"없어요\",\"\",VLOOKUP(P6,사원명부!$A$2:$AB$150,8,FALSE))","v":"조제실"},null,null,"출석사유","3시간 지각 사유 소명",null,null,null,"장소",null,null,"3층 휴게실"]
[null,null,"한자",null,{"$f":"IF(P7=\"없어요\",\"\",IF(VLOOKUP(P6,사원명부!$A$2:$AB$150,3)=\"\",\"\",VLOOKUP(P6,사원명부!$A$2:$AB$150,3)))","v":""},null,"③ 직위(급)",null,{"$f":"IF(P7=\"없어요\",\"\",VLOOKUP(P6,사원명부!$A$2:$AB$150,9,FALSE))","v":"실장"},null,null,"출석일시",2020,"년",3,"월",5,"일",10,"시",30,"분"]
[null,"④ 주소",{"$f":"IF(P7=\"없어요\",\"\",VLOOKUP(P6,사원명부!$A$2:$AB$150,7,FALSE))","v":"서울시 서대문구연세로 41"},null,null,null,null,null,null,null,null,null,null,"사원번호",null,2]
["⑤ 출석이유",null,{"$f":"IFBLANK(M4)","v":"3시간 지각 사유 소명"},null,null,null,null,null,null,null,null,null,null,"이    름",null,{"$f":"IFERROR(IF(P6=\"\",\"\",VLOOKUP(P6,사원명부!A2:B100,2,FALSE)),\"없어요\")","v":"테스트2"}]
["⑥ 출석일시",null,null,{"$f":"M5&\"년\"","v":"2020년"},{"$f":"O5&\"월\"","v":"3월"},{"$f":"Q5&\"일\"","v":"5일"},{"$f":"S5&\"시\"","v":"10시"},{"$f":"U5&\"분\"","v":"30분"},null,null,null,null,null,1,null,{"$f":"IFERROR(IF(N8=\"\",\"\",VLOOKUP(N8,사원명부!$A$2:$B$100,2,FALSE)),\"\")","v":"테스트1"}]
["⑦ 출석장소",null,{"$f":"IFBLANK(T4)","v":"3층 휴게실"},null,null,null,null,null,null,null,null,null,null,2,null,{"$f":"IFERROR(IF(N9=\"\",\"\",VLOOKUP(N9,사원명부!$A$2:$B$100,2,FALSE)),\"\")","v":"테스트2"}]
["유의사항",null,"1. 진술을 위한 출석을 원하지 아니할 때에는 아래의 진술권 포기서를 즉시 제출할 것.",null,null,null,null,null,null,null,null,null,null,3,null,{"$f":"IFERROR(IF(N10=\"\",\"\",VLOOKUP(N10,사원명부!$A$2:$B$100,2,FALSE)),\"\")","v":""}]
[null,null,"2. 사정에 의하여 서면진술을 하고자 할 때에는 징계위원회 개최일 전일까지 도착하도록 진술서를 제출할 것.",null,null,null,null,null,null,null,null,null,null,4,null,{"$f":"IFERROR(IF(N11=\"\",\"\",VLOOKUP(N11,사원명부!$A$2:$B$100,2,FALSE)),\"\")","v":""}]
[null,null,"3. 정당한 사유서를 제출하지 아니하고 지정된 일시에 출석하지 아니하고, 서면진술서를 제출하지 아니하는 경우에는 진술할 의사가 없는 것으로 인정․처리 한다.",null,null,null,null,null,null,null,null,null,null,5,null,{"$f":"IFERROR(IF(N12=\"\",\"\",VLOOKUP(N12,사원명부!$A$2:$B$100,2,FALSE)),\"\")","v":""}]
["제61조의 규정에 의하여 위와 같이 귀하의 출석을 통지합니다.",null,null,null,null,null,null,null,null,null,null,null,null,6,null,{"$f":"IFERROR(IF(N13=\"\",\"\",VLOOKUP(N13,사원명부!$A$2:$B$100,2,FALSE)),\"\")","v":""}]
[{"$f":"TODAY()","v":"2021-05-31"},null,null,null,null,null,null,null,null,null,null,null,null,7,null,{"$f":"IFERROR(IF(N14=\"\",\"\",VLOOKUP(N14,사원명부!$A$2:$B$100,2,FALSE)),\"\")","v":""}]
[{"$f":"요양기관기초정보!D1&\" 인사위원회위원장 (직인)\"","v":"팜오피스약국 인사위원회위원장 (직인)"},null,null,null,null,null,null,null,null,null,null,null,null,8,null,{"$f":"IFERROR(IF(N15=\"\",\"\",VLOOKUP(N15,사원명부!$A$2:$B$100,2,FALSE)),\"\")","v":""}]
[{"$f":"E4&\" 귀 하\"","v":"테스트2 귀 하"},null,null,null,null,null,null,null,null,null,null,null,null,9,null,{"$f":"IFERROR(IF(N16=\"\",\"\",VLOOKUP(N16,사원명부!$A$2:$B$100,2,FALSE)),\"\")","v":""}]
["-----------------------------------------------절 취 선-----------------------------------------------",null,null,null,null,null,null,null,null,null,null,null,null,10,null,{"$f":"IFERROR(IF(N17=\"\",\"\",VLOOKUP(N17,사원명부!$A$2:$B$100,2,FALSE)),\"\")","v":""}]
["진 술 권 포 기 서",null,null,null,null,null,null,null,null,null,null,null,null,11,null,{"$f":"IFERROR(IF(N18=\"\",\"\",VLOOKUP(N18,사원명부!$A$2:$B$100,2,FALSE)),\"\")","v":""}]
[null,null,null,null,null,null,null,null,null,null,null,null,null,12,null,{"$f":"IFERROR(IF(N19=\"\",\"\",VLOOKUP(N19,사원명부!$A$2:$B$100,2,FALSE)),\"\")","v":""}]
["인적사항","① 성명","한글",null,{"$f":"IFBLANK(E4)","v":"테스트2"},null,"② 소 속",null,{"$f":"IFBLANK(I4)","v":"조제실"},null,null,null,null,13,null,{"$f":"IFERROR(IF(N20=\"\",\"\",VLOOKUP(N20,사원명부!$A$2:$B$100,2,FALSE)),\"\")","v":""}]
[null,null,"한자",null,{"$f":"IFBLANK(E5)","v":""},null,"③ 직위(급)",null,{"$f":"IFBLANK(I5)","v":"실장"},null,null,null,null,14,null,{"$f":"IFERROR(IF(N21=\"\",\"\",VLOOKUP(N21,사원명부!$A$2:$B$100,2,FALSE)),\"\")","v":""}]
[null,"④ 주소",{"$f":"IFBLANK(C6)","v":"서울시 서대문구연세로 41"},null,null,null,null,null,null,null,null,null,null,15,null,{"$f":"IFERROR(IF(N22=\"\",\"\",VLOOKUP(N22,사원명부!$A$2:$B$100,2,FALSE)),\"\")","v":""}]
["본인은 귀 인사위원회에 출석하여 진술하는 것을 포기합니다.",null,null,null,null,null,null,null,null,null,null,null,null,16,null,{"$f":"IFERROR(IF(N23=\"\",\"\",VLOOKUP(N23,사원명부!$A$2:$B$100,2,FALSE)),\"\")","v":""}]
[null,null,null,null,null,null,null,null,null,null,null,null,null,17,null,{"$f":"IFERROR(IF(N24=\"\",\"\",VLOOKUP(N24,사원명부!$A$2:$B$100,2,FALSE)),\"\")","v":""}]
[null,null,null,null,null,null,null,null,null,null,null,null,null,18,null,{"$f":"IFERROR(IF(N25=\"\",\"\",VLOOKUP(N25,사원명부!$A$2:$B$100,2,FALSE)),\"\")","v":""}]
[null,null,null,null,null,null,"     년          월            일",null,null,null,null,null,null,19,null,{"$f":"IFERROR(IF(N26=\"\",\"\",VLOOKUP(N26,사원명부!$A$2:$B$100,2,FALSE)),\"\")","v":""}]
[null,null,null,null,null,{"$f":"\"성 명 \"&E20","v":"성 명 테스트2"},null,null,"(서명 또는 날인)",null,null,null,null,20,null,{"$f":"IFERROR(IF(N27=\"\",\"\",VLOOKUP(N27,사원명부!$A$2:$B$100,2,FALSE)),\"\")","v":""}]
[{"$f":"요양기관기초정보!D1&\" 인사위원회위원장  귀하\"","v":"팜오피스약국 인사위원회위원장  귀하"},null,null,null,null,null,null,null,null,null,null,null,null,21,null,{"$f":"IFERROR(IF(N28=\"\",\"\",VLOOKUP(N28,사원명부!$A$2:$B$100,2,FALSE)),\"\")","v":""}]
[null,null,null,null,null,null,null,null,null,null,null,null,null,22,null,{"$f":"IFERROR(IF(N29=\"\",\"\",VLOOKUP(N29,사원명부!$A$2:$B$100,2,FALSE)),\"\")","v":""}]
[null,null,null,null,null,null,null,null,null,null,null,null,null,23,null,{"$f":"IFERROR(IF(N30=\"\",\"\",VLOOKUP(N30,사원명부!$A$2:$B$100,2,FALSE)),\"\")","v":""}]
["서 면 진 술 서",null,null,null,null,null,null,null,null,null,null,null,null,24,null,{"$f":"IFERROR(IF(N31=\"\",\"\",VLOOKUP(N31,사원명부!$A$2:$B$100,2,FALSE)),\"\")","v":""}]
[null,null,null,null,null,null,null,null,null,null,null,null,null,25,null,{"$f":"IFERROR(IF(N32=\"\",\"\",VLOOKUP(N32,사원명부!$A$2:$B$100,2,FALSE)),\"\")","v":""}]
["소 속 ",{"$f":"IFBLANK(I20)","v":"조제실"},null,null,null,"직위(급)",{"$f":"IFBLANK(I21)","v":"실장"},null,null,null,null,null,null,26,null,{"$f":"IFERROR(IF(N33=\"\",\"\",VLOOKUP(N33,사원명부!$A$2:$B$100,2,FALSE)),\"\")","v":""}]
["성 명 ",{"$f":"IFBLANK(E20)","v":"테스트2"},null,null,null,"제출기일",{"$f":"A14+1","v":"2021-06-01"},null,null,null,null,null,null,27,null,{"$f":"IFERROR(IF(N34=\"\",\"\",VLOOKUP(N34,사원명부!$A$2:$B$100,2,FALSE)),\"\")","v":""}]
["사 건 명 ",{"$f":"IFBLANK(C7)","v":"3시간 지각 사유 소명"},null,null,null,null,null,null,null,null,null,null,null,28,null,{"$f":"IFERROR(IF(N35=\"\",\"\",VLOOKUP(N35,사원명부!$A$2:$B$100,2,FALSE)),\"\")","v":""}]
["불참사유 ",null,null,null,null,null,null,null,null,null,null,null,null,29,null,{"$f":"IFERROR(IF(N36=\"\",\"\",VLOOKUP(N36,사원명부!$A$2:$B$100,2,FALSE)),\"\")","v":""}]
["진 술 내 용",null,null,null,null,null,null,null,null,null,null,null,null,30,null,{"$f":"IFERROR(IF(N37=\"\",\"\",VLOOKUP(N37,사원명부!$A$2:$B$100,2,FALSE)),\"\")","v":""}]
[null,null,null,null,null,null,null,null,null,null,null,null,null,31,null,{"$f":"IFERROR(IF(N38=\"\",\"\",VLOOKUP(N38,사원명부!$A$2:$B$100,2,FALSE)),\"\")","v":""}]
[null,null,null,null,null,null,null,null,null,null,null,null,null,32,null,{"$f":"IFERROR(IF(N39=\"\",\"\",VLOOKUP(N39,사원명부!$A$2:$B$100,2,FALSE)),\"\")","v":""}]
[null,null,null,null,null,null,null,null,null,null,null,null,null,33,null,{"$f":"IFERROR(IF(N40=\"\",\"\",VLOOKUP(N40,사원명부!$A$2:$B$100,2,FALSE)),\"\")","v":""}]
[null,null,null,null,null,null,null,null,null,null,null,null,null,34,null,{"$f":"IFERROR(IF(N41=\"\",\"\",VLOOKUP(N41,사원명부!$A$2:$B$100,2,FALSE)),\"\")","v":""}]
[null,null,null,null,null,null,null,null,null,null,null,null,null,35,null,{"$f":"IFERROR(IF(N42=\"\",\"\",VLOOKUP(N42,사원명부!$A$2:$B$100,2,FALSE)),\"\")","v":""}]
[null,null,null,null,null,null,null,null,null,null,null,null,null,36,null,{"$f":"IFERROR(IF(N43=\"\",\"\",VLOOKUP(N43,사원명부!$A$2:$B$100,2,FALSE)),\"\")","v":""}]
[null,null,null,null,null,null,null,null,null,null,null,null,null,37,null,{"$f":"IFERROR(IF(N44=\"\",\"\",VLOOKUP(N44,사원명부!$A$2:$B$100,2,FALSE)),\"\")","v":""}]
["제61조의 규정에 의거 위와 같이 서면으로 진술하오며 만약 위 진술내용이 사실과 상이한 경우에는 여하한 처벌도 감수하겠습니다.",null,null,null,null,null,null,null,null,null,null,null,null,38,null,{"$f":"IFERROR(IF(N45=\"\",\"\",VLOOKUP(N45,사원명부!$A$2:$B$100,2,FALSE)),\"\")","v":""}]
[null,null,null,null,null,"     년          월            일",null,null,null,null,null,null,null,39,null,{"$f":"IFERROR(IF(N46=\"\",\"\",VLOOKUP(N46,사원명부!$A$2:$B$100,2,FALSE)),\"\")","v":""}]
[null,null,null,null,{"$f":"\"성 명 \"&D40","v":"성 명 "},null,null,"(서명 또는 날인)",null,null,null,null,null,40,null,{"$f":"IFERROR(IF(N47=\"\",\"\",VLOOKUP(N47,사원명부!$A$2:$B$100,2,FALSE)),\"\")","v":""}]
[{"$f":"요양기관기초정보!D1&\" 인사위원회위원장  귀하\"","v":"팜오피스약국 인사위원회위원장  귀하"},null,null,null,null,null,null,null,null,null,null,null,null,41,null,{"$f":"IFERROR(IF(N48=\"\",\"\",VLOOKUP(N48,사원명부!$A$2:$B$100,2,FALSE)),\"\")","v":""}]
[null,null,null,null,null,null,null,null,null,null,null,null,null,42,null,{"$f":"IFERROR(IF(N49=\"\",\"\",VLOOKUP(N49,사원명부!$A$2:$B$100,2,FALSE)),\"\")","v":""}]
[null,null,null,null,null,null,null,null,null,null,null,null,null,43,null,{"$f":"IFERROR(IF(N50=\"\",\"\",VLOOKUP(N50,사원명부!$A$2:$B$100,2,FALSE)),\"\")","v":""}]
["징 계 의 결 서 ",null,null,null,null,null,null,null,null,null,null,null,null,44,null,{"$f":"IFERROR(IF(N51=\"\",\"\",VLOOKUP(N51,사원명부!$A$2:$B$100,2,FALSE)),\"\")","v":""}]
[null,null,null,null,null,null,null,null,null,null,null,null,null,45,null,{"$f":"IFERROR(IF(N52=\"\",\"\",VLOOKUP(N52,사원명부!$A$2:$B$100,2,FALSE)),\"\")","v":""}]
["인적사항","소 속",null,null,"직 급",null,null,"성 명",null,null,null,null,null,46,null,{"$f":"IFERROR(IF(N53=\"\",\"\",VLOOKUP(N53,사원명부!$A$2:$B$100,2,FALSE)),\"\")","v":""}]
[null,{"$f":"IFBLANK(B33)","v":"조제실"},null,null,{"$f":"IFBLANK(G33)","v":"실장"},null,null,{"$f":"IFBLANK(B34)","v":"테스트2"},null,null,null,null,null,47,null,{"$f":"IFERROR(IF(N54=\"\",\"\",VLOOKUP(N54,사원명부!$A$2:$B$100,2,FALSE)),\"\")","v":""}]
["의결주문 ",null,null,null,null,null,null,null,null,null,null,null,null,48,null,{"$f":"IFERROR(IF(N55=\"\",\"\",VLOOKUP(N55,사원명부!$A$2:$B$100,2,FALSE)),\"\")","v":""}]
["이 유",null,null,null,null,null,null,null,null,null,null,null,null,49,null,{"$f":"IFERROR(IF(N56=\"\",\"\",VLOOKUP(N56,사원명부!$A$2:$B$100,2,FALSE)),\"\")","v":""}]
[{"$f":"D8&E8&F8","v":"2020년3월5일"},null,null,null,null,null,null,null,null,null,null,null,null,50,null,{"$f":"IFERROR(IF(N57=\"\",\"\",VLOOKUP(N57,사원명부!$A$2:$B$100,2,FALSE)),\"\")","v":""}]
[{"$f":"요양기관기초정보!D1&\" 인사위원회\"","v":"팜오피스약국 인사위원회"},null,null,null,null,null,null,null,null,null,null,null,null,51,null,{"$f":"IFERROR(IF(N58=\"\",\"\",VLOOKUP(N58,사원명부!$A$2:$B$100,2,FALSE)),\"\")","v":""}]
[null,null,null,"위 원 장 ",{"$f":"IFBLANK(요양기관기초정보!C6)","v":"홍길동"},null,"서명 또는 날인",null,null,null,null,null,null,52,null,{"$f":"IFERROR(IF(N59=\"\",\"\",VLOOKUP(N59,사원명부!$A$2:$B$100,2,FALSE)),\"\")","v":""}]
[null,null,null,"위     원 ",null,null,"서명 또는 날인",null,null,null,null,null,null,53,null,{"$f":"IFERROR(IF(N60=\"\",\"\",VLOOKUP(N60,사원명부!$A$2:$B$100,2,FALSE)),\"\")","v":""}]
[null,null,null,"위     원 ",null,null,"서명 또는 날인",null,null,null,null,null,null,54,null,{"$f":"IFERROR(IF(N61=\"\",\"\",VLOOKUP(N61,사원명부!$A$2:$B$100,2,FALSE)),\"\")","v":""}]
[null,null,null,null,null,null,null,null,null,null,null,null,null,55,null,{"$f":"IFERROR(IF(N62=\"\",\"\",VLOOKUP(N62,사원명부!$A$2:$B$100,2,FALSE)),\"\")","v":""}]
[null,null,null,null,null,null,null,null,null,null,null,null,null,56,null,{"$f":"IFERROR(IF(N63=\"\",\"\",VLOOKUP(N63,사원명부!$A$2:$B$100,2,FALSE)),\"\")","v":""}]
[null,null,null,null,null,null,null,null,null,null,null,null,null,57,null,{"$f":"IFERROR(IF(N64=\"\",\"\",VLOOKUP(N64,사원명부!$A$2:$B$100,2,FALSE)),\"\")","v":""}]
[null,null,null,null,null,null,null,null,null,null,null,null,null,58,null,{"$f":"IFERROR(IF(N65=\"\",\"\",VLOOKUP(N65,사원명부!$A$2:$B$100,2,FALSE)),\"\")","v":""}]
[null,null,null,null,null,null,null,null,null,null,null,null,null,59,null,{"$f":"IFERROR(IF(N66=\"\",\"\",VLOOKUP(N66,사원명부!$A$2:$B$100,2,FALSE)),\"\")","v":""}]
["※ 징계이유에는 징계의 원인이 된 사실, 증거의 판단과 관계규정을 기재한다.",null,null,null,null,null,null,null,null,null,null,null,null,60,null,{"$f":"IFERROR(IF(N67=\"\",\"\",VLOOKUP(N67,사원명부!$A$2:$B$100,2,FALSE)),\"\")","v":""}]
[null,null,null,null,null,null,null,null,null,null,null,null,null,61,null,{"$f":"IFERROR(IF(N68=\"\",\"\",VLOOKUP(N68,사원명부!$A$2:$B$100,2,FALSE)),\"\")","v":""}]
[null,null,null,null,null,null,null,null,null,null,null,null,null,62,null,{"$f":"IFERROR(IF(N69=\"\",\"\",VLOOKUP(N69,사원명부!$A$2:$B$100,2,FALSE)),\"\")","v":""}]
["징 계 처 분 사 유 설 명 서",null,null,null,null,null,null,null,null,null,null,null,null,63,null,{"$f":"IFERROR(IF(N70=\"\",\"\",VLOOKUP(N70,사원명부!$A$2:$B$100,2,FALSE)),\"\")","v":""}]
[null,null,null,null,null,null,null,null,null,null,null,null,null,64,null,{"$f":"IFERROR(IF(N71=\"\",\"\",VLOOKUP(N71,사원명부!$A$2:$B$100,2,FALSE)),\"\")","v":""}]
["인적사항","소 속",null,null,"직 급",null,null,"성 명",null,null,null,null,null,65,null,{"$f":"IFERROR(IF(N72=\"\",\"\",VLOOKUP(N72,사원명부!$A$2:$B$100,2,FALSE)),\"\")","v":""}]
[null,{"$f":"IFBLANK(B54)","v":"조제실"},null,null,{"$f":"IFBLANK(E54)","v":"실장"},null,null,{"$f":"IFBLANK(H54)","v":"테스트2"},null,null,null,null,null,66,null,{"$f":"IFERROR(IF(N73=\"\",\"\",VLOOKUP(N73,사원명부!$A$2:$B$100,2,FALSE)),\"\")","v":""}]
["의결주문 ",null,null,null,null,null,null,null,null,null,null,null,null,67,null,{"$f":"IFERROR(IF(N74=\"\",\"\",VLOOKUP(N74,사원명부!$A$2:$B$100,2,FALSE)),\"\")","v":""}]
["이 유","별첨 징계의결서 사본과 같음",null,null,null,null,null,null,null,null,null,null,null,68,null,{"$f":"IFERROR(IF(N75=\"\",\"\",VLOOKUP(N75,사원명부!$A$2:$B$100,2,FALSE)),\"\")","v":""}]
[null,null,null,null,null,null,null,null,null,null,null,null,null,69,null,{"$f":"IFERROR(IF(N76=\"\",\"\",VLOOKUP(N76,사원명부!$A$2:$B$100,2,FALSE)),\"\")","v":""}]
["위와 같이 처분하였음을 통지합니다.",null,null,null,null,null,null,null,null,null,null,null,null,null,null,{"$f":"IFERROR(IF(N77=\"\",\"\",VLOOKUP(N77,사원명부!$A$2:$B$100,2,FALSE)),\"\")","v":""}]
[null,null,null,null,null,null,null,null,null,null,null,null,null,null,null,{"$f":"IFERROR(IF(N78=\"\",\"\",VLOOKUP(N78,사원명부!$A$2:$B$100,2,FALSE)),\"\")","v":""}]
[null,null,null,null,null,null,null,null,null,null,null,null,null,null,null,{"$f":"IFERROR(IF(N79=\"\",\"\",VLOOKUP(N79,사원명부!$A$2:$B$100,2,FALSE)),\"\")","v":""}]
[null,null,null,null,null,{"$f":"A57","v":"2020년3월5일"},null,null,null,null,null,null,null,null,null,{"$f":"IFERROR(IF(N80=\"\",\"\",VLOOKUP(N80,사원명부!$A$2:$B$100,2,FALSE)),\"\")","v":""}]
[null,null,null,null,null,null,null,null,null,null,null,null,null,null,null,{"$f":"IFERROR(IF(N81=\"\",\"\",VLOOKUP(N81,사원명부!$A$2:$B$100,2,FALSE)),\"\")","v":""}]
[null,null,null,{"$f":"요양기관기초정보!D1&\" 인사위원회위원장 (직인)\"","v":"팜오피스약국 인사위원회위원장 (직인)"},null,null,null,null,null,null,null,null,null,null,null,{"$f":"IFERROR(IF(N82=\"\",\"\",VLOOKUP(N82,사원명부!$A$2:$B$100,2,FALSE)),\"\")","v":""}]
[null,null,null,null,null,null,null,null,null,null,null,null,null,null,null,{"$f":"IFERROR(IF(N83=\"\",\"\",VLOOKUP(N83,사원명부!$A$2:$B$100,2,FALSE)),\"\")","v":""}]
[null,null,null,null,null,null,{"$f":"IFBLANK(H73)","v":"테스트2"},null,"귀 하",null,null,null,null,null,null,{"$f":"IFERROR(IF(N84=\"\",\"\",VLOOKUP(N84,사원명부!$A$2:$B$100,2,FALSE)),\"\")","v":""}]
[null,null,null,null,null,null,null,null,null,null,null,null,null,null,null,{"$f":"IFERROR(IF(N85=\"\",\"\",VLOOKUP(N85,사원명부!$A$2:$B$100,2,FALSE)),\"\")","v":""}]
["참 고：이 처분에 대한 불복이 있을 때에는 제63조에 의하여 이 설명서를 받은 날로부터 7일 이내에 인사위원회에 재심을 청구할 수 있습니다.",null,null,null,null,null,null,null,null,null,null,null,null,null,null,{"$f":"IFERROR(IF(N86=\"\",\"\",VLOOKUP(N86,사원명부!$A$2:$B$100,2,FALSE)),\"\")","v":""}]
[null,null,null,null,null,null,null,null,null,null,null,null,null,null,null,{"$f":"IFERROR(IF(N87=\"\",\"\",VLOOKUP(N87,사원명부!$A$2:$B$100,2,FALSE)),\"\")","v":""}]
[null,null,null,null,null,null,null,null,null,null,null,null,null,null,null,{"$f":"IFERROR(IF(N88=\"\",\"\",VLOOKUP(N88,사원명부!$A$2:$B$100,2,FALSE)),\"\")","v":""}]
[null,null,null,null,null,null,null,null,null,null,null,null,null,null,null,{"$f":"IFERROR(IF(N89=\"\",\"\",VLOOKUP(N89,사원명부!$A$2:$B$100,2,FALSE)),\"\")","v":""}]
[null,null,null,null,null,null,null,null,null,null,null,null,null,null,null,{"$f":"IFERROR(IF(N90=\"\",\"\",VLOOKUP(N90,사원명부!$A$2:$B$100,2,FALSE)),\"\")","v":""}]
[null,null,null,null,null,null,null,null,null,null,null,null,null,null,null,{"$f":"IFERROR(IF(N91=\"\",\"\",VLOOKUP(N91,사원명부!$A$2:$B$100,2,FALSE)),\"\")","v":""}]
[null,null,null,null,null,null,null,null,null,null,null,null,null,null,null,{"$f":"IFERROR(IF(N92=\"\",\"\",VLOOKUP(N92,사원명부!$A$2:$B$100,2,FALSE)),\"\")","v":""}]
[null,null,null,null,null,null,null,null,null,null,null,null,null,null,null,{"$f":"IFERROR(IF(N93=\"\",\"\",VLOOKUP(N93,사원명부!$A$2:$B$100,2,FALSE)),\"\")","v":""}]
[null,null,null,null,null,null,null,null,null,null,null,null,null,null,null,{"$f":"IFERROR(IF(N94=\"\",\"\",VLOOKUP(N94,사원명부!$A$2:$B$100,2,FALSE)),\"\")","v":""}]
[null,null,null,null,null,null,null,null,null,null,null,null,null,null,null,{"$f":"IFERROR(IF(N95=\"\",\"\",VLOOKUP(N95,사원명부!$A$2:$B$100,2,FALSE)),\"\")","v":""}]
[null,null,null,null,null,null,null,null,null,null,null,null,null,null,null,{"$f":"IFERROR(IF(N96=\"\",\"\",VLOOKUP(N96,사원명부!$A$2:$B$100,2,FALSE)),\"\")","v":""}]
[null,null,null,null,null,null,null,null,null,null,null,null,null,null,null,{"$f":"IFERROR(IF(N97=\"\",\"\",VLOOKUP(N97,사원명부!$A$2:$B$100,2,FALSE)),\"\")","v":""}]
[null,null,null,null,null,null,null,null,null,null,null,null,null,null,null,{"$f":"IFERROR(IF(N98=\"\",\"\",VLOOKUP(N98,사원명부!$A$2:$B$100,2,FALSE)),\"\")","v":""}]
[null,null,null,null,null,null,null,null,null,null,null,null,null,null,null,{"$f":"IFERROR(IF(N99=\"\",\"\",VLOOKUP(N99,사원명부!$A$2:$B$100,2,FALSE)),\"\")","v":""}]
[null,null,null,null,null,null,null,null,null,null,null,null,null,null,null,{"$f":"IFERROR(IF(N100=\"\",\"\",VLOOKUP(N100,사원명부!$A$2:$B$100,2,FALSE)),\"\")","v":""}]
[null,null,null,null,null,null,null,null,null,null,null,null,null,null,null,{"$f":"IFERROR(IF(N101=\"\",\"\",VLOOKUP(N101,사원명부!$A$2:$B$100,2,FALSE)),\"\")","v":""}]
[null,null,null,null,null,null,null,null,null,null,null,null,null,null,null,{"$f":"IFERROR(IF(N102=\"\",\"\",VLOOKUP(N102,사원명부!$A$2:$B$100,2,FALSE)),\"\")","v":""}]
[null,null,null,null,null,null,null,null,null,null,null,null,null,null,null,{"$f":"IFERROR(IF(N103=\"\",\"\",VLOOKUP(N103,사원명부!$A$2:$B$100,2,FALSE)),\"\")","v":""}]
[null,null,null,null,null,null,null,null,null,null,null,null,null,null,null,{"$f":"IFERROR(IF(N104=\"\",\"\",VLOOKUP(N104,사원명부!$A$2:$B$100,2,FALSE)),\"\")","v":""}]
[null,null,null,null,null,null,null,null,null,null,null,null,null,null,null,{"$f":"IFERROR(IF(N105=\"\",\"\",VLOOKUP(N105,사원명부!$A$2:$B$100,2,FALSE)),\"\")","v":""}]
[null,null,null,null,null,null,null,null,null,null,null,null,null,null,null,{"$f":"IFERROR(IF(N106=\"\",\"\",VLOOKUP(N106,사원명부!$A$2:$B$100,2,FALSE)),\"\")","v":""}]
[null,null,null,null,null,null,null,null,null,null,null,null,null,null,null,{"$f":"IFERROR(IF(N107=\"\",\"\",VLOOKUP(N107,사원명부!$A$2:$B$100,2,FALSE)),\"\")","v":""}]
[null,null,null,null,null,null,null,null,null,null,null,null,null,null,null,{"$f":"IFERROR(IF(N108=\"\",\"\",VLOOKUP(N108,사원명부!$A$2:$B$100,2,FALSE)),\"\")","v":""}]
[null,null,null,null,null,null,null,null,null,null,null,null,null,null,null,{"$f":"IFERROR(IF(N109=\"\",\"\",VLOOKUP(N109,사원명부!$A$2:$B$100,2,FALSE)),\"\")","v":""}]
[null,null,null,null,null,null,null,null,null,null,null,null,null,null,null,{"$f":"IFERROR(IF(N110=\"\",\"\",VLOOKUP(N110,사원명부!$A$2:$B$100,2,FALSE)),\"\")","v":""}]
[null,null,null,null,null,null,null,null,null,null,null,null,null,null,null,{"$f":"IFERROR(IF(N111=\"\",\"\",VLOOKUP(N111,사원명부!$A$2:$B$100,2,FALSE)),\"\")","v":""}]
[null,null,null,null,null,null,null,null,null,null,null,null,null,null,null,{"$f":"IFERROR(IF(N112=\"\",\"\",VLOOKUP(N112,사원명부!$A$2:$B$100,2,FALSE)),\"\")","v":""}]
[null,null,null,null,null,null,null,null,null,null,null,null,null,null,null,{"$f":"IFERROR(IF(N113=\"\",\"\",VLOOKUP(N113,사원명부!$A$2:$B$100,2,FALSE)),\"\")","v":""}]
[null,null,null,null,null,null,null,null,null,null,null,null,null,null,null,{"$f":"IFERROR(IF(N114=\"\",\"\",VLOOKUP(N114,사원명부!$A$2:$B$100,2,FALSE)),\"\")","v":""}]
[null,null,null,null,null,null,null,null,null,null,null,null,null,null,null,{"$f":"IFERROR(IF(N115=\"\",\"\",VLOOKUP(N115,사원명부!$A$2:$B$100,2,FALSE)),\"\")","v":""}]
[null,null,null,null,null,null,null,null,null,null,null,null,null,null,null,{"$f":"IFERROR(IF(N116=\"\",\"\",VLOOKUP(N116,사원명부!$A$2:$B$100,2,FALSE)),\"\")","v":""}]
[null,null,null,null,null,null,null,null,null,null,null,null,null,null,null,{"$f":"IFERROR(IF(N117=\"\",\"\",VLOOKUP(N117,사원명부!$A$2:$B$100,2,FALSE)),\"\")","v":""}]
[null,null,null,null,null,null,null,null,null,null,null,null,null,null,null,{"$f":"IFERROR(IF(N118=\"\",\"\",VLOOKUP(N118,사원명부!$A$2:$B$100,2,FALSE)),\"\")","v":""}]
[null,null,null,null,null,null,null,null,null,null,null,null,null,null,null,{"$f":"IFERROR(IF(N119=\"\",\"\",VLOOKUP(N119,사원명부!$A$2:$B$100,2,FALSE)),\"\")","v":""}]
[null,null,null,null,null,null,null,null,null,null,null,null,null,null,null,{"$f":"IFERROR(IF(N120=\"\",\"\",VLOOKUP(N120,사원명부!$A$2:$B$100,2,FALSE)),\"\")","v":""}]
[null,null,null,null,null,null,null,null,null,null,null,null,null,null,null,{"$f":"IFERROR(IF(N121=\"\",\"\",VLOOKUP(N121,사원명부!$A$2:$B$100,2,FALSE)),\"\")","v":""}]
[null,null,null,null,null,null,null,null,null,null,null,null,null,null,null,{"$f":"IFERROR(IF(N122=\"\",\"\",VLOOKUP(N122,사원명부!$A$2:$B$100,2,FALSE)),\"\")","v":""}]
[null,null,null,null,null,null,null,null,null,null,null,null,null,null,null,{"$f":"IFERROR(IF(N123=\"\",\"\",VLOOKUP(N123,사원명부!$A$2:$B$100,2,FALSE)),\"\")","v":""}]
[null,null,null,null,null,null,null,null,null,null,null,null,null,null,null,{"$f":"IFERROR(IF(N124=\"\",\"\",VLOOKUP(N124,사원명부!$A$2:$B$100,2,FALSE)),\"\")","v":""}]
[null,null,null,null,null,null,null,null,null,null,null,null,null,null,null,{"$f":"IFERROR(IF(N125=\"\",\"\",VLOOKUP(N125,사원명부!$A$2:$B$100,2,FALSE)),\"\")","v":""}]
[null,null,null,null,null,null,null,null,null,null,null,null,null,null,null,{"$f":"IFERROR(IF(N126=\"\",\"\",VLOOKUP(N126,사원명부!$A$2:$B$100,2,FALSE)),\"\")","v":""}]
[null,null,null,null,null,null,null,null,null,null,null,null,null,null,null,{"$f":"IFERROR(IF(N127=\"\",\"\",VLOOKUP(N127,사원명부!$A$2:$B$100,2,FALSE)),\"\")","v":""}]
[null,null,null,null,null,null,null,null,null,null,null,null,null,null,null,{"$f":"IFERROR(IF(N128=\"\",\"\",VLOOKUP(N128,사원명부!$A$2:$B$100,2,FALSE)),\"\")","v":""}]
[null,null,null,null,null,null,null,null,null,null,null,null,null,null,null,{"$f":"IFERROR(IF(N129=\"\",\"\",VLOOKUP(N129,사원명부!$A$2:$B$100,2,FALSE)),\"\")","v":""}]
[null,null,null,null,null,null,null,null,null,null,null,null,null,null,null,{"$f":"IFERROR(IF(N130=\"\",\"\",VLOOKUP(N130,사원명부!$A$2:$B$100,2,FALSE)),\"\")","v":""}]
[null,null,null,null,null,null,null,null,null,null,null,null,null,null,null,{"$f":"IFERROR(IF(N131=\"\",\"\",VLOOKUP(N131,사원명부!$A$2:$B$100,2,FALSE)),\"\")","v":""}]
[null,null,null,null,null,null,null,null,null,null,null,null,null,null,null,{"$f":"IFERROR(IF(N132=\"\",\"\",VLOOKUP(N132,사원명부!$A$2:$B$100,2,FALSE)),\"\")","v":""}]
[null,null,null,null,null,null,null,null,null,null,null,null,null,null,null,{"$f":"IFERROR(IF(N133=\"\",\"\",VLOOKUP(N133,사원명부!$A$2:$B$100,2,FALSE)),\"\")","v":""}]
[null,null,null,null,null,null,null,null,null,null,null,null,null,null,null,{"$f":"IFERROR(IF(N134=\"\",\"\",VLOOKUP(N134,사원명부!$A$2:$B$100,2,FALSE)),\"\")","v":""}]
[null,null,null,null,null,null,null,null,null,null,null,null,null,null,null,{"$f":"IFERROR(IF(N135=\"\",\"\",VLOOKUP(N135,사원명부!$A$2:$B$100,2,FALSE)),\"\")","v":""}]
[null,null,null,null,null,null,null,null,null,null,null,null,null,null,null,{"$f":"IFERROR(IF(N136=\"\",\"\",VLOOKUP(N136,사원명부!$A$2:$B$100,2,FALSE)),\"\")","v":""}]
[null,null,null,null,null,null,null,null,null,null,null,null,null,null,null,{"$f":"IFERROR(IF(N137=\"\",\"\",VLOOKUP(N137,사원명부!$A$2:$B$100,2,FALSE)),\"\")","v":""}]
[null,null,null,null,null,null,null,null,null,null,null,null,null,null,null,{"$f":"IFERROR(IF(N138=\"\",\"\",VLOOKUP(N138,사원명부!$A$2:$B$100,2,FALSE)),\"\")","v":""}]
[null,null,null,null,null,null,null,null,null,null,null,null,null,null,null,{"$f":"IFERROR(IF(N139=\"\",\"\",VLOOKUP(N139,사원명부!$A$2:$B$100,2,FALSE)),\"\")","v":""}]
[null,null,null,null,null,null,null,null,null,null,null,null,null,null,null,{"$f":"IFERROR(IF(N140=\"\",\"\",VLOOKUP(N140,사원명부!$A$2:$B$100,2,FALSE)),\"\")","v":""}]
[null,null,null,null,null,null,null,null,null,null,null,null,null,null,null,{"$f":"IFERROR(IF(N141=\"\",\"\",VLOOKUP(N141,사원명부!$A$2:$B$100,2,FALSE)),\"\")","v":""}]
[null,null,null,null,null,null,null,null,null,null,null,null,null,null,null,{"$f":"IFERROR(IF(N142=\"\",\"\",VLOOKUP(N142,사원명부!$A$2:$B$100,2,FALSE)),\"\")","v":""}]
[null,null,null,null,null,null,null,null,null,null,null,null,null,null,null,{"$f":"IFERROR(IF(N143=\"\",\"\",VLOOKUP(N143,사원명부!$A$2:$B$100,2,FALSE)),\"\")","v":""}]
[null,null,null,null,null,null,null,null,null,null,null,null,null,null,null,{"$f":"IFERROR(IF(N144=\"\",\"\",VLOOKUP(N144,사원명부!$A$2:$B$100,2,FALSE)),\"\")","v":""}]
[null,null,null,null,null,null,null,null,null,null,null,null,null,null,null,{"$f":"IFERROR(IF(N145=\"\",\"\",VLOOKUP(N145,사원명부!$A$2:$B$100,2,FALSE)),\"\")","v":""}]
[null,null,null,null,null,null,null,null,null,null,null,null,null,null,null,{"$f":"IFERROR(IF(N146=\"\",\"\",VLOOKUP(N146,사원명부!$A$2:$B$100,2,FALSE)),\"\")","v":""}]
[null,null,null,null,null,null,null,null,null,null,null,null,null,null,null,{"$f":"IFERROR(IF(N147=\"\",\"\",VLOOKUP(N147,사원명부!$A$2:$B$100,2,FALSE)),\"\")","v":""}]
[null,null,null,null,null,null,null,null,null,null,null,null,null,null,null,{"$f":"IFERROR(IF(N148=\"\",\"\",VLOOKUP(N148,사원명부!$A$2:$B$100,2,FALSE)),\"\")","v":""}]
[null,null,null,null,null,null,null,null,null,null,null,null,null,null,null,{"$f":"IFERROR(IF(N149=\"\",\"\",VLOOKUP(N149,사원명부!$A$2:$B$100,2,FALSE)),\"\")","v":""}]
[null,null,null,null,null,null,null,null,null,null,null,null,null,null,null,{"$f":"IFERROR(IF(N150=\"\",\"\",VLOOKUP(N150,사원명부!$A$2:$B$100,2,FALSE)),\"\")","v":""}]
[null,null,null,null,null,null,null,null,null,null,null,null,null,null,null,{"$f":"IFERROR(IF(N151=\"\",\"\",VLOOKUP(N151,사원명부!$A$2:$B$100,2,FALSE)),\"\")","v":""}]
[null,null,null,null,null,null,null,null,null,null,null,null,null,null,null,{"$f":"IFERROR(IF(N152=\"\",\"\",VLOOKUP(N152,사원명부!$A$2:$B$100,2,FALSE)),\"\")","v":""}]
[null,null,null,null,null,null,null,null,null,null,null,null,null,null,null,{"$f":"IFERROR(IF(N153=\"\",\"\",VLOOKUP(N153,사원명부!$A$2:$B$100,2,FALSE)),\"\")","v":""}]
[null,null,null,null,null,null,null,null,null,null,null,null,null,null,null,{"$f":"IFERROR(IF(N154=\"\",\"\",VLOOKUP(N154,사원명부!$A$2:$B$100,2,FALSE)),\"\")","v":""}]
[null,null,null,null,null,null,null,null,null,null,null,null,null,null,null,{"$f":"IFERROR(IF(N155=\"\",\"\",VLOOKUP(N155,사원명부!$A$2:$B$100,2,FALSE)),\"\")","v":""}]
[null,null,null,null,null,null,null,null,null,null,null,null,null,null,null,{"$f":"IFERROR(IF(N156=\"\",\"\",VLOOKUP(N156,사원명부!$A$2:$B$100,2,FALSE)),\"\")","v":""}]
[null,null,null,null,null,null,null,null,null,null,null,null,null,null,null,{"$f":"IFERROR(IF(N157=\"\",\"\",VLOOKUP(N157,사원명부!$A$2:$B$100,2,FALSE)),\"\")","v":""}]
[null,null,null,null,null,null,null,null,null,null,null,null,null,null,null,{"$f":"IFERROR(IF(N158=\"\",\"\",VLOOKUP(N158,사원명부!$A$2:$B$100,2,FALSE)),\"\")","v":""}]
[null,null,null,null,null,null,null,null,null,null,null,null,null,null,null,{"$f":"IFERROR(IF(N159=\"\",\"\",VLOOKUP(N159,사원명부!$A$2:$B$100,2,FALSE)),\"\")","v":""}]
[null,null,null,null,null,null,null,null,null,null,null,null,null,null,null,{"$f":"IFERROR(IF(N160=\"\",\"\",VLOOKUP(N160,사원명부!$A$2:$B$100,2,FALSE)),\"\")","v":""}]
[null,null,null,null,null,null,null,null,null,null,null,null,null,null,null,{"$f":"IFERROR(IF(N161=\"\",\"\",VLOOKUP(N161,사원명부!$A$2:$B$100,2,FALSE)),\"\")","v":""}]
[null,null,null,null,null,null,null,null,null,null,null,null,null,null,null,{"$f":"IFERROR(IF(N162=\"\",\"\",VLOOKUP(N162,사원명부!$A$2:$B$100,2,FALSE)),\"\")","v":""}]
[null,null,null,null,null,null,null,null,null,null,null,null,null,null,null,{"$f":"IFERROR(IF(N163=\"\",\"\",VLOOKUP(N163,사원명부!$A$2:$B$100,2,FALSE)),\"\")","v":""}]
[null,null,null,null,null,null,null,null,null,null,null,null,null,null,null,{"$f":"IFERROR(IF(N164=\"\",\"\",VLOOKUP(N164,사원명부!$A$2:$B$100,2,FALSE)),\"\")","v":""}]
[null,null,null,null,null,null,null,null,null,null,null,null,null,null,null,{"$f":"IFERROR(IF(N165=\"\",\"\",VLOOKUP(N165,사원명부!$A$2:$B$100,2,FALSE)),\"\")","v":""}]
[null,null,null,null,null,null,null,null,null,null,null,null,null,null,null,{"$f":"IFERROR(IF(N166=\"\",\"\",VLOOKUP(N166,사원명부!$A$2:$B$100,2,FALSE)),\"\")","v":""}]
[null,null,null,null,null,null,null,null,null,null,null,null,null,null,null,{"$f":"IFERROR(IF(N167=\"\",\"\",VLOOKUP(N167,사원명부!$A$2:$B$100,2,FALSE)),\"\")","v":""}]
[null,null,null,null,null,null,null,null,null,null,null,null,null,null,null,{"$f":"IFERROR(IF(N168=\"\",\"\",VLOOKUP(N168,사원명부!$A$2:$B$100,2,FALSE)),\"\")","v":""}]
[null,null,null,null,null,null,null,null,null,null,null,null,null,null,null,{"$f":"IFERROR(IF(N169=\"\",\"\",VLOOKUP(N169,사원명부!$A$2:$B$100,2,FALSE)),\"\")","v":""}]
[null,null,null,null,null,null,null,null,null,null,null,null,null,null,null,{"$f":"IFERROR(IF(N170=\"\",\"\",VLOOKUP(N170,사원명부!$A$2:$B$100,2,FALSE)),\"\")","v":""}]
[null,null,null,null,null,null,null,null,null,null,null,null,null,null,null,{"$f":"IFERROR(IF(N171=\"\",\"\",VLOOKUP(N171,사원명부!$A$2:$B$100,2,FALSE)),\"\")","v":""}]
[null,null,null,null,null,null,null,null,null,null,null,null,null,null,null,{"$f":"IFERROR(IF(N172=\"\",\"\",VLOOKUP(N172,사원명부!$A$2:$B$100,2,FALSE)),\"\")","v":""}]
[null,null,null,null,null,null,null,null,null,null,null,null,null,null,null,{"$f":"IFERROR(IF(N173=\"\",\"\",VLOOKUP(N173,사원명부!$A$2:$B$100,2,FALSE)),\"\")","v":""}]
[null,null,null,null,null,null,null,null,null,null,null,null,null,null,null,{"$f":"IFERROR(IF(N174=\"\",\"\",VLOOKUP(N174,사원명부!$A$2:$B$100,2,FALSE)),\"\")","v":""}]
[null,null,null,null,null,null,null,null,null,null,null,null,null,null,null,{"$f":"IFERROR(IF(N175=\"\",\"\",VLOOKUP(N175,사원명부!$A$2:$B$100,2,FALSE)),\"\")","v":""}]
[null,null,null,null,null,null,null,null,null,null,null,null,null,null,null,{"$f":"IFERROR(IF(N176=\"\",\"\",VLOOKUP(N176,사원명부!$A$2:$B$100,2,FALSE)),\"\")","v":""}]
[null,null,null,null,null,null,null,null,null,null,null,null,null,null,null,{"$f":"IFERROR(IF(N177=\"\",\"\",VLOOKUP(N177,사원명부!$A$2:$B$100,2,FALSE)),\"\")","v":""}]
[null,null,null,null,null,null,null,null,null,null,null,null,null,null,null,{"$f":"IFERROR(IF(N178=\"\",\"\",VLOOKUP(N178,사원명부!$A$2:$B$100,2,FALSE)),\"\")","v":""}]
[null,null,null,null,null,null,null,null,null,null,null,null,null,null,null,{"$f":"IFERROR(IF(N179=\"\",\"\",VLOOKUP(N179,사원명부!$A$2:$B$100,2,FALSE)),\"\")","v":""}]
[null,null,null,null,null,null,null,null,null,null,null,null,null,null,null,{"$f":"IFERROR(IF(N180=\"\",\"\",VLOOKUP(N180,사원명부!$A$2:$B$100,2,FALSE)),\"\")","v":""}]
[null,null,null,null,null,null,null,null,null,null,null,null,null,null,null,{"$f":"IFERROR(IF(N181=\"\",\"\",VLOOKUP(N181,사원명부!$A$2:$B$100,2,FALSE)),\"\")","v":""}]
[null,null,null,null,null,null,null,null,null,null,null,null,null,null,null,{"$f":"IFERROR(IF(N182=\"\",\"\",VLOOKUP(N182,사원명부!$A$2:$B$100,2,FALSE)),\"\")","v":""}]
[null,null,null,null,null,null,null,null,null,null,null,null,null,null,null,{"$f":"IFERROR(IF(N183=\"\",\"\",VLOOKUP(N183,사원명부!$A$2:$B$100,2,FALSE)),\"\")","v":""}]
[null,null,null,null,null,null,null,null,null,null,null,null,null,null,null,{"$f":"IFERROR(IF(N184=\"\",\"\",VLOOKUP(N184,사원명부!$A$2:$B$100,2,FALSE)),\"\")","v":""}]
[null,null,null,null,null,null,null,null,null,null,null,null,null,null,null,{"$f":"IFERROR(IF(N185=\"\",\"\",VLOOKUP(N185,사원명부!$A$2:$B$100,2,FALSE)),\"\")","v":""}]
[null,null,null,null,null,null,null,null,null,null,null,null,null,null,null,{"$f":"IFERROR(IF(N186=\"\",\"\",VLOOKUP(N186,사원명부!$A$2:$B$100,2,FALSE)),\"\")","v":""}]
[null,null,null,null,null,null,null,null,null,null,null,null,null,null,null,{"$f":"IFERROR(IF(N187=\"\",\"\",VLOOKUP(N187,사원명부!$A$2:$B$100,2,FALSE)),\"\")","v":""}]
[null,null,null,null,null,null,null,null,null,null,null,null,null,null,null,{"$f":"IFERROR(IF(N188=\"\",\"\",VLOOKUP(N188,사원명부!$A$2:$B$100,2,FALSE)),\"\")","v":""}]
[null,null,null,null,null,null,null,null,null,null,null,null,null,null,null,{"$f":"IFERROR(IF(N189=\"\",\"\",VLOOKUP(N189,사원명부!$A$2:$B$100,2,FALSE)),\"\")","v":""}]
[null,null,null,null,null,null,null,null,null,null,null,null,null,null,null,{"$f":"IFERROR(IF(N190=\"\",\"\",VLOOKUP(N190,사원명부!$A$2:$B$100,2,FALSE)),\"\")","v":""}]
[null,null,null,null,null,null,null,null,null,null,null,null,null,null,null,{"$f":"IFERROR(IF(N191=\"\",\"\",VLOOKUP(N191,사원명부!$A$2:$B$100,2,FALSE)),\"\")","v":""}]
[null,null,null,null,null,null,null,null,null,null,null,null,null,null,null,{"$f":"IFERROR(IF(N192=\"\",\"\",VLOOKUP(N192,사원명부!$A$2:$B$100,2,FALSE)),\"\")","v":""}]
[null,null,null,null,null,null,null,null,null,null,null,null,null,null,null,{"$f":"IFERROR(IF(N193=\"\",\"\",VLOOKUP(N193,사원명부!$A$2:$B$100,2,FALSE)),\"\")","v":""}]
[null,null,null,null,null,null,null,null,null,null,null,null,null,null,null,{"$f":"IFERROR(IF(N194=\"\",\"\",VLOOKUP(N194,사원명부!$A$2:$B$100,2,FALSE)),\"\")","v":""}]
[null,null,null,null,null,null,null,null,null,null,null,null,null,null,null,{"$f":"IFERROR(IF(N195=\"\",\"\",VLOOKUP(N195,사원명부!$A$2:$B$100,2,FALSE)),\"\")","v":""}]
[null,null,null,null,null,null,null,null,null,null,null,null,null,null,null,{"$f":"IFERROR(IF(N196=\"\",\"\",VLOOKUP(N196,사원명부!$A$2:$B$100,2,FALSE)),\"\")","v":""}]
[null,null,null,null,null,null,null,null,null,null,null,null,null,null,null,{"$f":"IFERROR(IF(N197=\"\",\"\",VLOOKUP(N197,사원명부!$A$2:$B$100,2,FALSE)),\"\")","v":""}]
[null,null,null,null,null,null,null,null,null,null,null,null,null,null,null,{"$f":"IFERROR(IF(N198=\"\",\"\",VLOOKUP(N198,사원명부!$A$2:$B$100,2,FALSE)),\"\")","v":""}]

{"sheet":"취업규칙신고서","index":51,"n_rows":40,"n_cols":20,"rows_kept":40,"cut":false,"hidden":false,"merged":[[0,18,1,21],[4,0,4,3],[7,4,7,10],[8,4,8,10],[4,4,4,9],[5,0,5,3],[5,4,5,10],[0,0,0,16],[1,0,2,8],[1,9,1,16],[2,9,2,16],[3,0,3,9],[3,10,3,16],[5,11,5,16],[6,0,6,16],[9,1,9,3],[8,11,8,12],[7,11,7,12],[9,4,9,16],[4,11,4,16],[40,1,44,8],[40,9,44,16],[39,9,39,16],[55,0,59,0],[50,0,54,0],[45,0,49,0],[40,0,44,0],[55,1,59,8],[55,9,59,16],[50,1,54,8],[50,9,54,16],[45,1,49,8],[45,9,49,16],[38,0,38,16],[39,1,39,8],[32,11,32,13],[33,11,33,13],[34,11,34,13],[32,15,32,16],[32,0,32,1],[33,0,34,1],[32,3,32,5],[33,3,33,5],[34,3,34,5],[32,7,32,9],[33,7,33,9],[34,7,34,9],[33,15,33,16],[34,15,34,16],[14,0,14,16],[15,0,15,16],[13,1,13,6],[13,7,13,16],[16,0,16,10],[7,0,13,0],[7,13,7,16],[8,13,8,16],[11,11,11,16],[12,11,12,16],[11,1,11,3],[12,1,12,10],[11,4,11,10],[10,1,10,16],[7,1,7,3],[8,1,8,3],[17,0,17,10],[16,14,16,16],[17,14,17,16],[16,11,16,13],[17,11,17,13],[35,0,35,16],[19,0,23,16],[18,2,18,16],[18,0,18,1],[36,0,36,16],[30,0,31,16],[24,15,26,16],[27,15,27,16],[28,0,28,16],[29,0,29,16],[24,0,27,1],[24,2,24,14],[25,2,25,14],[26,2,26,14],[27,2,27,14]]}
["■ 근로기준법 시행규칙 [별지 제15호서식] <개정 2012.2.9>",null,null,null,null,null,null,null,null,null,null,null,null,null,null,null,null,null,"고용노동부 민원 24"]
["취업규칙",null,null,null,null,null,null,null,null,{"$f":"IF(T12=\"신고\",\"[V]신고서\",\"[  ]신고서\")","v":"[V]신고서"}]
[null,null,null,null,null,null,null,null,null,{"$f":"IF(T12=\"변경신고\",\"[V]변경신고서\",\"[  ]변경신고서\")","v":"[  ]변경신고서"}]
["※ [ ]에는 해당되는 곳에 √ 표시를 합니다."]
["접수번호",null,null,null,"접수일",null,null,null,null,null,null,"처리기간 1일"]
[]
[]
["신고내용","사업장명",null,null,{"$f":"IFBLANK(요양기관기초정보!D1)","v":"팜오피스약국"},null,null,null,null,null,null,"사업의 종류",null,{"$f":"IFBLANK(요양기관기초정보!C15)&\" \"&IFBLANK(요양기관기초정보!C16)","v":"소매 양약,의료기기"}]
[null,"대표자 성명",null,null,{"$f":"IFBLANK(요양기관기초정보!C6)","v":"홍길동"},null,null,null,null,null,null,"생년월일",null,{"$f":"LEFT(IFBLANK(요양기관기초정보!C7),6)","v":"680623"}]
[null,"소재지",null,null,{"$f":"IFBLANK(요양기관기초정보!C11)","v":"서울 서대문구 연세로 41 (창천동 78-14)"}]
[null,{"$f":"\"(전화번호 : \"&IFBLANK(요양기관기초정보!C10)&\")\"","v":"(전화번호 : 010-1234-5678)"}]
[null,"근로자수",null,null,{"$f":"업무분장내역!M8&\" 명\"","v":"1 명"},null,null,null,null,null,null,"노동조합원수",null,null,null,null,null,null,"구분","신고"]
[null,{"$f":"\"(남 \"&업무분장내역!M8-업무분장내역!M7&\" 명 , 여 \"&업무분장내역!M7&\" 명)\"","v":"(남 0 명 , 여 1 명)"},null,null,null,null,null,null,null,null,null,"명",null,null,null,null,null,null,"대리인"]
[null,"의견청취일 또는 동의일 ",null,null,null,null,null,{"$f":"근로자동의서!J2","v":"2020-01-01"},null,null,null,null,null,null,null,null,null,null,"관할노동청"]
[{"$f":"\"「근로기준법」 제93조와 같은 법 시행규칙 제15조에 따라 위와 같이 취업규칙을 \"&IF(T12=\"신고\",\"［V］신고,［ ］변경신고\",IF(T12=\"변경신고\",\"［］신고,［V］변경신고\",\"［ ］신고,［ ］변경신고\"))&\"합니다\"","v":"「근로기준법」 제93조와 같은 법 시행규칙 제15조에 따라 위와 같이 취업규칙을 ［V］신고,［ ］변경신고합니다"}]
[{"$f":"TODAY()","v":"2021-05-31"}]
["신청인",null,null,null,null,null,null,null,null,null,null,{"$f":"IFBLANK(E9)","v":"홍길동"},null,null,"(서명 또는 인)"]
["대리인",null,null,null,null,null,null,null,null,null,null,{"$f":"IFBLANK(T13)","v":""},null,null,"(서명 또는 인)"]
[{"$f":"IF(T14=\"\",IFBLANK(요양기관기초정보!C22),T14)","v":"서울 "},null,"지방고용노동청(지청)장 귀하"]
[]
[]
[]
[]
[]
["첨부서류",null,"1. 취업규칙 (변경신고 하는 경우에는 변경 전과 변경 후의 내용을 비교한 서류)",null,null,null,null,null,null,null,null,null,null,null,null,"수수료"]
[null,null,"2. 근로자의 과반수를 대표하는 노동조합 또는 근로자 과반수의 의견을 들었음을 증명하는 자료"]
[null,null,"3. 근로자의 과반수를 대표하는 노동조합 또는 근로자 과반수의 동의를 받았음을 증명하는 자료"]
[null,null,"(근로자에게 불리하게 변경하는 경우에만 첨부합니다. )",null,null,null,null,null,null,null,null,null,null,null,null,"없음"]
[]
["처 리 절 차"]
[]
[]
["신청서 제출",null,"→","접 수",null,null,"→","내용검토",null,null,"→","결 재",null,null,"→","통 보"]
["신청인",null,null,"지방고용노동청(지청)장",null,null,null,"지방고용노동청(지청)장",null,null,null,"지방고용노동청(지청)장",null,null,null,"변경명령"]
[null,null,null,"(민원실)",null,null,null,"(근로개선지도과)",null,null,null,"(청장 · 지청장)",null,null,null,"(법령 또는 단체협약에 저축되는 경우)"]
[]
["210mm×297mm[일반용지 70g/㎡(재활용품)]"]
[]
["취업규칙 변경 내역"]
[null,"변경전",null,null,null,null,null,null,null,"변경후"]

{"sheet":"취업규칙","index":52,"n_rows":514,"n_cols":5,"rows_kept":514,"cut":false,"hidden":false,"merged":[[483,0,484,0],[506,0,507,0],[225,2,225,4],[246,2,246,9],[247,2,247,9],[248,2,248,9],[249,2,249,9],[250,2,250,9],[251,2,251,9],[253,2,253,9],[256,2,256,9],[440,0,441,0]]}
[{"$f":"IFBLANK(요양기관기초정보!D1)&\" 취업규칙\"","v":"팜오피스약국 취업규칙"}]
[]
["제1장 총 칙"]
["제1조(목적)   6"]
["제2조(적용범위)   6"]
[]
["제2장 채용 및 근로계약"]
["제3조(채용기회)   6"]
["제4조(전형 및 채용서류)   6"]
["제5조(근로계약)   6"]
["제6조(수습기간)  6"]
[]
["제3장 복 무"]
["제7조(복무의무)   7"]
["제8조(출근, 결근)  7"]
["제9조(지각․조퇴 및 외출)  7"]
["제10조(공민권행사 및 공의 직무 수행)   7"]
["제11조(출장)   7"]
[]
["제4장 인사"]
["제1절 인사위원회"]
["제12조(인사위원회의 구성)   8"]
["제13조(위원회의 기능)   8"]
["제14조(위원회의 소집 및 운영)   8"]
[]
["제2절 배치・전직 및 승진 "]
["제15조(배치, 전직, 승진)   8"]
[]
["제3절 휴직 및 복직"]
["제16조(휴직)   9"]
["제17조(육아휴직)   9"]
["제18조(가족돌봄휴직 등)   9"]
["제19조(복직)   10"]
["제20조(근속기간의 계산)   10"]
[]
["제5장 근로조건"]
["제1절 근로시간"]
["제21조(근무형태)  10"]
["제22조(근로시간)   10"]
["제23조(휴게)   10"]
["제24조(연장․야간 및 휴일근로)   11"]
["제25조(야간 및 휴일근로의 제한)   11"]
[]
["제2절 휴일․휴가"]
["제26조(유급휴일)   12"]
["제27조(연차휴가)   12"]
["제28조(연차휴가의 사용)   12"]
["제29조 (연차유급휴가의 대체)  12"]
["제30(경조사 휴가)   12"]
["제31조(생리휴가)   13"]
["제32조(병가)   13"]
[]
["제3절 모성보호"]
["제33조(임산부의 보호)   13"]
["제34조(태아검진 시간의 허용)   14"]
["제35조(육아기근로시간단축)   14"]
["제36조(육아기근로시간단축 중 근로조건 등)   14"]
["제37조(육아휴직과 육아기근로시간단축의 형태)   15"]
["제38조(육아시간)   15"]
[]
["제6장 임 금"]
["제39조(임금의 구성항목)   15"]
["제40조(임금의 계산 및 지급방법)   15"]
["제41조(비상시 지급)   16"]
["제42조(휴업수당)   16"]
["제43조(상여금지급)   16"]
[]
["제7장 퇴직・해고 등"]
["제44조 (퇴직 및 퇴직일)   16"]
["제45조(해고)   17"]
["제46조(해고의 제한)   17"]
["제47조(해고의 통지)   17"]
["제48조(차별금지)   17"]
[]
["제8장 퇴직급여"]
["제49조(퇴직급여제도의 설정 등)   17"]
["제50조(중간정산)   18"]
[]
["제9장 직장 내 괴롭힘의 예방"]
["제51조(직장 내 괴롭힘 행위의 금지)   18"]
["제52조(금지되는 직장 내 괴롭힘 행위)   18"]
["제53조(직장 내 괴롭힘 예방교육)   18"]
["제54조(직장 내 괴롭힘 행위 발생 시 조치)   19"]
[]
["제10장 표창 및 징계"]
["제55조(표창)   19"]
["제56조(징계)   19"]
["제57조(징계의 종류)   20"]
["제58조(징계심의)   20"]
["제59조(징계결과 통보)   20"]
["제60조(재심절차)   20"]
[]
["제11장 교육 및 성희롱의 예방"]
["제61조(직무교육)   21"]
["제62조(성희롱의 예방)   21"]
["제63조(직장 내 장애인 인식개선 교육)   21"]
[]
["제12장 안전보건"]
["제64조(안전보건관리규정)   22"]
["제65조(안전보건 교육)   22"]
["제66조(위험기계․기구의 방호조치)   22"]
["제67조(보호구의 지급 및 착용)   22"]
["제68조(물질안전보건자료의 작성·비치)   22"]
["제69조(작업환경측정)   22"]
["제70조(건강진단)   23"]
["제71조(산업안전보건법 준수)  23"]
[]
["제13장 재해보상"]
["제72조(재해보상)  23"]
[]
["제14장 취업규칙"]
["제73조(취업규칙의 비치)  23"]
["제74조(취업규칙의 변경)  23"]
[]
["부 칙  23"]
[]
[]
["제1장 총 칙"]
[]
[{"$f":"\"제1조(목적) 이 규칙은 \"&IFBLANK(요양기관기초정보!D1)&\"(이하 “회사”라 한다) 사원의 채용․복무 및 근로조건 등에 관한 사항을 정함을 목적으로 한다.\"","v":"제1조(목적) 이 규칙은 팜오피스약국(이하 “회사”라 한다) 사원의 채용․복무 및 근로조건 등에 관한 사항을 정함을 목적으로 한다."}]
[]
["제2조(적용범위) ① 이 규칙은 회사의 사업장에 근무하는 사원에게 적용한다."]
["② 사원의 복무 및 근로조건에 관하여 법령, 단체협약, 그 밖에 회사규정에 별도로 정함이 있는 경우를 제외하고는 이 규칙이 정하는 바에 의한다."]
[]
["제2장 채용 및 근로계약"]
[]
["제3조(채용기회) 회사는 사원의 모집 및 채용에 있어서 합리적인 이유 없이 성별, 연령, 신앙, 사회적신분, 출신지역, 출신학교, 혼인․임신·연령, 출산 또는 병력(病歷) 등에 의한 차등을 두지 않는다."]
[]
["제4조(전형 및 채용서류) 회사에 입사를 지원하는 자는 다음 각 호의 서류를 제출하여야 한다."]
["1. 이력서 1통"]
["2. 자기소개서 1통 "]
[]
["제5조(근로계약) ① 회사는 채용이 확정된 자와 서면으로 근로계약을 체결하고, 해당자에게 근로계약서 사본 1부를 내어 준다."]
["② 회사는 근로계약 체결 시 사원에게 임금, 휴일, 연차 유급휴가, 취업의 장소와 종사하여야 할 업무에 관한 사항, 근로기준법 제93조제1호부터 제12호까지의 규정(취업규칙의 작성․신고사항)에서 정한 사항, 근로기준법 제10장의 기숙사에 관한 사항(기숙사가 있는 경우에 한함)을 명확히 제시한다."]
["③ 회사는 제2항의 내용 중 임금의 구성항목․계산방법․지급방법, 소정근로시간, 휴일, 연차유급휴가에 관한 사항, 취업의 장소와 종사하여야 할 업무에 관한 사항을 서면으로 명확히 제시하여 교부한다. 또한 기간제 근로자인 경우 근로계약기간도 함께 명시한다."]
["④ 회사는 근로계약 체결 시 제2항 및 제3항의 사항이 적시된 취업규칙을 제시하거나 교부함으로써 제2항의 명시 및 제3항의 서면명시 및 교부의무를 대신할 수 있다."]
[]
["제6조(수습기간) ① 신규로 채용된 자는 최초로 근무를 개시한 날부터 3개월간을 수습기간으로 한다. "]
["② 제1항의 수습기간은 근속년수에 포함하며, 평균임금산정 대상기간에는 포함하지 않는다."]
[]
["제3장 복 무"]
[]
["제7조(복무의무) 사원은 다음 각 호의 사항을 준수하여야 한다."]
["1. 사원은 맡은바 직무를 충실히 수행하여야 한다."]
["2. 사원은 직무상 지득한 비밀을 엄수하고 회사기밀을 누설해서는 아니 된다. 단, 공익신고자 보호법상의 ‘공익신고자’의 경우에는 적용되지 아니한다."]
["3. 사원은 회사의 제반규정을 준수하고 상사의 정당한 직무상 지시에 따라야 한다."]
["4. 사원은 사원으로서 품위를 손상하거나 회사의 명예를 실추시키는 행위를 하여서는 아니 된다. "]
["5. 사원은 그 밖에 제1호 내지 제4호에 준하는 행위를 하여서는 아니 된다."]
[]
["제8조(출근, 결근) ① 사원은 업무시간 시작 전까지 출근하여 업무에 임할 준비를 하여 정상적인 업무수행에 차질이 없도록 하여야 한다."]
["② 질병이나 그 밖의 부득이한 사유로 결근하고자 하는 경우에는 사전에 소속부서의 장의 승인을 받아야 한다. 다만, 불가피한 사유로 사전에 승인을 받을 수 없는 경우에는 결근 당일에라도 그 사유를 명확히 하여 사후 승인을 받아야 하며 정당한 이유 없이 이러한 절차를 이행하지 아니한 경우 무단결근을 한 것으로 본다."]
[]
["제9조(지각․조퇴 및 외출) ① 사원은 질병 그 밖의 부득이한 사유로 지각하게 되는 경우에는 사전에 부서의 장 또는 직근 상급자에게 알려야 하며, 부득이한 사정으로 사전에 알릴 수 없는 경우에는 사후에라도 지체 없이 이 사실을 알려야 한다."]
["② 사원은 근로시간 중에 사적으로 근무 장소를 이탈할 수 없다. 다만, 질병이나 그 밖의 부득이한 사유로 인하여 조퇴 또는 외출 하고자 할 경우에는 소속부서의 장의 승인을 받아야 한다."]
["③ 사원이 지각․조퇴 및 외출한 시간은 무급으로 처리함을 원칙으로 한다."]
[]
["제10조(공민권행사 및 공의 직무 수행) ① 회사는 사원이 근무시간 중 선거권, 그 밖의 공민권을 행사하거나 공(公)의 직무를 수행하기 위하여 필요한 시간을 청구할 경우 이를 거부할 수 없으며, 그 시간은 유급으로 처리한다."]
["② 회사는 제1항의 권리 행사나 공(公)의 직무를 수행하는데 지장이 없는 범위 내에서 사원이 청구한 시간을 변경할 수 있다."]
[]
["제11조(출장) ① 회사는 업무수행을 위하여 필요한 경우 사원에게 출장을 명할 수 있다."]
["② 회사는 행선지별 여비, 숙박비, 현지교통비 등 실비에 충당될 수 있는 비용을 지급한다."]
[]
["제4장 인 사"]
[]
["제1절 인사위원회"]
[]
["제12조(인사위원회의 구성) ① 인사위원회(이하 “위원회”라 한다.)는 대표이사와 부서장 또는 그에 준하는 직급의 사원 중 대표이사가 임명하는 자로 총 5명 이내로 구성하되 근로자위원을 최소 1명이상 포함되도록 한다."]
["② 위원회의 위원장은 대표이사 또는 대표이사가 위임한 자로 한다. "]
["③ 위원회에는 인사(총무)담당자 1명을 간사로 둔다."]
[]
["제13조(위원회의 기능) 위원회는 다음 각 호의 사항을 의결한다."]
["1. 사원의 표창에 관한 사항"]
["2. 사원의 징계에 관한 사항"]
["3. 그 밖에 사원의 인사에 관하여 위원회의 의결이 필요한 사항"]
[]
["제14조(위원회의 소집 및 운영) ① 위원회는 제14조의 의결사항이 있을 경우 위원장이 소집한다."]
["② 위원장은 회의를 소집하고자 하는 경우 원칙적으로 회의개최 7일전에 회의일시, 장소, 의제 등을 각 위원에게 통보한다. "]
["③ 위원회는 재적위원 과반수의 출석과 출석위원 과반수의 찬성으로 의결한다. 다만, 징계에 관한 사항은 재적위원 3분의 2이상의 찬성으로 의결한다."]
["④ 위원장은 표결권을 가지며 가부동수일 때에는 결정권을 가진다."]
["⑤ 위원회의 회의는 공개하지 아니하며 회의내용과 관련된 사항은 누설하여서는 아니 된다. 다만, 위원회의 의결로 공개할 수 있다."]
["⑥ 위원회의 의결사항이 특정위원에 관한 사항을 의결할 때에는 당해위원은 그 건의 의결에 참여할 수 없다."]
["⑦ 위원회의 운영방법 등 기타 필요한 사항에 대하여는 별도의 규정으로 정할 수 있다."]
[]
["제2절 배치․전직 및 승진"]
[]
["제15조(배치, 전직, 승진) ① 회사는 사원의 능력, 적성, 경력 등을 고려하여 부서의 배치, 전직, 승진 등 인사발령을 하며, 사원은 정당한 사유 없이 이를 거부할 수 없다."]
["② 회사는 제1항의 인사발령을 함에 있어서 합리적인 이유 없이 남녀를 차별하지 아니한다."]
["③ 승진 등 인사발령과 관련하여 필요한 사항에 대하여는 별도의 규정으로 정한다."]
[]
["제3절 휴직 및 복직 "]
[]
["제16조(휴직) ① 회사는 다음 각 호의 어느 하나에 해당하는 사유로 사원이 휴직원을 제출하는 경우에는 휴직을 승인할 수 있다. 이 경우 제3호의 휴직 외에는 무급을 원칙으로 한다."]
["1. 업무 외 질병, 부상, 가사 등으로 직무수행이 어렵다고 인정되는 경우: 필요하다고 인정되는 기간"]
["2. 병역법, 기타 법령에 의해 징집 및 소집되었을 때: 징집 및 소집기간"]
["3. 연수, 직무 등의 사유로 회사가 휴직이 필요하다고 하는 경우: 필요하다고 인정되는 기간 "]
["② 휴직자는 휴직기간 중 거주지의 변동 등의 사유가 있을 때에는 회사에 즉시 그 사실을 알려야 한다."]
[]
["제17조(육아휴직) ① 회사는 만 8세 이하 또는 초등학교 2학년 이하의 자녀(입양한 자녀를 포함한다)를 가진 남녀 사원이 그 자녀의 양육을 위하여 육아휴직을 청구하는 경우에는 이를 허용한다. 단, 계속 근로한 기간이 6개월 미만이거나 같은 영유아에 대하여 배우자가 육아휴직 중인 경우에는 허용하지 않을 수 있다."]
["② 육아휴직 기간은 1년 이내로 한다."]
["③ 회사는 육아휴직을 이유로 해고나 그 밖의 불리한 처우를 하지 않으며 특히 육아휴직기간에는 해고하지 아니한다. "]
["④ 회사는 사원이 육아휴직을 사용할 경우 고용보험법령이 정하는 육아휴직급여를 받을 수 있도록 증빙서류를 제공하는 등 적극 협조한다."]
[]
["제18조(가족돌봄휴직 등) ① 회사는 사원이 부모, 배우자, 자녀 또는 배우자의 부모(이하 \"가족\"이라 한다)의 질병, 사고, 노령으로 인하여 그 가족을 돌보기 위한 휴직(이하 \"가족돌봄휴직\"이라 한다)을 신청하는 경우 이를 허용하여야 한다. 다만, 대체인력 채용이 불가능한 경우, 정상적인 사업 운영에 중대한 지장을 초래하는 경우 등 남녀고용평등법 시행령으로 정하는 경우에는 그러하지 아니하다."]
["② 제1항 단서에 따라 가족돌봄휴직을 허용하지 아니하는 경우에는 해당 사원에게 그 사유를 서면으로 통보하고, 다음 각 호의 어느 하나에 해당하는 조치를 하도록 노력하여야 한다."]
["1. 업무를 시작하고 마치는 시간 조정"]
["2. 연장근로의 제한"]
["3. 근로시간의 단축, 탄력적 운영 등 근로시간의 조정"]
["4. 그 밖에 사업장 사정에 맞는 지원조치"]
["③ 가족돌봄휴직 기간은 연간 최장 90일로 하며, 이를 나누어 사용할 수 있다. 이 경우 나누어 사용하는 1회의 기간은 30일 이상이 되어야 한다. "]
["④ 회사는 가족돌봄휴직을 이유로 해당 근로자를 해고하거나 근로조건을 악화시키는 등 불리한 처우를 하여서는 아니 된다. "]
["⑤ 가족돌봄휴직 기간은 근속기간에 포함한다. 다만, 근로기준법 제2조 제1항 제6호에 따른 평균임금 산정기간에서는 제외한다. "]
["⑥ 회사는 소속 근로자가 건전하게 직장과 가정을 유지하는 데에 도움이 될 수 있도록 필요한 심리상담 서비스를 제공하도록 노력하여야 한다."]
[]
["제19조(복직) ① 사원은 휴직사유가 소멸되었을 때에는 지체 없이 복직원을 제출해야 하며, 휴직기간이 만료된 때에는 그 만료일 7일전까지 복직원을 제출하여야 한다. "]
["② 사원은 부득이한 사유가 있는 경우 승인을 얻어 휴직기간을 연장할 수 있다."]
["③ 회사는 휴직중인 사원으로부터 복직원을 제출 받은 경우에는 최대한 빠른 시일 내에 휴직 전의 직무에 복직시키도록 노력하되, 부득이한 경우에는 그와 유사한 업무나 동등한 수준의 급여가 지급되는 직무로 복귀시키도록 노력한다."]
[]
["제20조(근속기간의 계산) 휴직기간은 근속기간에 산입한다. 다만, 제17조 제1항 제2호의 병역법에 의한 군복무기간은 퇴직금 산정을 위한 계속 근로년수에서 제외한다."]
[]
["제5장 근로조건"]
[]
["제1절 근로시간"]
[]
["제21조(근무형태) 근무형태는 주간근무를 원칙으로 하며, 필요할 경우 근로자대표와 합의하여 교대근무제를 시행할 수 있다."]
[]
["제22조(근로시간) ① 1주간의 근무일은 월요일부터 금요일까지 5일로 하고 이 경우 매주 토요일은 무급휴무일로 한다.",null,"요양기관별 근무시간 입력"]
["② 1주간의 근로시간은 휴게시간을 제외하고 40시간으로 한다.",null,"구   분","시   업","종   업"]
["③ 1일의 근로시간은 8시간으로 하되, 제24조의 휴게시간을 제외하고 09:00부터 18:00시까지로 한다.",null,"평   일"]
["④18세 미만 사원의 경우 1일의 근로시간은 7시간 이내로, 1주의 근로시간은 35시간 이내로 한다.",null,"토요일"]
[]
["제23조(휴게) 휴게시간은 제23조 제3항의 근로시간 중 12:00부터 14:00까지 계속된 1시간으로 한다. 다만, 업무사정에 따라 휴게시간을 달리 정하여 운영할 수 있다."]
[]
["제24조(연장․야간 및 휴일근로) ① 연장근로는 1주간 휴일을 포함하여 12시간을 한도로 사원의 동의하에 실시할 수 있다. 단, 18세 미만 사원은 1일 1시간, 1주일에 5시간을 한도로 사원의 동의하에 실시할 수 있으며, 산후 1년이 지나지 아니한 여성사원에 대하여는 단체협약이 있는 경우라도 1일 2시간, 1주 6시간, 1년 150시간을 한도로 사원의 동의하에 실시할 수 있으며, 임신 중인 여성사원은 연장근로를 실시할 수 없다."]
["② 연장․야간(22시부터 06시 사이의 근로)에 대하여는 통상임금의 50%를 가산하여 지급한다."]
["③ 휴일근로에 대하여는 8시간 이내에 대하여는 통상임금의 50%, 8시간 초과의 휴일근로에 대하여는 통상임금의 100%를 가산하여 지급한다."]
["④ 회사는 사원의 대표와 서면 합의하여 연장․야간 및 휴일근로에 대하여 임금을 지급하는 것을 대신하여 휴가를 줄 수 있다."]
[]
["제25조(야간 및 휴일근로의 제한) ① 18세 이상의 여성 사원을 오후 10시부터 오전 6시까지 근로하게 하거나 휴일에 근로를 시킬 경우 당해 사원의 동의를 얻어 실시한다."]
["② 임산부와 18세 미만인 사원에 대하여는 오후 10시부터 오전 6시까지의 시간 및 휴일에 근로를 시키지 않는 것을 원칙으로 한다. 다만, 다음 각 호의 어느 하나에 해당 하는 경우에는 그 시행 여부와 방법 등에 관하여 사원의 대표와 성실히 협의한 후 고용노동부장관의 인가를 받아 야간 및 휴일근로를 실시할 수 있다."]
["1. 18세 미만자의 동의가 있는 경우"]
["2. 산후 1년이 지나지 아니한 여성의 동의가 있는 경우",null,"1.회사는 연간 8할 이상 출근한 자에게 15일의 연차 휴가를 준다. "]
["3. 임신 중의 여성이 명시적으로 청구하는 경우",null,"2.3년 이상 근속한 자에 대하여는 1년을 초과하는 근속년수 2년에 대 하여 1일의 유급휴가를 전항의 휴가일수에 가산한다. "]
[null,null,"3.휴가의 총 일 수 가 25일을 초과하는 경우 그 초과 일수에 대해서는 유급휴가를 주지 아니 할 수 있다. "]
["제2절 휴일․휴가 ",null,"4.회사의 특성상 국경일 및 법정 공휴일에는 영업하지 아니하므로 그 휴일은 연차유급 휴가 를 사용한 것으로 한다."]
[null,null,"5.4항의 내용은 2020년 12월31일 까지만 적용한다."]
["제26조(유급휴일) ① 1주 동안 소정근로일을 개근한 사원에 대하여는 일요일을 유급주휴일로 부여한다. "]
["② 근로자의 날(5월 1일)은 유급휴일로 한다. 다만, 근로자의 날에 근로를 한 경우 ｢근로기준법｣ 제57조(보상휴가제)에 따라 보상휴가를 줄 수 있다",null,"[관공서의 공휴일에 관한규정]"]
[null,null,"공휴일 처리"]
["제27조(연차유급휴가) ① 1년간 8할 이상 출근한 사원에게는 15일의 유급휴가를 준다.",null,"법정공휴일을 연차휴가로 대체하거나 근무일에 포함시키는 경우(30인이상은 2021년부터,5인이상이면 2022년도부터 불가능)"]
["② 계속하여 근로한 기간이 1년 미만인 사원과 1년간 80퍼센트 미만 출근한 근로자에게 1개월 개근 시 1일의 유급휴가를 준다.",null,"‘관공서의 공휴일에 관한규정’ 제 2조에서 정한 공휴일(일요일 제외)은 근로일로 한다."]
["③ 3년 이상 근속한 사원에 대하여는 제1항 규정에 의한 휴가에 최초 1년을 초과하는 계속 근로연수 매 2년에 대하여 1일을 가산한 유급휴가를 주며, 가산휴가를 포함한 총 휴가일수는 25일을 한도로 한다.",null,"2021년부터 상시근로자 30인 이상 2022년부터 상시근로자 5인이상이면"]
[null,null,"‘관공서의 공휴일에 관한규정’ 제 2조에서 정한 공휴일(일요일 제외)은 유급휴일로 한다"]
["제28조(연차휴가의 사용) ① 사원의 연차유급휴가는 1년간 행사하지 아니하면 소멸된다. 다만, 사용자의 귀책사유로 사용하지 못한 경우에는 그러하지 아니하다. "]
["② 회사는 근로기준법 제61조에 따라 연차유급휴가 사용을 촉진할 수 있다. 회사의 사용촉진조치에도 불구하고 사원이 사용하지 아니한 연차유급휴가에 대하여는 금전으로 보상 하지 아니한다.",null,"주 40시간제에서의 토요일"]
[]
["제29조(연차유급휴가의 대체)① 회사특성상 공휴일 및 국경일에는 근무하지 아니하므로 그날은 연차휴가를 사용한 것으로 한다. 단 이규정은 2021년 12월 31일까지만 적용한다."]
["② 회사는 2022년 1월부터  ‘관공서의 공휴일에 관한규정’ 제 2조에서 정한 공휴일(일요일 제외)을 유급휴일로 한다",null,"법정공휴일을 연차휴가로 대체하거나 근무일에 포함시키는 경우(30인이상은 2021년부터,5인이상이면 2022년도부터 불가능)"]
[null,null,"제29조 2021년부터 근로자수에 따라 단계적으로 폐지"]
["제30조(경조사 휴가) ① 회사는 다음 각 호의 어느 하나에 해당하는 범위에서 사원의 신청에 따라 유급의 경조사휴가를 부여한다."]
["1. 본인의 결혼: 7일"]
["2. 자녀 결혼 : 1일"]
["3. 배우자의 출산: 5일"]
["3. 본인․배우자의 부모 또는 배우자의 사망: 7일"]
["4. 본인․배우자의 조부모 또는 외조부모의 사망: 3일"]
["5. 자녀 또는 그 자녀의 배우자의 사망: 3일"]
["6. 본인․배우자의 형제자매 사망 : 3일"]
["② 제1항에 따른 경조사 휴가기간 중 휴일 또는 휴무일이 포함되어 있는 경우에는 이를 포함하여 휴가기간을 계산한다."]
[]
["제31조(생리휴가) 회사는 여성 사원이 청구하는 경우 월 1일의 무급생리휴가를 부여한다."]
[]
["제32조(병가) ① 회사는 사원이 업무 외 질병․부상 등으로 병가를 신청하는 경우에는 연간 60일을 초과하지 않는 범위 내에서 병가를 허가할 수 있다. 이 경우 병가기간은 무급으로 한다."]
["② 상해나 질병 등으로 1주 이상 계속 결근 시에는 검진의사의 진단서를 첨부하여야 한다."]
[]
["제3절 모성보호"]
[]
["제33조(임산부의 보호) ① 임신 중의 여성 사원에게 출산 전과 출산 후를 통하여 90일(한 번에 둘 이상 자녀를 임신한 경우에는 120일)의 출산전후휴가를 준다. 이 경우 반드시 출산 후에 45일(한 번에 둘 이상 자녀를 임신한 경우에는 60일) 이상 부여한다."]
["② 임신 중인 여성 사원이 유산의 경험 등 근로기준법 시행령이 정하는 사유로 제1항의 휴가를 청구하는 경우 출산 전 어느 때라도 휴가를 나누어 사용할 수 있도록 한다. 이 경우 출산 후의 휴가 기간은 연속하여 45일(한 번에 둘 이상 자녀를 임신한 경우에는 60일) 이상이 되어야 한다. "]
["③ 임신 중인 여성 사원이 유산 또는 사산한 경우로서 해당 사원이 청구하는 경우에는 다음 각 호에 따른 휴가를 부여 한다. 다만, 모자보건법에서 허용되지 않는 인공중절 수술은 제외한다."]
["1. 유산 또는 사산한 여성 사원의 임신기간이 11주 이내인 경우: 유산 또는 사산한 날로부터 5일까지"]
["2. 유산 또는 사산한 여성 사원의 임신기간이 12주 이상 15주 이내인 경우: 유산 또는 사산한 날로부터 10일까지"]
["3. 유산 또는 사산한 여성 사원의 임신기간이 16주 이상 21주 이내인 경우: 유산 또는 사산한 날로부터 30일까지"]
["4. 유산 또는 사산한 여성 사원의 임신기간이 22주 이상 27주 이내인 경우: 유산 또는 사산한 날로부터 60일까지"]
["5. 임신기간이 28주 이상인 경우: 유산 또는 사산한 날로부터 90일까지 "]
["④ 회사는 사원이 출산전후휴가 급여 등을 신청할 경우 고용보험법에 따라 출산전후휴가 급여 등을 받을 수 있도록 증빙서류를 제공하는 등 적극 협조한다."]
["⑤ 제1항 및 제2항에 따른 휴가 기간 중에 사원이 고용보험법에 따라 지급 받은 출산전후휴가 등 급여액이 그 사원의 통상임금보다 적을 경우 회사는 최초 60일분(한 번에 둘 이상 자녀를 임신한 경우의 출산전후휴가는 75일분)의 급여와 통상임금의 차액을 지급한다. "]
["⑥ 임신 중의 여성 사원에게 연장근로를 시키지 아니하며, 요구가 있는 경우 쉬운 종류의 근로로 전환시킨다."]
["⑦ 회사는 임신 후 12주 이내 또는 36주 이후에 있는 여성 근로자가 1일 2시간의 근로시간 단축을 신청하는 경우 이를 허용하여야 한다. 다만, 1일 근로시간이 8시간 미만인 근로자에 대하여는 1일 근로시간이 6시간이 되도록 근로시간 단축을 허용할 수 있다."]
["⑧ 회사는 제7항에 따른 근로시간 단축을 이유로 해당 근로자의 임금을 삭감하여서는 아니 된다."]
["⑨ 회사는 임산부 등 여성근로자에게 근로기준법65조에 따른 도덕상 또는 보건상의 유해·위험한 직종에 근로시키지 아니한다."]
[]
["제34조(태아검진 시간의 허용 등) ① 회사는 임신한 여성 사원이 모자보건법 제10조에 따른 임산부 정기건강진단을 받는데 필요한 시간을 청구하는 경우 이를 허용한다."]
["② 회사는 제1항에 따른 건강진단 시간을 이유로 사원의 임금을 삭감하지 않는다."]
[]
["제35조(육아기 근로시간 단축) ① 회사는 제18조제1항에 따라 육아휴직을 신청할 수 있는 남녀 사원이 육아휴직 대신 근로시간의 단축(이하 “육아기 근로시간 단축”이라 한다)을 신청하는 경우에는 이를 허용하여야 한다. 다만, 대체인력 채용이 불가능한 경우, 정상적인 사업 운영에 중대한 지장을 초래하는 경우 등 남녀고용평등법 시행령이 정하는 경우에는 그러하지 아니하다."]
["② 회사가 육아기 근로시간 단축을 허용하지 아니하는 경우에는 해당 사원에게 그 사유를 서면으로 통보하고 육아휴직을 사용하게 하거나 그 밖의 조치를 통하여 지원할 수 있는지를 해당 사원과 협의하여야 한다."]
["③ 회사가 해당 사원에게 육아기 근로시간 단축을 허용하는 경우 단축 후 근로시간은 주당 15시간 이상이어야 하고 30시간을 넘어서는 아니 된다."]
["④ 육아기 근로시간 단축의 기간은 1년 이내로 한다."]
["⑤ 회사는 사원이 육아기 근로시간 단축을 사용할 경우 고용보험법령이 정하는 육아기 근로시간 단축 급여를 받을 수 있도록 증빙서류를 제공하는 등 적극 협조한다."]
[]
["제36조(육아기 근로시간 단축 중 근로조건 등) ① 회사는 제40조에 따라 육아기 근로시간 단축을 하고 있는 사원에 대하여 근로시간에 비례하여 적용하는 경우 외에는 육아기 근로시간 단축을 이유로 그 근로조건을 불리하게 하여서는 아니 된다."]
["② 제40조에 따라 육아기 근로시간 단축을 한 근로자의 근로조건(육아기근로시간 단축 후 근로시간을 포함한다.)은 회사와 그 사원 간에 서면으로 정한다."]
["③ 회사는 제40조에 따라 육아기 근로시간 단축을 하고 있는 사원에게 단축된 근로시간 외에 연장근로를 요구할 수 없다. 다만, 그 사원이 명시적으로 청구하는 경우에는 회사는 주 12시간 이내에서 연장근로를 시킬 수 있다."]
["④ 육아기 근로시간 단축을 한 사원에 대하여 ｢근로기준법｣ 제2조제6호에 따른 평균임금을 산정하는 경우에는 그 사원의 육아기 근로시간 단축 기간을 평균임금 산정기간에서 제외한다."]
[]
["제37조(육아휴직과 육아기 근로시간 단축의 사용형태) 사원은 제18조와 제40조에 따라 육아휴직이나 육아기 근로시간 단축을 하려는 경우에는 다음 각 호의 방법 중 하나를 선택하여 사용할 수 있다. 이 경우 어느 방법을 사용하든지 그 총 기간은 1년을 넘을 수 없다."]
["1. 육아휴직의 1회 사용"]
["2. 육아기 근로시간 단축의 1회 사용"]
["3. 육아휴직의 분할 사용(1회만 할 수 있다)"]
["4. 육아기 근로시간 단축의 분할 사용(1회만 할 수 있다)"]
["5. 육아휴직의 1회 사용과 육아기 근로시간 단축의 1회 사용"]
[]
["제38조(육아시간) 생후 1년 미만의 아동이 있는 여성 사원의 청구가 있는 경우 제24조의 휴게시간 외에 1일2회 각 30분씩 유급 수유시간을 준다."]
[]
["제6장 임 금"]
[]
["제39조(임금의 구성항목) ① 사원에 대한 임금은 기본급 및 직책수당과 연장․야간․휴일근로수당 등 법정수당으로 구성한다."]
["② 제26조의 근로시간을 초과하여 근로한 경우, 야간에 근로한 경우(22:00~06:00), 휴일에 근로한 경우에는 각각 시간급 통상임금의 50%를 가산하여 지급하되, 휴일에 8시간을 초과하여 근로하는 경우 통상임금의 100%를 가산하여 지급한다."]
["③ 제2항의 통상임금에 산입하는 임금의 범위는 기본급 및 직책수당으로 하되, 시간급 통상임금은 월 통상임금을 209시간으로 나누어 계산한다."]
[]
["제40조(임금의 계산 및 지급방법) ① 임금은 매월 26일부터 25일까지를 산정기간으로 하여 해당 월의 25일 사원에게 직접 지급하거나 사원이 지정한 사원 명의의 예금계좌에 입금하여 지급한다. 다만, 지급일이 토요일 또는 공휴일인 경우에는 그 전일에 지급한다."]
["② 신규채용, 승진, 전보, 퇴직 등의 사유로 임금을 정산하는 경우에는 발령일을 기준으로 그 월액을 일할 계산하여 지급한다."]
[]
["제41조(비상시 지급) 사원이 다음 각 호의 사유로 청구하는 경우에는 지급기일 전이라도 이미 제공한 근로에 대한 임금을 지급한다. "]
["1. 사원 또는 그의 수입에 의하여 생활을 유지하는 자의 출산, 질병 또는 재해의 비용에 충당하는 경우"]
["2. 사원 또는 그의 수입에 의하여 생활하는 자의 혼인 또는 사망 시 그 비용에 충당하는 경우"]
["3. 사원이 부득이한 사정으로 1주일 이상 귀향하는 경우"]
[]
["제42조(휴업수당) ① 회사의 귀책사유로 휴업하는 경우에는 휴업기간 동안 사원에게 평균임금의 100분 70의 수당을 지급한다. 다만, 평균임금의 100분의 70에 해당하는 금액이 통상임금을 초과하는 경우에는 통상임금으로 지급한다."]
["② 부득이한 사유로 사업을 계속하는 것이 불가능한 경우에는 노동위원회의 승인을 받아 제1항에 정한 금액에 못 미치는 휴업수당을 지급 할 수 있다."]
[]
["제43조(상여금지급) ① 회사는 근무성적에따라 상여금을 차등 지급한다. ② 상여금은 연 3회 지급하고 지급사유로 속한 달의 정기 임금지급일에 지급한다."]
["③ 퇴직자의 경우 상여금 지급일을 기준으로 일할 계산하여 지급하고 계속근로 6개월 미만인 자는 지급대상에서 제외한다."]
[]
["제7장 퇴직․해고 등"]
[]
["제44조(퇴직 및 퇴직일) ① 회사는 사원이 다음 각 호에 해당할 때에는 사원을 퇴직시킬 수 있다."]
["1. 본인이 퇴직을 원하는 경우"]
["2. 사망하였을 경우"]
["3. 정년에 도달하였을 경우"]
["4. 근로계약기간이 만료된 경우 "]
["5. 해고가 결정된 경우"]
["② 제1항에 의한 퇴직의 퇴직일은 다음 각 호와 같다."]
["1. 사원이 퇴직일자를 명시한 사직원을 제출하여 수리되었을 경우 그 날"]
["2. 사원이 퇴직일자를 명시하지 아니하고 사직원을 제출하였을 경우 이를 수리한 날. 단, 회사는 업무의 인수인계를 위하여 사직원을 제출한 날로부터 30일을 넘지 않는 범위 내에서 퇴직일자를 지정하여 수리할 수 있다. "]
["3. 사망한 날"]
["5. 근로계약기간이 만료된 날"]
["6. 해고가 결정․통보된 경우 해고일"]
[]
["제45조(해고) 사원이 다음 각 호의 경우와 같이 사회통념상 근로관계를 더 이상 존속하기 어렵다고 인정될 정당한 이유가 있는 경우 해고할 수 있다."]
["1. 신체 또는 정신상 장애로 직무를 감당할 수 없다고 인정되는 경우(의사의 소견이 있는 경우에 한함) "]
["2. 휴직자로서 정당한 사유 없이 휴직기간 만료일 후 7일이 경과할 때까지 복직원을 제출하지 않은 경우"]
["3. 징계위원회에서 해고가 결정된 경우 "]
["4. 기타 제1호 내지 제3호에 준하는 경우로서 정당한 이유가 있는 경우"]
[]
["제46조(해고의 제한) ① 사원이 업무상 부상 또는 질병의 요양을 위하여 휴업한 기간과 그 후 30일 동안은 해고하지 아니한다. 다만, 근로기준법 제84조에 따라 일시보상을 하였을 경우에는 해고할 수 있다."]
["② 산전(産前)․산후(産後)의 여성 사원이 근로기준법에 따라 휴업한 기간과 그 후 30일 동안은 해고 하지 아니한다. "]
["③ 제1항 본문 및 제2항에도 불구하고 사업을 계속할 수 없게 된 경우에는 해당사원을 해고할 수 있다."]
[]
["제47조(해고의 통지) ① 회사는 사원을 해고하는 경우에는 서면으로 그 사유 및 날짜를 기재하여 통지한다."]
["② 회사는 제1항에 따라 해고를 통지하는 경우 해고일로부터 적어도 30일 전에 해고예고를 하거나, 30일 전에 해고예고를 하지 아니하였을 때에는 30일분의 통상임금을 지급한다. 다만 다음 각 호의 1에 해당하는 경우에는 해고를 예고하지 아니할 수 있다."]
["1. 입사 후 계속 근로한 기간이 3개월 미만인 경우"]
["2. 천재ㆍ사변, 그 밖의 부득이한 사유로 사업을 계속하는 것이 불가능한 경우"]
["3. 사원이 고의로 사업에 막대한 지장을 초래하거나 재산상 손해를 끼친 경우로서 고용노동부령으로 정하는 사유에 해당하는 경우"]
[]
["제48조(차별금지) 퇴직·해고·정년에서 남녀를 차별하지 않는다."]
[]
["제8장 퇴직급여"]
[]
["제49조(퇴직급여제도의 설정 등) ① 회사는 1년 이상 근무한 사원이 퇴직할 경우에는 계속근로기간 1년에 대하여 30일분의 평균임금을 퇴직금으로 지급한다."]
["② 회사는 근로자퇴직급여보장법 제4조에 따라 제1항의 퇴직금을 지급하는 대신 사원의 과반수 동의를 얻어 퇴직연금제도를 도입할 수 있다."]
[]
["제50조(중간정산) 회사는 주택구입 등 근로자퇴직급여보장법 시행령에서 정한 사유로 사원이 요구하는 경우에는 퇴직하기 전에 해당 사원의 계속근로기간에 대한 퇴직금을 미리 정산하여 지급할 수 있다. 이 경우 미리 정산하여 지급한 후의 퇴직금 산정을 위한 계속 근로기간은 정산시점부터 새로이 기산한다."]
[]
["제9장 직장 내 괴롭힘의 예방"]
[]
["제51조 (직장 내 괴롭힘 행위의 금지) ① 직장 내 괴롭힘이란 임․직원이 직장에서의 지위 또는 관계 등의 우위를 이용하여 업무상 적정범위를 넘어 다른 직원에게 신체적․정신적 고통을 주거나 근무환경을 악화시키는 행위를 말한다."]
["②직원은 다른 직원 뿐 아니라 협력사 직원에 대하여도 직장 내 괴롭힘 행위를 하여서는 아니 된다."]
[]
["제52조 (금지되는 직장 내 괴롭힘 행위) 회사에서 금지되는 구체적인 직장 내 괴롭힘 행위는 다음 각 호와 같다."]
["1. 신체에 대하여 폭행하거나 협박하는 행위"]
["2. 지속 반복적인 욕설이나 폭언"]
["3. 다른 직원들 앞에서 또는 온라인상에서 모욕감을 주거나 개인사에 대한 소문을 퍼뜨리는 등 명예를 훼손하는 행위"]
["4. 합리적 이유 없이 반복적으로 개인 심부름 등 사적인 용무를 지시하는 행위"]
["5. 합리적 이유 없이 업무능력이나 성과를 인정하지 않거나 조롱하는 행위"]
["7. 집단적으로 따돌리거나, 정당한 이유 없이 업무와 관련된 중요한 정보 또는 의사결정 과정에서 배제하거나 무시하는 행위"]
["8. 정당한 이유 없이 상당기간 동안 근로계약서 등에 명시되어 있는 업무와 무관한 일을 지시하거나 근로계약서 등에 명시되어 있는 업무와 무관한 허드렛일만 시키는 행위"]
["9. 정당한 이유 없이 상당기간 동안 일을 거의 주지 않는 행위"]
["10. 그밖에 업무의 적정범위를 넘어 직원에게 신체적․정신적 고통을 주거나 근무환경을 악화시키는 행위"]
[]
["제53조(직장 내 괴롭힘 예방교육) ①회사는직장내 괴롭힘 예방을 위한 교육(이하 “직장내 괴롭힘예방교육”이라 한다)을 1년에1회 이상 실시한다."]
["②직장 내 괴롭힘 예방교육은 1시간으로 한다."]
["③직장 내 괴롭힘 예방교육의 내용은 다음 각 호와 같다."]
["1. 직장 내 괴롭힘 행위의 정의"]
["2. 금지되는 직장 내 괴롭힘 행위"]
["3. 직장 내 괴롭힘 상담절차"]
["4. 직장 내 괴롭힘 사건처리절차"]
["5. 직장 내 괴롭힘 피해자 보호를 위한 조치"]
["6. 직장 내 괴롭힘 행위자에 대한 조치"]
["7. 그밖에 직장 내 괴롭힘 예방을 위한 내용"]
["④회사는 직장 내 괴롭힘 예방교육의 주요 내용을 직원들이 쉽게 확인할 수 있도록 조치한다."]
[]
["제54조 (직장 내 괴롭힘 행위 발생 시 조치) ①누구든지 직장 내 괴롭힘 발생 사실을 알게 된 경우 그 사실을 회사에 신고할 수 있다."]
["②회사는 전항에 따른 신고를 접수하거나 직장 내 괴롭힘 발생 사실을 인지한 경우에는 지체 없이 그 사실 확인을 위한 조사를 실시한다."]
["③회사의 직장 내 괴롭힘 행위에 관한 조사 및 조치에 관한 구체적인 절차는 별도로 정한다."]
[]
["제10장 표창 및 징계"]
[]
["제55조(표창) ① 회사는 사원이 다음 각 호의 1에 해당하는 경우 표창할 수 있다."]
["1. 회사의 업무능률향상에 현저한 공로가 인정된 자"]
["2. 회사의 영업활동에 크게 기여한 자"]
["3. 업무수행 성적이 우수한 자"]
["4. 기타 표창의 필요가 인정되는 자"]
["② 표창 대상자 및 표창의 방법은 위원회를 거쳐 결정한다."]
[]
["제56조(징계) 회사는 다음 각 호에 해당하는 사원에 대하여 징계위원회의 의결을 거쳐 징계할 수 있다. (이 경우 징계위원회는 제12조의 인사위원회로 대신한다)."]
["1. 부정 및 허위 등의 방법으로 채용된 자"]
["2. 업무상 비밀 및 기밀을 누설하여 회사에 피해를 입힌 자"]
["3. 회사의 명예 또는 신용에 손상을 입힌 자"]
["4. 회사의 영업을 방해하는 언행을 한 자"]
["5. 회사의 규율과 상사의 정당한 지시를 어겨 질서를 문란하게 한 자"]
["6. 정당한 이유 없이 회사의 물품 및 금품을 반출한 자 "]
["7. 직무를 이용하여 부당한 이익을 취한 자"]
["8. 회사가 정한 복무규정을 위반한 자"]
["9. 직장 내 성희롱 행위를 한 자"]
["10. 직장 내 괴롭힘 행위를 한 자"]
["11. 기타 이에 준하는 행위로 직장질서를 문란하게 한 자"]
[]
["제57조(징계의 종류) 사원에 대한 징계의 종류는 다음과 같다."]
["1. 견책: 징계사유 발생 자에 대하여 시말서를 받고 문서로 견책한다. "]
["2. 감봉(감급): 1회에 평균임금 1일분의 2분의 1, 총액은 월 급여금총액의 10분의 1을 초과하지 않는 범위의 금액을 감액한다."]
["3. 정직: 중대 징계사유 발생 자에 대하여 3월 이내로 하고, 그 기간 중에 직무에 종사하지 못하며 그 기간동안 임금을 지급하지 아니한다."]
["4. 해고: 근로계약을 해지하는 것으로 한다. "]
[]
["제58조(징계심의) ① 징계위원회의 위원장은 징계의결을 위한 회의 7일 전까지 징계위원회의 위원들에게는 회의일시, 장소, 의제 등을, 징계대상 사원에게는 서면으로 별지2의 출석통지를 각 통보한다."]
["② 징계위원회는 징계사유를 조사한 서류와 입증자료 및 당사자의 진술 등 충분한 증거를 확보하여 공정하게 심의한다. 이 경우, 징계대상자가 징계위원회에 출석을 원하지 아니하거나 서면진술을 하였을 때는 별지2 하단의 진술권포기서 또는 별지3의 서면진술서를 징구하여 기록에 첨부하고 서면심사만으로 징계의결을 할 수 있다."]
["③ 징계위원회의 위원이 징계대상자와 친족관계에 있거나 그 징계사유와 관계가 있을 때에는 그 위원은 그 징계의결에 관여하지 못한다."]
["④ 징계위원회는 의결 전에 해당사원에게 소명할 기회를 부여한다."]
["⑤ 징계위원회는 징계 대상자가 2회에 걸쳐 출석요구에 불응하거나 소명을 거부하는 경우 또는 소명을 포기 하는 의사를 표시하는 경우에는 소명 없이 징계의결 할 수 있다. "]
["⑥ 간사는 징계의결을 위한 회의에 참석하여 회의록을 작성하고 이를 보관한다."]
[]
["제59조(징계결과 통보) 징계결과통보는 해당 사원에게 별지5의 징계처분사유 설명서에 의한다. "]
[]
[]
["제60조(재심절차) ① 징계처분을 받은 사원은 징계결정이 부당하다고 인정될 때 징계통보를 받은 날로부터 7일 이내에 서면으로 재심신청을 할 수 있다."]
["② 재심을 요청받은 경우 징계위원회는 10일 이내에 재심을 위한 회의를 개최하여야 하며 그 절차는 제61조 및 제62조를 준용한다."]
[]
["제11장 교육 및 성희롱의 예방 "]
[]
["제61조(직무교육) ① 회사는 사원의 직무능력향상을 위하여 필요한 경우 직무교육을 시킬 수 있으며 사원은 교육과정에 성실히 임하여야 한다."]
["② 제1항에 의한 직무교육과 제65조에 의한 직장 내 성희롱 예방교육은 근무시간 중에 실시하는 것을 원칙으로 하고 교육을 받는 시간은 근로를 제공한 것으로 본다. 다만, 사원과 합의로 근무시간 외에 직무교육을 받도록 할 수 있으며 이 경우의 처우에 관하여는 교육의 장소․일정 등을 고려하여 따로 정한다."]
["③ 회사는 교육에 있어 남녀를 차별하지 않는다."]
[]
["제62조(성희롱의 예방) ① 회사는 직장내 성희롱을 예방하고 사원이 안전한 근로환경에서 일할 수 있는 여건 조성을 위해 1년에 1회 이상 성희롱 관련 법령의 요지, 성희롱 예방을 위한 사업주의 방침, 성희롱 피해자의 권리구제 방법과 가해자의 조치 등을 내용으로 성희롱 예방교육을 한다."]
["② 회사의 모든 임원 및 사원은 남녀고용평등법에서 금지한 직장 내 성희롱에 해당하는 행위를 하여서는 안 된다."]
["③ 직장 내 성희롱을 하여 물의를 일으킨 임․직원에 대하여는 해고 등의 징계 조치를 취하여야 하며, 성희롱 피해자와 같은 장소에 근무하지 않도록 인사이동을 병행하여 실시한다."]
["④ 회사는 직장 내 성희롱 피해자의 고충을 해결을 위하여 별도의 고충처리위원회를 둘 수 있으며, 이 경우 고충처리위원은 남녀 동수로 구성하고 피해자의 요청이 있는 경우를 제외하고는 직장 내 성희롱에 대해서는 비공개를 원칙으로 한다."]
[]
["제63조(직장 내 장애인 인식개선 교육) ① 회사는 장애인에 대한 직장 내 편견을 제거함으로써 장애인 근로자의 안정적인 근무여건을 조성하고 장애인 근로자 채용이 확대될 수 있도록 장애인 인식개선 교육을 실시한다."]
["② 1항에 따른 교육은 매년 1회, 1시간 이상 장애의 정의 및 장애유형에 대한 이해, 장애인의 인권, 차별금지 및 정당한 편의 제공, 장애인고용촉진 및 직업재활과 관련된 법과 제도, 그 밖에 직장 내 장애인 인식개선에 필요한 사항을 내용으로 실시하며 사업주 및 근로자는 제1항에 따른 장애인 인식개선 교육을 받아야 한다."]
["③ 전항의 교육은 직원연수ㆍ조회ㆍ회의 등의 집합교육, 인터넷 등 정보통신망을 이용한 원격교육 또는 체험교육 등을 통하여 실시한다."]
["④ 장애인 고용촉진 및 직업 재활법 제28조에 따른 장애인 고용 의무가 없을 경우에는 고용노동부에서 보급한 교육자료 등을 배포ㆍ게시하거나 전자우편을 보내는 등의 방법으로 장애인 인식개선 교육을 실시할 수 있다."]
[]
["제12장 안전보건"]
[]
["제64조(안전보건관리규정) ① 회사는 사업장의 안전·보건을 유지하기 위하여 다음 각 호의 사항이 포함된 안전보건관리규정을 작성하여 각 사업장에 게시하거나 갖춰 두고, 이를 근로자에게 알려야 한다."]
["1. 안전·보건 관리조직과 그 직무에 관한 사항"]
["2. 안전·보건교육에 관한 사항"]
["3. 작업장 안전관리에 관한 사항"]
["4. 작업장 보건관리에 관한 사항"]
["5. 사고 조사 및 대책 수립에 관한 사항"]
["6. 그 밖에 안전·보건에 관한 사항"]
["② 각 부서는 회사의 안전보건관리규정에 따라 각 작업장의 안전보건관리를 실시하여야 한다."]
["③ 사원은 안전보건관리계획의 효과적인 운용을 위하여 적극적으로 협력하여야 한다."]
[]
["제65조(안전보건 교육) 회사는 사원의 산업재해예방을 위하여 안전 및 보건에 관한 정기교육, 채용 시의 교육, 작업내용 변경 시의 교육, 유해위험 작업에 사용 시 특별안전 교육 등 산업안전보건법령에 따른 제반 교육을 실시하며 사원은 이 교육에 성실하게 참여하여야 한다."]
[]
["제67조(위험기계․기구의 방호조치) 회사는 유해하거나 위험한 작업을 필요로 하거나 동력을 작동하는 기계․기구에 대하여 유해․위험 방지를 위한 방호조치를 하여야 하며 사원은 다음 각 호의 위험기계․기구의 방호조치 사항을 준수하여야 한다."]
["1. 방호조치를 해체하고자 할 경우 소속부서의 장의 허가를 받아 해체할 것"]
["2. 방호조치를 해체한 후 그 사유가 소멸한 때에는 지체없이 원상으로 회복시킬 것"]
["3. 방호장치의 기능이 상실된 것을 발견한 때에는 지체없이 소속부서의 장에게 신고할 것"]
[]
["제68조(보호구의 지급 및 착용) 회사는 사원이 유해․위험작업으로부터 보호 받을 수 있도록 보호구를 지급하여야 하며 사원은 작업시 회사에서 지급하는 보호구를 착용하여야 한다."]
[]
["제69조(물질안전보건자료의 작성․비치) 회사는 사업장에서 사용하는 고용노동부령이 정하는 화학물질 및 화학물질을 함유한 제제에 대하여는 물질안전보건자료를 취급근로자가 쉽게 볼 수 있는 장소에 게시하거나 갖추어야 한다."]
[]
[]
["제70조(작업환경측정) ① 회사는 산업안전보건법에 의한 작업환경측정을 실시하되, 원칙적으로 매 6개월에 1회 이상 정기적으로 실시한다. "]
["② 제1항의 작업환경측정 시 사원 대표의 요구가 있을 때에는 사원 대표를 입회시킨다."]
["③ 회사는 작업환경측정의 결과를 사원에게 알려주며 그 결과에 따라 당해 시설 및 설비의 설치 또는 개선, 건강진단 등 적절한 조치를 한다. "]
[]
["제71조(건강진단) ① 회사는 사원의 건강보호․유지를 위하여 산업안전보건법이 정하는 바에 따라 매년 1회 일반건강진단을 실시한다. 단, 사무직은 매2년에 1회 실시한다."]
["② 회사는 산업안전보건법이 정하는 바에 따라 필요한 경우 특수․배치전․수시․임시건강진단 등을 실시한다."]
["③ 사원은 회사가 실시하는 건강진단을 성실히 받아야 한다."]
[]
["제72조(산업안전보건법 준수) ① 회사는 이 규칙에서 정하지 아니한 사항에 대하여는 산업안전보건법에 따라 산업재해 예방을 위한 기준을 지켜 사원의 신체적 피로와 정신적 스트레스 등에 의한 건강장해를 예방하고 안전 및 보건을 유지․증진시킨다"]
["② 사원은 산업안전보건법에서 정하는 사항과 그 외에 업무에 관련되는 안전보건에 관하여 상사로부터 지시받은 사항을 정확하게 이행하여야 한다. "]
[]
["제13장 재해보상"]
[]
["제73조(재해보상) ① 사원이 업무상 부상 또는 질병에 걸린 경우와 사망하였을 때의 보상은 산업재해보상보험법에 의한다."]
["② 산업재해보상보험법의 적용을 받지 않는 업무상 부상 또는 질병에 대하여는 근로기준법이 정하는 바에 따라 회사가 보상한다."]
[]
["제14장 취업규칙"]
[]
["제74조(취업규칙의 비치) 회사는 본 규칙을 사업장 내의 사무실․휴게실 등에 비치하여 사원들이 자유롭게 열람할 수 있도록 한다."]
[]
["제75조(취업규칙의 변경) 이 규칙을 변경할 때에는 사원의 과반수로 조직된 노동조합이 있는 경우 그 노동조합, 근로자의 과반수로 조직된 노동조합이 없는 경우 근로자의 과반수 의견을 청취하도록 한다. 다만, 취업규칙을 불리하게 변경하는 경우에는 그 동의를 받아야 한다. "]
[]
[]
["부 칙"]
[]
["제1조(시행일) 본 규칙은 2020년 01월 01일부터 시행한다"]
[]
["2020-01-01"]

{"sheet":"의견청취서","index":53,"n_rows":30,"n_cols":8,"rows_kept":30,"cut":false,"hidden":false,"merged":[[27,2,27,4],[28,2,28,4],[29,2,29,4],[22,2,22,4],[23,2,23,4],[24,2,24,4],[25,2,25,4],[26,2,26,4],[17,2,17,4],[18,2,18,4],[19,2,19,4],[20,2,20,4],[21,2,21,4],[12,2,12,4],[13,2,13,4],[14,2,14,4],[15,2,15,4],[16,2,16,4],[7,2,7,4],[8,2,8,4],[9,2,9,4],[10,2,10,4],[11,2,11,4],[0,0,1,4],[2,0,3,4],[4,2,4,4],[5,2,5,4],[6,2,6,4]]}
["의 견 청 취 서"]
[]
[{"$f":"\"(\"&IFBLANK(요양기관기초정보!D1)&\") 취업규칙은 근로자 과반수의 의견을 청취하였음을 증명하는 자료로 의견내용을제출합니다.\"","v":"(팜오피스약국) 취업규칙은 근로자 과반수의 의견을 청취하였음을 증명하는 자료로 의견내용을제출합니다."}]
[]
["연번","성명","의견내용",null,null,null,"근로자 사번","퇴직여부"]
[1,{"$f":"IFERROR(IF(G6=\"\",\"\",VLOOKUP(G6,사원명부!$A$2:$Z$113,2,FALSE)),\"\")","v":"테스트1"},null,null,null,null,1,{"$f":"IF(B6=\"\",\"\",IF(VLOOKUP(G6,사원명부!$A$2:$Z$113,12,FALSE)=\"\",\"\",\"퇴직\"))","v":""}]
[2,{"$f":"IFERROR(IF(G7=\"\",\"\",VLOOKUP(G7,사원명부!$A$2:$Z$113,2,FALSE)),\"\")","v":""},null,null,null,null,null,{"$f":"IF(B7=\"\",\"\",IF(VLOOKUP(G7,사원명부!$A$2:$Z$113,12,FALSE)=\"\",\"\",\"퇴직\"))","v":""}]
[3,{"$f":"IFERROR(IF(G8=\"\",\"\",VLOOKUP(G8,사원명부!$A$2:$Z$113,2,FALSE)),\"\")","v":""},null,null,null,null,null,{"$f":"IF(B8=\"\",\"\",IF(VLOOKUP(G8,사원명부!$A$2:$Z$113,12,FALSE)=\"\",\"\",\"퇴직\"))","v":""}]
[4,{"$f":"IFERROR(IF(G9=\"\",\"\",VLOOKUP(G9,사원명부!$A$2:$Z$113,2,FALSE)),\"\")","v":""},null,null,null,null,null,{"$f":"IF(B9=\"\",\"\",IF(VLOOKUP(G9,사원명부!$A$2:$Z$113,12,FALSE)=\"\",\"\",\"퇴직\"))","v":""}]
[5,{"$f":"IFERROR(IF(G10=\"\",\"\",VLOOKUP(G10,사원명부!$A$2:$Z$113,2,FALSE)),\"\")","v":""},null,null,null,null,null,{"$f":"IF(B10=\"\",\"\",IF(VLOOKUP(G10,사원명부!$A$2:$Z$113,12,FALSE)=\"\",\"\",\"퇴직\"))","v":""}]
[6,{"$f":"IFERROR(IF(G11=\"\",\"\",VLOOKUP(G11,사원명부!$A$2:$Z$113,2,FALSE)),\"\")","v":""},null,null,null,null,null,{"$f":"IF(B11=\"\",\"\",IF(VLOOKUP(G11,사원명부!$A$2:$Z$113,12,FALSE)=\"\",\"\",\"퇴직\"))","v":""}]
[7,{"$f":"IFERROR(IF(G12=\"\",\"\",VLOOKUP(G12,사원명부!$A$2:$Z$113,2,FALSE)),\"\")","v":""},null,null,null,null,null,{"$f":"IF(B12=\"\",\"\",IF(VLOOKUP(G12,사원명부!$A$2:$Z$113,12,FALSE)=\"\",\"\",\"퇴직\"))","v":""}]
[8,{"$f":"IFERROR(IF(G13=\"\",\"\",VLOOKUP(G13,사원명부!$A$2:$Z$113,2,FALSE)),\"\")","v":""},null,null,null,null,null,{"$f":"IF(B13=\"\",\"\",IF(VLOOKUP(G13,사원명부!$A$2:$Z$113,12,FALSE)=\"\",\"\",\"퇴직\"))","v":""}]
[9,{"$f":"IFERROR(IF(G14=\"\",\"\",VLOOKUP(G14,사원명부!$A$2:$Z$113,2,FALSE)),\"\")","v":""},null,null,null,null,null,{"$f":"IF(B14=\"\",\"\",IF(VLOOKUP(G14,사원명부!$A$2:$Z$113,12,FALSE)=\"\",\"\",\"퇴직\"))","v":""}]
[10,{"$f":"IFERROR(IF(G15=\"\",\"\",VLOOKUP(G15,사원명부!$A$2:$Z$113,2,FALSE)),\"\")","v":""},null,null,null,null,null,{"$f":"IF(B15=\"\",\"\",IF(VLOOKUP(G15,사원명부!$A$2:$Z$113,12,FALSE)=\"\",\"\",\"퇴직\"))","v":""}]
[11,{"$f":"IFERROR(IF(G16=\"\",\"\",VLOOKUP(G16,사원명부!$A$2:$Z$113,2,FALSE)),\"\")","v":""},null,null,null,null,null,{"$f":"IF(B16=\"\",\"\",IF(VLOOKUP(G16,사원명부!$A$2:$Z$113,12,FALSE)=\"\",\"\",\"퇴직\"))","v":""}]
[12,{"$f":"IFERROR(IF(G17=\"\",\"\",VLOOKUP(G17,사원명부!$A$2:$Z$113,2,FALSE)),\"\")","v":""},null,null,null,null,null,{"$f":"IF(B17=\"\",\"\",IF(VLOOKUP(G17,사원명부!$A$2:$Z$113,12,FALSE)=\"\",\"\",\"퇴직\"))","v":""}]
[13,{"$f":"IFERROR(IF(G14=\"\",\"\",VLOOKUP(G14,사원명부!$A$2:$Z$113,2,FALSE)),\"\")","v":""},null,null,null,null,null,{"$f":"IF(B18=\"\",\"\",IF(VLOOKUP(G18,사원명부!$A$2:$Z$113,12,FALSE)=\"\",\"\",\"퇴직\"))","v":""}]
[14,{"$f":"IFERROR(IF(G15=\"\",\"\",VLOOKUP(G15,사원명부!$A$2:$Z$113,2,FALSE)),\"\")","v":""},null,null,null,null,null,{"$f":"IF(B19=\"\",\"\",IF(VLOOKUP(G19,사원명부!$A$2:$Z$113,12,FALSE)=\"\",\"\",\"퇴직\"))","v":""}]
[15,{"$f":"IFERROR(IF(G16=\"\",\"\",VLOOKUP(G16,사원명부!$A$2:$Z$113,2,FALSE)),\"\")","v":""},null,null,null,null,null,{"$f":"IF(B20=\"\",\"\",IF(VLOOKUP(G20,사원명부!$A$2:$Z$113,12,FALSE)=\"\",\"\",\"퇴직\"))","v":""}]
[16,{"$f":"IFERROR(IF(G17=\"\",\"\",VLOOKUP(G17,사원명부!$A$2:$Z$113,2,FALSE)),\"\")","v":""},null,null,null,null,null,{"$f":"IF(B21=\"\",\"\",IF(VLOOKUP(G21,사원명부!$A$2:$Z$113,12,FALSE)=\"\",\"\",\"퇴직\"))","v":""}]
[17,{"$f":"IFERROR(IF(G18=\"\",\"\",VLOOKUP(G18,사원명부!$A$2:$Z$113,2,FALSE)),\"\")","v":""},null,null,null,null,null,{"$f":"IF(B22=\"\",\"\",IF(VLOOKUP(G22,사원명부!$A$2:$Z$113,12,FALSE)=\"\",\"\",\"퇴직\"))","v":""}]
[18,{"$f":"IFERROR(IF(G19=\"\",\"\",VLOOKUP(G19,사원명부!$A$2:$Z$113,2,FALSE)),\"\")","v":""},null,null,null,null,null,{"$f":"IF(B23=\"\",\"\",IF(VLOOKUP(G23,사원명부!$A$2:$Z$113,12,FALSE)=\"\",\"\",\"퇴직\"))","v":""}]
[19,{"$f":"IFERROR(IF(G20=\"\",\"\",VLOOKUP(G20,사원명부!$A$2:$Z$113,2,FALSE)),\"\")","v":""},null,null,null,null,null,{"$f":"IF(B24=\"\",\"\",IF(VLOOKUP(G24,사원명부!$A$2:$Z$113,12,FALSE)=\"\",\"\",\"퇴직\"))","v":""}]
[20,{"$f":"IFERROR(IF(G21=\"\",\"\",VLOOKUP(G21,사원명부!$A$2:$Z$113,2,FALSE)),\"\")","v":""},null,null,null,null,null,{"$f":"IF(B25=\"\",\"\",IF(VLOOKUP(G25,사원명부!$A$2:$Z$113,12,FALSE)=\"\",\"\",\"퇴직\"))","v":""}]
[21,{"$f":"IFERROR(IF(G22=\"\",\"\",VLOOKUP(G22,사원명부!$A$2:$Z$113,2,FALSE)),\"\")","v":""},null,null,null,null,null,{"$f":"IF(B26=\"\",\"\",IF(VLOOKUP(G26,사원명부!$A$2:$Z$113,12,FALSE)=\"\",\"\",\"퇴직\"))","v":""}]
[22,{"$f":"IFERROR(IF(G23=\"\",\"\",VLOOKUP(G23,사원명부!$A$2:$Z$113,2,FALSE)),\"\")","v":""},null,null,null,null,null,{"$f":"IF(B27=\"\",\"\",IF(VLOOKUP(G27,사원명부!$A$2:$Z$113,12,FALSE)=\"\",\"\",\"퇴직\"))","v":""}]
[23,{"$f":"IFERROR(IF(G24=\"\",\"\",VLOOKUP(G24,사원명부!$A$2:$Z$113,2,FALSE)),\"\")","v":""},null,null,null,null,null,{"$f":"IF(B28=\"\",\"\",IF(VLOOKUP(G28,사원명부!$A$2:$Z$113,12,FALSE)=\"\",\"\",\"퇴직\"))","v":""}]
[24,{"$f":"IFERROR(IF(G25=\"\",\"\",VLOOKUP(G25,사원명부!$A$2:$Z$113,2,FALSE)),\"\")","v":""},null,null,null,null,null,{"$f":"IF(B29=\"\",\"\",IF(VLOOKUP(G29,사원명부!$A$2:$Z$113,12,FALSE)=\"\",\"\",\"퇴직\"))","v":""}]
[25,{"$f":"IFERROR(IF(G26=\"\",\"\",VLOOKUP(G26,사원명부!$A$2:$Z$113,2,FALSE)),\"\")","v":""},null,null,null,null,null,{"$f":"IF(B30=\"\",\"\",IF(VLOOKUP(G30,사원명부!$A$2:$Z$113,12,FALSE)=\"\",\"\",\"퇴직\"))","v":""}]

{"sheet":"근로자동의서","index":54,"n_rows":22,"n_cols":13,"rows_kept":22,"cut":false,"hidden":false,"merged":[[1,7,1,8],[1,9,1,11],[2,0,3,5],[3,7,3,12],[0,0,1,5]]}
["근로자 동의서",null,null,null,null,null,null,"근무인력에 변동(퇴직,신규입사)이 생기면 사원명부에 기록하고 업무분장 새로 고침을 해야 합니다"]
[null,null,null,null,null,null,null,"취업규칙 동의일",null,{"$f":"IF(취업규칙!A514=\"\",TODAY(),취업규칙!A514)","v":"2020-01-01"},null,null,"취업규칙 시행일-취업규칙 하단부"]
[{"$f":"YEAR(J2)&\"년\"&MONTH(J2)&\"월\"&DAY(J2)&\"일자로 제시된 취업규칙을 열람하고 동규정에 대하여 이의가 없기에 아래와 같이 서명합니다.\"","v":"2020년1월1일자로 제시된 취업규칙을 열람하고 동규정에 대하여 이의가 없기에 아래와 같이 서명합니다."}]
[null,null,null,null,null,null,null,"근로자 사번란에 동의받을 근로자의 사번을 기록하세요"]
["직 책","성 명","서명 또는 날인","직 책","성 명","서명 또는 날인",null,"사번","퇴직여부","비고","사번","퇴직여부","비고"]
[{"$f":"IFERROR(IF(H6=\"\",\"\",VLOOKUP(H6,사원명부!$A$2:$Z$113,9,FALSE)),\"\")","v":""},{"$f":"IFERROR(IF(H6=\"\",\"\",VLOOKUP(H6,사원명부!$A$2:$Z$113,2,FALSE)),\"\")","v":""},null,{"$f":"IF(K6=\"\",\"\",VLOOKUP(K6,사원명부!$A$2:$Z$113,9,FALSE))","v":""},{"$f":"IF(K6=\"\",\"\",VLOOKUP(K6,사원명부!$A$2:$Z$113,2,FALSE))","v":""},null,null,null,{"$f":"IF(H6=\"\",\"\",IF(VLOOKUP(H6,사원명부!$A$2:$Z$113,12,FALSE)=\"\",\"\",\"퇴직\"))","v":""},null,null,{"$f":"IF(K6=\"\",\"\",IF(VLOOKUP(K6,사원명부!$A$2:$Z$113,12,FALSE)=\"\",\"\",\"퇴직\"))","v":""}]
[{"$f":"IFERROR(IF(H7=\"\",\"\",VLOOKUP(H7,사원명부!$A$2:$Z$113,9,FALSE)),\"\")","v":""},{"$f":"IFERROR(IF(H7=\"\",\"\",VLOOKUP(H7,사원명부!$A$2:$Z$113,2,FALSE)),\"\")","v":""},null,{"$f":"IF(K7=\"\",\"\",VLOOKUP(K7,사원명부!$A$2:$Z$113,9,FALSE))","v":""},{"$f":"IF(K7=\"\",\"\",VLOOKUP(K7,사원명부!$A$2:$Z$113,2,FALSE))","v":""},null,null,null,{"$f":"IF(H7=\"\",\"\",IF(VLOOKUP(H7,사원명부!$A$2:$Z$113,12,FALSE)=\"\",\"\",\"퇴직\"))","v":""},null,null,{"$f":"IF(K7=\"\",\"\",IF(VLOOKUP(K7,사원명부!$A$2:$Z$113,12,FALSE)=\"\",\"\",\"퇴직\"))","v":""}]
[{"$f":"IFERROR(IF(H8=\"\",\"\",VLOOKUP(H8,사원명부!$A$2:$Z$113,9,FALSE)),\"\")","v":""},{"$f":"IFERROR(IF(H8=\"\",\"\",VLOOKUP(H8,사원명부!$A$2:$Z$113,2,FALSE)),\"\")","v":""},null,{"$f":"IF(K8=\"\",\"\",VLOOKUP(K8,사원명부!$A$2:$Z$113,9,FALSE))","v":""},{"$f":"IF(K8=\"\",\"\",VLOOKUP(K8,사원명부!$A$2:$Z$113,2,FALSE))","v":""},null,null,null,{"$f":"IF(H8=\"\",\"\",IF(VLOOKUP(H8,사원명부!$A$2:$Z$113,12,FALSE)=\"\",\"\",\"퇴직\"))","v":""},null,null,{"$f":"IF(K8=\"\",\"\",IF(VLOOKUP(K8,사원명부!$A$2:$Z$113,12,FALSE)=\"\",\"\",\"퇴직\"))","v":""}]
[{"$f":"IFERROR(IF(H9=\"\",\"\",VLOOKUP(H9,사원명부!$A$2:$Z$113,9,FALSE)),\"\")","v":""},{"$f":"IFERROR(IF(H9=\"\",\"\",VLOOKUP(H9,사원명부!$A$2:$Z$113,2,FALSE)),\"\")","v":""},null,{"$f":"IF(K9=\"\",\"\",VLOOKUP(K9,사원명부!$A$2:$Z$113,9,FALSE))","v":""},{"$f":"IF(K9=\"\",\"\",VLOOKUP(K9,사원명부!$A$2:$Z$113,2,FALSE))","v":""},null,null,null,{"$f":"IF(H9=\"\",\"\",IF(VLOOKUP(H9,사원명부!$A$2:$Z$113,12,FALSE)=\"\",\"\",\"퇴직\"))","v":""},null,null,{"$f":"IF(K9=\"\",\"\",IF(VLOOKUP(K9,사원명부!$A$2:$Z$113,12,FALSE)=\"\",\"\",\"퇴직\"))","v":""}]
[{"$f":"IFERROR(IF(H10=\"\",\"\",VLOOKUP(H10,사원명부!$A$2:$Z$113,9,FALSE)),\"\")","v":""},{"$f":"IFERROR(IF(H10=\"\",\"\",VLOOKUP(H10,사원명부!$A$2:$Z$113,2,FALSE)),\"\")","v":""},null,{"$f":"IF(K10=\"\",\"\",VLOOKUP(K10,사원명부!$A$2:$Z$113,9,FALSE))","v":""},{"$f":"IF(K10=\"\",\"\",VLOOKUP(K10,사원명부!$A$2:$Z$113,2,FALSE))","v":""},null,null,null,{"$f":"IF(H10=\"\",\"\",IF(VLOOKUP(H10,사원명부!$A$2:$Z$113,12,FALSE)=\"\",\"\",\"퇴직\"))","v":""},null,null,{"$f":"IF(K10=\"\",\"\",IF(VLOOKUP(K10,사원명부!$A$2:$Z$113,12,FALSE)=\"\",\"\",\"퇴직\"))","v":""}]
[{"$f":"IFERROR(IF(H11=\"\",\"\",VLOOKUP(H11,사원명부!$A$2:$Z$113,9,FALSE)),\"\")","v":""},{"$f":"IFERROR(IF(H11=\"\",\"\",VLOOKUP(H11,사원명부!$A$2:$Z$113,2,FALSE)),\"\")","v":""},null,{"$f":"IF(K11=\"\",\"\",VLOOKUP(K11,사원명부!$A$2:$Z$113,9,FALSE))","v":""},{"$f":"IF(K11=\"\",\"\",VLOOKUP(K11,사원명부!$A$2:$Z$113,2,FALSE))","v":""},null,null,null,{"$f":"IF(H11=\"\",\"\",IF(VLOOKUP(H11,사원명부!$A$2:$Z$113,12,FALSE)=\"\",\"\",\"퇴직\"))","v":""},null,null,{"$f":"IF(K11=\"\",\"\",IF(VLOOKUP(K11,사원명부!$A$2:$Z$113,12,FALSE)=\"\",\"\",\"퇴직\"))","v":""}]
[{"$f":"IFERROR(IF(H12=\"\",\"\",VLOOKUP(H12,사원명부!$A$2:$Z$113,9,FALSE)),\"\")","v":""},{"$f":"IFERROR(IF(H12=\"\",\"\",VLOOKUP(H12,사원명부!$A$2:$Z$113,2,FALSE)),\"\")","v":""},null,{"$f":"IF(K12=\"\",\"\",VLOOKUP(K12,사원명부!$A$2:$Z$113,9,FALSE))","v":""},{"$f":"IF(K12=\"\",\"\",VLOOKUP(K12,사원명부!$A$2:$Z$113,2,FALSE))","v":""},null,null,null,{"$f":"IF(H12=\"\",\"\",IF(VLOOKUP(H12,사원명부!$A$2:$Z$113,12,FALSE)=\"\",\"\",\"퇴직\"))","v":""},null,null,{"$f":"IF(K12=\"\",\"\",IF(VLOOKUP(K12,사원명부!$A$2:$Z$113,12,FALSE)=\"\",\"\",\"퇴직\"))","v":""}]
[{"$f":"IFERROR(IF(H13=\"\",\"\",VLOOKUP(H13,사원명부!$A$2:$Z$113,9,FALSE)),\"\")","v":""},{"$f":"IFERROR(IF(H13=\"\",\"\",VLOOKUP(H13,사원명부!$A$2:$Z$113,2,FALSE)),\"\")","v":""},null,{"$f":"IF(K13=\"\",\"\",VLOOKUP(K13,사원명부!$A$2:$Z$113,9,FALSE))","v":""},{"$f":"IF(K13=\"\",\"\",VLOOKUP(K13,사원명부!$A$2:$Z$113,2,FALSE))","v":""},null,null,null,{"$f":"IF(H13=\"\",\"\",IF(VLOOKUP(H13,사원명부!$A$2:$Z$113,12,FALSE)=\"\",\"\",\"퇴직\"))","v":""},null,null,{"$f":"IF(K13=\"\",\"\",IF(VLOOKUP(K13,사원명부!$A$2:$Z$113,12,FALSE)=\"\",\"\",\"퇴직\"))","v":""}]
[{"$f":"IFERROR(IF(H14=\"\",\"\",VLOOKUP(H14,사원명부!$A$2:$Z$113,9,FALSE)),\"\")","v":""},{"$f":"IFERROR(IF(H14=\"\",\"\",VLOOKUP(H14,사원명부!$A$2:$Z$113,2,FALSE)),\"\")","v":""},null,{"$f":"IF(K14=\"\",\"\",VLOOKUP(K14,사원명부!$A$2:$Z$113,9,FALSE))","v":""},{"$f":"IF(K14=\"\",\"\",VLOOKUP(K14,사원명부!$A$2:$Z$113,2,FALSE))","v":""},null,null,null,{"$f":"IF(H14=\"\",\"\",IF(VLOOKUP(H14,사원명부!$A$2:$Z$113,12,FALSE)=\"\",\"\",\"퇴직\"))","v":""},null,null,{"$f":"IF(K14=\"\",\"\",IF(VLOOKUP(K14,사원명부!$A$2:$Z$113,12,FALSE)=\"\",\"\",\"퇴직\"))","v":""}]
[{"$f":"IFERROR(IF(H15=\"\",\"\",VLOOKUP(H15,사원명부!$A$2:$Z$113,9,FALSE)),\"\")","v":""},{"$f":"IFERROR(IF(H15=\"\",\"\",VLOOKUP(H15,사원명부!$A$2:$Z$113,2,FALSE)),\"\")","v":""},null,{"$f":"IF(K15=\"\",\"\",VLOOKUP(K15,사원명부!$A$2:$Z$113,9,FALSE))","v":""},{"$f":"IF(K15=\"\",\"\",VLOOKUP(K15,사원명부!$A$2:$Z$113,2,FALSE))","v":""},null,null,null,{"$f":"IF(H15=\"\",\"\",IF(VLOOKUP(H15,사원명부!$A$2:$Z$113,12,FALSE)=\"\",\"\",\"퇴직\"))","v":""},null,null,{"$f":"IF(K15=\"\",\"\",IF(VLOOKUP(K15,사원명부!$A$2:$Z$113,12,FALSE)=\"\",\"\",\"퇴직\"))","v":""}]
[{"$f":"IFERROR(IF(H16=\"\",\"\",VLOOKUP(H16,사원명부!$A$2:$Z$113,9,FALSE)),\"\")","v":""},{"$f":"IFERROR(IF(H16=\"\",\"\",VLOOKUP(H16,사원명부!$A$2:$Z$113,2,FALSE)),\"\")","v":""},null,{"$f":"IF(K16=\"\",\"\",VLOOKUP(K16,사원명부!$A$2:$Z$113,9,FALSE))","v":""},{"$f":"IF(K16=\"\",\"\",VLOOKUP(K16,사원명부!$A$2:$Z$113,2,FALSE))","v":""},null,null,null,{"$f":"IF(H16=\"\",\"\",IF(VLOOKUP(H16,사원명부!$A$2:$Z$113,12,FALSE)=\"\",\"\",\"퇴직\"))","v":""},null,null,{"$f":"IF(K16=\"\",\"\",IF(VLOOKUP(K16,사원명부!$A$2:$Z$113,12,FALSE)=\"\",\"\",\"퇴직\"))","v":""}]
[{"$f":"IFERROR(IF(H17=\"\",\"\",VLOOKUP(H17,사원명부!$A$2:$Z$113,9,FALSE)),\"\")","v":""},{"$f":"IFERROR(IF(H17=\"\",\"\",VLOOKUP(H17,사원명부!$A$2:$Z$113,2,FALSE)),\"\")","v":""},null,{"$f":"IF(K17=\"\",\"\",VLOOKUP(K17,사원명부!$A$2:$Z$113,9,FALSE))","v":""},{"$f":"IF(K17=\"\",\"\",VLOOKUP(K17,사원명부!$A$2:$Z$113,2,FALSE))","v":""},null,null,null,{"$f":"IF(H17=\"\",\"\",IF(VLOOKUP(H17,사원명부!$A$2:$Z$113,12,FALSE)=\"\",\"\",\"퇴직\"))","v":""},null,null,{"$f":"IF(K17=\"\",\"\",IF(VLOOKUP(K17,사원명부!$A$2:$Z$113,12,FALSE)=\"\",\"\",\"퇴직\"))","v":""}]
[{"$f":"IFERROR(IF(H18=\"\",\"\",VLOOKUP(H18,사원명부!$A$2:$Z$113,9,FALSE)),\"\")","v":""},{"$f":"IFERROR(IF(H18=\"\",\"\",VLOOKUP(H18,사원명부!$A$2:$Z$113,2,FALSE)),\"\")","v":""},null,{"$f":"IF(K18=\"\",\"\",VLOOKUP(K18,사원명부!$A$2:$Z$113,9,FALSE))","v":""},{"$f":"IF(K18=\"\",\"\",VLOOKUP(K18,사원명부!$A$2:$Z$113,2,FALSE))","v":""},null,null,null,{"$f":"IF(H18=\"\",\"\",IF(VLOOKUP(H18,사원명부!$A$2:$Z$113,12,FALSE)=\"\",\"\",\"퇴직\"))","v":""},null,null,{"$f":"IF(K18=\"\",\"\",IF(VLOOKUP(K18,사원명부!$A$2:$Z$113,12,FALSE)=\"\",\"\",\"퇴직\"))","v":""}]
[{"$f":"IFERROR(IF(H19=\"\",\"\",VLOOKUP(H19,사원명부!$A$2:$Z$113,9,FALSE)),\"\")","v":""},{"$f":"IFERROR(IF(H19=\"\",\"\",VLOOKUP(H19,사원명부!$A$2:$Z$113,2,FALSE)),\"\")","v":""},null,{"$f":"IF(K19=\"\",\"\",VLOOKUP(K19,사원명부!$A$2:$Z$113,9,FALSE))","v":""},{"$f":"IF(K19=\"\",\"\",VLOOKUP(K19,사원명부!$A$2:$Z$113,2,FALSE))","v":""},null,null,null,{"$f":"IF(H19=\"\",\"\",IF(VLOOKUP(H19,사원명부!$A$2:$Z$113,12,FALSE)=\"\",\"\",\"퇴직\"))","v":""},null,null,{"$f":"IF(K19=\"\",\"\",IF(VLOOKUP(K19,사원명부!$A$2:$Z$113,12,FALSE)=\"\",\"\",\"퇴직\"))","v":""}]
[{"$f":"IFERROR(IF(H20=\"\",\"\",VLOOKUP(H20,사원명부!$A$2:$Z$113,9,FALSE)),\"\")","v":""},{"$f":"IFERROR(IF(H20=\"\",\"\",VLOOKUP(H20,사원명부!$A$2:$Z$113,2,FALSE)),\"\")","v":""},null,{"$f":"IF(K20=\"\",\"\",VLOOKUP(K20,사원명부!$A$2:$Z$113,9,FALSE))","v":""},{"$f":"IF(K20=\"\",\"\",VLOOKUP(K20,사원명부!$A$2:$Z$113,2,FALSE))","v":""},null,null,null,{"$f":"IF(H20=\"\",\"\",IF(VLOOKUP(H20,사원명부!$A$2:$Z$113,12,FALSE)=\"\",\"\",\"퇴직\"))","v":""},null,null,{"$f":"IF(K20=\"\",\"\",IF(VLOOKUP(K20,사원명부!$A$2:$Z$113,12,FALSE)=\"\",\"\",\"퇴직\"))","v":""}]
[{"$f":"IFERROR(IF(H21=\"\",\"\",VLOOKUP(H21,사원명부!$A$2:$Z$113,9,FALSE)),\"\")","v":""},{"$f":"IFERROR(IF(H21=\"\",\"\",VLOOKUP(H21,사원명부!$A$2:$Z$113,2,FALSE)),\"\")","v":""},null,{"$f":"IF(K21=\"\",\"\",VLOOKUP(K21,사원명부!$A$2:$Z$113,9,FALSE))","v":""},{"$f":"IF(K21=\"\",\"\",VLOOKUP(K21,사원명부!$A$2:$Z$113,2,FALSE))","v":""},null,null,null,{"$f":"IF(H21=\"\",\"\",IF(VLOOKUP(H21,사원명부!$A$2:$Z$113,12,FALSE)=\"\",\"\",\"퇴직\"))","v":""},null,null,{"$f":"IF(K21=\"\",\"\",IF(VLOOKUP(K21,사원명부!$A$2:$Z$113,12,FALSE)=\"\",\"\",\"퇴직\"))","v":""}]
[{"$f":"IFERROR(IF(H22=\"\",\"\",VLOOKUP(H22,사원명부!$A$2:$Z$113,9,FALSE)),\"\")","v":""},{"$f":"IFERROR(IF(H22=\"\",\"\",VLOOKUP(H22,사원명부!$A$2:$Z$113,2,FALSE)),\"\")","v":""},null,{"$f":"IF(K22=\"\",\"\",VLOOKUP(K22,사원명부!$A$2:$Z$113,9,FALSE))","v":""},{"$f":"IF(K22=\"\",\"\",VLOOKUP(K22,사원명부!$A$2:$Z$113,2,FALSE))","v":""},null,null,null,{"$f":"IF(H22=\"\",\"\",IF(VLOOKUP(H22,사원명부!$A$2:$Z$113,12,FALSE)=\"\",\"\",\"퇴직\"))","v":""},null,null,{"$f":"IF(K22=\"\",\"\",IF(VLOOKUP(K22,사원명부!$A$2:$Z$113,12,FALSE)=\"\",\"\",\"퇴직\"))","v":""}]

{"sheet":"휴가계획서","index":55,"n_rows":23,"n_cols":10,"rows_kept":23,"cut":false,"hidden":false,"merged":[[0,7,0,8],[22,0,22,5],[0,0,1,5],[2,0,3,5],[19,3,19,5]]}
[{"$f":"YEAR(D20+5)&\"년 \"&MONTH(D20+5)&\"월 휴가계획서\"","v":"2021년 5월 휴가계획서"},null,null,null,null,null,null,"계획서 작성일",null,"2021-04-30"]
[]
["매월 말일(휴일일 경우 전일) 근로자 협의회에서 상호 협의후 결정한 연차사용 계획서입니다. 다음과 같이 연차휴가를 사용하고자 합니다."]
[]
["사번","이름","휴가시작일","휴가일수","누적연차일","서명"]
[null,{"$f":"IFERROR(IF(A6=\"\",\"\",VLOOKUP(A6,사원명부!$A$2:$Z$113,2,FALSE)),\"\")","v":""},{"$f":"IFERROR(IF(B6=\"\",\"\",VLOOKUP(B6,사원명부!$A$2:$Z$113,2,FALSE)),\"\")","v":""},{"$f":"IFERROR(IF(C6=\"\",\"\",VLOOKUP(C6,사원명부!$A$2:$Z$113,2,FALSE)),\"\")","v":""}]
[null,{"$f":"IFERROR(IF(A7=\"\",\"\",VLOOKUP(A7,사원명부!$A$2:$Z$113,2,FALSE)),\"\")","v":""},{"$f":"IFERROR(IF(B7=\"\",\"\",VLOOKUP(B7,사원명부!$A$2:$Z$113,2,FALSE)),\"\")","v":""},{"$f":"IFERROR(IF(C7=\"\",\"\",VLOOKUP(C7,사원명부!$A$2:$Z$113,2,FALSE)),\"\")","v":""}]
[null,{"$f":"IFERROR(IF(A8=\"\",\"\",VLOOKUP(A8,사원명부!$A$2:$Z$113,2,FALSE)),\"\")","v":""},{"$f":"IFERROR(IF(B8=\"\",\"\",VLOOKUP(B8,사원명부!$A$2:$Z$113,2,FALSE)),\"\")","v":""},{"$f":"IFERROR(IF(C8=\"\",\"\",VLOOKUP(C8,사원명부!$A$2:$Z$113,2,FALSE)),\"\")","v":""}]
[null,{"$f":"IFERROR(IF(A9=\"\",\"\",VLOOKUP(A9,사원명부!$A$2:$Z$113,2,FALSE)),\"\")","v":""},{"$f":"IFERROR(IF(B9=\"\",\"\",VLOOKUP(B9,사원명부!$A$2:$Z$113,2,FALSE)),\"\")","v":""},{"$f":"IFERROR(IF(C9=\"\",\"\",VLOOKUP(C9,사원명부!$A$2:$Z$113,2,FALSE)),\"\")","v":""}]
[null,{"$f":"IFERROR(IF(A10=\"\",\"\",VLOOKUP(A10,사원명부!$A$2:$Z$113,2,FALSE)),\"\")","v":""},{"$f":"IFERROR(IF(B10=\"\",\"\",VLOOKUP(B10,사원명부!$A$2:$Z$113,2,FALSE)),\"\")","v":""},{"$f":"IFERROR(IF(C10=\"\",\"\",VLOOKUP(C10,사원명부!$A$2:$Z$113,2,FALSE)),\"\")","v":""}]
[null,{"$f":"IFERROR(IF(A11=\"\",\"\",VLOOKUP(A11,사원명부!$A$2:$Z$113,2,FALSE)),\"\")","v":""},{"$f":"IFERROR(IF(B11=\"\",\"\",VLOOKUP(B11,사원명부!$A$2:$Z$113,2,FALSE)),\"\")","v":""},{"$f":"IFERROR(IF(C11=\"\",\"\",VLOOKUP(C11,사원명부!$A$2:$Z$113,2,FALSE)),\"\")","v":""}]
[null,{"$f":"IFERROR(IF(A12=\"\",\"\",VLOOKUP(A12,사원명부!$A$2:$Z$113,2,FALSE)),\"\")","v":""},{"$f":"IFERROR(IF(B12=\"\",\"\",VLOOKUP(B12,사원명부!$A$2:$Z$113,2,FALSE)),\"\")","v":""},{"$f":"IFERROR(IF(C12=\"\",\"\",VLOOKUP(C12,사원명부!$A$2:$Z$113,2,FALSE)),\"\")","v":""}]
[null,{"$f":"IFERROR(IF(A13=\"\",\"\",VLOOKUP(A13,사원명부!$A$2:$Z$113,2,FALSE)),\"\")","v":""},{"$f":"IFERROR(IF(B13=\"\",\"\",VLOOKUP(B13,사원명부!$A$2:$Z$113,2,FALSE)),\"\")","v":""},{"$f":"IFERROR(IF(C13=\"\",\"\",VLOOKUP(C13,사원명부!$A$2:$Z$113,2,FALSE)),\"\")","v":""}]
[null,{"$f":"IFERROR(IF(A14=\"\",\"\",VLOOKUP(A14,사원명부!$A$2:$Z$113,2,FALSE)),\"\")","v":""},{"$f":"IFERROR(IF(B14=\"\",\"\",VLOOKUP(B14,사원명부!$A$2:$Z$113,2,FALSE)),\"\")","v":""},{"$f":"IFERROR(IF(C14=\"\",\"\",VLOOKUP(C14,사원명부!$A$2:$Z$113,2,FALSE)),\"\")","v":""}]
[null,{"$f":"IFERROR(IF(D1=\"\",\"\",VLOOKUP(D1,사원명부!$A$2:$Z$113,2,FALSE)),\"\")","v":""},{"$f":"IFERROR(IF(D1=\"\",\"\",VLOOKUP(D1,사원명부!$A$2:$Z$113,2,FALSE)),\"\")","v":""},{"$f":"IFERROR(IF(D1=\"\",\"\",VLOOKUP(D1,사원명부!$A$2:$Z$113,2,FALSE)),\"\")","v":""}]
[{"$f":"IFERROR(IF(D1=\"\",\"\",VLOOKUP(D1,사원명부!$A$2:$Z$113,9,FALSE)),\"\")","v":""},{"$f":"IFERROR(IF(D1=\"\",\"\",VLOOKUP(D1,사원명부!$A$2:$Z$113,2,FALSE)),\"\")","v":""},{"$f":"IFERROR(IF(D1=\"\",\"\",VLOOKUP(D1,사원명부!$A$2:$Z$113,2,FALSE)),\"\")","v":""},{"$f":"IFERROR(IF(D1=\"\",\"\",VLOOKUP(D1,사원명부!$A$2:$Z$113,2,FALSE)),\"\")","v":""}]
[{"$f":"IFERROR(IF(D1=\"\",\"\",VLOOKUP(D1,사원명부!$A$2:$Z$113,9,FALSE)),\"\")","v":""},{"$f":"IFERROR(IF(D1=\"\",\"\",VLOOKUP(D1,사원명부!$A$2:$Z$113,2,FALSE)),\"\")","v":""},{"$f":"IFERROR(IF(D1=\"\",\"\",VLOOKUP(D1,사원명부!$A$2:$Z$113,2,FALSE)),\"\")","v":""},{"$f":"IFERROR(IF(D1=\"\",\"\",VLOOKUP(D1,사원명부!$A$2:$Z$113,2,FALSE)),\"\")","v":""}]
[{"$f":"IFERROR(IF(D1=\"\",\"\",VLOOKUP(D1,사원명부!$A$2:$Z$113,9,FALSE)),\"\")","v":""},{"$f":"IFERROR(IF(D1=\"\",\"\",VLOOKUP(D1,사원명부!$A$2:$Z$113,2,FALSE)),\"\")","v":""},{"$f":"IFERROR(IF(D1=\"\",\"\",VLOOKUP(D1,사원명부!$A$2:$Z$113,2,FALSE)),\"\")","v":""},{"$f":"IFERROR(IF(D1=\"\",\"\",VLOOKUP(D1,사원명부!$A$2:$Z$113,2,FALSE)),\"\")","v":""}]
[]
[null,null,null,{"$f":"J1","v":"2021-04-30"}]
[null,null,null,"근로자 대표  :",{"$f":"IFBLANK(사원명부!B3)","v":"테스트1"},"서명"]
[]
[{"$f":"요양기관기초정보!D1&\" 약국장 귀하\"","v":"팜오피스약국 약국장 귀하"}]

{"sheet":"휴가력","index":56,"n_rows":24,"n_cols":12,"rows_kept":24,"cut":false,"hidden":false,"merged":[[23,3,23,7],[24,3,24,7],[0,1,0,7]]}
[null,{"$f":"요양기관기초정보!D1&\" 직원휴가 및 휴일 근무 계획표\"","v":"팜오피스약국 직원휴가 및 휴일 근무 계획표"},null,null,null,null,null,null,null,null,"휴가","ctrl-g"]
[null,{"$f":"YEAR(TODAY())","v":2021},"5월",null,null,null,null,null,null,null,"반차","ctrl-q"]
[null,"월요일",{"$f":"UPPER(TEXT(C4,\"aaaa\"))","v":"화요일"},"수요일","목요일","금요일","토요일","일요일",null,null,"공휴일","ctrl-r"]
[null,{"$f":"일+1+DATE(Calendar1Year,Calendar1MonthOption,1)-WEEKDAY(DATE(Calendar1Year,Calendar1MonthOption,1),WeekdayOption)","v":"2021-04-26"},"2021-04-27","2021-04-28","2021-04-29","2021-04-30","2021-05-01","2021-05-02"]
[]
[]
[]
[null,{"$f":"일+8+DATE(Calendar1Year,Calendar1MonthOption,1)-WEEKDAY(DATE(Calendar1Year,Calendar1MonthOption,1),WeekdayOption)","v":"2021-05-03"},"2021-05-04","2021-05-05","2021-05-06","2021-05-07","2021-05-08","2021-05-09"]
[]
[]
[]
[null,{"$f":"일+15+DATE(Calendar1Year,Calendar1MonthOption,1)-WEEKDAY(DATE(Calendar1Year,Calendar1MonthOption,1),WeekdayOption)","v":"2021-05-10"},"2021-05-11","2021-05-12","2021-05-13","2021-05-14","2021-05-15","2021-05-16"]
[]
[]
[]
[null,{"$f":"일+22+DATE(Calendar1Year,Calendar1MonthOption,1)-WEEKDAY(DATE(Calendar1Year,Calendar1MonthOption,1),WeekdayOption)","v":"2021-05-17"},"2021-05-18","2021-05-19","2021-05-20","2021-05-21","2021-05-22","2021-05-23"]
[]
[]
[]
[null,{"$f":"일+29+DATE(Calendar1Year,Calendar1MonthOption,1)-WEEKDAY(DATE(Calendar1Year,Calendar1MonthOption,1),WeekdayOption)","v":"2021-05-24"},"2021-05-25","2021-05-26","2021-05-27","2021-05-28","2021-05-29","2021-05-30"]
[]
[]
[]
[null,{"$f":"일+36+DATE(Calendar1Year,Calendar1MonthOption,1)-WEEKDAY(DATE(Calendar1Year,Calendar1MonthOption,1),WeekdayOption)","v":"2021-05-31"},"2021-06-01","메모:"]

{"sheet":"경력증명서","index":57,"n_rows":75,"n_cols":16,"rows_kept":75,"cut":false,"hidden":false,"merged":[[11,13,11,14],[12,13,12,14],[13,13,13,14],[14,13,14,14],[15,13,15,14],[16,13,16,14],[17,13,17,14],[18,13,18,14],[19,13,19,14],[11,15,11,19],[12,15,12,19],[13,15,13,19],[14,15,14,19],[15,15,15,19],[16,15,16,19],[17,15,17,19],[18,15,18,19],[19,15,19,19],[4,1,4,2],[4,4,4,5],[4,7,4,8],[4,9,4,11],[6,1,6,5],[0,0,2,5],[3,1,3,2],[3,4,3,5],[3,7,3,8],[3,9,3,11],[1,7,1,19],[2,7,2,19],[9,0,9,5],[9,7,9,8],[9,9,9,10],[10,0,10,5],[10,7,10,8],[10,9,10,10],[6,13,6,14],[6,15,6,19],[7,0,7,5],[7,7,7,8],[7,9,7,10],[8,0,8,5],[8,7,8,8],[8,9,8,10],[7,15,7,19],[8,15,8,19],[9,15,9,19],[10,15,10,19],[7,13,7,14],[8,13,8,14],[9,13,9,14],[10,13,10,14],[13,0,13,5],[13,7,13,8],[13,9,13,10],[14,0,14,5],[14,7,14,8],[14,9,14,10],[11,2,11,4],[11,7,11,8],[11,9,11,10],[12,0,12,5],[12,7,12,8],[12,9,12,10],[17,0,17,5],[17,7,17,8],[17,9,17,10],[18,0,18,5],[18,7,18,8],[18,9,18,10],[15,0,15,5],[15,7,15,8],[15,9,15,10],[16,0,16,5],[16,7,16,8],[16,9,16,10],[22,7,22,8],[22,9,22,10],[23,7,23,8],[23,9,23,10],[24,7,24,8],[24,9,24,10],[19,4,19,5],[19,7,19,8],[19,9,19,10],[20,7,20,8],[20,9,20,10],[21,7,21,8],[21,9,21,10],[28,7,28,8],[28,9,28,10],[29,7,29,8],[29,9,29,10],[30,7,30,8],[30,9,30,10],[25,7,25,8],[25,9,25,10],[26,7,26,8],[26,9,26,10],[27,7,27,8],[27,9,27,10],[34,7,34,8],[34,9,34,10],[35,7,35,8],[35,9,35,10],[36,7,36,8],[36,9,36,10],[31,7,31,8],[31,9,31,10],[32,7,32,8],[32,9,32,10],[33,7,33,8],[33,9,33,10],[40,7,40,8],[40,9,40,10],[41,7,41,8],[41,9,41,10],[42,7,42,8],[42,9,42,10],[37,7,37,8],[37,9,37,10],[38,7,38,8],[38,9,38,10],[39,7,39,8],[39,9,39,10],[46,7,46,8],[46,9,46,10],[47,7,47,8],[47,9,47,10],[48,7,48,8],[48,9,48,10],[43,7,43,8],[43,9,43,10],[44,7,44,8],[44,9,44,10],[45,7,45,8],[45,9,45,10],[52,7,52,8],[52,9,52,10],[53,7,53,8],[53,9,53,10],[54,7,54,8],[54,9,54,10],[49,7,49,8],[49,9,49,10],[50,7,50,8],[50,9,50,10],[51,7,51,8],[51,9,51,10],[58,7,58,8],[58,9,58,10],[59,7,59,8],[59,9,59,10],[60,7,60,8],[60,9,60,10],[55,7,55,8],[55,9,55,10],[56,7,56,8],[56,9,56,10],[57,7,57,8],[57,9,57,10],[64,7,64,8],[64,9,64,10],[65,7,65,8],[65,9,65,10],[66,7,66,8],[66,9,66,10],[61,7,61,8],[61,9,61,10],[62,7,62,8],[62,9,62,10],[63,7,63,8],[63,9,63,10],[70,7,70,8],[70,9,70,10],[71,7,71,8],[71,9,71,10],[72,7,72,8],[72,9,72,10],[67,7,67,8],[67,9,67,10],[68,7,68,8],[68,9,68,10],[69,7,69,8],[69,9,69,10],[76,7,76,8],[76,9,76,10],[77,7,77,8],[77,9,77,10],[78,7,78,8],[78,9,78,10],[73,7,73,8],[73,9,73,10],[74,7,74,8],[74,9,74,10],[75,7,75,8],[75,9,75,10],[82,7,82,8],[82,9,82,10],[83,7,83,8],[83,9,83,10],[84,7,84,8],[84,9,84,10],[79,7,79,8],[79,9,79,10],[80,7,80,8],[80,9,80,10],[81,7,81,8],[81,9,81,10],[88,7,88,8],[88,9,88,10],[89,7,89,8],[89,9,89,10],[90,7,90,8],[90,9,90,10],[85,7,85,8],[85,9,85,10],[86,7,86,8],[86,9,86,10],[87,7,87,8],[87,9,87,10],[94,7,94,8],[94,9,94,10],[95,7,95,8],[95,9,95,10],[96,7,96,8],[96,9,96,10],[91,7,91,8],[91,9,91,10],[92,7,92,8],[92,9,92,10],[93,7,93,8],[93,9,93,10],[100,7,100,8],[100,9,100,10],[101,7,101,8],[101,9,101,10],[102,7,102,8],[102,9,102,10],[97,7,97,8],[97,9,97,10],[98,7,98,8],[98,9,98,10],[99,7,99,8],[99,9,99,10],[106,7,106,8],[106,9,106,10],[107,7,107,8],[107,9,107,10],[108,7,108,8],[108,9,108,10],[103,7,103,8],[103,9,103,10],[104,7,104,8],[104,9,104,10],[105,7,105,8],[105,9,105,10],[112,7,112,8],[112,9,112,10],[113,7,113,8],[113,9,113,10],[114,7,114,8],[114,9,114,10],[109,7,109,8],[109,9,109,10],[110,7,110,8],[110,9,110,10],[111,7,111,8],[111,9,111,10],[118,7,118,8],[118,9,118,10],[119,7,119,8],[119,9,119,10],[120,7,120,8],[120,9,120,10],[115,7,115,8],[115,9,115,10],[116,7,116,8],[116,9,116,10],[117,7,117,8],[117,9,117,10],[124,7,124,8],[124,9,124,10],[125,7,125,8],[125,9,125,10],[126,7,126,8],[126,9,126,10],[121,7,121,8],[121,9,121,10],[122,7,122,8],[122,9,122,10],[123,7,123,8],[123,9,123,10],[130,7,130,8],[130,9,130,10],[131,7,131,8],[131,9,131,10],[132,7,132,8],[132,9,132,10],[127,7,127,8],[127,9,127,10],[128,7,128,8],[128,9,128,10],[129,7,129,8],[129,9,129,10],[136,7,136,8],[136,9,136,10],[137,7,137,8],[137,9,137,10],[138,7,138,8],[138,9,138,10],[133,7,133,8],[133,9,133,10],[134,7,134,8],[134,9,134,10],[135,7,135,8],[135,9,135,10],[142,7,142,8],[142,9,142,10],[143,7,143,8],[143,9,143,10],[144,7,144,8],[144,9,144,10],[139,7,139,8],[139,9,139,10],[140,7,140,8],[140,9,140,10],[141,7,141,8],[141,9,141,10],[148,7,148,8],[148,9,148,10],[149,7,149,8],[149,9,149,10],[150,7,150,8],[150,9,150,10],[145,7,145,8],[145,9,145,10],[146,7,146,8],[146,9,146,10],[147,7,147,8],[147,9,147,10],[154,7,154,8],[154,9,154,10],[155,7,155,8],[155,9,155,10],[156,7,156,8],[156,9,156,10],[151,7,151,8],[151,9,151,10],[152,7,152,8],[152,9,152,10],[153,7,153,8],[153,9,153,10],[160,7,160,8],[160,9,160,10],[161,7,161,8],[161,9,161,10],[162,7,162,8],[162,9,162,10],[157,7,157,8],[157,9,157,10],[158,7,158,8],[158,9,158,10],[159,7,159,8],[159,9,159,10],[166,7,166,8],[166,9,166,10],[167,7,167,8],[167,9,167,10],[168,7,168,8],[168,9,168,10],[163,7,163,8],[163,9,163,10],[164,7,164,8],[164,9,164,10],[165,7,165,8],[165,9,165,10],[172,7,172,8],[172,9,172,10],[173,7,173,8],[173,9,173,10],[174,7,174,8],[174,9,174,10],[169,7,169,8],[169,9,169,10],[170,7,170,8],[170,9,170,10],[171,7,171,8],[171,9,171,10],[178,7,178,8],[178,9,178,10],[179,7,179,8],[179,9,179,10],[180,7,180,8],[180,9,180,10],[175,7,175,8],[175,9,175,10],[176,7,176,8],[176,9,176,10],[177,7,177,8],[177,9,177,10],[184,7,184,8],[184,9,184,10],[185,7,185,8],[185,9,185,10],[186,7,186,8],[186,9,186,10],[181,7,181,8],[181,9,181,10],[182,7,182,8],[182,9,182,10],[183,7,183,8],[183,9,183,10],[196,7,196,8],[196,9,196,10],[197,7,197,8],[197,9,197,10],[5,4,5,5],[5,1,5,2],[193,7,193,8],[193,9,193,10],[194,7,194,8],[194,9,194,10],[195,7,195,8],[195,9,195,10],[190,7,190,8],[190,9,190,10],[191,7,191,8],[191,9,191,10],[192,7,192,8],[192,9,192,10],[187,7,187,8],[187,9,187,10],[188,7,188,8],[188,9,188,10],[189,7,189,8],[189,9,189,10]]}
["경 력  증  명  서"]
[null,null,null,null,null,null,null,"근로기준법 제 39조(사용증명서)"]
[null,null,null,null,null,null,null,"근로 기준법 시행령 제19조(사용증명서의 청구) "]
["성  명",{"$f":"IF(J5=\"없어요\",\"\",VLOOKUP($J$4,사원명부!$A$2:$AB$150,2))","v":"테스트2"},null,"주민등록번호",{"$f":"IF(J5=\"없어요\",\"\",VLOOKUP($J$4,사원명부!$A$2:$AB$150,4))","v":"680623-1******"},null,null,"사원번호",null,2]
["소  속",{"$f":"IFBLANK(요양기관기초정보!D1)","v":"팜오피스약국"},null,"직  위",{"$f":"IF(J5=\"없어요\",\"\",VLOOKUP($J$4,사원명부!$A$2:$AB$150,8)&\" \"&VLOOKUP($J$4,사원명부!$A$2:$AB$150,9))","v":"조제실 실장"},null,null,"이    름",null,{"$f":"IFERROR(IF($J$4=\"\",\"\",VLOOKUP(J4,사원명부!A2:B100,2,FALSE)),\"없어요\")","v":"테스트2"}]
["입사년월일",{"$f":"IF(J5=\"없어요\",\"\",VLOOKUP($J$4,사원명부!$A$2:$AB$150,11))","v":"2021-01-01"},null,"재직상태/       퇴사일",{"$f":"IF(IF(J5=\"없어요\",\"\",VLOOKUP($J$4,사원명부!$A$2:$AB$150,12))=\"\",\"재직중\",IF(J5=\"없어요\",\"\",VLOOKUP($J$4,사원명부!$A$2:$AB$150,12)))","v":"재직중"}]
["주  소",{"$f":"IF(J5=\"없어요\",\"\",VLOOKUP($J$4,사원명부!$A$2:$AB$150,7))","v":"서울시 서대문구연세로 41"},null,null,null,null,null,null,null,null,null,null,null,"용도",null,"금융기관제출용"]
[null,null,null,null,null,null,null,1,null,{"$f":"IFERROR(IF(H8=\"\",\"\",VLOOKUP(H8,사원명부!$A$2:$B$100,2,FALSE)),\"\")","v":"테스트1"},null,null,null,{"$f":"IF(P8=\"\",\"\",1)","v":1},null,"금융기관제출용"]
[null,null,null,null,null,null,null,2,null,{"$f":"IFERROR(IF(H9=\"\",\"\",VLOOKUP(H9,사원명부!$A$2:$B$100,2,FALSE)),\"\")","v":"테스트2"},null,null,null,{"$f":"IF(P9=\"\",\"\",N8+1)","v":2},null,"이직용"]
["상기인은 당사에서 위와 같이 재직한 경력이 있음을 증명합니다. ",null,null,null,null,null,null,3,null,{"$f":"IFERROR(IF(H10=\"\",\"\",VLOOKUP(H10,사원명부!$A$2:$B$100,2,FALSE)),\"\")","v":""},null,null,null,{"$f":"IF(P10=\"\",\"\",N9+1)","v":""}]
[null,null,null,null,null,null,null,4,null,{"$f":"IFERROR(IF(H11=\"\",\"\",VLOOKUP(H11,사원명부!$A$2:$B$100,2,FALSE)),\"\")","v":""},null,null,null,""]
[null,"용도 : ",{"$f":"IFBLANK(P7)","v":"금융기관제출용"},null,null,null,null,5,null,{"$f":"IFERROR(IF(H12=\"\",\"\",VLOOKUP(H12,사원명부!$A$2:$B$100,2,FALSE)),\"\")","v":""},null,null,null,""]
[null,null,null,null,null,null,null,6,null,{"$f":"IFERROR(IF(H13=\"\",\"\",VLOOKUP(H13,사원명부!$A$2:$B$100,2,FALSE)),\"\")","v":""},null,null,null,""]
[null,null,null,null,null,null,null,7,null,{"$f":"IFERROR(IF(H14=\"\",\"\",VLOOKUP(H14,사원명부!$A$2:$B$100,2,FALSE)),\"\")","v":""},null,null,null,""]
[null,null,null,null,null,null,null,8,null,{"$f":"IFERROR(IF(H15=\"\",\"\",VLOOKUP(H15,사원명부!$A$2:$B$100,2,FALSE)),\"\")","v":""},null,null,null,""]
[null,null,null,null,null,null,null,9,null,{"$f":"IFERROR(IF(H16=\"\",\"\",VLOOKUP(H16,사원명부!$A$2:$B$100,2,FALSE)),\"\")","v":""},null,null,null,""]
[null,null,null,null,null,null,null,10,null,{"$f":"IFERROR(IF(H17=\"\",\"\",VLOOKUP(H17,사원명부!$A$2:$B$100,2,FALSE)),\"\")","v":""},null,null,null,""]
[{"$f":"TODAY()","v":"2021-05-31"},null,null,null,null,null,null,11,null,{"$f":"IFERROR(IF(H18=\"\",\"\",VLOOKUP(H18,사원명부!$A$2:$B$100,2,FALSE)),\"\")","v":""},null,null,null,""]
[null,null,null,null,null,null,null,12,null,{"$f":"IFERROR(IF(H19=\"\",\"\",VLOOKUP(H19,사원명부!$A$2:$B$100,2,FALSE)),\"\")","v":""},null,null,null,""]
[null,null,null,"업체명 : ",{"$f":"IFBLANK(B5)","v":"팜오피스약국"},null,null,13,null,{"$f":"IFERROR(IF(H20=\"\",\"\",VLOOKUP(H20,사원명부!$A$2:$B$100,2,FALSE)),\"\")","v":""},null,null,null,""]
[null,null,null,"대표자 : ",{"$f":"IFBLANK(요양기관기초정보!C6)","v":"홍길동"},"(인)",null,14,null,{"$f":"IFERROR(IF(H21=\"\",\"\",VLOOKUP(H21,사원명부!$A$2:$B$100,2,FALSE)),\"\")","v":""}]
[null,null,null,null,null,null,null,15,null,{"$f":"IFERROR(IF(H22=\"\",\"\",VLOOKUP(H22,사원명부!$A$2:$B$100,2,FALSE)),\"\")","v":""}]
[null,null,null,null,null,null,null,16,null,{"$f":"IFERROR(IF(H23=\"\",\"\",VLOOKUP(H23,사원명부!$A$2:$B$100,2,FALSE)),\"\")","v":""}]
[null,null,null,null,null,null,null,17,null,{"$f":"IFERROR(IF(H24=\"\",\"\",VLOOKUP(H24,사원명부!$A$2:$B$100,2,FALSE)),\"\")","v":""}]
[null,null,null,null,null,null,null,18,null,{"$f":"IFERROR(IF(H25=\"\",\"\",VLOOKUP(H25,사원명부!$A$2:$B$100,2,FALSE)),\"\")","v":""}]
[null,null,null,null,null,null,null,19,null,{"$f":"IFERROR(IF(H26=\"\",\"\",VLOOKUP(H26,사원명부!$A$2:$B$100,2,FALSE)),\"\")","v":""}]
[null,null,null,null,null,null,null,20,null,{"$f":"IFERROR(IF(H27=\"\",\"\",VLOOKUP(H27,사원명부!$A$2:$B$100,2,FALSE)),\"\")","v":""}]
[null,null,null,null,null,null,null,21,null,{"$f":"IFERROR(IF(H28=\"\",\"\",VLOOKUP(H28,사원명부!$A$2:$B$100,2,FALSE)),\"\")","v":""}]
[null,null,null,null,null,null,null,22,null,{"$f":"IFERROR(IF(H29=\"\",\"\",VLOOKUP(H29,사원명부!$A$2:$B$100,2,FALSE)),\"\")","v":""}]
[null,null,null,null,null,null,null,23,null,{"$f":"IFERROR(IF(H30=\"\",\"\",VLOOKUP(H30,사원명부!$A$2:$B$100,2,FALSE)),\"\")","v":""}]
[null,null,null,null,null,null,null,24,null,{"$f":"IFERROR(IF(H31=\"\",\"\",VLOOKUP(H31,사원명부!$A$2:$B$100,2,FALSE)),\"\")","v":""}]
[null,null,null,null,null,null,null,25,null,{"$f":"IFERROR(IF(H32=\"\",\"\",VLOOKUP(H32,사원명부!$A$2:$B$100,2,FALSE)),\"\")","v":""}]
[null,null,null,null,null,null,null,26,null,{"$f":"IFERROR(IF(H33=\"\",\"\",VLOOKUP(H33,사원명부!$A$2:$B$100,2,FALSE)),\"\")","v":""}]
[null,null,null,null,null,null,null,27,null,{"$f":"IFERROR(IF(H34=\"\",\"\",VLOOKUP(H34,사원명부!$A$2:$B$100,2,FALSE)),\"\")","v":""}]
[null,null,null,null,null,null,null,28,null,{"$f":"IFERROR(IF(H35=\"\",\"\",VLOOKUP(H35,사원명부!$A$2:$B$100,2,FALSE)),\"\")","v":""}]
[null,null,null,null,null,null,null,29,null,{"$f":"IFERROR(IF(H36=\"\",\"\",VLOOKUP(H36,사원명부!$A$2:$B$100,2,FALSE)),\"\")","v":""}]
[null,null,null,null,null,null,null,30,null,{"$f":"IFERROR(IF(H37=\"\",\"\",VLOOKUP(H37,사원명부!$A$2:$B$100,2,FALSE)),\"\")","v":""}]
[null,null,null,null,null,null,null,31,null,{"$f":"IFERROR(IF(H38=\"\",\"\",VLOOKUP(H38,사원명부!$A$2:$B$100,2,FALSE)),\"\")","v":""}]
[null,null,null,null,null,null,null,32,null,{"$f":"IFERROR(IF(H39=\"\",\"\",VLOOKUP(H39,사원명부!$A$2:$B$100,2,FALSE)),\"\")","v":""}]
[null,null,null,null,null,null,null,33,null,{"$f":"IFERROR(IF(H40=\"\",\"\",VLOOKUP(H40,사원명부!$A$2:$B$100,2,FALSE)),\"\")","v":""}]
[null,null,null,null,null,null,null,34,null,{"$f":"IFERROR(IF(H41=\"\",\"\",VLOOKUP(H41,사원명부!$A$2:$B$100,2,FALSE)),\"\")","v":""}]
[null,null,null,null,null,null,null,35,null,{"$f":"IFERROR(IF(H42=\"\",\"\",VLOOKUP(H42,사원명부!$A$2:$B$100,2,FALSE)),\"\")","v":""}]
[null,null,null,null,null,null,null,36,null,{"$f":"IFERROR(IF(H43=\"\",\"\",VLOOKUP(H43,사원명부!$A$2:$B$100,2,FALSE)),\"\")","v":""}]
[null,null,null,null,null,null,null,37,null,{"$f":"IFERROR(IF(H44=\"\",\"\",VLOOKUP(H44,사원명부!$A$2:$B$100,2,FALSE)),\"\")","v":""}]
[null,null,null,null,null,null,null,38,null,{"$f":"IFERROR(IF(H45=\"\",\"\",VLOOKUP(H45,사원명부!$A$2:$B$100,2,FALSE)),\"\")","v":""}]
[null,null,null,null,null,null,null,39,null,{"$f":"IFERROR(IF(H46=\"\",\"\",VLOOKUP(H46,사원명부!$A$2:$B$100,2,FALSE)),\"\")","v":""}]
[null,null,null,null,null,null,null,40,null,{"$f":"IFERROR(IF(H47=\"\",\"\",VLOOKUP(H47,사원명부!$A$2:$B$100,2,FALSE)),\"\")","v":""}]
[null,null,null,null,null,null,null,41,null,{"$f":"IFERROR(IF(H48=\"\",\"\",VLOOKUP(H48,사원명부!$A$2:$B$100,2,FALSE)),\"\")","v":""}]
[null,null,null,null,null,null,null,42,null,{"$f":"IFERROR(IF(H49=\"\",\"\",VLOOKUP(H49,사원명부!$A$2:$B$100,2,FALSE)),\"\")","v":""}]
[null,null,null,null,null,null,null,43,null,{"$f":"IFERROR(IF(H50=\"\",\"\",VLOOKUP(H50,사원명부!$A$2:$B$100,2,FALSE)),\"\")","v":""}]
[null,null,null,null,null,null,null,44,null,{"$f":"IFERROR(IF(H51=\"\",\"\",VLOOKUP(H51,사원명부!$A$2:$B$100,2,FALSE)),\"\")","v":""}]
[null,null,null,null,null,null,null,45,null,{"$f":"IFERROR(IF(H52=\"\",\"\",VLOOKUP(H52,사원명부!$A$2:$B$100,2,FALSE)),\"\")","v":""}]
[null,null,null,null,null,null,null,46,null,{"$f":"IFERROR(IF(H53=\"\",\"\",VLOOKUP(H53,사원명부!$A$2:$B$100,2,FALSE)),\"\")","v":""}]
[null,null,null,null,null,null,null,47,null,{"$f":"IFERROR(IF(H54=\"\",\"\",VLOOKUP(H54,사원명부!$A$2:$B$100,2,FALSE)),\"\")","v":""}]
[null,null,null,null,null,null,null,48,null,{"$f":"IFERROR(IF(H55=\"\",\"\",VLOOKUP(H55,사원명부!$A$2:$B$100,2,FALSE)),\"\")","v":""}]
[null,null,null,null,null,null,null,49,null,{"$f":"IFERROR(IF(H56=\"\",\"\",VLOOKUP(H56,사원명부!$A$2:$B$100,2,FALSE)),\"\")","v":""}]
[null,null,null,null,null,null,null,50,null,{"$f":"IFERROR(IF(H57=\"\",\"\",VLOOKUP(H57,사원명부!$A$2:$B$100,2,FALSE)),\"\")","v":""}]
[null,null,null,null,null,null,null,51,null,{"$f":"IFERROR(IF(H58=\"\",\"\",VLOOKUP(H58,사원명부!$A$2:$B$100,2,FALSE)),\"\")","v":""}]
[null,null,null,null,null,null,null,52,null,{"$f":"IFERROR(IF(H59=\"\",\"\",VLOOKUP(H59,사원명부!$A$2:$B$100,2,FALSE)),\"\")","v":""}]
[null,null,null,null,null,null,null,53,null,{"$f":"IFERROR(IF(H60=\"\",\"\",VLOOKUP(H60,사원명부!$A$2:$B$100,2,FALSE)),\"\")","v":""}]
[null,null,null,null,null,null,null,54,null,{"$f":"IFERROR(IF(H61=\"\",\"\",VLOOKUP(H61,사원명부!$A$2:$B$100,2,FALSE)),\"\")","v":""}]
[null,null,null,null,null,null,null,55,null,{"$f":"IFERROR(IF(H62=\"\",\"\",VLOOKUP(H62,사원명부!$A$2:$B$100,2,FALSE)),\"\")","v":""}]
[null,null,null,null,null,null,null,56,null,{"$f":"IFERROR(IF(H63=\"\",\"\",VLOOKUP(H63,사원명부!$A$2:$B$100,2,FALSE)),\"\")","v":""}]
[null,null,null,null,null,null,null,57,null,{"$f":"IFERROR(IF(H64=\"\",\"\",VLOOKUP(H64,사원명부!$A$2:$B$100,2,FALSE)),\"\")","v":""}]
[null,null,null,null,null,null,null,58,null,{"$f":"IFERROR(IF(H65=\"\",\"\",VLOOKUP(H65,사원명부!$A$2:$B$100,2,FALSE)),\"\")","v":""}]
[null,null,null,null,null,null,null,59,null,{"$f":"IFERROR(IF(H66=\"\",\"\",VLOOKUP(H66,사원명부!$A$2:$B$100,2,FALSE)),\"\")","v":""}]
[null,null,null,null,null,null,null,60,null,{"$f":"IFERROR(IF(H67=\"\",\"\",VLOOKUP(H67,사원명부!$A$2:$B$100,2,FALSE)),\"\")","v":""}]
[null,null,null,null,null,null,null,61,null,{"$f":"IFERROR(IF(H68=\"\",\"\",VLOOKUP(H68,사원명부!$A$2:$B$100,2,FALSE)),\"\")","v":""}]
[null,null,null,null,null,null,null,62,null,{"$f":"IFERROR(IF(H69=\"\",\"\",VLOOKUP(H69,사원명부!$A$2:$B$100,2,FALSE)),\"\")","v":""}]
[null,null,null,null,null,null,null,63,null,{"$f":"IFERROR(IF(H70=\"\",\"\",VLOOKUP(H70,사원명부!$A$2:$B$100,2,FALSE)),\"\")","v":""}]
[null,null,null,null,null,null,null,64,null,{"$f":"IFERROR(IF(H71=\"\",\"\",VLOOKUP(H71,사원명부!$A$2:$B$100,2,FALSE)),\"\")","v":""}]
[null,null,null,null,null,null,null,65,null,{"$f":"IFERROR(IF(H72=\"\",\"\",VLOOKUP(H72,사원명부!$A$2:$B$100,2,FALSE)),\"\")","v":""}]
[null,null,null,null,null,null,null,66,null,{"$f":"IFERROR(IF(H73=\"\",\"\",VLOOKUP(H73,사원명부!$A$2:$B$100,2,FALSE)),\"\")","v":""}]
[null,null,null,null,null,null,null,67,null,{"$f":"IFERROR(IF(H74=\"\",\"\",VLOOKUP(H74,사원명부!$A$2:$B$100,2,FALSE)),\"\")","v":""}]
[null,null,null,null,null,null,null,68,null,{"$f":"IFERROR(IF(H75=\"\",\"\",VLOOKUP(H75,사원명부!$A$2:$B$100,2,FALSE)),\"\")","v":""}]

{"sheet":"재직증명서","index":58,"n_rows":75,"n_cols":16,"rows_kept":75,"cut":false,"hidden":false,"merged":[[19,13,19,14],[19,15,19,19],[14,13,14,14],[14,15,14,19],[15,13,15,14],[15,15,15,19],[16,13,16,14],[16,15,16,19],[17,13,17,14],[17,15,17,19],[18,13,18,14],[18,15,18,19],[9,13,9,14],[9,15,9,19],[10,13,10,14],[10,15,10,19],[11,13,11,14],[11,15,11,19],[12,13,12,14],[12,15,12,19],[13,13,13,14],[13,15,13,19],[0,0,2,5],[3,7,3,8],[3,9,3,11],[4,7,4,8],[4,9,4,11],[3,1,3,2],[3,4,3,5],[4,1,4,2],[4,4,4,5],[6,13,6,14],[6,15,6,19],[5,1,5,5],[6,1,6,5],[7,0,7,5],[7,7,7,8],[7,9,7,10],[8,0,8,5],[8,7,8,8],[8,9,8,10],[7,13,7,14],[7,15,7,19],[8,13,8,14],[8,15,8,19],[9,0,9,5],[9,7,9,8],[9,9,9,10],[10,0,10,5],[10,7,10,8],[10,9,10,10],[11,2,11,4],[11,7,11,8],[11,9,11,10],[12,0,12,5],[12,7,12,8],[12,9,12,10],[13,0,13,5],[13,7,13,8],[13,9,13,10],[14,7,14,8],[14,9,14,10],[15,7,15,8],[15,9,15,10],[16,0,16,5],[16,7,16,8],[16,9,16,10],[14,0,14,5],[15,0,15,5],[17,0,17,5],[17,7,17,8],[17,9,17,10],[18,0,18,5],[18,7,18,8],[18,9,18,10],[19,4,19,5],[19,7,19,8],[19,9,19,10],[20,7,20,8],[20,9,20,10],[21,7,21,8],[21,9,21,10],[22,7,22,8],[22,9,22,10],[23,7,23,8],[23,9,23,10],[24,7,24,8],[24,9,24,10],[25,7,25,8],[25,9,25,10],[26,7,26,8],[26,9,26,10],[27,7,27,8],[27,9,27,10],[28,7,28,8],[28,9,28,10],[29,7,29,8],[29,9,29,10],[30,7,30,8],[30,9,30,10],[31,7,31,8],[31,9,31,10],[32,7,32,8],[32,9,32,10],[33,7,33,8],[33,9,33,10],[34,7,34,8],[34,9,34,10],[35,7,35,8],[35,9,35,10],[36,7,36,8],[36,9,36,10],[37,7,37,8],[37,9,37,10],[38,7,38,8],[38,9,38,10],[39,7,39,8],[39,9,39,10],[40,7,40,8],[40,9,40,10],[41,7,41,8],[41,9,41,10],[42,7,42,8],[42,9,42,10],[43,7,43,8],[43,9,43,10],[44,7,44,8],[44,9,44,10],[45,7,45,8],[45,9,45,10],[46,7,46,8],[46,9,46,10],[47,7,47,8],[47,9,47,10],[48,7,48,8],[48,9,48,10],[49,7,49,8],[49,9,49,10],[50,7,50,8],[50,9,50,10],[51,7,51,8],[51,9,51,10],[52,7,52,8],[52,9,52,10],[53,7,53,8],[53,9,53,10],[54,7,54,8],[54,9,54,10],[55,7,55,8],[55,9,55,10],[56,7,56,8],[56,9,56,10],[57,7,57,8],[57,9,57,10],[58,7,58,8],[58,9,58,10],[59,7,59,8],[59,9,59,10],[60,7,60,8],[60,9,60,10],[61,7,61,8],[61,9,61,10],[62,7,62,8],[62,9,62,10],[63,7,63,8],[63,9,63,10],[64,7,64,8],[64,9,64,10],[65,7,65,8],[65,9,65,10],[66,7,66,8],[66,9,66,10],[67,7,67,8],[67,9,67,10],[68,7,68,8],[68,9,68,10],[69,7,69,8],[69,9,69,10],[70,7,70,8],[70,9,70,10],[71,7,71,8],[71,9,71,10],[72,7,72,8],[72,9,72,10],[73,7,73,8],[73,9,73,10],[74,7,74,8],[74,9,74,10],[75,7,75,8],[75,9,75,10],[76,7,76,8],[76,9,76,10],[77,7,77,8],[77,9,77,10],[78,7,78,8],[78,9,78,10],[79,7,79,8],[79,9,79,10],[80,7,80,8],[80,9,80,10],[81,7,81,8],[81,9,81,10],[82,7,82,8],[82,9,82,10],[83,7,83,8],[83,9,83,10],[84,7,84,8],[84,9,84,10],[85,7,85,8],[85,9,85,10],[86,7,86,8],[86,9,86,10],[87,7,87,8],[87,9,87,10],[88,7,88,8],[88,9,88,10],[89,7,89,8],[89,9,89,10],[90,7,90,8],[90,9,90,10],[91,7,91,8],[91,9,91,10],[92,7,92,8],[92,9,92,10],[93,7,93,8],[93,9,93,10],[94,7,94,8],[94,9,94,10],[95,7,95,8],[95,9,95,10],[96,7,96,8],[96,9,96,10],[97,7,97,8],[97,9,97,10],[98,7,98,8],[98,9,98,10],[99,7,99,8],[99,9,99,10],[100,7,100,8],[100,9,100,10],[101,7,101,8],[101,9,101,10],[102,7,102,8],[102,9,102,10],[103,7,103,8],[103,9,103,10],[104,7,104,8],[104,9,104,10],[105,7,105,8],[105,9,105,10],[106,7,106,8],[106,9,106,10],[107,7,107,8],[107,9,107,10],[108,7,108,8],[108,9,108,10],[109,7,109,8],[109,9,109,10],[110,7,110,8],[110,9,110,10],[111,7,111,8],[111,9,111,10],[112,7,112,8],[112,9,112,10],[113,7,113,8],[113,9,113,10],[114,7,114,8],[114,9,114,10],[115,7,115,8],[115,9,115,10],[116,7,116,8],[116,9,116,10],[117,7,117,8],[117,9,117,10],[118,7,118,8],[118,9,118,10],[119,7,119,8],[119,9,119,10],[120,7,120,8],[120,9,120,10],[121,7,121,8],[121,9,121,10],[122,7,122,8],[122,9,122,10],[123,7,123,8],[123,9,123,10],[124,7,124,8],[124,9,124,10],[125,7,125,8],[125,9,125,10],[126,7,126,8],[126,9,126,10],[127,7,127,8],[127,9,127,10],[128,7,128,8],[128,9,128,10],[129,7,129,8],[129,9,129,10],[130,7,130,8],[130,9,130,10],[131,7,131,8],[131,9,131,10],[132,7,132,8],[132,9,132,10],[133,7,133,8],[133,9,133,10],[134,7,134,8],[134,9,134,10],[135,7,135,8],[135,9,135,10],[136,7,136,8],[136,9,136,10],[137,7,137,8],[137,9,137,10],[138,7,138,8],[138,9,138,10],[139,7,139,8],[139,9,139,10],[140,7,140,8],[140,9,140,10],[141,7,141,8],[141,9,141,10],[142,7,142,8],[142,9,142,10],[143,7,143,8],[143,9,143,10],[144,7,144,8],[144,9,144,10],[145,7,145,8],[145,9,145,10],[146,7,146,8],[146,9,146,10],[147,7,147,8],[147,9,147,10],[148,7,148,8],[148,9,148,10],[149,7,149,8],[149,9,149,10],[150,7,150,8],[150,9,150,10],[151,7,151,8],[151,9,151,10],[152,7,152,8],[152,9,152,10],[153,7,153,8],[153,9,153,10],[154,7,154,8],[154,9,154,10],[155,7,155,8],[155,9,155,10],[156,7,156,8],[156,9,156,10],[157,7,157,8],[157,9,157,10],[158,7,158,8],[158,9,158,10],[159,7,159,8],[159,9,159,10],[160,7,160,8],[160,9,160,10],[161,7,161,8],[161,9,161,10],[162,7,162,8],[162,9,162,10],[163,7,163,8],[163,9,163,10],[164,7,164,8],[164,9,164,10],[165,7,165,8],[165,9,165,10],[166,7,166,8],[166,9,166,10],[167,7,167,8],[167,9,167,10],[168,7,168,8],[168,9,168,10],[169,7,169,8],[169,9,169,10],[170,7,170,8],[170,9,170,10],[171,7,171,8],[171,9,171,10],[172,7,172,8],[172,9,172,10],[173,7,173,8],[173,9,173,10],[174,7,174,8],[174,9,174,10],[175,7,175,8],[175,9,175,10],[176,7,176,8],[176,9,176,10],[177,7,177,8],[177,9,177,10],[178,7,178,8],[178,9,178,10],[179,7,179,8],[179,9,179,10],[180,7,180,8],[180,9,180,10],[181,7,181,8],[181,9,181,10],[182,7,182,8],[182,9,182,10],[183,7,183,8],[183,9,183,10],[184,7,184,8],[184,9,184,10],[185,7,185,8],[185,9,185,10],[186,7,186,8],[186,9,186,10],[187,7,187,8],[187,9,187,10],[188,7,188,8],[188,9,188,10],[189,7,189,8],[189,9,189,10],[190,7,190,8],[190,9,190,10],[191,7,191,8],[191,9,191,10],[192,7,192,8],[192,9,192,10],[193,7,193,8],[193,9,193,10],[197,7,197,8],[197,9,197,10],[194,7,194,8],[194,9,194,10],[195,7,195,8],[195,9,195,10],[196,7,196,8],[196,9,196,10]]}
["재  직  증  명  서"]
[]
[]
["성  명",{"$f":"IF(J5=\"없어요\",\"\",VLOOKUP($J$4,사원명부!$A$2:$AB$150,2))","v":"테스트2"},null,"주민등록번호",{"$f":"IF(J5=\"없어요\",\"\",VLOOKUP($J$4,사원명부!$A$2:$AB$150,4))","v":"680623-1******"},null,null,"사원번호",null,2]
["소  속",{"$f":"IFBLANK(요양기관기초정보!D1)","v":"팜오피스약국"},null,"직  위",{"$f":"IF(J5=\"없어요\",\"\",VLOOKUP($J$4,사원명부!$A$2:$AB$150,8)&\" \"&VLOOKUP($J$4,사원명부!$A$2:$AB$150,9))","v":"조제실 실장"},null,null,"이    름",null,{"$f":"IFERROR(IF($J$4=\"\",\"\",VLOOKUP(J4,사원명부!A2:B100,2,FALSE)),\"없어요\")","v":"테스트2"}]
["입사년월일",{"$f":"IF(J5=\"없어요\",\"\",VLOOKUP($J$4,사원명부!$A$2:$AB$150,11))","v":"2021-01-01"}]
["주  소",{"$f":"IF(J5=\"없어요\",\"\",VLOOKUP($J$4,사원명부!$A$2:$AB$150,7))","v":"서울시 서대문구연세로 41"},null,null,null,null,null,null,null,null,null,null,null,"용도",null,"금융기관제출용"]
[null,null,null,null,null,null,null,1,null,{"$f":"IFERROR(IF(H8=\"\",\"\",VLOOKUP(H8,사원명부!$A$2:$B$100,2,FALSE)),\"\")","v":"테스트1"},null,null,null,{"$f":"IF(P8=\"\",\"\",1)","v":1},null,"금융기관제출용"]
[null,null,null,null,null,null,null,2,null,{"$f":"IFERROR(IF(H9=\"\",\"\",VLOOKUP(H9,사원명부!$A$2:$B$100,2,FALSE)),\"\")","v":"테스트2"},null,null,null,{"$f":"IF(P9=\"\",\"\",N8+1)","v":2},null,"이직용"]
["상기인은 현재 재직하고 있음을 증명합니다. ",null,null,null,null,null,null,3,null,{"$f":"IFERROR(IF(H10=\"\",\"\",VLOOKUP(H10,사원명부!$A$2:$B$100,2,FALSE)),\"\")","v":""},null,null,null,{"$f":"IF(P10=\"\",\"\",N9+1)","v":""}]
[null,null,null,null,null,null,null,4,null,{"$f":"IFERROR(IF(H11=\"\",\"\",VLOOKUP(H11,사원명부!$A$2:$B$100,2,FALSE)),\"\")","v":""},null,null,null,""]
[null,"용도 : ",{"$f":"IF(P7=\"\",\"\",P7)","v":"금융기관제출용"},null,null,null,null,5,null,{"$f":"IFERROR(IF(H12=\"\",\"\",VLOOKUP(H12,사원명부!$A$2:$B$100,2,FALSE)),\"\")","v":""},null,null,null,""]
[null,null,null,null,null,null,null,6,null,{"$f":"IFERROR(IF(H13=\"\",\"\",VLOOKUP(H13,사원명부!$A$2:$B$100,2,FALSE)),\"\")","v":""},null,null,null,""]
[null,null,null,null,null,null,null,7,null,{"$f":"IFERROR(IF(H14=\"\",\"\",VLOOKUP(H14,사원명부!$A$2:$B$100,2,FALSE)),\"\")","v":""},null,null,null,""]
[null,null,null,null,null,null,null,8,null,{"$f":"IFERROR(IF(H15=\"\",\"\",VLOOKUP(H15,사원명부!$A$2:$B$100,2,FALSE)),\"\")","v":""},null,null,null,""]
[null,null,null,null,null,null,null,9,null,{"$f":"IFERROR(IF(H16=\"\",\"\",VLOOKUP(H16,사원명부!$A$2:$B$100,2,FALSE)),\"\")","v":""},null,null,null,""]
[null,null,null,null,null,null,null,10,null,{"$f":"IFERROR(IF(H17=\"\",\"\",VLOOKUP(H17,사원명부!$A$2:$B$100,2,FALSE)),\"\")","v":""},null,null,null,""]
[{"$f":"TODAY()","v":"2021-05-31"},null,null,null,null,null,null,11,null,{"$f":"IFERROR(IF(H18=\"\",\"\",VLOOKUP(H18,사원명부!$A$2:$B$100,2,FALSE)),\"\")","v":""},null,null,null,""]
[null,null,null,null,null,null,null,12,null,{"$f":"IFERROR(IF(H19=\"\",\"\",VLOOKUP(H19,사원명부!$A$2:$B$100,2,FALSE)),\"\")","v":""},null,null,null,""]
[null,null,null,"업체명 : ",{"$f":"IFBLANK(B5)","v":"팜오피스약국"},null,null,13,null,{"$f":"IFERROR(IF(H20=\"\",\"\",VLOOKUP(H20,사원명부!$A$2:$B$100,2,FALSE)),\"\")","v":""},null,null,null,""]
[null,null,null,"대표자 : ",{"$f":"IFBLANK(요양기관기초정보!C6)","v":"홍길동"},"(인)",null,14,null,{"$f":"IFERROR(IF(H21=\"\",\"\",VLOOKUP(H21,사원명부!$A$2:$B$100,2,FALSE)),\"\")","v":""}]
[null,null,null,null,null,null,null,15,null,{"$f":"IFERROR(IF(H22=\"\",\"\",VLOOKUP(H22,사원명부!$A$2:$B$100,2,FALSE)),\"\")","v":""}]
[null,null,null,null,null,null,null,16,null,{"$f":"IFERROR(IF(H23=\"\",\"\",VLOOKUP(H23,사원명부!$A$2:$B$100,2,FALSE)),\"\")","v":""}]
[null,null,null,null,null,null,null,17,null,{"$f":"IFERROR(IF(H24=\"\",\"\",VLOOKUP(H24,사원명부!$A$2:$B$100,2,FALSE)),\"\")","v":""}]
[null,null,null,null,null,null,null,18,null,{"$f":"IFERROR(IF(H25=\"\",\"\",VLOOKUP(H25,사원명부!$A$2:$B$100,2,FALSE)),\"\")","v":""}]
[null,null,null,null,null,null,null,19,null,{"$f":"IFERROR(IF(H26=\"\",\"\",VLOOKUP(H26,사원명부!$A$2:$B$100,2,FALSE)),\"\")","v":""}]
[null,null,null,null,null,null,null,20,null,{"$f":"IFERROR(IF(H27=\"\",\"\",VLOOKUP(H27,사원명부!$A$2:$B$100,2,FALSE)),\"\")","v":""}]
[null,null,null,null,null,null,null,21,null,{"$f":"IFERROR(IF(H28=\"\",\"\",VLOOKUP(H28,사원명부!$A$2:$B$100,2,FALSE)),\"\")","v":""}]
[null,null,null,null,null,null,null,22,null,{"$f":"IFERROR(IF(H29=\"\",\"\",VLOOKUP(H29,사원명부!$A$2:$B$100,2,FALSE)),\"\")","v":""}]
[null,null,null,null,null,null,null,23,null,{"$f":"IFERROR(IF(H30=\"\",\"\",VLOOKUP(H30,사원명부!$A$2:$B$100,2,FALSE)),\"\")","v":""}]
[null,null,null,null,null,null,null,24,null,{"$f":"IFERROR(IF(H31=\"\",\"\",VLOOKUP(H31,사원명부!$A$2:$B$100,2,FALSE)),\"\")","v":""}]
[null,null,null,null,null,null,null,25,null,{"$f":"IFERROR(IF(H32=\"\",\"\",VLOOKUP(H32,사원명부!$A$2:$B$100,2,FALSE)),\"\")","v":""}]
[null,null,null,null,null,null,null,26,null,{"$f":"IFERROR(IF(H33=\"\",\"\",VLOOKUP(H33,사원명부!$A$2:$B$100,2,FALSE)),\"\")","v":""}]
[null,null,null,null,null,null,null,27,null,{"$f":"IFERROR(IF(H34=\"\",\"\",VLOOKUP(H34,사원명부!$A$2:$B$100,2,FALSE)),\"\")","v":""}]
[null,null,null,null,null,null,null,28,null,{"$f":"IFERROR(IF(H35=\"\",\"\",VLOOKUP(H35,사원명부!$A$2:$B$100,2,FALSE)),\"\")","v":""}]
[null,null,null,null,null,null,null,29,null,{"$f":"IFERROR(IF(H36=\"\",\"\",VLOOKUP(H36,사원명부!$A$2:$B$100,2,FALSE)),\"\")","v":""}]
[null,null,null,null,null,null,null,30,null,{"$f":"IFERROR(IF(H37=\"\",\"\",VLOOKUP(H37,사원명부!$A$2:$B$100,2,FALSE)),\"\")","v":""}]
[null,null,null,null,null,null,null,31,null,{"$f":"IFERROR(IF(H38=\"\",\"\",VLOOKUP(H38,사원명부!$A$2:$B$100,2,FALSE)),\"\")","v":""}]
[null,null,null,null,null,null,null,32,null,{"$f":"IFERROR(IF(H39=\"\",\"\",VLOOKUP(H39,사원명부!$A$2:$B$100,2,FALSE)),\"\")","v":""}]
[null,null,null,null,null,null,null,33,null,{"$f":"IFERROR(IF(H40=\"\",\"\",VLOOKUP(H40,사원명부!$A$2:$B$100,2,FALSE)),\"\")","v":""}]
[null,null,null,null,null,null,null,34,null,{"$f":"IFERROR(IF(H41=\"\",\"\",VLOOKUP(H41,사원명부!$A$2:$B$100,2,FALSE)),\"\")","v":""}]
[null,null,null,null,null,null,null,35,null,{"$f":"IFERROR(IF(H42=\"\",\"\",VLOOKUP(H42,사원명부!$A$2:$B$100,2,FALSE)),\"\")","v":""}]
[null,null,null,null,null,null,null,36,null,{"$f":"IFERROR(IF(H43=\"\",\"\",VLOOKUP(H43,사원명부!$A$2:$B$100,2,FALSE)),\"\")","v":""}]
[null,null,null,null,null,null,null,37,null,{"$f":"IFERROR(IF(H44=\"\",\"\",VLOOKUP(H44,사원명부!$A$2:$B$100,2,FALSE)),\"\")","v":""}]
[null,null,null,null,null,null,null,38,null,{"$f":"IFERROR(IF(H45=\"\",\"\",VLOOKUP(H45,사원명부!$A$2:$B$100,2,FALSE)),\"\")","v":""}]
[null,null,null,null,null,null,null,39,null,{"$f":"IFERROR(IF(H46=\"\",\"\",VLOOKUP(H46,사원명부!$A$2:$B$100,2,FALSE)),\"\")","v":""}]
[null,null,null,null,null,null,null,40,null,{"$f":"IFERROR(IF(H47=\"\",\"\",VLOOKUP(H47,사원명부!$A$2:$B$100,2,FALSE)),\"\")","v":""}]
[null,null,null,null,null,null,null,41,null,{"$f":"IFERROR(IF(H48=\"\",\"\",VLOOKUP(H48,사원명부!$A$2:$B$100,2,FALSE)),\"\")","v":""}]
[null,null,null,null,null,null,null,42,null,{"$f":"IFERROR(IF(H49=\"\",\"\",VLOOKUP(H49,사원명부!$A$2:$B$100,2,FALSE)),\"\")","v":""}]
[null,null,null,null,null,null,null,43,null,{"$f":"IFERROR(IF(H50=\"\",\"\",VLOOKUP(H50,사원명부!$A$2:$B$100,2,FALSE)),\"\")","v":""}]
[null,null,null,null,null,null,null,44,null,{"$f":"IFERROR(IF(H51=\"\",\"\",VLOOKUP(H51,사원명부!$A$2:$B$100,2,FALSE)),\"\")","v":""}]
[null,null,null,null,null,null,null,45,null,{"$f":"IFERROR(IF(H52=\"\",\"\",VLOOKUP(H52,사원명부!$A$2:$B$100,2,FALSE)),\"\")","v":""}]
[null,null,null,null,null,null,null,46,null,{"$f":"IFERROR(IF(H53=\"\",\"\",VLOOKUP(H53,사원명부!$A$2:$B$100,2,FALSE)),\"\")","v":""}]
[null,null,null,null,null,null,null,47,null,{"$f":"IFERROR(IF(H54=\"\",\"\",VLOOKUP(H54,사원명부!$A$2:$B$100,2,FALSE)),\"\")","v":""}]
[null,null,null,null,null,null,null,48,null,{"$f":"IFERROR(IF(H55=\"\",\"\",VLOOKUP(H55,사원명부!$A$2:$B$100,2,FALSE)),\"\")","v":""}]
[null,null,null,null,null,null,null,49,null,{"$f":"IFERROR(IF(H56=\"\",\"\",VLOOKUP(H56,사원명부!$A$2:$B$100,2,FALSE)),\"\")","v":""}]
[null,null,null,null,null,null,null,50,null,{"$f":"IFERROR(IF(H57=\"\",\"\",VLOOKUP(H57,사원명부!$A$2:$B$100,2,FALSE)),\"\")","v":""}]
[null,null,null,null,null,null,null,51,null,{"$f":"IFERROR(IF(H58=\"\",\"\",VLOOKUP(H58,사원명부!$A$2:$B$100,2,FALSE)),\"\")","v":""}]
[null,null,null,null,null,null,null,52,null,{"$f":"IFERROR(IF(H59=\"\",\"\",VLOOKUP(H59,사원명부!$A$2:$B$100,2,FALSE)),\"\")","v":""}]
[null,null,null,null,null,null,null,53,null,{"$f":"IFERROR(IF(H60=\"\",\"\",VLOOKUP(H60,사원명부!$A$2:$B$100,2,FALSE)),\"\")","v":""}]
[null,null,null,null,null,null,null,54,null,{"$f":"IFERROR(IF(H61=\"\",\"\",VLOOKUP(H61,사원명부!$A$2:$B$100,2,FALSE)),\"\")","v":""}]
[null,null,null,null,null,null,null,55,null,{"$f":"IFERROR(IF(H62=\"\",\"\",VLOOKUP(H62,사원명부!$A$2:$B$100,2,FALSE)),\"\")","v":""}]
[null,null,null,null,null,null,null,56,null,{"$f":"IFERROR(IF(H63=\"\",\"\",VLOOKUP(H63,사원명부!$A$2:$B$100,2,FALSE)),\"\")","v":""}]
[null,null,null,null,null,null,null,57,null,{"$f":"IFERROR(IF(H64=\"\",\"\",VLOOKUP(H64,사원명부!$A$2:$B$100,2,FALSE)),\"\")","v":""}]
[null,null,null,null,null,null,null,58,null,{"$f":"IFERROR(IF(H65=\"\",\"\",VLOOKUP(H65,사원명부!$A$2:$B$100,2,FALSE)),\"\")","v":""}]
[null,null,null,null,null,null,null,59,null,{"$f":"IFERROR(IF(H66=\"\",\"\",VLOOKUP(H66,사원명부!$A$2:$B$100,2,FALSE)),\"\")","v":""}]
[null,null,null,null,null,null,null,60,null,{"$f":"IFERROR(IF(H67=\"\",\"\",VLOOKUP(H67,사원명부!$A$2:$B$100,2,FALSE)),\"\")","v":""}]
[null,null,null,null,null,null,null,61,null,{"$f":"IFERROR(IF(H68=\"\",\"\",VLOOKUP(H68,사원명부!$A$2:$B$100,2,FALSE)),\"\")","v":""}]
[null,null,null,null,null,null,null,62,null,{"$f":"IFERROR(IF(H69=\"\",\"\",VLOOKUP(H69,사원명부!$A$2:$B$100,2,FALSE)),\"\")","v":""}]
[null,null,null,null,null,null,null,63,null,{"$f":"IFERROR(IF(H70=\"\",\"\",VLOOKUP(H70,사원명부!$A$2:$B$100,2,FALSE)),\"\")","v":""}]
[null,null,null,null,null,null,null,64,null,{"$f":"IFERROR(IF(H71=\"\",\"\",VLOOKUP(H71,사원명부!$A$2:$B$100,2,FALSE)),\"\")","v":""}]
[null,null,null,null,null,null,null,65,null,{"$f":"IFERROR(IF(H72=\"\",\"\",VLOOKUP(H72,사원명부!$A$2:$B$100,2,FALSE)),\"\")","v":""}]
[null,null,null,null,null,null,null,66,null,{"$f":"IFERROR(IF(H73=\"\",\"\",VLOOKUP(H73,사원명부!$A$2:$B$100,2,FALSE)),\"\")","v":""}]
[null,null,null,null,null,null,null,67,null,{"$f":"IFERROR(IF(H74=\"\",\"\",VLOOKUP(H74,사원명부!$A$2:$B$100,2,FALSE)),\"\")","v":""}]
[null,null,null,null,null,null,null,68,null,{"$f":"IFERROR(IF(H75=\"\",\"\",VLOOKUP(H75,사원명부!$A$2:$B$100,2,FALSE)),\"\")","v":""}]

{"sheet":"위임장","index":59,"n_rows":75,"n_cols":16,"rows_kept":75,"cut":false,"hidden":false,"merged":[[19,13,19,14],[19,15,19,19],[14,13,14,14],[14,15,14,19],[15,13,15,14],[15,15,15,19],[16,13,16,14],[16,15,16,19],[17,13,17,14],[17,15,17,19],[18,13,18,14],[18,15,18,19],[9,13,9,14],[9,15,9,19],[10,13,10,14],[10,15,10,19],[11,13,11,14],[11,15,11,19],[12,13,12,14],[12,15,12,19],[13,13,13,14],[13,15,13,19],[0,0,2,5],[3,7,3,8],[3,9,3,11],[17,3,17,5],[19,3,19,4],[20,3,20,5],[18,3,18,4],[6,13,6,14],[11,7,11,8],[11,9,11,10],[12,0,12,5],[12,7,12,8],[12,9,12,10],[10,2,11,4],[8,0,8,5],[9,7,9,8],[9,9,9,10],[10,7,10,8],[10,9,10,10],[15,0,15,5],[15,7,15,8],[15,9,15,10],[16,0,16,5],[16,7,16,8],[6,15,6,19],[7,0,7,5],[7,7,7,8],[7,9,7,10],[8,7,8,8],[8,9,8,10],[4,7,4,8],[4,9,4,11],[7,13,7,14],[7,15,7,19],[8,13,8,14],[8,15,8,19],[16,9,16,10],[13,0,13,5],[13,7,13,8],[13,9,13,10],[14,0,14,5],[14,7,14,8],[14,9,14,10],[19,7,19,8],[19,9,19,10],[20,7,20,8],[20,9,20,10],[21,7,21,8],[21,9,21,10],[17,7,17,8],[17,9,17,10],[18,7,18,8],[18,9,18,10],[25,7,25,8],[25,9,25,10],[26,7,26,8],[26,9,26,10],[27,7,27,8],[27,9,27,10],[22,7,22,8],[22,9,22,10],[23,7,23,8],[23,9,23,10],[24,7,24,8],[24,9,24,10],[31,7,31,8],[31,9,31,10],[32,7,32,8],[32,9,32,10],[33,7,33,8],[33,9,33,10],[28,7,28,8],[28,9,28,10],[29,7,29,8],[29,9,29,10],[30,7,30,8],[30,9,30,10],[37,7,37,8],[37,9,37,10],[38,7,38,8],[38,9,38,10],[39,7,39,8],[39,9,39,10],[34,7,34,8],[34,9,34,10],[35,7,35,8],[35,9,35,10],[36,7,36,8],[36,9,36,10],[43,7,43,8],[43,9,43,10],[44,7,44,8],[44,9,44,10],[45,7,45,8],[45,9,45,10],[40,7,40,8],[40,9,40,10],[41,7,41,8],[41,9,41,10],[42,7,42,8],[42,9,42,10],[49,7,49,8],[49,9,49,10],[50,7,50,8],[50,9,50,10],[51,7,51,8],[51,9,51,10],[46,7,46,8],[46,9,46,10],[47,7,47,8],[47,9,47,10],[48,7,48,8],[48,9,48,10],[55,7,55,8],[55,9,55,10],[56,7,56,8],[56,9,56,10],[57,7,57,8],[57,9,57,10],[52,7,52,8],[52,9,52,10],[53,7,53,8],[53,9,53,10],[54,7,54,8],[54,9,54,10],[61,7,61,8],[61,9,61,10],[62,7,62,8],[62,9,62,10],[63,7,63,8],[63,9,63,10],[58,7,58,8],[58,9,58,10],[59,7,59,8],[59,9,59,10],[60,7,60,8],[60,9,60,10],[67,7,67,8],[67,9,67,10],[68,7,68,8],[68,9,68,10],[69,7,69,8],[69,9,69,10],[64,7,64,8],[64,9,64,10],[65,7,65,8],[65,9,65,10],[66,7,66,8],[66,9,66,10],[73,7,73,8],[73,9,73,10],[74,7,74,8],[74,9,74,10],[75,7,75,8],[75,9,75,10],[70,7,70,8],[70,9,70,10],[71,7,71,8],[71,9,71,10],[72,7,72,8],[72,9,72,10],[79,7,79,8],[79,9,79,10],[80,7,80,8],[80,9,80,10],[81,7,81,8],[81,9,81,10],[76,7,76,8],[76,9,76,10],[77,7,77,8],[77,9,77,10],[78,7,78,8],[78,9,78,10],[85,7,85,8],[85,9,85,10],[86,7,86,8],[86,9,86,10],[87,7,87,8],[87,9,87,10],[82,7,82,8],[82,9,82,10],[83,7,83,8],[83,9,83,10],[84,7,84,8],[84,9,84,10],[91,7,91,8],[91,9,91,10],[92,7,92,8],[92,9,92,10],[93,7,93,8],[93,9,93,10],[88,7,88,8],[88,9,88,10],[89,7,89,8],[89,9,89,10],[90,7,90,8],[90,9,90,10],[97,7,97,8],[97,9,97,10],[98,7,98,8],[98,9,98,10],[99,7,99,8],[99,9,99,10],[94,7,94,8],[94,9,94,10],[95,7,95,8],[95,9,95,10],[96,7,96,8],[96,9,96,10],[103,7,103,8],[103,9,103,10],[104,7,104,8],[104,9,104,10],[105,7,105,8],[105,9,105,10],[100,7,100,8],[100,9,100,10],[101,7,101,8],[101,9,101,10],[102,7,102,8],[102,9,102,10],[109,7,109,8],[109,9,109,10],[110,7,110,8],[110,9,110,10],[111,7,111,8],[111,9,111,10],[106,7,106,8],[106,9,106,10],[107,7,107,8],[107,9,107,10],[108,7,108,8],[108,9,108,10],[115,7,115,8],[115,9,115,10],[116,7,116,8],[116,9,116,10],[117,7,117,8],[117,9,117,10],[112,7,112,8],[112,9,112,10],[113,7,113,8],[113,9,113,10],[114,7,114,8],[114,9,114,10],[121,7,121,8],[121,9,121,10],[122,7,122,8],[122,9,122,10],[123,7,123,8],[123,9,123,10],[118,7,118,8],[118,9,118,10],[119,7,119,8],[119,9,119,10],[120,7,120,8],[120,9,120,10],[127,7,127,8],[127,9,127,10],[128,7,128,8],[128,9,128,10],[129,7,129,8],[129,9,129,10],[124,7,124,8],[124,9,124,10],[125,7,125,8],[125,9,125,10],[126,7,126,8],[126,9,126,10],[133,7,133,8],[133,9,133,10],[134,7,134,8],[134,9,134,10],[135,7,135,8],[135,9,135,10],[130,7,130,8],[130,9,130,10],[131,7,131,8],[131,9,131,10],[132,7,132,8],[132,9,132,10],[139,7,139,8],[139,9,139,10],[140,7,140,8],[140,9,140,10],[141,7,141,8],[141,9,141,10],[136,7,136,8],[136,9,136,10],[137,7,137,8],[137,9,137,10],[138,7,138,8],[138,9,138,10],[145,7,145,8],[145,9,145,10],[146,7,146,8],[146,9,146,10],[147,7,147,8],[147,9,147,10],[142,7,142,8],[142,9,142,10],[143,7,143,8],[143,9,143,10],[144,7,144,8],[144,9,144,10],[151,7,151,8],[151,9,151,10],[152,7,152,8],[152,9,152,10],[153,7,153,8],[153,9,153,10],[148,7,148,8],[148,9,148,10],[149,7,149,8],[149,9,149,10],[150,7,150,8],[150,9,150,10],[157,7,157,8],[157,9,157,10],[158,7,158,8],[158,9,158,10],[159,7,159,8],[159,9,159,10],[154,7,154,8],[154,9,154,10],[155,7,155,8],[155,9,155,10],[156,7,156,8],[156,9,156,10],[163,7,163,8],[163,9,163,10],[164,7,164,8],[164,9,164,10],[165,7,165,8],[165,9,165,10],[160,7,160,8],[160,9,160,10],[161,7,161,8],[161,9,161,10],[162,7,162,8],[162,9,162,10],[169,7,169,8],[169,9,169,10],[170,7,170,8],[170,9,170,10],[171,7,171,8],[171,9,171,10],[166,7,166,8],[166,9,166,10],[167,7,167,8],[167,9,167,10],[168,7,168,8],[168,9,168,10],[175,7,175,8],[175,9,175,10],[176,7,176,8],[176,9,176,10],[177,7,177,8],[177,9,177,10],[172,7,172,8],[172,9,172,10],[173,7,173,8],[173,9,173,10],[174,7,174,8],[174,9,174,10],[181,7,181,8],[181,9,181,10],[182,7,182,8],[182,9,182,10],[183,7,183,8],[183,9,183,10],[178,7,178,8],[178,9,178,10],[179,7,179,8],[179,9,179,10],[180,7,180,8],[180,9,180,10],[188,7,188,8],[188,9,188,10],[189,7,189,8],[189,9,189,10],[184,7,184,8],[184,9,184,10],[185,7,185,8],[185,9,185,10],[186,7,186,8],[186,9,186,10],[196,7,196,8],[196,9,196,10],[197,7,197,8],[197,9,197,10],[3,0,5,0],[3,2,3,5],[5,2,5,5],[4,2,4,5],[6,0,6,5],[10,1,11,1],[193,7,193,8],[193,9,193,10],[194,7,194,8],[194,9,194,10],[195,7,195,8],[195,9,195,10],[190,7,190,8],[190,9,190,10],[191,7,191,8],[191,9,191,10],[192,7,192,8],[192,9,192,10],[187,7,187,8],[187,9,187,10]]}
["위 임 장"]
[]
[]
["대리인            (위임받은자)","이            름",{"$f":"IF(J5=\"없어요\",\"\",VLOOKUP($J$4,사원명부!$A$2:$AB$150,2))","v":"테스트2"},null,null,null,null,"사원번호",null,2]
[null,"주민등록번호",{"$f":"IF(J5=\"없어요\",\"\",VLOOKUP($J$4,사원명부!$A$2:$AB$150,4))","v":"680623-1******"},null,null,null,null,"이    름",null,{"$f":"IFERROR(IF($J$4=\"\",\"\",VLOOKUP(J4,사원명부!A2:B100,2,FALSE)),\"없어요\")","v":"테스트2"}]
[null,"주            소",{"$f":"IF(J5=\"없어요\",\"\",VLOOKUP($J$4,사원명부!$A$2:$AB$150,7))","v":"서울시 서대문구연세로 41"}]
[null,null,null,null,null,null,null,null,null,null,null,null,null,"위임내용",null,"인감증명서발급"]
[null,null,null,null,null,null,null,1,null,{"$f":"IFERROR(IF(H8=\"\",\"\",VLOOKUP(H8,사원명부!$A$2:$B$100,2,FALSE)),\"\")","v":"테스트1"},null,null,null,{"$f":"IF(P8=\"\",\"\",1)","v":1},null,"인감증명서발급"]
["상기 대리인에게 아래업무에 대한 일체의 모든 권한을 위임합니다. ",null,null,null,null,null,null,2,null,{"$f":"IFERROR(IF(H9=\"\",\"\",VLOOKUP(H9,사원명부!$A$2:$B$100,2,FALSE)),\"\")","v":"테스트2"},null,null,null,{"$f":"IF(P9=\"\",\"\",N8+1)","v":""}]
[null,null,null,null,null,null,null,3,null,{"$f":"IFERROR(IF(H10=\"\",\"\",VLOOKUP(H10,사원명부!$A$2:$B$100,2,FALSE)),\"\")","v":""},null,null,null,{"$f":"IF(P10=\"\",\"\",N9+1)","v":""}]
[null,"위임내용 : ",{"$f":"IFBLANK(P7)","v":"인감증명서발급"},null,null,null,null,4,null,{"$f":"IFERROR(IF(H11=\"\",\"\",VLOOKUP(H11,사원명부!$A$2:$B$100,2,FALSE)),\"\")","v":""},null,null,null,""]
[null,null,null,null,null,null,null,5,null,{"$f":"IFERROR(IF(H12=\"\",\"\",VLOOKUP(H12,사원명부!$A$2:$B$100,2,FALSE)),\"\")","v":""},null,null,null,""]
[null,null,null,null,null,null,null,6,null,{"$f":"IFERROR(IF(H13=\"\",\"\",VLOOKUP(H13,사원명부!$A$2:$B$100,2,FALSE)),\"\")","v":""},null,null,null,""]
[{"$f":"TODAY()","v":"2021-05-31"},null,null,null,null,null,null,7,null,{"$f":"IFERROR(IF(H14=\"\",\"\",VLOOKUP(H14,사원명부!$A$2:$B$100,2,FALSE)),\"\")","v":""},null,null,null,""]
[null,null,null,null,null,null,null,8,null,{"$f":"IFERROR(IF(H15=\"\",\"\",VLOOKUP(H15,사원명부!$A$2:$B$100,2,FALSE)),\"\")","v":""},null,null,null,""]
[null,null,null,null,null,null,null,9,null,{"$f":"IFERROR(IF(H16=\"\",\"\",VLOOKUP(H16,사원명부!$A$2:$B$100,2,FALSE)),\"\")","v":""},null,null,null,""]
[null,null,null,null,null,null,null,10,null,{"$f":"IFERROR(IF(H17=\"\",\"\",VLOOKUP(H17,사원명부!$A$2:$B$100,2,FALSE)),\"\")","v":""},null,null,null,""]
[null,null,"업체명 : ",{"$f":"IFBLANK(요양기관기초정보!D1)","v":"팜오피스약국"},null,null,null,11,null,{"$f":"IFERROR(IF(H18=\"\",\"\",VLOOKUP(H18,사원명부!$A$2:$B$100,2,FALSE)),\"\")","v":""},null,null,null,""]
[null,null,"대표자 : ",{"$f":"IFBLANK(요양기관기초정보!C6)&\"(\"&IFBLANK(요양기관기초정보!C7)&\")\"","v":"홍길동(680623-1234567)"},null,"서명 또는 인",null,12,null,{"$f":"IFERROR(IF(H19=\"\",\"\",VLOOKUP(H19,사원명부!$A$2:$B$100,2,FALSE)),\"\")","v":""},null,null,null,""]
[null,null,"연락처 : ",{"$f":"IFBLANK(요양기관기초정보!C10)","v":"010-1234-5678"},null,null,null,13,null,{"$f":"IFERROR(IF(H20=\"\",\"\",VLOOKUP(H20,사원명부!$A$2:$B$100,2,FALSE)),\"\")","v":""},null,null,null,""]
[null,null,"주   소 : ",{"$f":"IFBLANK(요양기관기초정보!C11)","v":"서울 서대문구 연세로 41 (창천동 78-14)"},null,null,null,14,null,{"$f":"IFERROR(IF(H21=\"\",\"\",VLOOKUP(H21,사원명부!$A$2:$B$100,2,FALSE)),\"\")","v":""}]
[null,null,null,null,null,null,null,15,null,{"$f":"IFERROR(IF(H22=\"\",\"\",VLOOKUP(H22,사원명부!$A$2:$B$100,2,FALSE)),\"\")","v":""}]
[null,null,null,null,null,null,null,16,null,{"$f":"IFERROR(IF(H23=\"\",\"\",VLOOKUP(H23,사원명부!$A$2:$B$100,2,FALSE)),\"\")","v":""}]
[null,null,null,null,null,null,null,17,null,{"$f":"IFERROR(IF(H24=\"\",\"\",VLOOKUP(H24,사원명부!$A$2:$B$100,2,FALSE)),\"\")","v":""}]
[null,null,null,null,null,null,null,18,null,{"$f":"IFERROR(IF(H25=\"\",\"\",VLOOKUP(H25,사원명부!$A$2:$B$100,2,FALSE)),\"\")","v":""}]
[null,null,null,null,null,null,null,19,null,{"$f":"IFERROR(IF(H26=\"\",\"\",VLOOKUP(H26,사원명부!$A$2:$B$100,2,FALSE)),\"\")","v":""}]
[null,null,null,null,null,null,null,20,null,{"$f":"IFERROR(IF(H27=\"\",\"\",VLOOKUP(H27,사원명부!$A$2:$B$100,2,FALSE)),\"\")","v":""}]
[null,null,null,null,null,null,null,21,null,{"$f":"IFERROR(IF(H28=\"\",\"\",VLOOKUP(H28,사원명부!$A$2:$B$100,2,FALSE)),\"\")","v":""}]
[null,null,null,null,null,null,null,22,null,{"$f":"IFERROR(IF(H29=\"\",\"\",VLOOKUP(H29,사원명부!$A$2:$B$100,2,FALSE)),\"\")","v":""}]
[null,null,null,null,null,null,null,23,null,{"$f":"IFERROR(IF(H30=\"\",\"\",VLOOKUP(H30,사원명부!$A$2:$B$100,2,FALSE)),\"\")","v":""}]
[null,null,null,null,null,null,null,24,null,{"$f":"IFERROR(IF(H31=\"\",\"\",VLOOKUP(H31,사원명부!$A$2:$B$100,2,FALSE)),\"\")","v":""}]
[null,null,null,null,null,null,null,25,null,{"$f":"IFERROR(IF(H32=\"\",\"\",VLOOKUP(H32,사원명부!$A$2:$B$100,2,FALSE)),\"\")","v":""}]
[null,null,null,null,null,null,null,26,null,{"$f":"IFERROR(IF(H33=\"\",\"\",VLOOKUP(H33,사원명부!$A$2:$B$100,2,FALSE)),\"\")","v":""}]
[null,null,null,null,null,null,null,27,null,{"$f":"IFERROR(IF(H34=\"\",\"\",VLOOKUP(H34,사원명부!$A$2:$B$100,2,FALSE)),\"\")","v":""}]
[null,null,null,null,null,null,null,28,null,{"$f":"IFERROR(IF(H35=\"\",\"\",VLOOKUP(H35,사원명부!$A$2:$B$100,2,FALSE)),\"\")","v":""}]
[null,null,null,null,null,null,null,29,null,{"$f":"IFERROR(IF(H36=\"\",\"\",VLOOKUP(H36,사원명부!$A$2:$B$100,2,FALSE)),\"\")","v":""}]
[null,null,null,null,null,null,null,30,null,{"$f":"IFERROR(IF(H37=\"\",\"\",VLOOKUP(H37,사원명부!$A$2:$B$100,2,FALSE)),\"\")","v":""}]
[null,null,null,null,null,null,null,31,null,{"$f":"IFERROR(IF(H38=\"\",\"\",VLOOKUP(H38,사원명부!$A$2:$B$100,2,FALSE)),\"\")","v":""}]
[null,null,null,null,null,null,null,32,null,{"$f":"IFERROR(IF(H39=\"\",\"\",VLOOKUP(H39,사원명부!$A$2:$B$100,2,FALSE)),\"\")","v":""}]
[null,null,null,null,null,null,null,33,null,{"$f":"IFERROR(IF(H40=\"\",\"\",VLOOKUP(H40,사원명부!$A$2:$B$100,2,FALSE)),\"\")","v":""}]
[null,null,null,null,null,null,null,34,null,{"$f":"IFERROR(IF(H41=\"\",\"\",VLOOKUP(H41,사원명부!$A$2:$B$100,2,FALSE)),\"\")","v":""}]
[null,null,null,null,null,null,null,35,null,{"$f":"IFERROR(IF(H42=\"\",\"\",VLOOKUP(H42,사원명부!$A$2:$B$100,2,FALSE)),\"\")","v":""}]
[null,null,null,null,null,null,null,36,null,{"$f":"IFERROR(IF(H43=\"\",\"\",VLOOKUP(H43,사원명부!$A$2:$B$100,2,FALSE)),\"\")","v":""}]
[null,null,null,null,null,null,null,37,null,{"$f":"IFERROR(IF(H44=\"\",\"\",VLOOKUP(H44,사원명부!$A$2:$B$100,2,FALSE)),\"\")","v":""}]
[null,null,null,null,null,null,null,38,null,{"$f":"IFERROR(IF(H45=\"\",\"\",VLOOKUP(H45,사원명부!$A$2:$B$100,2,FALSE)),\"\")","v":""}]
[null,null,null,null,null,null,null,39,null,{"$f":"IFERROR(IF(H46=\"\",\"\",VLOOKUP(H46,사원명부!$A$2:$B$100,2,FALSE)),\"\")","v":""}]
[null,null,null,null,null,null,null,40,null,{"$f":"IFERROR(IF(H47=\"\",\"\",VLOOKUP(H47,사원명부!$A$2:$B$100,2,FALSE)),\"\")","v":""}]
[null,null,null,null,null,null,null,41,null,{"$f":"IFERROR(IF(H48=\"\",\"\",VLOOKUP(H48,사원명부!$A$2:$B$100,2,FALSE)),\"\")","v":""}]
[null,null,null,null,null,null,null,42,null,{"$f":"IFERROR(IF(H49=\"\",\"\",VLOOKUP(H49,사원명부!$A$2:$B$100,2,FALSE)),\"\")","v":""}]
[null,null,null,null,null,null,null,43,null,{"$f":"IFERROR(IF(H50=\"\",\"\",VLOOKUP(H50,사원명부!$A$2:$B$100,2,FALSE)),\"\")","v":""}]
[null,null,null,null,null,null,null,44,null,{"$f":"IFERROR(IF(H51=\"\",\"\",VLOOKUP(H51,사원명부!$A$2:$B$100,2,FALSE)),\"\")","v":""}]
[null,null,null,null,null,null,null,45,null,{"$f":"IFERROR(IF(H52=\"\",\"\",VLOOKUP(H52,사원명부!$A$2:$B$100,2,FALSE)),\"\")","v":""}]
[null,null,null,null,null,null,null,46,null,{"$f":"IFERROR(IF(H53=\"\",\"\",VLOOKUP(H53,사원명부!$A$2:$B$100,2,FALSE)),\"\")","v":""}]
[null,null,null,null,null,null,null,47,null,{"$f":"IFERROR(IF(H54=\"\",\"\",VLOOKUP(H54,사원명부!$A$2:$B$100,2,FALSE)),\"\")","v":""}]
[null,null,null,null,null,null,null,48,null,{"$f":"IFERROR(IF(H55=\"\",\"\",VLOOKUP(H55,사원명부!$A$2:$B$100,2,FALSE)),\"\")","v":""}]
[null,null,null,null,null,null,null,49,null,{"$f":"IFERROR(IF(H56=\"\",\"\",VLOOKUP(H56,사원명부!$A$2:$B$100,2,FALSE)),\"\")","v":""}]
[null,null,null,null,null,null,null,50,null,{"$f":"IFERROR(IF(H57=\"\",\"\",VLOOKUP(H57,사원명부!$A$2:$B$100,2,FALSE)),\"\")","v":""}]
[null,null,null,null,null,null,null,51,null,{"$f":"IFERROR(IF(H58=\"\",\"\",VLOOKUP(H58,사원명부!$A$2:$B$100,2,FALSE)),\"\")","v":""}]
[null,null,null,null,null,null,null,52,null,{"$f":"IFERROR(IF(H59=\"\",\"\",VLOOKUP(H59,사원명부!$A$2:$B$100,2,FALSE)),\"\")","v":""}]
[null,null,null,null,null,null,null,53,null,{"$f":"IFERROR(IF(H60=\"\",\"\",VLOOKUP(H60,사원명부!$A$2:$B$100,2,FALSE)),\"\")","v":""}]
[null,null,null,null,null,null,null,54,null,{"$f":"IFERROR(IF(H61=\"\",\"\",VLOOKUP(H61,사원명부!$A$2:$B$100,2,FALSE)),\"\")","v":""}]
[null,null,null,null,null,null,null,55,null,{"$f":"IFERROR(IF(H62=\"\",\"\",VLOOKUP(H62,사원명부!$A$2:$B$100,2,FALSE)),\"\")","v":""}]
[null,null,null,null,null,null,null,56,null,{"$f":"IFERROR(IF(H63=\"\",\"\",VLOOKUP(H63,사원명부!$A$2:$B$100,2,FALSE)),\"\")","v":""}]
[null,null,null,null,null,null,null,57,null,{"$f":"IFERROR(IF(H64=\"\",\"\",VLOOKUP(H64,사원명부!$A$2:$B$100,2,FALSE)),\"\")","v":""}]
[null,null,null,null,null,null,null,58,null,{"$f":"IFERROR(IF(H65=\"\",\"\",VLOOKUP(H65,사원명부!$A$2:$B$100,2,FALSE)),\"\")","v":""}]
[null,null,null,null,null,null,null,59,null,{"$f":"IFERROR(IF(H66=\"\",\"\",VLOOKUP(H66,사원명부!$A$2:$B$100,2,FALSE)),\"\")","v":""}]
[null,null,null,null,null,null,null,60,null,{"$f":"IFERROR(IF(H67=\"\",\"\",VLOOKUP(H67,사원명부!$A$2:$B$100,2,FALSE)),\"\")","v":""}]
[null,null,null,null,null,null,null,61,null,{"$f":"IFERROR(IF(H68=\"\",\"\",VLOOKUP(H68,사원명부!$A$2:$B$100,2,FALSE)),\"\")","v":""}]
[null,null,null,null,null,null,null,62,null,{"$f":"IFERROR(IF(H69=\"\",\"\",VLOOKUP(H69,사원명부!$A$2:$B$100,2,FALSE)),\"\")","v":""}]
[null,null,null,null,null,null,null,63,null,{"$f":"IFERROR(IF(H70=\"\",\"\",VLOOKUP(H70,사원명부!$A$2:$B$100,2,FALSE)),\"\")","v":""}]
[null,null,null,null,null,null,null,64,null,{"$f":"IFERROR(IF(H71=\"\",\"\",VLOOKUP(H71,사원명부!$A$2:$B$100,2,FALSE)),\"\")","v":""}]
[null,null,null,null,null,null,null,65,null,{"$f":"IFERROR(IF(H72=\"\",\"\",VLOOKUP(H72,사원명부!$A$2:$B$100,2,FALSE)),\"\")","v":""}]
[null,null,null,null,null,null,null,66,null,{"$f":"IFERROR(IF(H73=\"\",\"\",VLOOKUP(H73,사원명부!$A$2:$B$100,2,FALSE)),\"\")","v":""}]
[null,null,null,null,null,null,null,67,null,{"$f":"IFERROR(IF(H74=\"\",\"\",VLOOKUP(H74,사원명부!$A$2:$B$100,2,FALSE)),\"\")","v":""}]
[null,null,null,null,null,null,null,68,null,{"$f":"IFERROR(IF(H75=\"\",\"\",VLOOKUP(H75,사원명부!$A$2:$B$100,2,FALSE)),\"\")","v":""}]

{"sheet":"사직서","index":60,"n_rows":75,"n_cols":16,"rows_kept":75,"cut":false,"hidden":false,"merged":[[16,13,16,14],[16,15,16,19],[17,13,17,14],[17,15,17,19],[18,13,18,14],[18,15,18,19],[19,13,19,14],[19,15,19,19],[11,13,11,14],[11,15,11,19],[12,13,12,14],[12,15,12,19],[13,13,13,14],[13,15,13,19],[14,13,14,14],[14,15,14,19],[15,13,15,14],[15,15,15,19],[6,13,6,14],[6,15,6,19],[7,13,7,14],[7,15,7,19],[8,13,8,14],[8,15,8,19],[9,13,9,14],[9,15,9,19],[10,13,10,14],[10,15,10,19],[7,0,8,0],[7,1,8,5],[10,0,10,5],[7,7,7,8],[7,9,7,10],[18,7,18,8],[18,9,18,10],[0,0,2,5],[3,7,3,8],[3,9,3,11],[4,7,4,8],[4,9,4,11],[10,7,10,8],[10,9,10,10],[5,1,5,2],[5,4,5,5],[8,7,8,8],[8,9,8,10],[9,0,9,5],[9,7,9,8],[9,9,9,10],[19,7,19,8],[19,9,19,10],[17,7,17,8],[17,9,17,10],[17,3,17,4],[14,7,14,8],[14,9,14,10],[15,7,15,8],[15,9,15,10],[11,0,14,5],[12,7,12,8],[12,9,12,10],[13,7,13,8],[13,9,13,10],[11,7,11,8],[11,9,11,10],[16,7,16,8],[16,9,16,10],[23,7,23,8],[23,9,23,10],[24,7,24,8],[24,9,24,10],[25,7,25,8],[25,9,25,10],[20,7,20,8],[20,9,20,10],[21,7,21,8],[21,9,21,10],[22,7,22,8],[22,9,22,10],[29,7,29,8],[29,9,29,10],[30,7,30,8],[30,9,30,10],[31,7,31,8],[31,9,31,10],[26,7,26,8],[26,9,26,10],[27,7,27,8],[27,9,27,10],[28,7,28,8],[28,9,28,10],[35,7,35,8],[35,9,35,10],[36,7,36,8],[36,9,36,10],[37,7,37,8],[37,9,37,10],[32,7,32,8],[32,9,32,10],[33,7,33,8],[33,9,33,10],[34,7,34,8],[34,9,34,10],[41,7,41,8],[41,9,41,10],[42,7,42,8],[42,9,42,10],[43,7,43,8],[43,9,43,10],[38,7,38,8],[38,9,38,10],[39,7,39,8],[39,9,39,10],[40,7,40,8],[40,9,40,10],[47,7,47,8],[47,9,47,10],[48,7,48,8],[48,9,48,10],[49,7,49,8],[49,9,49,10],[44,7,44,8],[44,9,44,10],[45,7,45,8],[45,9,45,10],[46,7,46,8],[46,9,46,10],[53,7,53,8],[53,9,53,10],[54,7,54,8],[54,9,54,10],[55,7,55,8],[55,9,55,10],[50,7,50,8],[50,9,50,10],[51,7,51,8],[51,9,51,10],[52,7,52,8],[52,9,52,10],[59,7,59,8],[59,9,59,10],[60,7,60,8],[60,9,60,10],[61,7,61,8],[61,9,61,10],[56,7,56,8],[56,9,56,10],[57,7,57,8],[57,9,57,10],[58,7,58,8],[58,9,58,10],[65,7,65,8],[65,9,65,10],[66,7,66,8],[66,9,66,10],[67,7,67,8],[67,9,67,10],[62,7,62,8],[62,9,62,10],[63,7,63,8],[63,9,63,10],[64,7,64,8],[64,9,64,10],[71,7,71,8],[71,9,71,10],[72,7,72,8],[72,9,72,10],[73,7,73,8],[73,9,73,10],[68,7,68,8],[68,9,68,10],[69,7,69,8],[69,9,69,10],[70,7,70,8],[70,9,70,10],[77,7,77,8],[77,9,77,10],[78,7,78,8],[78,9,78,10],[79,7,79,8],[79,9,79,10],[74,7,74,8],[74,9,74,10],[75,7,75,8],[75,9,75,10],[76,7,76,8],[76,9,76,10],[83,7,83,8],[83,9,83,10],[84,7,84,8],[84,9,84,10],[85,7,85,8],[85,9,85,10],[80,7,80,8],[80,9,80,10],[81,7,81,8],[81,9,81,10],[82,7,82,8],[82,9,82,10],[89,7,89,8],[89,9,89,10],[90,7,90,8],[90,9,90,10],[91,7,91,8],[91,9,91,10],[86,7,86,8],[86,9,86,10],[87,7,87,8],[87,9,87,10],[88,7,88,8],[88,9,88,10],[95,7,95,8],[95,9,95,10],[96,7,96,8],[96,9,96,10],[97,7,97,8],[97,9,97,10],[92,7,92,8],[92,9,92,10],[93,7,93,8],[93,9,93,10],[94,7,94,8],[94,9,94,10],[101,7,101,8],[101,9,101,10],[102,7,102,8],[102,9,102,10],[103,7,103,8],[103,9,103,10],[98,7,98,8],[98,9,98,10],[99,7,99,8],[99,9,99,10],[100,7,100,8],[100,9,100,10],[107,7,107,8],[107,9,107,10],[108,7,108,8],[108,9,108,10],[109,7,109,8],[109,9,109,10],[104,7,104,8],[104,9,104,10],[105,7,105,8],[105,9,105,10],[106,7,106,8],[106,9,106,10],[113,7,113,8],[113,9,113,10],[114,7,114,8],[114,9,114,10],[115,7,115,8],[115,9,115,10],[110,7,110,8],[110,9,110,10],[111,7,111,8],[111,9,111,10],[112,7,112,8],[112,9,112,10],[119,7,119,8],[119,9,119,10],[120,7,120,8],[120,9,120,10],[121,7,121,8],[121,9,121,10],[116,7,116,8],[116,9,116,10],[117,7,117,8],[117,9,117,10],[118,7,118,8],[118,9,118,10],[125,7,125,8],[125,9,125,10],[126,7,126,8],[126,9,126,10],[127,7,127,8],[127,9,127,10],[122,7,122,8],[122,9,122,10],[123,7,123,8],[123,9,123,10],[124,7,124,8],[124,9,124,10],[131,7,131,8],[131,9,131,10],[132,7,132,8],[132,9,132,10],[133,7,133,8],[133,9,133,10],[128,7,128,8],[128,9,128,10],[129,7,129,8],[129,9,129,10],[130,7,130,8],[130,9,130,10],[137,7,137,8],[137,9,137,10],[138,7,138,8],[138,9,138,10],[139,7,139,8],[139,9,139,10],[134,7,134,8],[134,9,134,10],[135,7,135,8],[135,9,135,10],[136,7,136,8],[136,9,136,10],[143,7,143,8],[143,9,143,10],[144,7,144,8],[144,9,144,10],[145,7,145,8],[145,9,145,10],[140,7,140,8],[140,9,140,10],[141,7,141,8],[141,9,141,10],[142,7,142,8],[142,9,142,10],[149,7,149,8],[149,9,149,10],[150,7,150,8],[150,9,150,10],[151,7,151,8],[151,9,151,10],[146,7,146,8],[146,9,146,10],[147,7,147,8],[147,9,147,10],[148,7,148,8],[148,9,148,10],[155,7,155,8],[155,9,155,10],[156,7,156,8],[156,9,156,10],[157,7,157,8],[157,9,157,10],[152,7,152,8],[152,9,152,10],[153,7,153,8],[153,9,153,10],[154,7,154,8],[154,9,154,10],[161,7,161,8],[161,9,161,10],[162,7,162,8],[162,9,162,10],[163,7,163,8],[163,9,163,10],[158,7,158,8],[158,9,158,10],[159,7,159,8],[159,9,159,10],[160,7,160,8],[160,9,160,10],[167,7,167,8],[167,9,167,10],[168,7,168,8],[168,9,168,10],[169,7,169,8],[169,9,169,10],[164,7,164,8],[164,9,164,10],[165,7,165,8],[165,9,165,10],[166,7,166,8],[166,9,166,10],[173,7,173,8],[173,9,173,10],[174,7,174,8],[174,9,174,10],[175,7,175,8],[175,9,175,10],[170,7,170,8],[170,9,170,10],[171,7,171,8],[171,9,171,10],[172,7,172,8],[172,9,172,10],[179,7,179,8],[179,9,179,10],[180,7,180,8],[180,9,180,10],[181,7,181,8],[181,9,181,10],[176,7,176,8],[176,9,176,10],[177,7,177,8],[177,9,177,10],[178,7,178,8],[178,9,178,10],[190,9,190,10],[185,7,185,8],[185,9,185,10],[186,7,186,8],[186,9,186,10],[187,7,187,8],[187,9,187,10],[182,7,182,8],[182,9,182,10],[183,7,183,8],[183,9,183,10],[184,7,184,8],[184,9,184,10],[197,7,197,8],[197,9,197,10],[3,1,3,2],[3,4,3,5],[4,1,4,2],[4,4,4,5],[6,1,6,5],[194,7,194,8],[194,9,194,10],[195,7,195,8],[195,9,195,10],[196,7,196,8],[196,9,196,10],[191,7,191,8],[191,9,191,10],[192,7,192,8],[192,9,192,10],[193,7,193,8],[193,9,193,10],[188,7,188,8],[188,9,188,10],[189,7,189,8],[189,9,189,10],[190,7,190,8]]}
["사직서"]
[]
[]
["성  명",{"$f":"IF(J5=\"없어요\",\"\",VLOOKUP($J$4,사원명부!$A$2:$AB$150,2))","v":"테스트2"},null,"주민등록번호",{"$f":"IF(J5=\"없어요\",\"\",VLOOKUP($J$4,사원명부!$A$2:$AB$150,4))","v":"680623-1******"},null,null,"사원번호",null,2]
["소  속",{"$f":"IFBLANK(요양기관기초정보!D1)","v":"팜오피스약국"},null,"직  위",{"$f":"IF(J5=\"없어요\",\"\",VLOOKUP($J$4,사원명부!$A$2:$AB$150,8)&\" \"&VLOOKUP($J$4,사원명부!$A$2:$AB$150,9))","v":"조제실 실장"},null,null,"이    름",null,{"$f":"IFERROR(IF($J$4=\"\",\"\",VLOOKUP(J4,사원명부!A2:B100,2,FALSE)),\"없어요\")","v":"테스트2"}]
["연락처",{"$f":"IF(J5=\"없어요\",\"\",VLOOKUP($J$4,사원명부!$A$2:$AB$150,6))","v":"010-2345-6789"},null,"입사년월일",{"$f":"IF(M5=\"없어요\",\"\",VLOOKUP($J$4,사원명부!$A$2:$AB$150,11))","v":"2021-01-01"}]
["주소",{"$f":"IF(J5=\"없어요\",\"\",VLOOKUP($J$4,사원명부!$A$2:$AB$150,7))","v":"서울시 서대문구연세로 41"},null,null,null,null,null,null,null,null,null,null,null,"사직사유",null,"이사"]
["사유",{"$f":"IFBLANK(P7)","v":"이사"},null,null,null,null,null,1,null,{"$f":"IFERROR(IF(H8=\"\",\"\",VLOOKUP(H8,사원명부!$A$2:$B$100,2,FALSE)),\"\")","v":"테스트1"},null,null,null,{"$f":"IF(P8=\"\",\"\",1)","v":1},null,"이직"]
[null,null,null,null,null,null,null,2,null,{"$f":"IFERROR(IF(H9=\"\",\"\",VLOOKUP(H9,사원명부!$A$2:$B$100,2,FALSE)),\"\")","v":"테스트2"},null,null,null,{"$f":"IF(P9=\"\",\"\",N8+1)","v":2},null,"질병 요양"]
[null,null,null,null,null,null,null,3,null,{"$f":"IFERROR(IF(H10=\"\",\"\",VLOOKUP(H10,사원명부!$A$2:$B$100,2,FALSE)),\"\")","v":""},null,null,null,{"$f":"IF(P10=\"\",\"\",N9+1)","v":3},null,"이사"]
["* 서약 및 확인사항",null,null,null,null,null,null,4,null,{"$f":"IFERROR(IF(H11=\"\",\"\",VLOOKUP(H11,사원명부!$A$2:$B$100,2,FALSE)),\"\")","v":""},null,null,null,""]
["   ①본인은 퇴직에 따른 사무 인수인계를 철저히 하여 퇴사 시까지 직무책임과 의무를 \n    완수합니다.  \n②재직 시 업무상 지득한 회사의 제반 비밀사항을 타인에게 일체 누설하지 않겠습니다.\n③각종 회사 비품 등을 퇴직일 전일까지 반환하겠습니다.  \n④기타 회사와 관련한 제반 사항은 회사규정에 의거 퇴직일 전일까지 처리하겠습니다.\n⑤만일 본인이 상기 사항을 위반하였을 경우, 민형사상의 책임과 손해배상 의무를 \n    지겠습니다.\n",null,null,null,null,null,null,5,null,{"$f":"IFERROR(IF(H12=\"\",\"\",VLOOKUP(H12,사원명부!$A$2:$B$100,2,FALSE)),\"\")","v":""},null,null,null,""]
[null,null,null,null,null,null,null,6,null,{"$f":"IFERROR(IF(H13=\"\",\"\",VLOOKUP(H13,사원명부!$A$2:$B$100,2,FALSE)),\"\")","v":""},null,null,null,""]
[null,null,null,null,null,null,null,7,null,{"$f":"IFERROR(IF(H14=\"\",\"\",VLOOKUP(H14,사원명부!$A$2:$B$100,2,FALSE)),\"\")","v":""},null,null,null,""]
[null,null,null,null,null,null,null,8,null,{"$f":"IFERROR(IF(H15=\"\",\"\",VLOOKUP(H15,사원명부!$A$2:$B$100,2,FALSE)),\"\")","v":""},null,null,null,""]
[null,null,null,null,null,null,null,9,null,{"$f":"IFERROR(IF(H16=\"\",\"\",VLOOKUP(H16,사원명부!$A$2:$B$100,2,FALSE)),\"\")","v":""},null,null,null,""]
[null,null,null,null,null,null,null,10,null,{"$f":"IFERROR(IF(H17=\"\",\"\",VLOOKUP(H17,사원명부!$A$2:$B$100,2,FALSE)),\"\")","v":""},null,null,null,""]
[null,null,null,{"$f":"TODAY()","v":"2021-05-31"},null,null,null,11,null,{"$f":"IFERROR(IF(H18=\"\",\"\",VLOOKUP(H18,사원명부!$A$2:$B$100,2,FALSE)),\"\")","v":""},null,null,null,""]
[null,null,null,null,null,null,null,12,null,{"$f":"IFERROR(IF(H19=\"\",\"\",VLOOKUP(H19,사원명부!$A$2:$B$100,2,FALSE)),\"\")","v":""},null,null,null,""]
[null,null,null,"성명 : ",{"$f":"IFBLANK(B4)","v":"테스트2"},"(서명 또는 날인)",null,13,null,{"$f":"IFERROR(IF(H20=\"\",\"\",VLOOKUP(H20,사원명부!$A$2:$B$100,2,FALSE)),\"\")","v":""},null,null,null,""]
[null,null,null,null,null,null,null,14,null,{"$f":"IFERROR(IF(H21=\"\",\"\",VLOOKUP(H21,사원명부!$A$2:$B$100,2,FALSE)),\"\")","v":""}]
[null,null,null,null,null,null,null,15,null,{"$f":"IFERROR(IF(H22=\"\",\"\",VLOOKUP(H22,사원명부!$A$2:$B$100,2,FALSE)),\"\")","v":""}]
[null,null,null,null,null,null,null,16,null,{"$f":"IFERROR(IF(H23=\"\",\"\",VLOOKUP(H23,사원명부!$A$2:$B$100,2,FALSE)),\"\")","v":""}]
[null,null,null,null,null,null,null,17,null,{"$f":"IFERROR(IF(H24=\"\",\"\",VLOOKUP(H24,사원명부!$A$2:$B$100,2,FALSE)),\"\")","v":""}]
[null,null,null,null,null,null,null,18,null,{"$f":"IFERROR(IF(H25=\"\",\"\",VLOOKUP(H25,사원명부!$A$2:$B$100,2,FALSE)),\"\")","v":""}]
[null,null,null,null,null,null,null,19,null,{"$f":"IFERROR(IF(H26=\"\",\"\",VLOOKUP(H26,사원명부!$A$2:$B$100,2,FALSE)),\"\")","v":""}]
[null,null,null,null,null,null,null,20,null,{"$f":"IFERROR(IF(H27=\"\",\"\",VLOOKUP(H27,사원명부!$A$2:$B$100,2,FALSE)),\"\")","v":""}]
[null,null,null,null,null,null,null,21,null,{"$f":"IFERROR(IF(H28=\"\",\"\",VLOOKUP(H28,사원명부!$A$2:$B$100,2,FALSE)),\"\")","v":""}]
[null,null,null,null,null,null,null,22,null,{"$f":"IFERROR(IF(H29=\"\",\"\",VLOOKUP(H29,사원명부!$A$2:$B$100,2,FALSE)),\"\")","v":""}]
[null,null,null,null,null,null,null,23,null,{"$f":"IFERROR(IF(H30=\"\",\"\",VLOOKUP(H30,사원명부!$A$2:$B$100,2,FALSE)),\"\")","v":""}]
[null,null,null,null,null,null,null,24,null,{"$f":"IFERROR(IF(H31=\"\",\"\",VLOOKUP(H31,사원명부!$A$2:$B$100,2,FALSE)),\"\")","v":""}]
[null,null,null,null,null,null,null,25,null,{"$f":"IFERROR(IF(H32=\"\",\"\",VLOOKUP(H32,사원명부!$A$2:$B$100,2,FALSE)),\"\")","v":""}]
[null,null,null,null,null,null,null,26,null,{"$f":"IFERROR(IF(H33=\"\",\"\",VLOOKUP(H33,사원명부!$A$2:$B$100,2,FALSE)),\"\")","v":""}]
[null,null,null,null,null,null,null,27,null,{"$f":"IFERROR(IF(H34=\"\",\"\",VLOOKUP(H34,사원명부!$A$2:$B$100,2,FALSE)),\"\")","v":""}]
[null,null,null,null,null,null,null,28,null,{"$f":"IFERROR(IF(H35=\"\",\"\",VLOOKUP(H35,사원명부!$A$2:$B$100,2,FALSE)),\"\")","v":""}]
[null,null,null,null,null,null,null,29,null,{"$f":"IFERROR(IF(H36=\"\",\"\",VLOOKUP(H36,사원명부!$A$2:$B$100,2,FALSE)),\"\")","v":""}]
[null,null,null,null,null,null,null,30,null,{"$f":"IFERROR(IF(H37=\"\",\"\",VLOOKUP(H37,사원명부!$A$2:$B$100,2,FALSE)),\"\")","v":""}]
[null,null,null,null,null,null,null,31,null,{"$f":"IFERROR(IF(H38=\"\",\"\",VLOOKUP(H38,사원명부!$A$2:$B$100,2,FALSE)),\"\")","v":""}]
[null,null,null,null,null,null,null,32,null,{"$f":"IFERROR(IF(H39=\"\",\"\",VLOOKUP(H39,사원명부!$A$2:$B$100,2,FALSE)),\"\")","v":""}]
[null,null,null,null,null,null,null,33,null,{"$f":"IFERROR(IF(H40=\"\",\"\",VLOOKUP(H40,사원명부!$A$2:$B$100,2,FALSE)),\"\")","v":""}]
[null,null,null,null,null,null,null,34,null,{"$f":"IFERROR(IF(H41=\"\",\"\",VLOOKUP(H41,사원명부!$A$2:$B$100,2,FALSE)),\"\")","v":""}]
[null,null,null,null,null,null,null,35,null,{"$f":"IFERROR(IF(H42=\"\",\"\",VLOOKUP(H42,사원명부!$A$2:$B$100,2,FALSE)),\"\")","v":""}]
[null,null,null,null,null,null,null,36,null,{"$f":"IFERROR(IF(H43=\"\",\"\",VLOOKUP(H43,사원명부!$A$2:$B$100,2,FALSE)),\"\")","v":""}]
[null,null,null,null,null,null,null,37,null,{"$f":"IFERROR(IF(H44=\"\",\"\",VLOOKUP(H44,사원명부!$A$2:$B$100,2,FALSE)),\"\")","v":""}]
[null,null,null,null,null,null,null,38,null,{"$f":"IFERROR(IF(H45=\"\",\"\",VLOOKUP(H45,사원명부!$A$2:$B$100,2,FALSE)),\"\")","v":""}]
[null,null,null,null,null,null,null,39,null,{"$f":"IFERROR(IF(H46=\"\",\"\",VLOOKUP(H46,사원명부!$A$2:$B$100,2,FALSE)),\"\")","v":""}]
[null,null,null,null,null,null,null,40,null,{"$f":"IFERROR(IF(H47=\"\",\"\",VLOOKUP(H47,사원명부!$A$2:$B$100,2,FALSE)),\"\")","v":""}]
[null,null,null,null,null,null,null,41,null,{"$f":"IFERROR(IF(H48=\"\",\"\",VLOOKUP(H48,사원명부!$A$2:$B$100,2,FALSE)),\"\")","v":""}]
[null,null,null,null,null,null,null,42,null,{"$f":"IFERROR(IF(H49=\"\",\"\",VLOOKUP(H49,사원명부!$A$2:$B$100,2,FALSE)),\"\")","v":""}]
[null,null,null,null,null,null,null,43,null,{"$f":"IFERROR(IF(H50=\"\",\"\",VLOOKUP(H50,사원명부!$A$2:$B$100,2,FALSE)),\"\")","v":""}]
[null,null,null,null,null,null,null,44,null,{"$f":"IFERROR(IF(H51=\"\",\"\",VLOOKUP(H51,사원명부!$A$2:$B$100,2,FALSE)),\"\")","v":""}]
[null,null,null,null,null,null,null,45,null,{"$f":"IFERROR(IF(H52=\"\",\"\",VLOOKUP(H52,사원명부!$A$2:$B$100,2,FALSE)),\"\")","v":""}]
[null,null,null,null,null,null,null,46,null,{"$f":"IFERROR(IF(H53=\"\",\"\",VLOOKUP(H53,사원명부!$A$2:$B$100,2,FALSE)),\"\")","v":""}]
[null,null,null,null,null,null,null,47,null,{"$f":"IFERROR(IF(H54=\"\",\"\",VLOOKUP(H54,사원명부!$A$2:$B$100,2,FALSE)),\"\")","v":""}]
[null,null,null,null,null,null,null,48,null,{"$f":"IFERROR(IF(H55=\"\",\"\",VLOOKUP(H55,사원명부!$A$2:$B$100,2,FALSE)),\"\")","v":""}]
[null,null,null,null,null,null,null,49,null,{"$f":"IFERROR(IF(H56=\"\",\"\",VLOOKUP(H56,사원명부!$A$2:$B$100,2,FALSE)),\"\")","v":""}]
[null,null,null,null,null,null,null,50,null,{"$f":"IFERROR(IF(H57=\"\",\"\",VLOOKUP(H57,사원명부!$A$2:$B$100,2,FALSE)),\"\")","v":""}]
[null,null,null,null,null,null,null,51,null,{"$f":"IFERROR(IF(H58=\"\",\"\",VLOOKUP(H58,사원명부!$A$2:$B$100,2,FALSE)),\"\")","v":""}]
[null,null,null,null,null,null,null,52,null,{"$f":"IFERROR(IF(H59=\"\",\"\",VLOOKUP(H59,사원명부!$A$2:$B$100,2,FALSE)),\"\")","v":""}]
[null,null,null,null,null,null,null,53,null,{"$f":"IFERROR(IF(H60=\"\",\"\",VLOOKUP(H60,사원명부!$A$2:$B$100,2,FALSE)),\"\")","v":""}]
[null,null,null,null,null,null,null,54,null,{"$f":"IFERROR(IF(H61=\"\",\"\",VLOOKUP(H61,사원명부!$A$2:$B$100,2,FALSE)),\"\")","v":""}]
[null,null,null,null,null,null,null,55,null,{"$f":"IFERROR(IF(H62=\"\",\"\",VLOOKUP(H62,사원명부!$A$2:$B$100,2,FALSE)),\"\")","v":""}]
[null,null,null,null,null,null,null,56,null,{"$f":"IFERROR(IF(H63=\"\",\"\",VLOOKUP(H63,사원명부!$A$2:$B$100,2,FALSE)),\"\")","v":""}]
[null,null,null,null,null,null,null,57,null,{"$f":"IFERROR(IF(H64=\"\",\"\",VLOOKUP(H64,사원명부!$A$2:$B$100,2,FALSE)),\"\")","v":""}]
[null,null,null,null,null,null,null,58,null,{"$f":"IFERROR(IF(H65=\"\",\"\",VLOOKUP(H65,사원명부!$A$2:$B$100,2,FALSE)),\"\")","v":""}]
[null,null,null,null,null,null,null,59,null,{"$f":"IFERROR(IF(H66=\"\",\"\",VLOOKUP(H66,사원명부!$A$2:$B$100,2,FALSE)),\"\")","v":""}]
[null,null,null,null,null,null,null,60,null,{"$f":"IFERROR(IF(H67=\"\",\"\",VLOOKUP(H67,사원명부!$A$2:$B$100,2,FALSE)),\"\")","v":""}]
[null,null,null,null,null,null,null,61,null,{"$f":"IFERROR(IF(H68=\"\",\"\",VLOOKUP(H68,사원명부!$A$2:$B$100,2,FALSE)),\"\")","v":""}]
[null,null,null,null,null,null,null,62,null,{"$f":"IFERROR(IF(H69=\"\",\"\",VLOOKUP(H69,사원명부!$A$2:$B$100,2,FALSE)),\"\")","v":""}]
[null,null,null,null,null,null,null,63,null,{"$f":"IFERROR(IF(H70=\"\",\"\",VLOOKUP(H70,사원명부!$A$2:$B$100,2,FALSE)),\"\")","v":""}]
[null,null,null,null,null,null,null,64,null,{"$f":"IFERROR(IF(H71=\"\",\"\",VLOOKUP(H71,사원명부!$A$2:$B$100,2,FALSE)),\"\")","v":""}]
[null,null,null,null,null,null,null,65,null,{"$f":"IFERROR(IF(H72=\"\",\"\",VLOOKUP(H72,사원명부!$A$2:$B$100,2,FALSE)),\"\")","v":""}]
[null,null,null,null,null,null,null,66,null,{"$f":"IFERROR(IF(H73=\"\",\"\",VLOOKUP(H73,사원명부!$A$2:$B$100,2,FALSE)),\"\")","v":""}]
[null,null,null,null,null,null,null,67,null,{"$f":"IFERROR(IF(H74=\"\",\"\",VLOOKUP(H74,사원명부!$A$2:$B$100,2,FALSE)),\"\")","v":""}]
[null,null,null,null,null,null,null,68,null,{"$f":"IFERROR(IF(H75=\"\",\"\",VLOOKUP(H75,사원명부!$A$2:$B$100,2,FALSE)),\"\")","v":""}]

{"sheet":"해고예정통보서","index":61,"n_rows":121,"n_cols":50,"rows_kept":121,"cut":false,"hidden":false,"merged":[[20,43,21,50],[8,49,9,50],[7,36,7,52],[23,36,24,41],[8,36,9,41],[8,42,9,47],[19,13,20,22],[21,13,22,21],[14,36,15,41],[17,36,18,41],[19,28,19,29],[19,30,19,31],[11,36,12,41],[11,42,12,47],[14,28,14,29],[14,30,14,31],[15,28,15,29],[15,30,15,31],[12,28,12,29],[12,30,12,31],[13,14,13,16],[13,28,13,29],[13,30,13,31],[13,36,13,47],[112,28,112,29],[112,30,112,31],[113,28,113,29],[113,30,113,31],[114,28,114,29],[114,30,114,31],[109,28,109,29],[109,30,109,31],[110,28,110,29],[110,30,110,31],[111,28,111,29],[111,30,111,31],[118,28,118,29],[118,30,118,31],[119,28,119,29],[119,30,119,31],[120,28,120,29],[120,30,120,31],[115,28,115,29],[115,30,115,31],[116,28,116,29],[116,30,116,31],[117,28,117,29],[117,30,117,31],[106,28,106,29],[106,30,106,31],[107,28,107,29],[107,30,107,31],[108,28,108,29],[108,30,108,31],[103,28,103,29],[103,30,103,31],[104,28,104,29],[104,30,104,31],[105,28,105,29],[105,30,105,31],[100,28,100,29],[100,30,100,31],[101,28,101,29],[101,30,101,31],[102,28,102,29],[102,30,102,31],[97,28,97,29],[97,30,97,31],[98,28,98,29],[98,30,98,31],[99,28,99,29],[99,30,99,31],[94,28,94,29],[94,30,94,31],[95,28,95,29],[95,30,95,31],[96,28,96,29],[96,30,96,31],[91,28,91,29],[91,30,91,31],[92,28,92,29],[92,30,92,31],[93,28,93,29],[93,30,93,31],[88,28,88,29],[88,30,88,31],[89,28,89,29],[89,30,89,31],[90,28,90,29],[90,30,90,31],[85,28,85,29],[85,30,85,31],[86,28,86,29],[86,30,86,31],[87,28,87,29],[87,30,87,31],[82,28,82,29],[82,30,82,31],[83,28,83,29],[83,30,83,31],[84,28,84,29],[84,30,84,31],[79,28,79,29],[79,30,79,31],[80,28,80,29],[80,30,80,31],[81,28,81,29],[81,30,81,31],[76,28,76,29],[76,30,76,31],[77,28,77,29],[77,30,77,31],[78,28,78,29],[78,30,78,31],[73,28,73,29],[73,30,73,31],[74,28,74,29],[74,30,74,31],[75,28,75,29],[75,30,75,31],[70,28,70,29],[70,30,70,31],[71,28,71,29],[71,30,71,31],[72,28,72,29],[72,30,72,31],[67,28,67,29],[67,30,67,31],[68,28,68,29],[68,30,68,31],[69,28,69,29],[69,30,69,31],[64,28,64,29],[64,30,64,31],[65,28,65,29],[65,30,65,31],[66,28,66,29],[66,30,66,31],[61,28,61,29],[61,30,61,31],[62,28,62,29],[62,30,62,31],[63,28,63,29],[63,30,63,31],[58,28,58,29],[58,30,58,31],[59,28,59,29],[59,30,59,31],[60,28,60,29],[60,30,60,31],[55,28,55,29],[55,30,55,31],[56,28,56,29],[56,30,56,31],[57,28,57,29],[57,30,57,31],[52,28,52,29],[52,30,52,31],[53,28,53,29],[53,30,53,31],[54,28,54,29],[54,30,54,31],[49,28,49,29],[49,30,49,31],[50,28,50,29],[50,30,50,31],[51,28,51,29],[51,30,51,31],[46,28,46,29],[46,30,46,31],[47,28,47,29],[47,30,47,31],[48,28,48,29],[48,30,48,31],[43,28,43,29],[43,30,43,31],[44,28,44,29],[44,30,44,31],[45,28,45,29],[45,30,45,31],[40,28,40,29],[40,30,40,31],[41,28,41,29],[41,30,41,31],[42,28,42,29],[42,30,42,31],[37,28,37,29],[37,30,37,31],[38,28,38,29],[38,30,38,31],[39,28,39,29],[39,30,39,31],[34,28,34,29],[34,30,34,31],[35,28,35,29],[35,30,35,31],[36,28,36,29],[36,30,36,31],[31,28,31,29],[31,30,31,31],[32,2,32,22],[32,28,32,29],[32,30,32,31],[33,2,33,22],[33,28,33,29],[33,30,33,31],[28,28,28,29],[28,30,28,31],[11,28,11,29],[11,30,11,31],[29,28,29,29],[29,30,29,31],[30,28,30,29],[30,30,30,31],[20,36,21,41],[25,28,25,29],[25,30,25,31],[26,28,26,29],[26,30,26,31],[27,28,27,29],[27,30,27,31],[22,28,22,29],[22,30,22,31],[23,28,23,29],[23,30,23,31],[24,28,24,29],[24,30,24,31],[21,28,21,29],[21,30,21,31],[20,7,20,11],[20,28,20,29],[20,30,20,31],[16,28,16,29],[16,30,16,31],[17,28,17,29],[17,30,17,31],[18,28,18,29],[18,30,18,31],[0,28,0,30],[0,31,0,42],[1,1,2,24],[2,28,2,29],[2,30,2,32],[3,28,3,29],[3,30,3,32],[10,28,10,29],[10,30,10,31],[5,42,6,47],[7,1,7,24],[8,28,8,29],[8,30,8,31],[5,36,6,41],[9,28,9,29],[9,1,9,24],[9,30,9,31],[4,1,4,25]]}
[]
[null,"해고 예정 통보서"]
[null,null,null,null,null,null,null,null,null,null,null,null,null,null,null,null,null,null,null,null,null,null,null,null,null,null,null,null,"사원번호",null,2]
[null,null,null,null,null,null,null,null,null,null,null,null,null,null,null,null,null,null,null,null,null,null,null,null,null,null,null,null,"이    름",null,{"$f":"IF(AE3=\"\",\"\",VLOOKUP(AE3,사원명부!A2:B100,2))","v":"테스트2"}]
[null,{"$f":"\"사용자 \"&IFBLANK(요양기관기초정보!D1)&\"대표 \"&IFERROR(Josa(요양기관기초정보!D1,1),요양기관기초정보!C6&\"은(는)\")&\"  근로자 \"&IFBLANK(AE4)&\"에게 아래과 같은 사유로 \"&YEAR(AQ6)&\"년\"&MONTH(AQ6)&\"월\"&DAY(AQ6)&\"일 부로 해고함을 통보합니다\"","v":"사용자 팜오피스약국대표 팜오피스약국은  근로자 테스트2에게 아래과 같은 사유로 2021년4월30일 부로 해고함을 통보합니다"}]
[null,null,null,null,null,null,null,null,null,null,null,null,null,null,null,null,null,null,null,null,null,null,null,null,null,null,null,null,null,null,null,null,null,null,null,null,"해고예정일",null,null,null,null,null,"2021-04-30"]
[]
[null,"==  아   래  ==",null,null,null,null,null,null,null,null,null,null,null,null,null,null,null,null,null,null,null,null,null,null,null,null,null,null,null,null,null,null,null,null,null,null,"해고예정일 30일 이전에 통보-위반시 통상임금 1개월분 지급"]
[null,null,null,null,null,null,null,null,null,null,null,null,null,null,null,null,null,null,null,null,null,null,null,null,null,null,null,null,1,null,{"$f":"IFBLANK(사원명부!B3)","v":"테스트1"},null,null,null,null,null,"해고통보일",null,null,null,null,null,{"$f":"AQ6-AX9","v":"2021-03-22"},null,null,null,null,null,null,39]
[null,{"$f":"\" - \"&YEAR(AQ12)&\"년\"&MONTH(AQ12)&\"월\"&DAY(AQ12)&\"일 근로계약서 작성시 열람한 취업규칙의 규정\"","v":" - 2021년1월1일 근로계약서 작성시 열람한 취업규칙의 규정"},null,null,null,null,null,null,null,null,null,null,null,null,null,null,null,null,null,null,null,null,null,null,null,null,null,null,2,null,{"$f":"IFBLANK(사원명부!B4)","v":"테스트2"}]
[null,null,null,null,null,null,null,null,null,null,null,null,null,null,null,null,null,null,null,null,null,null,null,null,null,null,null,null,3,null,{"$f":"IFBLANK(사원명부!B5)","v":""}]
[null,null,{"$f":"IFBLANK(AK18)","v":"해고"},null,null,null,null,null,null,null,null,null,null,null,null,null,null,null,null,null,null,null,null,null,null,null,null,null,4,null,{"$f":"IFBLANK(사원명부!B6)","v":""},null,null,null,null,null,"취업규칙서명일",null,null,null,null,null,{"$f":"VLOOKUP(AE3,사원명부!$A$2:$AB$150,11)","v":"2021-01-01"},null,null,null,null,null,null,"*입사일"]
[null,null,null,null,null,null,null,null,null,null,null,null,null,null,null,null,null,null,null,null,null,null,null,null,null,null,null,null,5,null,{"$f":"IFBLANK(사원명부!B7)","v":""},null,null,null,null,null,null,null,null,null,null,null,null,null,null,null,null,null,null,"계약시 취업규칙을 읽고 서명하게 하여야 합니다"]
[null,null,{"$f":"IFBLANK(AK21)","v":"해고의 예고"},null,null,null,null,null,null,null,null,null,null,null,null,null,null,null,null,null,null,null,null,null,null,null,null,null,6,null,{"$f":"IFBLANK(사원명부!B8)","v":""}]
[null,null,null,null,null,null,null,null,null,null,null,null,null,null,null,null,null,null,null,null,null,null,null,null,null,null,null,null,7,null,{"$f":"IFBLANK(사원명부!B9)","v":""},null,null,null,null,null,"취업규칙 해고관련"]
[null,null,{"$f":"IFBLANK(AK24)","v":""},null,null,null,null,null,null,null,null,null,null,null,null,null,null,null,null,null,null,null,null,null,null,null,null,null,8,null,{"$f":"IFBLANK(사원명부!B10)","v":""}]
[null,null,null,null,null,null,null,null,null,null,null,null,null,null,null,null,null,null,null,null,null,null,null,null,null,null,null,null,9,null,{"$f":"IFBLANK(사원명부!B11)","v":""}]
[null,null,null,null,null,null,null,null,null,null,null,null,null,null,null,null,null,null,null,null,null,null,null,null,null,null,null,null,10,null,{"$f":"IFBLANK(사원명부!B12)","v":""},null,null,null,null,null,"해고"]
[null,null,null,null,null,null,null,null,null,null,null,null,null,null,null,null,null,null,null,null,null,null,null,null,null,null,null,null,11,null,{"$f":"IFBLANK(사원명부!B13)","v":""}]
[null,null,null,null,null,null,null,null,null,null,null,null,null,{"$f":"AQ9","v":"2021-03-22"},null,null,null,null,null,null,null,null,null,null,null,null,null,null,12,null,{"$f":"IFBLANK(사원명부!B14)","v":""}]
[null,null,null,null,null,null,null,null,null,null,null,null,null,null,null,null,null,null,null,null,null,null,null,null,null,null,null,null,13,null,{"$f":"IFBLANK(사원명부!B15)","v":""},null,null,null,null,null,"해고의 예고",null,null,null,null,null,null,"해고관련 참고"]
[null,null,null,null,null,null,null,null,null,null,null,null,null,{"$f":"IFBLANK(요양기관기초정보!D1)&\" 대표 \"&IFBLANK(요양기관기초정보!C6)","v":"팜오피스약국 대표 홍길동"},null,null,null,null,null,null,null,null,null,null,null,null,null,null,14,null,{"$f":"IFBLANK(사원명부!B16)","v":""}]
[null,null,null,null,null,null,null,null,null,null,null,null,null,null,null,null,null,null,null,null,null,null,null,null,null,null,null,null,15,null,{"$f":"IFBLANK(사원명부!B17)","v":""}]
[null,null,null,null,null,null,null,null,null,null,null,null,null,null,null,null,null,null,null,null,null,null,null,null,null,null,null,null,16,null,{"$f":"IFBLANK(사원명부!B18)","v":""}]
[null,null,null,null,null,null,null,null,null,null,null,null,null,null,null,null,null,null,null,null,null,null,null,null,null,null,null,null,17,null,{"$f":"IFBLANK(사원명부!B19)","v":""}]
[null,{"$f":"\"    해고예정통보를 \"&YEAR(AQ9)&\"년\"&MONTH(AQ9)&\"월\"&DAY(AQ9)&\"일 수령하였습니다.\"","v":"    해고예정통보를 2021년3월22일 수령하였습니다."},null,null,null,null,null,null,null,null,null,null,null,null,null,null,null,null,null,null,null,null,null,null,null,null,null,null,18,null,{"$f":"IFBLANK(사원명부!B20)","v":""}]
[null,null,null,null,null,null,null,null,null,null,null,null,null,null,null,null,null,null,null,null,null,null,null,null,null,null,null,null,19,null,{"$f":"IFBLANK(사원명부!B21)","v":""}]
[null,null,null,null,null,"주   소  :",null,null,{"$f":"IF($AE$3=\"\",\"\",VLOOKUP($AE$3,사원명부!$A$2:$AB$150,7))","v":"서울시 서대문구연세로 41"},null,null,null,null,null,null,null,null,null,null,null,null,null,null,null,null,null,null,null,20,null,{"$f":"IFBLANK(사원명부!B22)","v":""}]
[null,null,null,null,null,"이   름  :",null,null,{"$f":"IF($AE$3=\"\",\"\",VLOOKUP($AE$3,사원명부!$A$2:$AB$150,2))&\" (\"&IF($AE$3=\"\",\"\",VLOOKUP($AE$3,사원명부!$A$2:$AB$150,4))&\")    (서명 또는 날인)\"","v":"테스트2 (680623-1******)    (서명 또는 날인)"},null,null,null,null,null,null,null,null,null,null,null,null,null,null,null,null,null,null,null,21,null,{"$f":"IFBLANK(사원명부!B23)","v":""}]
[null,null,null,null,null,"연락처  :",null,null,{"$f":"IF($AE$3=\"\",\"\",VLOOKUP($AE$3,사원명부!$A$2:$AB$150,6))","v":"010-2345-6789"},null,null,null,null,null,null,null,null,null,null,null,null,null,null,null,null,null,null,null,22,null,{"$f":"IFBLANK(사원명부!B24)","v":""}]
[null,null,null,null,null,null,null,null,null,null,null,null,null,null,null,null,null,null,null,null,null,null,null,null,null,null,null,null,23,null,{"$f":"IFBLANK(사원명부!B25)","v":""}]
[null,null,null,null,null,null,null,null,null,null,null,null,null,null,null,null,null,null,null,null,null,null,null,null,null,null,null,null,24,null,{"$f":"IFBLANK(사원명부!B26)","v":""}]
[null,null,null,null,null,null,null,null,null,null,null,null,null,null,null,null,null,null,null,null,null,null,null,null,null,null,null,null,25,null,{"$f":"IFBLANK(사원명부!B27)","v":""}]
[null,null,null,null,null,null,null,null,null,null,null,null,null,null,null,null,null,null,null,null,null,null,null,null,null,null,null,null,26,null,{"$f":"IFBLANK(사원명부!B28)","v":""}]
[null,null,null,null,null,null,null,null,null,null,null,null,null,null,null,null,null,null,null,null,null,null,null,null,null,null,null,null,27,null,{"$f":"IFBLANK(사원명부!B29)","v":""}]
[null,null,null,null,null,null,null,null,null,null,null,null,null,null,null,null,null,null,null,null,null,null,null,null,null,null,null,null,28,null,{"$f":"IFBLANK(사원명부!B30)","v":""}]
[null,null,null,null,null,null,null,null,null,null,null,null,null,null,null,null,null,null,null,null,null,null,null,null,null,null,null,null,29,null,{"$f":"IFBLANK(사원명부!B31)","v":""}]
[null,null,null,null,null,null,null,null,null,null,null,null,null,null,null,null,null,null,null,null,null,null,null,null,null,null,null,null,30,null,{"$f":"IFBLANK(사원명부!B32)","v":""}]
[null,null,null,null,null,null,null,null,null,null,null,null,null,null,null,null,null,null,null,null,null,null,null,null,null,null,null,null,31,null,{"$f":"IFBLANK(사원명부!B33)","v":""}]
[null,null,null,null,null,null,null,null,null,null,null,null,null,null,null,null,null,null,null,null,null,null,null,null,null,null,null,null,32,null,{"$f":"IFBLANK(사원명부!B34)","v":""}]
[null,null,null,null,null,null,null,null,null,null,null,null,null,null,null,null,null,null,null,null,null,null,null,null,null,null,null,null,33,null,{"$f":"IFBLANK(사원명부!B35)","v":""}]
[null,null,null,null,null,null,null,null,null,null,null,null,null,null,null,null,null,null,null,null,null,null,null,null,null,null,null,null,34,null,{"$f":"IFBLANK(사원명부!B36)","v":""}]
[null,null,null,null,null,null,null,null,null,null,null,null,null,null,null,null,null,null,null,null,null,null,null,null,null,null,null,null,35,null,{"$f":"IFBLANK(사원명부!B37)","v":""}]
[null,null,null,null,null,null,null,null,null,null,null,null,null,null,null,null,null,null,null,null,null,null,null,null,null,null,null,null,36,null,{"$f":"IFBLANK(사원명부!B38)","v":""}]
[null,null,null,null,null,null,null,null,null,null,null,null,null,null,null,null,null,null,null,null,null,null,null,null,null,null,null,null,37,null,{"$f":"IFBLANK(사원명부!B39)","v":""}]
[null,null,null,null,null,null,null,null,null,null,null,null,null,null,null,null,null,null,null,null,null,null,null,null,null,null,null,null,38,null,{"$f":"IFBLANK(사원명부!B40)","v":""}]
[null,null,null,null,null,null,null,null,null,null,null,null,null,null,null,null,null,null,null,null,null,null,null,null,null,null,null,null,39,null,{"$f":"IFBLANK(사원명부!B41)","v":""}]
[null,null,null,null,null,null,null,null,null,null,null,null,null,null,null,null,null,null,null,null,null,null,null,null,null,null,null,null,40,null,{"$f":"IFBLANK(사원명부!B42)","v":""}]
[null,null,null,null,null,null,null,null,null,null,null,null,null,null,null,null,null,null,null,null,null,null,null,null,null,null,null,null,41,null,{"$f":"IFBLANK(사원명부!B43)","v":""}]
[null,null,null,null,null,null,null,null,null,null,null,null,null,null,null,null,null,null,null,null,null,null,null,null,null,null,null,null,42,null,{"$f":"IFBLANK(사원명부!B44)","v":""}]
[null,null,null,null,null,null,null,null,null,null,null,null,null,null,null,null,null,null,null,null,null,null,null,null,null,null,null,null,43,null,{"$f":"IFBLANK(사원명부!B45)","v":""}]
[null,null,null,null,null,null,null,null,null,null,null,null,null,null,null,null,null,null,null,null,null,null,null,null,null,null,null,null,44,null,{"$f":"IFBLANK(사원명부!B46)","v":""}]
[null,null,null,null,null,null,null,null,null,null,null,null,null,null,null,null,null,null,null,null,null,null,null,null,null,null,null,null,45,null,{"$f":"IFBLANK(사원명부!B47)","v":""}]
[null,null,null,null,null,null,null,null,null,null,null,null,null,null,null,null,null,null,null,null,null,null,null,null,null,null,null,null,46,null,{"$f":"IFBLANK(사원명부!B48)","v":""}]
[null,null,null,null,null,null,null,null,null,null,null,null,null,null,null,null,null,null,null,null,null,null,null,null,null,null,null,null,47,null,{"$f":"IFBLANK(사원명부!B49)","v":""}]
[null,null,null,null,null,null,null,null,null,null,null,null,null,null,null,null,null,null,null,null,null,null,null,null,null,null,null,null,48,null,{"$f":"IFBLANK(사원명부!B50)","v":""}]
[null,null,null,null,null,null,null,null,null,null,null,null,null,null,null,null,null,null,null,null,null,null,null,null,null,null,null,null,49,null,{"$f":"IFBLANK(사원명부!B51)","v":""}]
[null,null,null,null,null,null,null,null,null,null,null,null,null,null,null,null,null,null,null,null,null,null,null,null,null,null,null,null,50,null,{"$f":"IFBLANK(사원명부!B52)","v":""}]
[null,null,null,null,null,null,null,null,null,null,null,null,null,null,null,null,null,null,null,null,null,null,null,null,null,null,null,null,51,null,{"$f":"IFBLANK(사원명부!B53)","v":""}]
[null,null,null,null,null,null,null,null,null,null,null,null,null,null,null,null,null,null,null,null,null,null,null,null,null,null,null,null,52,null,{"$f":"IFBLANK(사원명부!B54)","v":""}]
[null,null,null,null,null,null,null,null,null,null,null,null,null,null,null,null,null,null,null,null,null,null,null,null,null,null,null,null,53,null,{"$f":"IFBLANK(사원명부!B55)","v":""}]
[null,null,null,null,null,null,null,null,null,null,null,null,null,null,null,null,null,null,null,null,null,null,null,null,null,null,null,null,54,null,{"$f":"IFBLANK(사원명부!B56)","v":""}]
[null,null,null,null,null,null,null,null,null,null,null,null,null,null,null,null,null,null,null,null,null,null,null,null,null,null,null,null,55,null,{"$f":"IFBLANK(사원명부!B57)","v":""}]
[null,null,null,null,null,null,null,null,null,null,null,null,null,null,null,null,null,null,null,null,null,null,null,null,null,null,null,null,56,null,{"$f":"IFBLANK(사원명부!B58)","v":""}]
[null,null,null,null,null,null,null,null,null,null,null,null,null,null,null,null,null,null,null,null,null,null,null,null,null,null,null,null,57,null,{"$f":"IFBLANK(사원명부!B59)","v":""}]
[null,null,null,null,null,null,null,null,null,null,null,null,null,null,null,null,null,null,null,null,null,null,null,null,null,null,null,null,58,null,{"$f":"IFBLANK(사원명부!B60)","v":""}]
[null,null,null,null,null,null,null,null,null,null,null,null,null,null,null,null,null,null,null,null,null,null,null,null,null,null,null,null,59,null,{"$f":"IFBLANK(사원명부!B61)","v":""}]
[null,null,null,null,null,null,null,null,null,null,null,null,null,null,null,null,null,null,null,null,null,null,null,null,null,null,null,null,60,null,{"$f":"IFBLANK(사원명부!B62)","v":""}]
[null,null,null,null,null,null,null,null,null,null,null,null,null,null,null,null,null,null,null,null,null,null,null,null,null,null,null,null,61,null,{"$f":"IFBLANK(사원명부!B63)","v":""}]
[null,null,null,null,null,null,null,null,null,null,null,null,null,null,null,null,null,null,null,null,null,null,null,null,null,null,null,null,62,null,{"$f":"IFBLANK(사원명부!B64)","v":""}]
[null,null,null,null,null,null,null,null,null,null,null,null,null,null,null,null,null,null,null,null,null,null,null,null,null,null,null,null,63,null,{"$f":"IFBLANK(사원명부!B65)","v":""}]
[null,null,null,null,null,null,null,null,null,null,null,null,null,null,null,null,null,null,null,null,null,null,null,null,null,null,null,null,64,null,{"$f":"IFBLANK(사원명부!B66)","v":""}]
[null,null,null,null,null,null,null,null,null,null,null,null,null,null,null,null,null,null,null,null,null,null,null,null,null,null,null,null,65,null,{"$f":"IFBLANK(사원명부!B67)","v":""}]
[null,null,null,null,null,null,null,null,null,null,null,null,null,null,null,null,null,null,null,null,null,null,null,null,null,null,null,null,66,null,{"$f":"IFBLANK(사원명부!B68)","v":""}]
[null,null,null,null,null,null,null,null,null,null,null,null,null,null,null,null,null,null,null,null,null,null,null,null,null,null,null,null,67,null,{"$f":"IFBLANK(사원명부!B69)","v":""}]
[null,null,null,null,null,null,null,null,null,null,null,null,null,null,null,null,null,null,null,null,null,null,null,null,null,null,null,null,68,null,{"$f":"IFBLANK(사원명부!B70)","v":""}]
[null,null,null,null,null,null,null,null,null,null,null,null,null,null,null,null,null,null,null,null,null,null,null,null,null,null,null,null,69,null,{"$f":"IFBLANK(사원명부!B71)","v":""}]
[null,null,null,null,null,null,null,null,null,null,null,null,null,null,null,null,null,null,null,null,null,null,null,null,null,null,null,null,70,null,{"$f":"IFBLANK(사원명부!B72)","v":""}]
[null,null,null,null,null,null,null,null,null,null,null,null,null,null,null,null,null,null,null,null,null,null,null,null,null,null,null,null,71,null,{"$f":"IFBLANK(사원명부!B73)","v":""}]
[null,null,null,null,null,null,null,null,null,null,null,null,null,null,null,null,null,null,null,null,null,null,null,null,null,null,null,null,72,null,{"$f":"IFBLANK(사원명부!B74)","v":""}]
[null,null,null,null,null,null,null,null,null,null,null,null,null,null,null,null,null,null,null,null,null,null,null,null,null,null,null,null,73,null,{"$f":"IFBLANK(사원명부!B75)","v":""}]
[null,null,null,null,null,null,null,null,null,null,null,null,null,null,null,null,null,null,null,null,null,null,null,null,null,null,null,null,74,null,{"$f":"IFBLANK(사원명부!B76)","v":""}]
[null,null,null,null,null,null,null,null,null,null,null,null,null,null,null,null,null,null,null,null,null,null,null,null,null,null,null,null,75,null,{"$f":"IFBLANK(사원명부!B77)","v":""}]
[null,null,null,null,null,null,null,null,null,null,null,null,null,null,null,null,null,null,null,null,null,null,null,null,null,null,null,null,76,null,{"$f":"IFBLANK(사원명부!B78)","v":""}]
[null,null,null,null,null,null,null,null,null,null,null,null,null,null,null,null,null,null,null,null,null,null,null,null,null,null,null,null,77,null,{"$f":"IFBLANK(사원명부!B79)","v":""}]
[null,null,null,null,null,null,null,null,null,null,null,null,null,null,null,null,null,null,null,null,null,null,null,null,null,null,null,null,78,null,{"$f":"IFBLANK(사원명부!B80)","v":""}]
[null,null,null,null,null,null,null,null,null,null,null,null,null,null,null,null,null,null,null,null,null,null,null,null,null,null,null,null,79,null,{"$f":"IFBLANK(사원명부!B81)","v":""}]
[null,null,null,null,null,null,null,null,null,null,null,null,null,null,null,null,null,null,null,null,null,null,null,null,null,null,null,null,80,null,{"$f":"IFBLANK(사원명부!B82)","v":""}]
[null,null,null,null,null,null,null,null,null,null,null,null,null,null,null,null,null,null,null,null,null,null,null,null,null,null,null,null,81,null,{"$f":"IFBLANK(사원명부!B83)","v":""}]
[null,null,null,null,null,null,null,null,null,null,null,null,null,null,null,null,null,null,null,null,null,null,null,null,null,null,null,null,82,null,{"$f":"IFBLANK(사원명부!B84)","v":""}]
[null,null,null,null,null,null,null,null,null,null,null,null,null,null,null,null,null,null,null,null,null,null,null,null,null,null,null,null,83,null,{"$f":"IFBLANK(사원명부!B85)","v":""}]
[null,null,null,null,null,null,null,null,null,null,null,null,null,null,null,null,null,null,null,null,null,null,null,null,null,null,null,null,84,null,{"$f":"IFBLANK(사원명부!B86)","v":""}]
[null,null,null,null,null,null,null,null,null,null,null,null,null,null,null,null,null,null,null,null,null,null,null,null,null,null,null,null,85,null,{"$f":"IFBLANK(사원명부!B87)","v":""}]
[null,null,null,null,null,null,null,null,null,null,null,null,null,null,null,null,null,null,null,null,null,null,null,null,null,null,null,null,86,null,{"$f":"IFBLANK(사원명부!B88)","v":""}]
[null,null,null,null,null,null,null,null,null,null,null,null,null,null,null,null,null,null,null,null,null,null,null,null,null,null,null,null,87,null,{"$f":"IFBLANK(사원명부!B89)","v":""}]
[null,null,null,null,null,null,null,null,null,null,null,null,null,null,null,null,null,null,null,null,null,null,null,null,null,null,null,null,88,null,{"$f":"IFBLANK(사원명부!B90)","v":""}]
[null,null,null,null,null,null,null,null,null,null,null,null,null,null,null,null,null,null,null,null,null,null,null,null,null,null,null,null,89,null,{"$f":"IFBLANK(사원명부!B91)","v":""}]
[null,null,null,null,null,null,null,null,null,null,null,null,null,null,null,null,null,null,null,null,null,null,null,null,null,null,null,null,90,null,{"$f":"IFBLANK(사원명부!B92)","v":""}]
[null,null,null,null,null,null,null,null,null,null,null,null,null,null,null,null,null,null,null,null,null,null,null,null,null,null,null,null,91,null,{"$f":"IFBLANK(사원명부!B93)","v":""}]
[null,null,null,null,null,null,null,null,null,null,null,null,null,null,null,null,null,null,null,null,null,null,null,null,null,null,null,null,92,null,{"$f":"IFBLANK(사원명부!B94)","v":""}]
[null,null,null,null,null,null,null,null,null,null,null,null,null,null,null,null,null,null,null,null,null,null,null,null,null,null,null,null,93,null,{"$f":"IFBLANK(사원명부!B95)","v":""}]
[null,null,null,null,null,null,null,null,null,null,null,null,null,null,null,null,null,null,null,null,null,null,null,null,null,null,null,null,94,null,{"$f":"IFBLANK(사원명부!B96)","v":""}]
[null,null,null,null,null,null,null,null,null,null,null,null,null,null,null,null,null,null,null,null,null,null,null,null,null,null,null,null,95,null,{"$f":"IFBLANK(사원명부!B97)","v":""}]
[null,null,null,null,null,null,null,null,null,null,null,null,null,null,null,null,null,null,null,null,null,null,null,null,null,null,null,null,96,null,{"$f":"IFBLANK(사원명부!B98)","v":""}]
[null,null,null,null,null,null,null,null,null,null,null,null,null,null,null,null,null,null,null,null,null,null,null,null,null,null,null,null,97,null,{"$f":"IFBLANK(사원명부!B99)","v":""}]
[null,null,null,null,null,null,null,null,null,null,null,null,null,null,null,null,null,null,null,null,null,null,null,null,null,null,null,null,98,null,{"$f":"IFBLANK(사원명부!B100)","v":""}]
[null,null,null,null,null,null,null,null,null,null,null,null,null,null,null,null,null,null,null,null,null,null,null,null,null,null,null,null,99,null,{"$f":"IFBLANK(사원명부!B101)","v":""}]
[null,null,null,null,null,null,null,null,null,null,null,null,null,null,null,null,null,null,null,null,null,null,null,null,null,null,null,null,100,null,{"$f":"IFBLANK(사원명부!B102)","v":""}]
[null,null,null,null,null,null,null,null,null,null,null,null,null,null,null,null,null,null,null,null,null,null,null,null,null,null,null,null,null,null,""]
[null,null,null,null,null,null,null,null,null,null,null,null,null,null,null,null,null,null,null,null,null,null,null,null,null,null,null,null,null,null,""]
[null,null,null,null,null,null,null,null,null,null,null,null,null,null,null,null,null,null,null,null,null,null,null,null,null,null,null,null,null,null,""]
[null,null,null,null,null,null,null,null,null,null,null,null,null,null,null,null,null,null,null,null,null,null,null,null,null,null,null,null,null,null,""]
[null,null,null,null,null,null,null,null,null,null,null,null,null,null,null,null,null,null,null,null,null,null,null,null,null,null,null,null,null,null,""]
[null,null,null,null,null,null,null,null,null,null,null,null,null,null,null,null,null,null,null,null,null,null,null,null,null,null,null,null,null,null,""]
[null,null,null,null,null,null,null,null,null,null,null,null,null,null,null,null,null,null,null,null,null,null,null,null,null,null,null,null,null,null,""]
[null,null,null,null,null,null,null,null,null,null,null,null,null,null,null,null,null,null,null,null,null,null,null,null,null,null,null,null,null,null,""]
[null,null,null,null,null,null,null,null,null,null,null,null,null,null,null,null,null,null,null,null,null,null,null,null,null,null,null,null,null,null,""]
[null,null,null,null,null,null,null,null,null,null,null,null,null,null,null,null,null,null,null,null,null,null,null,null,null,null,null,null,null,null,""]
[null,null,null,null,null,null,null,null,null,null,null,null,null,null,null,null,null,null,null,null,null,null,null,null,null,null,null,null,null,null,""]
[null,null,null,null,null,null,null,null,null,null,null,null,null,null,null,null,null,null,null,null,null,null,null,null,null,null,null,null,null,null,""]
[null,null,null,null,null,null,null,null,null,null,null,null,null,null,null,null,null,null,null,null,null,null,null,null,null,null,null,null,null,null,""]

{"sheet":"견적서","index":62,"n_rows":33,"n_cols":22,"rows_kept":33,"cut":false,"hidden":false,"merged":[[2,12,2,14],[3,12,3,14],[4,12,4,14],[5,12,5,14],[9,2,9,9],[7,3,8,4],[3,1,4,4],[5,1,6,4],[7,1,7,2],[8,1,8,2],[32,1,32,3],[32,4,32,5],[32,6,32,7],[1,1,2,9],[5,7,5,9],[3,6,3,9],[4,7,4,9],[16,2,16,3],[6,7,6,9],[7,7,7,9],[11,2,11,3],[12,2,12,3],[13,2,13,3],[14,2,14,3],[10,1,10,9],[29,2,29,3],[30,2,30,3],[31,2,31,3],[15,2,15,3],[28,2,28,3],[17,2,17,3],[18,2,18,3],[19,2,19,3],[20,2,20,3],[21,2,21,3],[22,2,22,3],[23,2,23,3],[24,2,24,3],[25,2,25,3],[26,2,26,3],[27,2,27,3]]}
[]
[null,"견 적 서"]
[null,null,null,null,null,null,null,null,null,null,null,null,"견적일"]
[null,{"$f":"M4","v":"2021-01-25"},null,null,null,null,"공 급 자 ",null,null,null,null,null,"2021-01-25"]
[null,null,null,null,null,null,"상         호",{"$f":"IFBLANK(요양기관기초정보!D1)","v":"팜오피스약국"},null,null,null,null,"거래처",null,null,null,null,null,null,null,null,1]
[null,"                             귀 하",null,null,null,null,"등 록 번 호",{"$f":"IFBLANK(요양기관기초정보!C14)","v":"307-06-71688"}]
[null,null,null,null,null,null,"대표자성명",{"$f":"IFBLANK(요양기관기초정보!C6)","v":"홍길동"}]
[null,"합계금액",null,{"$f":"J33","v":1210},null,null,"사업장주소",{"$f":"IFBLANK(요양기관기초정보!C11)","v":"서울 서대문구 연세로 41 (창천동 78-14)"}]
[null,"(공급가액+세액)",null,null,null,null,"업         태",{"$f":"IFBLANK(요양기관기초정보!C15)","v":"소매"},"종         목",{"$f":"IFBLANK(요양기관기초정보!C16)","v":"양약,의료기기"}]
[null,null,"아래와 같이 견적합니다"]
[null,"견 적 품 목 내 역 "]
[null,"No","품            목",null,"규 격","단가","수량","공급가액","부가세","계"]
[null,{"$f":"IF(C13=\"\",\"\",1)","v":1},"RPFVHTM",null,1,1000,1,{"$f":"IF(ISBLANK(G13),\"\",F13*G13)","v":1000},{"$f":"IF(ISBLANK(G13),\"\",H13*0.1)","v":100},{"$f":"IF(G13=\"\",\"\",F13*G13*1.1)","v":1100}]
[null,{"$f":"IF(C14=\"\",\"\",B13+1)","v":2},"DKFAKRPF",null,1,100,1,{"$f":"IF(ISBLANK(G14),\"\",F14*G14)","v":100},{"$f":"IF(ISBLANK(G14),\"\",H14*0.1)","v":10},{"$f":"IF(G14=\"\",\"\",F14*G14*1.1)","v":110.00000000000001}]
[null,null,null,null,null,null,null,{"$f":"IF(ISBLANK(G15),\"\",F15*G15)","v":""},{"$f":"IF(ISBLANK(G15),\"\",H15*0.1)","v":""},{"$f":"IF(G15=\"\",\"\",F15*G15*1.1)","v":""}]
[null,{"$f":"IF(C16=\"\",\"\",B15+1)","v":""},null,null,null,null,null,"","",""]
[null,"",null,null,null,null,null,"","",""]
[null,"",null,null,null,null,null,"","",""]
[null,"",null,null,null,null,null,"","",""]
[null,"",null,null,null,null,null,"","",""]
[null,"",null,null,null,null,null,"","",""]
[null,"",null,null,null,null,null,"","",""]
[null,"",null,null,null,null,null,"","",""]
[null,"",null,null,null,null,null,"","",""]
[null,"",null,null,null,null,null,"","",""]
[null,"",null,null,null,null,null,"","",""]
[null,"",null,null,null,null,null,"","",""]
[null,"",null,null,null,null,null,"","",""]
[null,"",null,null,null,null,null,"","",""]
[null,"",null,null,null,null,null,"","",""]
[null,"",null,null,null,null,null,"","",""]
[null,"",null,null,null,null,null,{"$f":"IF(ISBLANK(G32),\"\",F32*G32)","v":""},{"$f":"IF(ISBLANK(G32),\"\",H32*0.1)","v":""},{"$f":"IF(G32=\"\",\"\",F32*G32*1.1)","v":""}]
[null,"품목수",null,null,{"$f":"COUNT(B13:B32)","v":2},null,{"$f":"(SUM(H13:H32))","v":1100},null,{"$f":"SUM(I13:I32)","v":110},{"$f":"G33+I33","v":1210}]

{"sheet":"거래명세서","index":63,"n_rows":40,"n_cols":23,"rows_kept":40,"cut":false,"hidden":false,"merged":[[3,14,3,15],[3,2,3,4],[3,7,3,9],[0,1,0,9],[1,1,1,4],[1,6,1,9],[2,2,2,4],[2,7,2,9],[14,2,14,3],[4,2,4,4],[4,7,4,9],[5,2,5,4],[5,7,5,9],[8,1,8,6],[8,8,8,9],[9,2,9,3],[10,2,10,3],[11,2,11,3],[12,2,12,3],[13,2,13,3],[26,2,26,3],[15,2,15,3],[16,2,16,3],[17,2,17,3],[18,2,18,3],[19,2,19,3],[20,2,20,3],[21,2,21,3],[22,2,22,3],[23,2,23,3],[24,2,24,3],[25,2,25,3],[38,2,38,3],[27,2,27,3],[28,2,28,3],[29,2,29,3],[30,2,30,3],[31,2,31,3],[32,2,32,3],[33,2,33,3],[34,2,34,3],[35,2,35,3],[36,2,36,3],[37,2,37,3],[39,1,39,3],[39,4,39,5],[39,6,39,7],[40,1,40,5],[40,6,40,7]]}
[null,"거 래 명 세 서"]
[null,"공 급 자 ",null,null,null,null,"공급받는자 "]
[null,"상         호",{"$f":"IFBLANK(요양기관기초정보!D1)","v":"팜오피스약국"},null,null,null,"상         호",{"$f":"IF($O$5=\"\",\"\",VLOOKUP($O$5,$O$10:$W$23,2))","v":"정문약국"}]
[null,"등 록 번 호",{"$f":"IFBLANK(요양기관기초정보!C14)","v":"307-06-71688"},null,null,null,"등 록 번 호",{"$f":"IF($O$5=\"\",\"\",VLOOKUP($O$5,$O$10:$W$23,4))","v":"307-06-71688"},null,null,null,null,null,null,"거래처 선택"]
[null,"대표자성명",{"$f":"IFBLANK(요양기관기초정보!C6)","v":"홍길동"},null,null,null,"대표자성명",{"$f":"IF($O$5=\"\",\"\",VLOOKUP($O$5,$O$10:$W$23,3))","v":"이근호"},null,null,null,null,null,null,1,{"$f":"IF($O$5=\"\",\"\",VLOOKUP($O$5,$O$10:$W$23,2))","v":"정문약국"}]
[null,"사업장주소",{"$f":"IFBLANK(요양기관기초정보!C11)","v":"서울 서대문구 연세로 41 (창천동 78-14)"},null,null,null,"사업장주소",{"$f":"IF($O$5=\"\",\"\",VLOOKUP($O$5,$O$10:$W$23,7))","v":"서울 서대문구 창천동 78-14"}]
[null,"업         태",{"$f":"IFBLANK(요양기관기초정보!C15)","v":"소매"},"종         목",{"$f":"IFBLANK(요양기관기초정보!C16)","v":"양약,의료기기"},null,"업태",{"$f":"IF($O$5=\"\",\"\",VLOOKUP($O$5,$O$10:$W$23,5))","v":"소매"},"종목",{"$f":"IF($O$5=\"\",\"\",VLOOKUP($O$5,$O$10:$W$23,6))","v":"양약"}]
[]
[null,"공 급 품 목 내 역 ",null,null,null,null,null,"날   짜",{"$f":"TODAY()","v":"2021-05-31"},null,null,null,null,null,"연번","상호","대표","등록번호","업태","종목","주소","전화","팩스"]
[null,"No","품            목",null,"규 격","단가","수량","공급가액","부가세","계",null,null,null,null,{"$f":"IF(P10=\"\",\"\",1)","v":1},"정문약국","이근호","307-06-71688","소매","양약","서울 서대문구 창천동 78-14","02-324-4650","0505-324-4662"]
[null,{"$f":"IF(C11=\"\",\"\",1)","v":1},"겔포스",null,"4포",4000,5,{"$f":"IF(ISBLANK(G11),\"\",F11*G11)","v":20000},{"$f":"IF(ISBLANK(G11),\"\",H11*0.1)","v":2000},{"$f":"IF(G11=\"\",\"\",F11*G11*1.1)","v":22000},null,null,null,null,{"$f":"IF(P11=\"\",\"\",O10+1)","v":""}]
[null,{"$f":"IF(C12=\"\",\"\",B11+1)","v":2},"알마겔",null,"20포",5000,2,{"$f":"IF(ISBLANK(G12),\"\",F12*G12)","v":10000},{"$f":"IF(ISBLANK(G12),\"\",H12*0.1)","v":1000},{"$f":"IF(G12=\"\",\"\",F12*G12*1.1)","v":11000},null,null,null,null,{"$f":"IF(P12=\"\",\"\",O11+1)","v":""}]
[null,{"$f":"IF(C13=\"\",\"\",B12+1)","v":""},null,null,null,null,null,"","","",null,null,null,null,""]
[null,"",null,null,null,null,null,"","","",null,null,null,null,""]
[null,"",null,null,null,null,null,"","","",null,null,null,null,""]
[null,"",null,null,null,null,null,"","",{"$f":"IF(G16=\"\",\"\",F16*G16)","v":""},null,null,null,null,""]
[null,"",null,null,null,null,null,"","",null,null,null,null,null,""]
[null,"",null,null,null,null,null,"","",null,null,null,null,null,""]
[null,"",null,null,null,null,null,"","",null,null,null,null,null,""]
[null,"",null,null,null,null,null,"","",null,null,null,null,null,""]
[null,"",null,null,null,null,null,"","",null,null,null,null,null,""]
[null,"",null,null,null,null,null,"","",null,null,null,null,null,""]
[null,"",null,null,null,null,null,"","",{"$f":"IF(G23=\"\",\"\",F23*G23)","v":""},null,null,null,null,""]
[null,"",null,null,null,null,null,"","",""]
[null,"",null,null,null,null,null,"","",""]
[null,"",null,null,null,null,null,"","",""]
[null,"",null,null,null,null,null,"","",""]
[null,"",null,null,null,null,null,"","",""]
[null,"",null,null,null,null,null,"","",""]
[null,"",null,null,null,null,null,"","",""]
[null,"",null,null,null,null,null,"","",""]
[null,"",null,null,null,null,null,"","",""]
[null,"",null,null,null,null,null,"","",""]
[null,"",null,null,null,null,null,"","",""]
[null,"",null,null,null,null,null,"","",""]
[null,"",null,null,null,null,null,"","",""]
[null,"",null,null,null,null,null,"","",""]
[null,"",null,null,null,null,null,"","",""]
[null,{"$f":"IF(C39=\"\",\"\",B38+1)","v":""},null,null,null,null,null,{"$f":"IF(ISBLANK(G39),\"\",IF(D1=\"부가세포함\",(F39*G39)/1.1,IF(D1=\"부가세별도\",F39*G39,IF(D1=\"영세율\",F39*G39,0))))","v":""},"",""]
[null,"품목수",null,null,{"$f":"COUNT(B11:B39)","v":2},null,{"$f":"(SUM(H11:H39))","v":30000},null,{"$f":"SUM(I11:I39)","v":3000},{"$f":"G40+I40","v":33000}]

{"sheet":"세금계산서","index":64,"n_rows":47,"n_cols":45,"rows_kept":47,"cut":false,"hidden":false,"merged":[[30,14,31,15],[1,22,1,25],[2,22,2,25],[2,26,2,31],[1,26,1,28],[1,29,1,31],[26,22,26,25],[27,22,27,25],[26,26,26,28],[26,29,26,31],[27,26,27,31],[28,25,29,25],[28,26,29,26],[28,27,29,27],[28,28,29,28],[28,29,29,29],[28,30,29,30],[28,31,29,31],[15,25,15,29],[15,30,15,31],[14,30,14,31],[9,27,10,31],[7,17,7,19],[3,23,4,23],[34,27,35,31],[44,5,44,14],[44,15,44,24],[45,5,45,14],[45,15,45,24],[32,17,32,19],[33,17,33,19],[5,17,5,19],[6,17,6,19],[30,20,31,25],[30,26,31,26],[34,20,35,25],[34,26,35,26],[30,27,31,31],[42,25,42,29],[42,30,42,31],[41,2,41,7],[41,8,41,10],[41,11,41,13],[41,14,41,18],[41,19,41,24],[41,25,41,29],[41,30,41,31],[42,2,42,7],[46,20,46,31],[43,30,43,31],[44,29,45,30],[44,31,45,31],[43,2,43,7],[43,8,43,10],[44,0,44,4],[44,25,45,28],[45,0,45,4],[43,11,43,13],[43,14,43,18],[43,19,43,24],[43,25,43,29],[42,8,42,10],[42,11,42,13],[42,14,42,18],[42,19,42,24],[37,0,37,1],[37,4,37,5],[39,30,39,31],[37,27,38,31],[38,0,38,1],[38,4,38,5],[40,2,40,7],[40,8,40,10],[40,11,40,13],[40,14,40,18],[40,19,40,24],[40,25,40,29],[40,30,40,31],[39,2,39,7],[39,8,39,10],[39,11,39,13],[39,14,39,18],[39,19,39,24],[39,25,39,29],[28,11,29,11],[28,12,29,12],[28,13,29,13],[28,14,29,14],[28,15,29,15],[36,0,36,3],[36,4,36,16],[36,17,36,26],[36,27,36,31],[28,16,35,16],[28,17,29,19],[28,20,29,20],[28,21,29,21],[30,11,31,13],[30,17,31,19],[32,4,33,15],[32,20,33,31],[34,4,35,9],[34,10,35,10],[34,11,35,15],[34,17,35,19],[28,22,29,22],[28,23,29,23],[28,24,29,24],[28,0,35,0],[28,1,29,3],[28,4,29,4],[28,5,29,5],[28,6,29,6],[28,7,29,7],[28,8,29,8],[28,9,29,9],[28,10,29,10],[30,1,30,3],[30,4,31,9],[30,10,31,10],[31,1,31,3],[32,1,32,3],[33,1,33,3],[34,1,35,3],[21,7,21,9],[21,22,21,31],[26,0,27,14],[26,15,27,15],[26,16,26,20],[26,21,27,21],[27,16,27,20],[18,2,18,7],[18,8,18,10],[18,11,18,13],[18,14,18,18],[18,19,18,24],[18,25,18,29],[18,30,18,31],[19,0,19,4],[19,25,20,28],[19,29,20,30],[19,31,20,31],[20,0,20,4],[19,5,19,14],[19,15,19,24],[20,5,20,14],[20,15,20,24],[17,2,17,7],[17,8,17,10],[17,11,17,13],[17,14,17,18],[17,19,17,24],[17,25,17,29],[17,30,17,31],[16,2,16,7],[16,8,16,10],[16,30,16,31],[16,11,16,13],[16,14,16,18],[16,19,16,24],[16,25,16,29],[15,2,15,7],[15,8,15,10],[15,11,15,13],[15,14,15,18],[15,19,15,24],[12,0,12,1],[12,4,12,5],[12,27,13,31],[13,0,13,1],[13,4,13,5],[14,2,14,7],[14,8,14,10],[14,11,14,13],[14,14,14,18],[14,19,14,24],[14,25,14,29],[5,26,6,26],[9,20,10,25],[9,26,10,26],[5,27,6,31],[5,14,6,15],[11,0,11,3],[11,4,11,16],[11,17,11,26],[11,27,11,31],[6,1,6,3],[9,4,10,9],[9,10,10,10],[5,4,6,9],[5,10,6,10],[7,4,8,15],[5,11,6,13],[3,0,10,0],[3,1,4,3],[3,4,4,4],[3,5,4,5],[7,1,7,3],[8,1,8,3],[3,11,4,11],[3,12,4,12],[3,13,4,13],[3,14,4,14],[3,15,4,15],[3,16,10,16],[5,20,6,25],[8,17,8,19],[3,17,4,19],[3,20,4,20],[3,21,4,21],[9,11,10,15],[9,17,10,19],[9,1,10,3],[5,1,5,3],[0,21,0,26],[0,27,0,31],[1,0,2,14],[1,15,2,15],[1,16,1,20],[1,21,2,21],[2,16,2,20],[3,31,4,31],[3,28,4,28],[3,29,4,29],[3,30,4,30],[3,6,4,6],[3,7,4,7],[3,8,4,8],[3,9,4,9],[3,10,4,10],[3,22,4,22],[7,20,8,31],[3,24,4,24],[3,25,4,25],[3,26,4,26],[3,27,4,27]]}
["[별지 제11호 서식]"]
["세 금 계 산 서",null,null,null,null,null,null,null,null,null,null,null,null,null,null,"(","공급받는자",null,null,null,null,")","책   번   호",null,null,null,"권",null,null,"호"]
[null,null,null,null,null,null,null,null,null,null,null,null,null,null,null,null,"보  관  용",null,null,null,null,null,"일 련 번 호"]
["공 급 자","등록번호",null,null,{"$f":"MID(요양기관기초정보!$C$14,1,1)","v":"3"},{"$f":"MID(요양기관기초정보!$C$14,2,1)","v":"0"},{"$f":"MID(요양기관기초정보!$C$14,3,1)","v":"7"},"-",{"$f":"MID(요양기관기초정보!$C$14,5,1)","v":"0"},{"$f":"MID(요양기관기초정보!$C$14,6,1)","v":"6"},"-",{"$f":"MID(요양기관기초정보!$C$14,8,1)","v":"7"},{"$f":"MID(요양기관기초정보!$C$14,9,1)","v":"1"},{"$f":"MID(요양기관기초정보!$C$14,10,1)","v":"6"},{"$f":"MID(요양기관기초정보!$C$14,11,1)","v":"8"},{"$f":"MID(요양기관기초정보!$C$14,12,1)","v":"8"},"공급받는자","등록번호",null,null,{"$f":"MID(거래명세서!$H$4,1,1)","v":"3"},{"$f":"MID(거래명세서!$H$4,2,1)","v":"0"},{"$f":"MID(거래명세서!$H$4,3,1)","v":"7"},{"$f":"MID(거래명세서!$H$4,4,1)","v":"-"},{"$f":"MID(거래명세서!$H$4,5,1)","v":"0"},{"$f":"MID(거래명세서!$H$4,6,1)","v":"6"},{"$f":"MID(거래명세서!$H$4,7,1)","v":"-"},{"$f":"MID(거래명세서!$H$4,8,1)","v":"7"},{"$f":"MID(거래명세서!$H$4,9,1)","v":"1"},{"$f":"MID(거래명세서!$H$4,10,1)","v":"6"},{"$f":"MID(거래명세서!$H$4,11,1)","v":"8"},{"$f":"MID(거래명세서!$H$4,12,1)","v":"8"}]
[]
[null,"상     호",null,null,{"$f":"IFBLANK(요양기관기초정보!D1)","v":"팜오피스약국"},null,null,null,null,null,"성명",{"$f":"IFBLANK(요양기관기초정보!C6)","v":"홍길동"},null,null,"인",null,null,"상     호",null,null,{"$f":"IFBLANK(거래명세서!H3)","v":"정문약국"},null,null,null,null,null,"성명",{"$f":"IFBLANK(거래명세서!H5)","v":"이근호"}]
[null,"(법인명)",null,null,null,null,null,null,null,null,null,null,null,null,null,null,null,"(법인명)"]
[null,"사 업 장",null,null,{"$f":"IFBLANK(요양기관기초정보!C11)","v":"서울 서대문구 연세로 41 (창천동 78-14)"},null,null,null,null,null,null,null,null,null,null,null,null,"사 업 장",null,null,{"$f":"IFBLANK(거래명세서!H6)","v":"서울 서대문구 창천동 78-14"}]
[null,"주     소",null,null,null,null,null,null,null,null,null,null,null,null,null,null,null,"주     소"]
[null,"업     태",null,null,{"$f":"IFBLANK(요양기관기초정보!C15)","v":"소매"},null,null,null,null,null,"종목",{"$f":"IFBLANK(요양기관기초정보!C16)","v":"양약,의료기기"},null,null,null,null,null,"비    고",null,null,{"$f":"IFBLANK(거래명세서!H7)","v":"소매"},null,null,null,null,null,"종목",{"$f":"IFBLANK(거래명세서!J7)","v":"양약"}]
[null,null,null,null,null,null,null,null,null,null,null,null,null,null,null,null,null,null,null,null,null,null,null,null,null,null,null,null,null,null,null,null,null,null,null,null,null,null,null,null,null,null,{"$f":"IFBLANK(거래명세서!N3)","v":""},{"$f":"IFBLANK(거래명세서!O3)","v":""},{"$f":"IFBLANK(거래명세서!P3)","v":""}]
["작     성",null,null,null,"공      급      가      액",null,null,null,null,null,null,null,null,null,null,null,null,"세               액",null,null,null,null,null,null,null,null,null,"비      고",null,null,null,null,null,null,null,null,null,null,null,null,null,null,{"$f":"IFBLANK(거래명세서!N4)","v":""}]
["년",null,"월","일","공란수",null,"백","십","억","천","백","십","만","천","백","십","일","십","억","천","백","십","만","천","백","십","일",null,null,null,null,null,null,null,null,null,null,null,null,null,null,null,{"$f":"IFBLANK(거래명세서!N5)","v":""}]
[{"$f":"YEAR(거래명세서!I9)","v":2021},null,{"$f":"MONTH(거래명세서!I9)","v":5},{"$f":"DAY(거래명세서!I9)","v":31},{"$f":"TEXT(11-LEN(TEXT(A21*0.9,\"###########\")),\"0\")","v":"6"},null,{"$f":"IF(ISERROR(MID($U$23,LEN($U$23)-10,1)),\"\",MID($U$23,LEN($U$23)-10,1))","v":""},{"$f":"IF(ISERROR(MID($U$23,LEN($U$23)-9,1)),\"\",MID($U$23,LEN($U$23)-9,1))","v":""},{"$f":"IF(ISERROR(MID($U$23,LEN($U$23)-8,1)),\"\",MID($U$23,LEN($U$23)-8,1))","v":""},{"$f":"IF(ISERROR(MID($U$23,LEN($U$23)-7,1)),\"\",MID($U$23,LEN($U$23)-7,1))","v":""},{"$f":"IF(ISERROR(MID($U$23,LEN($U$23)-6,1)),\"\",MID($U$23,LEN($U$23)-6,1))","v":""},{"$f":"IF(ISERROR(MID($U$23,LEN($U$23)-5,1)),\"\",MID($U$23,LEN($U$23)-5,1))","v":""},{"$f":"IF(ISERROR(MID($U$23,LEN($U$23)-4,1)),\"\",MID($U$23,LEN($U$23)-4,1))","v":"3"},{"$f":"IF(ISERROR(MID($U$23,LEN($U$23)-3,1)),\"\",MID($U$23,LEN($U$23)-3,1))","v":"0"},{"$f":"IF(ISERROR(MID($U$23,LEN($U$23)-2,1)),\"\",MID($U$23,LEN($U$23)-2,1))","v":"0"},{"$f":"IF(ISERROR(MID($U$23,LEN($U$23)-1,1)),\"\",MID($U$23,LEN($U$23)-1,1))","v":"0"},{"$f":"RIGHT(TEXT(SUM($T$16:$Y$19),\"###\"))","v":"0"},{"$f":"IF(ISERROR(MID($V$23,LEN($V$23)-9,1)),\"\",MID($V$23,LEN($V$23)-9,1))","v":""},{"$f":"IF(ISERROR(MID($V$23,LEN($V$23)-8,1)),\"\",MID($V$23,LEN($V$23)-8,1))","v":""},{"$f":"IF(ISERROR(MID($V$23,LEN($V$23)-7,1)),\"\",MID($V$23,LEN($V$23)-7,1))","v":""},{"$f":"IF(ISERROR(MID($V$23,LEN($V$23)-6,1)),\"\",MID($V$23,LEN($V$23)-6,1))","v":""},{"$f":"IF(ISERROR(MID($V$23,LEN($V$23)-5,1)),\"\",MID($V$23,LEN($V$23)-5,1))","v":""},{"$f":"IF(ISERROR(MID($V$23,LEN($V$23)-4,1)),\"\",MID($V$23,LEN($V$23)-4,1))","v":""},{"$f":"IF(ISERROR(MID($V$23,LEN($V$23)-3,1)),\"\",MID($V$23,LEN($V$23)-3,1))","v":"3"},{"$f":"IF(ISERROR(MID($V$23,LEN($V$23)-2,1)),\"\",MID($V$23,LEN($V$23)-2,1))","v":"0"},{"$f":"IF(ISERROR(MID($V$23,LEN($V$23)-1,1)),\"\",MID($V$23,LEN($V$23)-1,1))","v":"0"},{"$f":"IF(ISERROR(MID($V$23,LEN($V$23),1)),\"\",MID($V$23,LEN($V$23),1))","v":"0"},null,null,null,null,null,null,null,null,null,null,null,null,null,null,null,{"$f":"IFBLANK(거래명세서!N6)","v":""}]
["월","일","품          목",null,null,null,null,null,"규격",null,null,"수량",null,null,"단      가",null,null,null,null,"공  급  가  액",null,null,null,null,null,"세        액",null,null,null,null,"비고",null,null,null,null,null,null,null,null,null,null,null,{"$f":"IFBLANK(거래명세서!N7)","v":""},{"$f":"IFBLANK(거래명세서!O7)","v":""},{"$f":"IFBLANK(거래명세서!P7)","v":""}]
[{"$f":"IF(C16=\"\",\"\",$C$14)","v":5},{"$f":"IF(C16=\"\",\"\",$D$14)","v":31},{"$f":"IF(거래명세서!E40=1,거래명세서!C11,거래명세서!C11&\"외\"&거래명세서!E40-1&\"품목\")","v":"겔포스외1품목"},null,null,null,null,null,{"$f":"IF(거래명세서!$E$40=1,거래명세서!E11,1)","v":1},null,null,{"$f":"IF(거래명세서!$E$40=1,거래명세서!G11,1)","v":1},null,null,{"$f":"IF(거래명세서!$E$40=1,거래명세서!F11,거래명세서!G40)","v":30000},null,null,null,null,{"$f":"L16*O16","v":30000},null,null,null,null,null,{"$f":"T16*0.1","v":3000}]
[{"$f":"IF(C17=\"\",\"\",$C$14)","v":""},{"$f":"IF(C17=\"\",\"\",$D$14)","v":""}]
[{"$f":"IF(C18=\"\",\"\",$C$14)","v":""},{"$f":"IF(C18=\"\",\"\",$D$14)","v":""}]
[{"$f":"IF(C19=\"\",\"\",$C$14)","v":""},{"$f":"IF(C19=\"\",\"\",$D$14)","v":""},"",null,null,null,null,null,0,null,null,0,null,null,"",null,null,null,null,{"$f":"IF(O19=\"\",\"\",O19*L19/1.1)","v":""},null,null,null,null,null,{"$f":"IF(T19=\"\",\"\",ROUND(T19*0.1,3))","v":""}]
["합계금액(S)",null,null,null,null,"공급가액",null,null,null,null,null,null,null,null,null,"세액",null,null,null,null,null,null,null,null,null,"이 금액을 ",null,null,null,"영수",null,"함"]
[{"$f":"F21+P21","v":33000},null,null,null,null,{"$f":"T16","v":30000},null,null,null,null,null,null,null,null,null,{"$f":"Z16","v":3000}]
["22226-28131일 '96.3.27승인",null,null,null,null,null,null,null,null,null,null,null,null,null,null,null,null,null,null,null,null,null,"인쇄용지(특급)34g/m2 182mmx128mm"]
[null,null,null,null,null,null,null,null,null,null,null,null,null,null,null,null,null,null,null,null,{"$f":"TEXT(SUM(T16:Y19),\"###\")","v":"30000"},{"$f":"TEXT(SUM(U16:Z19),\"###\")","v":"3000"}]
[]
[]
["[별지 제11호 서식]"]
[" 세 금 계 산 서",null,null,null,null,null,null,null,null,null,null,null,null,null,null,"(","공  급  자",null,null,null,null,")","책   번   호",null,null,null,"권",null,null,"호"]
[null,null,null,null,null,null,null,null,null,null,null,null,null,null,null,null,"보  관  용",null,null,null,null,null,"일 련 번 호"]
["공 급 자","등록번호",null,null,{"$f":"E4","v":"3"},"0","7","-","0","6","-","7","1","6","8","8","공급받는자","등록번호",null,null,{"$f":"U4","v":"3"},"0","7","-","0","6","-","7","1","6","8","8"]
[]
[null,"상     호",null,null,{"$f":"E6","v":"팜오피스약국"},null,null,null,null,null,"성명",{"$f":"L6","v":"홍길동"},null,null,"인",null,null,"이    름",null,null,{"$f":"U6","v":"정문약국"},null,null,null,null,null,"성명",{"$f":"IFBLANK(AB6)","v":"이근호"}]
[null,"(법인명)"]
[null,"사 업 장",null,null,{"$f":"E8","v":"서울 서대문구 연세로 41 (창천동 78-14)"},null,null,null,null,null,null,null,null,null,null,null,null,"사 업 장",null,null,{"$f":"U8","v":"서울 서대문구 창천동 78-14"}]
[null,"주     소",null,null,null,null,null,null,null,null,null,null,null,null,null,null,null,"주     소"]
[null,"업     태",null,null,{"$f":"E10","v":"소매"},null,null,null,null,null,"종목",{"$f":"L10","v":"양약,의료기기"},null,null,null,null,null,"업     태",null,null,{"$f":"U10","v":"소매"},null,null,null,null,null,"종목",{"$f":"AB10","v":"양약"}]
[]
["작     성",null,null,null,"공      급       가      액",null,null,null,null,null,null,null,null,null,null,null,null,"세                액",null,null,null,null,null,null,null,null,null,"비     고"]
["년",null,"월","일","공란수",null,"백","십","억","천","백","십","만","천","백","십","일","십","억","천","백","십","만","천","백","십","일"]
[{"$f":"A14","v":2021},null,{"$f":"C14","v":5},{"$f":"D14","v":31},{"$f":"E14","v":"6"},null,{"$f":"G14","v":""},{"$f":"H14","v":""},{"$f":"I14","v":""},{"$f":"J14","v":""},null,{"$f":"L14","v":""},"3","0","0","0","0","","","","","","","3","0","0","0"]
["월","일","품          목",null,null,null,null,null,"규격",null,null,"수량",null,null,"단      가",null,null,null,null,"공  급  가  액",null,null,null,null,null,"세        액",null,null,null,null,"비고"]
[{"$f":"A16","v":5},31,"겔포스외1품목",null,null,null,null,null,{"$f":"I16","v":1},null,null,{"$f":"L16","v":1},null,null,{"$f":"O16","v":30000},null,null,null,null,{"$f":"T16","v":30000},null,null,null,null,null,{"$f":"Z16","v":3000}]
["","",0,null,null,null,null,null,{"$f":"I17","v":0},null,null,{"$f":"L17","v":0},null,null,{"$f":"O17","v":0},null,null,null,null,{"$f":"T17","v":0},null,null,null,null,null,{"$f":"Z17","v":0}]
["","",0,null,null,null,null,null,{"$f":"I18","v":0},null,null,{"$f":"L18","v":0},null,null,{"$f":"O18","v":0},null,null,null,null,{"$f":"T18","v":0},null,null,null,null,null,{"$f":"Z18","v":0}]
["","","",null,null,null,null,null,{"$f":"I19","v":0},null,null,{"$f":"L19","v":0},null,null,{"$f":"O19","v":""},null,null,null,null,{"$f":"T19","v":""},null,null,null,null,null,{"$f":"Z19","v":""}]
["합계금액",null,null,null,null,"공급가액",null,null,null,null,null,null,null,null,null,"세액",null,null,null,null,null,null,null,null,null,"이 금액을 ",null,null,null,{"$f":"AD20","v":"영수"},null,"함"]
[{"$f":"A21","v":33000},null,null,null,null,{"$f":"F21","v":30000},null,null,null,null,null,null,null,null,null,{"$f":"P21","v":3000}]
["22226-28131일 '96.3.27승인",null,null,null,null,null,null,null,null,null,null,null,null,null,null,null,null,null,null,null,"인쇄용지(특급)34g/m2 182mmx128mm"]

{"sheet":"간이영수증","index":65,"n_rows":106,"n_cols":140,"rows_kept":106,"cut":false,"hidden":false,"merged":[[16,155,18,184],[17,130,19,150],[20,130,22,137],[21,149,22,150],[21,151,22,152],[23,151,24,152],[26,130,28,134],[26,135,28,138],[26,139,28,150],[23,129,25,150],[20,138,22,148],[78,29,80,35],[81,0,83,2],[90,0,92,2],[90,3,92,19],[90,20,92,23],[90,24,92,28],[90,29,92,35],[72,0,74,2],[72,3,74,19],[72,20,74,23],[75,24,77,28],[75,29,77,35],[81,20,83,23],[81,24,83,28],[81,29,83,35],[84,0,86,2],[84,3,86,19],[84,20,86,23],[84,24,86,28],[84,29,86,35],[72,24,74,28],[72,29,74,35],[75,0,77,2],[75,3,77,19],[24,32,25,33],[27,4,29,10],[13,0,17,35],[18,0,29,3],[18,4,20,10],[18,11,20,31],[21,4,23,10],[21,11,23,18],[21,19,23,22],[33,0,35,10],[33,11,35,23],[33,24,35,35],[36,0,38,2],[36,3,38,19],[36,20,38,23],[36,24,38,28],[36,29,38,35],[27,11,29,15],[27,16,29,19],[27,20,29,35],[30,0,32,10],[30,11,32,23],[30,24,32,35],[63,29,65,35],[93,0,95,2],[93,3,95,19],[93,20,95,23],[93,24,95,28],[93,29,95,35],[96,0,98,2],[96,3,98,19],[39,0,41,2],[39,3,41,19],[39,20,41,23],[39,24,41,28],[39,29,41,35],[63,0,65,2],[63,3,65,19],[63,20,65,23],[63,24,65,28],[69,20,71,23],[69,24,71,28],[69,29,71,35],[87,0,89,2],[87,3,89,19],[87,20,89,23],[87,24,89,28],[102,0,104,23],[102,24,104,35],[105,0,107,35],[66,0,68,2],[66,3,68,19],[66,20,68,23],[66,24,68,28],[66,29,68,35],[69,0,71,2],[69,3,71,19],[96,20,98,23],[96,24,98,28],[96,29,98,35],[99,0,101,2],[99,3,101,19],[99,20,101,23],[99,24,101,28],[99,29,101,35],[78,0,80,2],[78,3,80,19],[78,20,80,23],[78,24,80,28],[87,29,89,35],[81,3,83,19],[4,0,12,35],[4,42,12,77],[13,42,17,77],[18,42,29,45],[18,46,20,52],[18,53,20,73],[21,46,23,52],[21,53,23,60],[21,61,23,64],[22,74,23,75],[24,46,26,52],[24,53,26,71],[24,72,25,73],[24,74,25,75],[27,46,29,52],[27,53,29,57],[27,58,29,61],[27,62,29,77],[21,23,23,29],[22,30,23,31],[22,32,23,33],[24,4,26,10],[24,11,26,29],[24,30,25,31],[75,20,77,23],[33,42,35,52],[33,53,35,65],[33,66,35,77],[36,42,38,44],[36,45,38,61],[36,62,38,65],[36,66,38,70],[36,71,38,77],[66,66,68,70],[39,42,41,44],[72,42,74,44],[72,45,74,61],[72,62,74,65],[72,66,74,70],[72,71,74,77],[75,42,77,44],[75,45,77,61],[75,62,77,65],[75,66,77,70],[75,71,77,77],[42,66,44,70],[42,71,44,77],[45,71,47,77],[30,42,32,52],[30,53,32,65],[30,66,32,77],[21,65,23,71],[22,72,23,73],[66,71,68,77],[69,42,71,44],[69,45,71,61],[69,62,71,65],[69,66,71,70],[69,71,71,77],[39,45,41,61],[39,62,41,65],[39,66,41,70],[39,71,41,77],[63,42,65,44],[63,45,65,61],[63,62,65,65],[63,66,65,70],[63,71,65,77],[42,62,44,65],[66,42,68,44],[66,45,68,61],[66,62,68,65],[78,42,80,44],[78,45,80,61],[78,62,80,65],[78,66,80,70],[78,71,80,77],[81,42,83,44],[81,45,83,61],[81,62,83,65],[81,66,83,70],[81,71,83,77],[90,71,92,77],[93,42,95,44],[93,45,95,61],[93,62,95,65],[93,66,95,70],[93,71,95,77],[84,42,86,44],[84,45,86,61],[84,62,86,65],[84,66,86,70],[84,71,86,77],[87,42,89,44],[87,45,89,61],[87,62,89,65],[87,66,89,70],[87,71,89,77],[102,42,104,65],[102,66,104,77],[105,42,107,77],[42,0,44,2],[42,3,44,19],[42,20,44,23],[42,24,44,28],[42,29,44,35],[42,42,44,44],[42,45,44,61],[96,42,98,44],[96,45,98,61],[96,62,98,65],[96,66,98,70],[96,71,98,77],[99,42,101,44],[99,45,101,61],[99,62,101,65],[99,66,101,70],[99,71,101,77],[90,42,92,44],[90,45,92,61],[90,62,92,65],[90,66,92,70],[45,0,47,2],[45,3,47,19],[45,20,47,23],[45,24,47,28],[45,29,47,35],[45,42,47,44],[45,45,47,61],[45,62,47,65],[45,66,47,70],[48,71,50,77],[51,0,53,2],[51,3,53,19],[51,20,53,23],[51,24,53,28],[51,29,53,35],[51,42,53,44],[51,45,53,61],[51,62,53,65],[51,66,53,70],[51,71,53,77],[48,0,50,2],[48,3,50,19],[48,20,50,23],[48,24,50,28],[48,29,50,35],[48,42,50,44],[48,45,50,61],[48,62,50,65],[48,66,50,70],[54,71,56,77],[57,0,59,2],[57,3,59,19],[57,20,59,23],[57,24,59,28],[57,29,59,35],[57,42,59,44],[57,45,59,61],[57,62,59,65],[54,0,56,2],[54,3,56,19],[54,20,56,23],[54,24,56,28],[54,29,56,35],[54,42,56,44],[54,45,56,61],[54,62,56,65],[54,66,56,70],[60,66,62,70],[60,71,62,77],[57,66,59,70],[57,71,59,77],[60,0,62,2],[60,3,62,19],[60,20,62,23],[60,24,62,28],[60,29,62,35],[60,42,62,44],[60,45,62,61],[60,62,62,65]]}
[]
[]
[]
[]
[{"$f":"IF(D40=\"\",\"영수증\",\"공급자용 영수증\")","v":"영수증"},null,null,null,null,null,null,null,null,null,null,null,null,null,null,null,null,null,null,null,null,null,null,null,null,null,null,null,null,null,null,null,null,null,null,null,null,null,null,null,null,null,{"$f":"IF(D40=\"\",\"영수증\",\"공급받는자용 영수증\")","v":"영수증"}]
[]
[]
[]
[]
[]
[]
[]
[]
["                                          귀 하",null,null,null,null,null,null,null,null,null,null,null,null,null,null,null,null,null,null,null,null,null,null,null,null,null,null,null,null,null,null,null,null,null,null,null,null,null,null,null,null,null,"                                          귀 하"]
[]
[]
[]
[null,null,null,null,null,null,null,null,null,null,null,null,null,null,null,null,null,null,null,null,null,null,null,null,null,null,null,null,null,null,null,null,null,null,null,null,null,null,null,null,null,null,null,null,null,null,null,null,null,null,null,null,null,null,null,null,null,null,null,null,null,null,null,null,null,null,null,null,null,null,null,null,null,null,null,null,null,null,null,null,null,null,null,null,null,null,null,null,null,null,null,null,null,null,null,null,null,null,null,null,null,null,null,null,null,null,null,null,null,null,null,null,null,null,null,null,null,null,null,null,null,null,null,null,null,null,null,null,null,null,{"$f":"IFBLANK($L$19)","v":"307-06-71688"}]
["공급자",null,null,null,"등록번호",null,null,null,null,null,null,{"$f":"IFBLANK(요양기관기초정보!C14)","v":"307-06-71688"},null,null,null,null,null,null,null,null,null,null,null,null,null,null,null,null,null,null,null,null,null,null,null,null,null,null,null,null,null,null,"공급자",null,null,null,"등록번호",null,null,null,null,null,null,{"$f":"IFBLANK($L$19)","v":"307-06-71688"}]
[]
[null,null,null,null,null,null,null,null,null,null,null,null,null,null,null,null,null,null,null,null,null,null,null,null,null,null,null,null,null,null,null,null,null,null,null,null,null,null,null,null,null,null,null,null,null,null,null,null,null,null,null,null,null,null,null,null,null,null,null,null,null,null,null,null,null,null,null,null,null,null,null,null,null,null,null,null,null,null,null,null,null,null,null,null,null,null,null,null,null,null,null,null,null,null,null,null,null,null,null,null,null,null,null,null,null,null,null,null,null,null,null,null,null,null,null,null,null,null,null,null,null,null,null,null,null,null,null,null,null,null,{"$f":"IF(도장제작!T132=\"\",IFBLANK($L$22),도장제작!T132)","v":"팜오피스약국"},null,null,null,null,null,null,null,{"$f":"IFBLANK($X$22)","v":"홍길동"}]
[null,null,null,null,"상    호",null,null,null,null,null,null,{"$f":"IFBLANK(요양기관기초정보!D1)","v":"팜오피스약국"},null,null,null,null,null,null,null,"성명",null,null,null,{"$f":"IFBLANK(요양기관기초정보!C6)","v":"홍길동"},null,null,null,null,null,null,null,null,null,null,null,null,null,null,null,null,null,null,null,null,null,null,"상    호",null,null,null,null,null,null,{"$f":"IFBLANK($L$22)","v":"팜오피스약국"},null,null,null,null,null,null,null,"성명",null,null,null,{"$f":"IFBLANK($X$22)","v":"홍길동"}]
[]
[null,null,null,null,null,null,null,null,null,null,null,null,null,null,null,null,null,null,null,null,null,null,null,null,null,null,null,null,null,null,null,null,null,null,null,null,null,null,null,null,null,null,null,null,null,null,null,null,null,null,null,null,null,null,null,null,null,null,null,null,null,null,null,null,null,null,null,null,null,null,null,null,null,null,null,null,null,null,null,null,null,null,null,null,null,null,null,null,null,null,null,null,null,null,null,null,null,null,null,null,null,null,null,null,null,null,null,null,null,null,null,null,null,null,null,null,null,null,null,null,null,null,null,null,null,null,null,null,null,{"$f":"IF(도장제작!T141=\"\",IFBLANK($L$25),도장제작!T141)","v":"서울 서대문구 연세로 41 (창천동 78-14)"}]
[null,null,null,null,"주    소",null,null,null,null,null,null,{"$f":"IFBLANK(요양기관기초정보!C11)","v":"서울 서대문구 연세로 41 (창천동 78-14)"},null,null,null,null,null,null,null,null,null,null,null,null,null,null,null,null,null,null,null,null,null,null,null,null,null,null,null,null,null,null,null,null,null,null,"주    소",null,null,null,null,null,null,{"$f":"IFBLANK($L$25)","v":"서울 서대문구 연세로 41 (창천동 78-14)"}]
[]
[null,null,null,null,null,null,null,null,null,null,null,null,null,null,null,null,null,null,null,null,null,null,null,null,null,null,null,null,null,null,null,null,null,null,null,null,null,null,null,null,null,null,null,null,null,null,null,null,null,null,null,null,null,null,null,null,null,null,null,null,null,null,null,null,null,null,null,null,null,null,null,null,null,null,null,null,null,null,null,null,null,null,null,null,null,null,null,null,null,null,null,null,null,null,null,null,null,null,null,null,null,null,null,null,null,null,null,null,null,null,null,null,null,null,null,null,null,null,null,null,null,null,null,null,null,null,null,null,null,null,{"$f":"IFBLANK($L$28)","v":"소매"},null,null,null,null,null,null,null,null,{"$f":"IFBLANK($U$28)","v":"양약,의료기기"}]
[null,null,null,null,"업    소",null,null,null,null,null,null,{"$f":"IFBLANK(요양기관기초정보!C15)","v":"소매"},null,null,null,null,"종목",null,null,null,{"$f":"IFBLANK(요양기관기초정보!C16)","v":"양약,의료기기"},null,null,null,null,null,null,null,null,null,null,null,null,null,null,null,null,null,null,null,null,null,null,null,null,null,"업    소",null,null,null,null,null,null,{"$f":"IFBLANK($L$28)","v":"소매"},null,null,null,null,"종목",null,null,null,{"$f":"IFBLANK($U$28)","v":"양약,의료기기"}]
[]
[]
["거래일",null,null,null,null,null,null,null,null,null,null,"금액",null,null,null,null,null,null,null,null,null,null,null,null,"비고",null,null,null,null,null,null,null,null,null,null,null,null,null,null,null,null,null,"거래일",null,null,null,null,null,null,null,null,null,null,"금액",null,null,null,null,null,null,null,null,null,null,null,null,"비고"]
[]
[]
[{"$f":"TODAY()","v":"2021-05-31"},null,null,null,null,null,null,null,null,null,null,{"$f":"SUM(AD40:AJ102)","v":0},null,null,null,null,null,null,null,null,null,null,null,null,null,null,null,null,null,null,null,null,null,null,null,null,null,null,null,null,null,null,{"$f":"TODAY()","v":"2021-05-31"},null,null,null,null,null,null,null,null,null,null,{"$f":"SUM(BT40:BZ102)","v":0}]
[]
[]
["No",null,null,"품  목",null,null,null,null,null,null,null,null,null,null,null,null,null,null,null,null,"수량",null,null,null,"단가",null,null,null,null,"금액",null,null,null,null,null,null,null,null,null,null,null,null,"No",null,null,"품  목",null,null,null,null,null,null,null,null,null,null,null,null,null,null,null,null,"수량",null,null,null,"단가",null,null,null,null,"금액"]
[]
[]
[{"$f":"IF(D40=\"\",\"\",1)","v":""},null,null,null,null,null,null,null,null,null,null,null,null,null,null,null,null,null,null,null,null,null,null,null,null,null,null,null,null,{"$f":"IF(U40=\"\",\"\",U40*Y40)","v":""},null,null,null,null,null,null,null,null,null,null,null,null,{"$f":"IF(AT40=\"\",\"\",1)","v":""},null,null,{"$f":"IF(D40=\"\",\"\",D40)","v":""},null,null,null,null,null,null,null,null,null,null,null,null,null,null,null,null,{"$f":"IF(U40=\"\",\"\",U40)","v":""},null,null,null,{"$f":"IF(Y40=\"\",\"\",Y40)","v":""},null,null,null,null,{"$f":"IF(BK40=\"\",\"\",BK40*BO40)","v":""}]
[]
[]
[{"$f":"IF(D43=\"\",\"\",A40+1)","v":""},null,null,null,null,null,null,null,null,null,null,null,null,null,null,null,null,null,null,null,null,null,null,null,null,null,null,null,null,{"$f":"IF(U43=\"\",\"\",U43*Y43)","v":""},null,null,null,null,null,null,null,null,null,null,null,null,{"$f":"IF(AT43=\"\",\"\",AQ40+1)","v":""},null,null,{"$f":"IF(D43=\"\",\"\",D43)","v":""},null,null,null,null,null,null,null,null,null,null,null,null,null,null,null,null,{"$f":"IF(U43=\"\",\"\",U43)","v":""},null,null,null,{"$f":"IF(Y43=\"\",\"\",Y43)","v":""},null,null,null,null,{"$f":"IF(BK43=\"\",\"\",BK43*BO43)","v":""}]
[]
[]
[{"$f":"IF(D46=\"\",\"\",A43+1)","v":""},null,null,null,null,null,null,null,null,null,null,null,null,null,null,null,null,null,null,null,null,null,null,null,null,null,null,null,null,{"$f":"IF(U46=\"\",\"\",U46*Y46)","v":""},null,null,null,null,null,null,null,null,null,null,null,null,{"$f":"IF(AT46=\"\",\"\",AQ43+1)","v":""},null,null,{"$f":"IF(D46=\"\",\"\",D46)","v":""},null,null,null,null,null,null,null,null,null,null,null,null,null,null,null,null,{"$f":"IF(U46=\"\",\"\",U46)","v":""},null,null,null,{"$f":"IF(Y46=\"\",\"\",Y46)","v":""},null,null,null,null,{"$f":"IF(BK46=\"\",\"\",BK46*BO46)","v":""}]
[]
[]
[{"$f":"IF(D49=\"\",\"\",A46+1)","v":""},null,null,null,null,null,null,null,null,null,null,null,null,null,null,null,null,null,null,null,null,null,null,null,null,null,null,null,null,{"$f":"IF(U49=\"\",\"\",U49*Y49)","v":""},null,null,null,null,null,null,null,null,null,null,null,null,{"$f":"IF(AT49=\"\",\"\",AQ46+1)","v":""},null,null,{"$f":"IF(D49=\"\",\"\",D49)","v":""},null,null,null,null,null,null,null,null,null,null,null,null,null,null,null,null,{"$f":"IF(U49=\"\",\"\",U49)","v":""},null,null,null,{"$f":"IF(Y49=\"\",\"\",Y49)","v":""},null,null,null,null,{"$f":"IF(BK49=\"\",\"\",BK49*BO49)","v":""}]
[]
[]
[{"$f":"IF(D52=\"\",\"\",A49+1)","v":""},null,null,null,null,null,null,null,null,null,null,null,null,null,null,null,null,null,null,null,null,null,null,null,null,null,null,null,null,{"$f":"IF(U52=\"\",\"\",U52*Y52)","v":""},null,null,null,null,null,null,null,null,null,null,null,null,{"$f":"IF(AT52=\"\",\"\",AQ49+1)","v":""},null,null,{"$f":"IF(D52=\"\",\"\",D52)","v":""},null,null,null,null,null,null,null,null,null,null,null,null,null,null,null,null,{"$f":"IF(U52=\"\",\"\",U52)","v":""},null,null,null,{"$f":"IF(Y52=\"\",\"\",Y52)","v":""},null,null,null,null,{"$f":"IF(BK52=\"\",\"\",BK52*BO52)","v":""}]
[]
[]
[{"$f":"IF(D55=\"\",\"\",A52+1)","v":""},null,null,null,null,null,null,null,null,null,null,null,null,null,null,null,null,null,null,null,null,null,null,null,null,null,null,null,null,{"$f":"IF(U55=\"\",\"\",U55*Y55)","v":""},null,null,null,null,null,null,null,null,null,null,null,null,{"$f":"IF(AT55=\"\",\"\",AQ52+1)","v":""},null,null,{"$f":"IF(D55=\"\",\"\",D55)","v":""},null,null,null,null,null,null,null,null,null,null,null,null,null,null,null,null,{"$f":"IF(U55=\"\",\"\",U55)","v":""},null,null,null,{"$f":"IF(Y55=\"\",\"\",Y55)","v":""},null,null,null,null,{"$f":"IF(BK55=\"\",\"\",BK55*BO55)","v":""}]
[]
[]
[{"$f":"IF(D58=\"\",\"\",A55+1)","v":""},null,null,null,null,null,null,null,null,null,null,null,null,null,null,null,null,null,null,null,null,null,null,null,null,null,null,null,null,{"$f":"IF(U58=\"\",\"\",U58*Y58)","v":""},null,null,null,null,null,null,null,null,null,null,null,null,{"$f":"IF(AT58=\"\",\"\",AQ55+1)","v":""},null,null,{"$f":"IF(D58=\"\",\"\",D58)","v":""},null,null,null,null,null,null,null,null,null,null,null,null,null,null,null,null,{"$f":"IF(U58=\"\",\"\",U58)","v":""},null,null,null,{"$f":"IF(Y58=\"\",\"\",Y58)","v":""},null,null,null,null,{"$f":"IF(BK58=\"\",\"\",BK58*BO58)","v":""}]
[]
[]
[{"$f":"IF(D61=\"\",\"\",A58+1)","v":""},null,null,null,null,null,null,null,null,null,null,null,null,null,null,null,null,null,null,null,null,null,null,null,null,null,null,null,null,{"$f":"IF(U61=\"\",\"\",U61*Y61)","v":""},null,null,null,null,null,null,null,null,null,null,null,null,{"$f":"IF(AT61=\"\",\"\",AQ58+1)","v":""},null,null,{"$f":"IF(D61=\"\",\"\",D61)","v":""},null,null,null,null,null,null,null,null,null,null,null,null,null,null,null,null,{"$f":"IF(U61=\"\",\"\",U61)","v":""},null,null,null,{"$f":"IF(Y61=\"\",\"\",Y61)","v":""},null,null,null,null,{"$f":"IF(BK61=\"\",\"\",BK61*BO61)","v":""}]
[]
[]
[{"$f":"IF(D64=\"\",\"\",A61+1)","v":""},null,null,null,null,null,null,null,null,null,null,null,null,null,null,null,null,null,null,null,null,null,null,null,null,null,null,null,null,{"$f":"IF(U64=\"\",\"\",U64*Y64)","v":""},null,null,null,null,null,null,null,null,null,null,null,null,{"$f":"IF(AT64=\"\",\"\",AQ61+1)","v":""},null,null,{"$f":"IF(D64=\"\",\"\",D64)","v":""},null,null,null,null,null,null,null,null,null,null,null,null,null,null,null,null,{"$f":"IF(U64=\"\",\"\",U64)","v":""},null,null,null,{"$f":"IF(Y64=\"\",\"\",Y64)","v":""},null,null,null,null,{"$f":"IF(BK64=\"\",\"\",BK64*BO64)","v":""}]
[]
[]
[{"$f":"IF(D67=\"\",\"\",A64+1)","v":""},null,null,null,null,null,null,null,null,null,null,null,null,null,null,null,null,null,null,null,null,null,null,null,null,null,null,null,null,{"$f":"IF(U67=\"\",\"\",U67*Y67)","v":""},null,null,null,null,null,null,null,null,null,null,null,null,{"$f":"IF(AT67=\"\",\"\",AQ64+1)","v":""},null,null,{"$f":"IF(D67=\"\",\"\",D67)","v":""},null,null,null,null,null,null,null,null,null,null,null,null,null,null,null,null,{"$f":"IF(U67=\"\",\"\",U67)","v":""},null,null,null,{"$f":"IF(Y67=\"\",\"\",Y67)","v":""},null,null,null,null,{"$f":"IF(BK67=\"\",\"\",BK67*BO67)","v":""}]
[]
[]
[{"$f":"IF(D70=\"\",\"\",A67+1)","v":""},null,null,null,null,null,null,null,null,null,null,null,null,null,null,null,null,null,null,null,null,null,null,null,null,null,null,null,null,{"$f":"IF(U70=\"\",\"\",U70*Y70)","v":""},null,null,null,null,null,null,null,null,null,null,null,null,{"$f":"IF(AT70=\"\",\"\",AQ67+1)","v":""},null,null,{"$f":"IF(D70=\"\",\"\",D70)","v":""},null,null,null,null,null,null,null,null,null,null,null,null,null,null,null,null,{"$f":"IF(U70=\"\",\"\",U70)","v":""},null,null,null,{"$f":"IF(Y70=\"\",\"\",Y70)","v":""},null,null,null,null,{"$f":"IF(BK70=\"\",\"\",BK70*BO70)","v":""}]
[]
[]
[{"$f":"IF(D73=\"\",\"\",A70+1)","v":""},null,null,null,null,null,null,null,null,null,null,null,null,null,null,null,null,null,null,null,null,null,null,null,null,null,null,null,null,{"$f":"IF(U73=\"\",\"\",U73*Y73)","v":""},null,null,null,null,null,null,null,null,null,null,null,null,{"$f":"IF(AT73=\"\",\"\",AQ70+1)","v":""},null,null,{"$f":"IF(D73=\"\",\"\",D73)","v":""},null,null,null,null,null,null,null,null,null,null,null,null,null,null,null,null,{"$f":"IF(U73=\"\",\"\",U73)","v":""},null,null,null,{"$f":"IF(Y73=\"\",\"\",Y73)","v":""},null,null,null,null,{"$f":"IF(BK73=\"\",\"\",BK73*BO73)","v":""}]
[]
[]
[{"$f":"IF(D76=\"\",\"\",A73+1)","v":""},null,null,null,null,null,null,null,null,null,null,null,null,null,null,null,null,null,null,null,null,null,null,null,null,null,null,null,null,{"$f":"IF(U76=\"\",\"\",U76*Y76)","v":""},null,null,null,null,null,null,null,null,null,null,null,null,{"$f":"IF(AT76=\"\",\"\",AQ73+1)","v":""},null,null,{"$f":"IF(D76=\"\",\"\",D76)","v":""},null,null,null,null,null,null,null,null,null,null,null,null,null,null,null,null,{"$f":"IF(U76=\"\",\"\",U76)","v":""},null,null,null,{"$f":"IF(Y76=\"\",\"\",Y76)","v":""},null,null,null,null,{"$f":"IF(BK76=\"\",\"\",BK76*BO76)","v":""}]
[]
[]
[{"$f":"IF(D79=\"\",\"\",A76+1)","v":""},null,null,null,null,null,null,null,null,null,null,null,null,null,null,null,null,null,null,null,null,null,null,null,null,null,null,null,null,{"$f":"IF(U79=\"\",\"\",U79*Y79)","v":""},null,null,null,null,null,null,null,null,null,null,null,null,{"$f":"IF(AT79=\"\",\"\",AQ76+1)","v":""},null,null,{"$f":"IF(D79=\"\",\"\",D79)","v":""},null,null,null,null,null,null,null,null,null,null,null,null,null,null,null,null,{"$f":"IF(U79=\"\",\"\",U79)","v":""},null,null,null,{"$f":"IF(Y79=\"\",\"\",Y79)","v":""},null,null,null,null,{"$f":"IF(BK79=\"\",\"\",BK79*BO79)","v":""}]
[]
[]
[{"$f":"IF(D82=\"\",\"\",A79+1)","v":""},null,null,null,null,null,null,null,null,null,null,null,null,null,null,null,null,null,null,null,null,null,null,null,null,null,null,null,null,{"$f":"IF(U82=\"\",\"\",U82*Y82)","v":""},null,null,null,null,null,null,null,null,null,null,null,null,{"$f":"IF(AT82=\"\",\"\",AQ79+1)","v":""},null,null,{"$f":"IF(D82=\"\",\"\",D82)","v":""},null,null,null,null,null,null,null,null,null,null,null,null,null,null,null,null,{"$f":"IF(U82=\"\",\"\",U82)","v":""},null,null,null,{"$f":"IF(Y82=\"\",\"\",Y82)","v":""},null,null,null,null,{"$f":"IF(BK82=\"\",\"\",BK82*BO82)","v":""}]
[]
[]
[{"$f":"IF(D85=\"\",\"\",A82+1)","v":""},null,null,null,null,null,null,null,null,null,null,null,null,null,null,null,null,null,null,null,null,null,null,null,null,null,null,null,null,{"$f":"IF(U85=\"\",\"\",U85*Y85)","v":""},null,null,null,null,null,null,null,null,null,null,null,null,{"$f":"IF(AT85=\"\",\"\",AQ82+1)","v":""},null,null,{"$f":"IF(D85=\"\",\"\",D85)","v":""},null,null,null,null,null,null,null,null,null,null,null,null,null,null,null,null,{"$f":"IF(U85=\"\",\"\",U85)","v":""},null,null,null,{"$f":"IF(Y85=\"\",\"\",Y85)","v":""},null,null,null,null,{"$f":"IF(BK85=\"\",\"\",BK85*BO85)","v":""}]
[]
[]
[{"$f":"IF(D88=\"\",\"\",A85+1)","v":""},null,null,null,null,null,null,null,null,null,null,null,null,null,null,null,null,null,null,null,null,null,null,null,null,null,null,null,null,{"$f":"IF(U88=\"\",\"\",U88*Y88)","v":""},null,null,null,null,null,null,null,null,null,null,null,null,{"$f":"IF(AT88=\"\",\"\",AQ85+1)","v":""},null,null,{"$f":"IF(D88=\"\",\"\",D88)","v":""},null,null,null,null,null,null,null,null,null,null,null,null,null,null,null,null,{"$f":"IF(U88=\"\",\"\",U88)","v":""},null,null,null,{"$f":"IF(Y88=\"\",\"\",Y88)","v":""},null,null,null,null,{"$f":"IF(BK88=\"\",\"\",BK88*BO88)","v":""}]
[]
[]
[{"$f":"IF(D91=\"\",\"\",A88+1)","v":""},null,null,null,null,null,null,null,null,null,null,null,null,null,null,null,null,null,null,null,null,null,null,null,null,null,null,null,null,{"$f":"IF(U91=\"\",\"\",U91*Y91)","v":""},null,null,null,null,null,null,null,null,null,null,null,null,{"$f":"IF(AT91=\"\",\"\",AQ88+1)","v":""},null,null,{"$f":"IF(D91=\"\",\"\",D91)","v":""},null,null,null,null,null,null,null,null,null,null,null,null,null,null,null,null,{"$f":"IF(U91=\"\",\"\",U91)","v":""},null,null,null,{"$f":"IF(Y91=\"\",\"\",Y91)","v":""},null,null,null,null,{"$f":"IF(BK91=\"\",\"\",BK91*BO91)","v":""}]
[]
[]
[{"$f":"IF(D94=\"\",\"\",A91+1)","v":""},null,null,null,null,null,null,null,null,null,null,null,null,null,null,null,null,null,null,null,null,null,null,null,null,null,null,null,null,{"$f":"IF(U94=\"\",\"\",U94*Y94)","v":""},null,null,null,null,null,null,null,null,null,null,null,null,{"$f":"IF(AT94=\"\",\"\",AQ91+1)","v":""},null,null,{"$f":"IF(D94=\"\",\"\",D94)","v":""},null,null,null,null,null,null,null,null,null,null,null,null,null,null,null,null,{"$f":"IF(U94=\"\",\"\",U94)","v":""},null,null,null,{"$f":"IF(Y94=\"\",\"\",Y94)","v":""},null,null,null,null,{"$f":"IF(BK94=\"\",\"\",BK94*BO94)","v":""}]
[]
[]
[{"$f":"IF(D97=\"\",\"\",A94+1)","v":""},null,null,null,null,null,null,null,null,null,null,null,null,null,null,null,null,null,null,null,null,null,null,null,null,null,null,null,null,{"$f":"IF(U97=\"\",\"\",U97*Y97)","v":""},null,null,null,null,null,null,null,null,null,null,null,null,{"$f":"IF(AT97=\"\",\"\",AQ94+1)","v":""},null,null,{"$f":"IF(D97=\"\",\"\",D97)","v":""},null,null,null,null,null,null,null,null,null,null,null,null,null,null,null,null,{"$f":"IF(U97=\"\",\"\",U97)","v":""},null,null,null,{"$f":"IF(Y97=\"\",\"\",Y97)","v":""},null,null,null,null,{"$f":"IF(BK97=\"\",\"\",BK97*BO97)","v":""}]
[]
[]
[{"$f":"IF(D100=\"\",\"\",A97+1)","v":""},null,null,null,null,null,null,null,null,null,null,null,null,null,null,null,null,null,null,null,null,null,null,null,null,null,null,null,null,{"$f":"IF(U100=\"\",\"\",U100*Y100)","v":""},null,null,null,null,null,null,null,null,null,null,null,null,{"$f":"IF(AT100=\"\",\"\",AQ97+1)","v":""},null,null,{"$f":"IF(D100=\"\",\"\",D100)","v":""},null,null,null,null,null,null,null,null,null,null,null,null,null,null,null,null,{"$f":"IF(U100=\"\",\"\",U100)","v":""},null,null,null,{"$f":"IF(Y100=\"\",\"\",Y100)","v":""},null,null,null,null,{"$f":"IF(BK100=\"\",\"\",BK100*BO100)","v":""}]
[]
[]
[" 합  계",null,null,null,null,null,null,null,null,null,null,null,null,null,null,null,null,null,null,null,null,null,null,null,{"$f":"L34","v":0},null,null,null,null,null,null,null,null,null,null,null,null,null,null,null,null,null," 합  계",null,null,null,null,null,null,null,null,null,null,null,null,null,null,null,null,null,null,null,null,null,null,null,{"$f":"BB34","v":0}]
[]
[]
["부가가치세법 규칙25조 규정에 의거 위금액을 영수함",null,null,null,null,null,null,null,null,null,null,null,null,null,null,null,null,null,null,null,null,null,null,null,null,null,null,null,null,null,null,null,null,null,null,null,null,null,null,null,null,null,"부가가치세법 규칙25조 규정에 의거 위금액을 영수함"]

{"sheet":"당뇨위임장","index":66,"n_rows":27,"n_cols":6,"rows_kept":27,"cut":false,"hidden":false,"merged":[[25,3,25,6],[1,1,1,5],[2,1,3,1],[2,2,3,2],[2,4,3,5],[23,3,23,6],[24,3,24,6]]}
[null,"(별지 1)"]
[null,"요 양 비 청 구 위 임 장"]
[null,"구분","성명","주민등록번호","위임기간"]
[null,null,null,"(사업자등록번호)"]
[null,"위임인(환자)",null,null,null,"부터"]
[null,"수임인(약국)",{"$f":"IFBLANK(요양기관기초정보!D1)","v":"팜오피스약국"},{"$f":"IFBLANK(요양기관기초정보!C14)","v":"307-06-71688"},null,"까지"]
[]
[null,"■ 개인식별정보및 민감정보의 처리에 대한 동의"]
[]
[null,"○ 개인정보 수집＊이용 목적 : 요양비청구"]
[null,"○ 수집하는 개인정보의 항목: 복지부고시 제2015-231호 요양비"]
[null,"   의 보험급여기준 및 방법 [별지제1호서식] 당뇨병환자 소모성재료"]
[null,"   처방전의 내용"]
[null,"○ 개인정보의 보유 및 이용기간:청구일로부터 3년"]
[null,"○ 동의거부권리 안내: 동의인은 본 개인정보 수집에 대한 동의를 "]
[null,"   거부 하실수 있으며,이경우 본인이 직접 공단에 요양비를 청구"]
[null,"   하셔야 합니다."]
[null,"○ 본인은 개인정보 처리에 관하여 고지 받았으며 이를 충분히 이해"]
[null,"   하고 동의합니다."]
[]
[null,"개인정보 보호법 제 23조 및 24조에 의거 위와같이 개인식별 정보및"]
[null,"민감정보에 대한 수집 및 처리에 동의하고 요양비 청구를 위임합니다"]
[]
[null,null,"위 임  일","년        월    일"]
[null,null,"위 임  인","  (서명 또는 날인)"]
[null,null,"전화번호"]
[null,"국민건강보험공단 이사장 귀중"]

{"sheet":"당뇨국민공단","index":67,"n_rows":29,"n_cols":11,"rows_kept":29,"cut":false,"hidden":false,"merged":[[1,0,2,9],[3,0,3,7],[4,0,4,1],[4,8,4,9],[5,0,5,1],[5,2,5,9],[6,0,6,1],[6,2,6,5],[6,6,6,9],[7,0,7,1],[7,2,7,5],[7,6,7,9],[8,0,8,1],[8,2,8,3],[8,4,8,5],[9,0,16,0],[9,1,9,3],[9,4,9,5],[11,1,11,3],[11,4,11,5],[13,1,13,3],[13,4,13,5],[12,1,12,3],[12,4,12,5],[15,1,15,3],[15,4,15,5],[9,6,9,9],[10,1,10,3],[10,4,10,5],[10,6,10,9],[11,6,11,9],[12,6,12,9],[13,6,13,9],[14,1,14,3],[14,4,14,5],[14,6,14,9],[15,6,15,9],[16,1,16,3],[16,4,16,5],[16,6,16,9],[17,0,22,0],[17,1,18,2],[17,3,18,3],[18,4,19,5],[18,6,19,9],[19,1,20,2],[19,3,20,3],[21,1,22,2],[21,3,22,3],[21,4,22,5],[21,6,22,9],[23,0,23,9],[24,7,24,8],[25,3,26,3],[25,4,26,4],[25,5,25,6],[25,8,25,9],[26,0,27,2],[26,5,26,6],[26,8,26,9]]}
["■ 국민건강보험법 시행규칙 [별지 제 19호의 2서식]   <개정 2018.9.28>"]
["요양비 지급청구서(당뇨병 소모성재료)"]
[]
["※ 작성방법은 뒤쪽을 참고하시기 바라며,바탕색이 어두운 난은 청구인이 적지 않습니다.",null,null,null,null,null,null,null,null,"(앞쪽)"]
["접수번호",null,"접수일",null,null,null,null,"처리기간","즉시"]
["[  ]본인부담액 경감 대상자",null,"[  ] 「국민건강보헙법 시행령」별표 2 제3호라목1)에 해당 / [  ] 「국민건강보헙법 시행령」별표 2 제3호라목2)에 해당 "]
["상병명 및 상병코드",null,"상병명:",null,null,null,"상병코드:"]
["① 진료받은 사람",null,"성명 :",null,null,null,"주민(외국인)등록번호: "]
["② 처방전 발행 요양기관",null,"명칭 :",null,"요양기관기호: ",null,"③ 처방전 발행일","    년  월  일","④ 청구일수:    일","일"]
["⑤ 당뇨병       소모성 재료   구입 및      청구내역","소모성 재료 종류",null,null,"구입금액",null,"구입업체명"]
[null,"[ ] 혈당측정 검사지",null,null,"원"]
[null,"[ ] 채혈침",null,null,"원"]
[null,"[ ] 인슐린주사기",null,null,"원"]
[null,"[ ] 인슐린주사바늘",null,null,"원"]
[null,"[ ] 인슐린펌프용주사기",null,null,"원"]
[null,"[ ] 인슐린펌프용주사바늘",null,null,"원"]
[null,"[ ] 연속측정용전극",null,null,"원"]
["⑥수령 계좌","가입자 또는 피부양자 계좌",null,"[   ]","금융기관명:",null,"계좌번호:"]
[]
[null,"의료기기 판매업소계좌",null,"[   ]"]
[null,null,null,null,"예금주성명:",null,"주민(외국인)등록번호 또는 사업자 등록번호:"]
[null,"진료받은사람 본인의 요양비등수급계좌",null,"[   ]"]
[]
["  「국민건강보헙법 시행규칙」 제23조에 따라 위와 같이 요양비 지급을 청구합니다."]
[null,null,null,null,null,null,null,"년     월      일"]
[null,null,null,"⑦청구인  ",null,"(서명 또는 인)",null,"전화번호"]
["국민건강보험공단 이사장 귀하",null,null,null,null,"진료받은 사람과의관계",null,"진료받은 사람의",{"$f":"IF(E26=\"\",\"\",\"본인\")","v":""}]
[]
[null,null,null,null,null,null,null,null,"297mm X 210mm[백상지 80g/㎡]",null,"j29"]

{"sheet":"당뇨의료급여","index":68,"n_rows":29,"n_cols":11,"rows_kept":29,"cut":false,"hidden":false,"merged":[[21,1,22,2],[21,3,22,3],[21,4,22,5],[21,6,22,9],[25,3,26,3],[25,4,26,4],[25,5,25,6],[25,8,25,9],[26,0,27,2],[26,5,26,6],[26,8,26,9],[15,1,15,3],[15,4,15,5],[15,6,15,7],[15,8,15,9],[24,7,24,8],[16,1,16,3],[16,4,16,5],[16,6,16,9],[23,0,23,9],[17,0,22,0],[17,1,18,2],[17,3,18,3],[18,4,19,5],[18,6,19,9],[19,1,20,2],[19,3,20,3],[13,1,13,3],[13,4,13,5],[13,6,13,7],[13,8,13,9],[14,1,14,3],[14,4,14,5],[14,6,14,7],[14,8,14,9],[11,8,11,9],[12,1,12,3],[12,4,12,5],[12,6,12,7],[12,8,12,9],[8,0,8,1],[8,2,8,3],[8,4,8,5],[8,7,8,9],[9,0,16,0],[9,1,9,3],[9,4,9,5],[9,6,9,7],[9,8,9,9],[10,1,10,3],[10,4,10,5],[10,6,10,7],[10,8,10,9],[11,1,11,3],[11,4,11,5],[11,6,11,7],[6,0,6,1],[6,2,6,5],[6,6,6,9],[7,0,7,1],[7,2,7,5],[7,6,7,9],[1,0,2,9],[3,0,3,7],[4,0,4,1],[4,8,4,9],[5,0,5,1],[5,2,5,9]]}
["■ 의료급여법 시행규칙 [별지 제 12호의 4서식]"]
["요양비 지급청구서(당뇨병 소모성 재료)"]
[]
["※ 작성방법은 뒤쪽을 참고하시기 바라며,바탕색이 어두운 난은 청구인이 적지 않습니다.",null,null,null,null,null,null,null,null,"(앞쪽)"]
["접수번호",null,"접수일",null,null,null,null,"처리기간","즉시"]
[]
["상병명 및 상병코드",null,"상병명:",null,null,null,"상병코드:"]
["① 수진자( 진료 받은 사람 )",null,"성명: ",null,null,null,"주민(외국인)등록번호: "]
["② 처방전 발행 의료급여기관",null,"명칭: ",null,"의료급여기관기관기호: ",null,"③처방전 발행일 :","      년  월  일"]
["당뇨병 소모성 재료 구입및    청구내역","소모성 재료 종류",null,null,"구입금액",null,"구입업체명",null,"청구일수"]
[null,"[ ] 혈당측정 검사지",null,null,"원"]
[null,"[ ] 채혈침",null,null,"원"]
[null,"[ ] 인슐린주사기",null,null,"원"]
[null,"[ ] 인슐린주사바늘",null,null,"원"]
[null,"[ ] 인슐린펌프용주사기",null,null,"원"]
[null,"[ ] 인슐린펌프용주사바늘",null,null,"원"]
[null,"[ ] 연속측정용전극",null,null,"원",null,""]
["⑤수령 계좌","수진자 본인",null,"[   ]","금융기관명:",null,"계좌번호:"]
[]
[null,"배우자,부모등",null,"[   ]"]
[null,null,null,null,"예금주성명:",null,"주민(외국인)등록번호 또는 사업자 등록번호:"]
[null,"의료기기 판매업소 계좌",null,"[   ]"]
[]
["  「의료급여법」 제12조제1항 및 같은 법 시행규칙 제23조제3항에  따라 위와 같이 요양비 지급을 청구합니다."]
[null,null,null,null,null,null,null,"년     월      일"]
[null,null,null,"⑥청구인  ","황인순","(서명 또는 인)",null,"전화번호"]
["시장＊군수＊구청장 귀하",null,null,null,null,"수진자와의관계",null,"수진자의"]
[]
[null,null,null,null,null,null,null,null,"297mm X 210mm[백상지 80g/㎡]",null,"j29"]

{"sheet":"마약류시설점검부","index":69,"n_rows":36,"n_cols":11,"rows_kept":36,"cut":false,"hidden":false,"merged":[[7,10,7,11],[8,10,9,11],[0,0,1,8],[3,0,4,0],[3,1,4,1],[3,2,3,5],[3,6,4,6],[3,7,4,7],[3,8,4,8],[2,6,2,8]]}
["의료용마약류저장시설점검부"]
[]
[null,null,null,null,null,null,{"$f":"IFBLANK(요양기관기초정보!C5)","v":"팜오피스약국"}]
["연번","일시","점검내용",null,null,null,"이상유무","점검자","서명또는인"]
[null,null,"보관상태","수량","유효기간","장부"]
[1,"2021-01-01","○","○","○","○","무",{"$f":"IFBLANK(요양기관기초정보!C6)","v":"홍길동"}]
[{"$f":"IF(B6=\"\",\"\",A6+1)","v":2},{"$f":"B6+1","v":"2021-01-02"},"○","○","○","○","무",{"$f":"H6","v":"홍길동"}]
[3,"2021-01-03","○","○","○","○","무","홍길동",null,null,"날짜 변경"]
[4,"2021-01-04","○","○","○","○","무","홍길동",null,null,"2021-04-01"]
[5,"2021-01-05","○","○","○","○","무","홍길동"]
[6,"2021-01-06","○","○","○","○","무","홍길동"]
[7,"2021-01-07","○","○","○","○","무","홍길동"]
[8,"2021-01-08","○","○","○","○","무","홍길동"]
[9,"2021-01-09","○","○","○","○","무","홍길동"]
[10,"2021-01-10","○","○","○","○","무","홍길동"]
[11,"2021-01-11","○","○","○","○","무","홍길동"]
[12,"2021-01-12","○","○","○","○","무","홍길동"]
[13,"2021-01-13","○","○","○","○","무","홍길동"]
[14,"2021-01-14","○","○","○","○","무","홍길동"]
[15,"2021-01-15","○","○","○","○","무","홍길동"]
[16,"2021-01-16","○","○","○","○","무","홍길동"]
[17,"2021-01-17","○","○","○","○","무","홍길동"]
[18,"2021-01-18","○","○","○","○","무","홍길동"]
[19,"2021-01-19","○","○","○","○","무","홍길동"]
[20,"2021-01-20","○","○","○","○","무","홍길동"]
[21,"2021-01-21","○","○","○","○","무","홍길동"]
[22,"2021-01-22","○","○","○","○","무","홍길동"]
[23,"2021-01-23","○","○","○","○","무","홍길동"]
[24,"2021-01-24","○","○","○","○","무","홍길동"]
[25,"2021-01-25","○","○","○","○","무","홍길동"]
[26,"2021-01-26","○","○","○","○","무","홍길동"]
[27,"2021-01-27","○","○","○","○","무","홍길동"]
[28,"2021-01-28","○","○","○","○","무","홍길동"]
[{"$f":"IF(B34=\"\",\"\",A33+1)","v":29},{"$f":"IF(A33=\"\",\"\",IF(MONTH(B33+1)=MONTH(B33),B33+1,\"\"))","v":"2021-01-29"},{"$f":"IF($B34=\"\",\"\",\"○\")","v":"○"},"○","○","○",{"$f":"IF($B34=\"\",\"\",\"무\")","v":"무"},{"$f":"IF($B34=\"\",\"\",H6)","v":"홍길동"}]
[{"$f":"IF(B35=\"\",\"\",A34+1)","v":30},{"$f":"IF(A34=\"\",\"\",IF(MONTH(B34+1)=MONTH(B34),B34+1,\"\"))","v":"2021-01-30"},"○","○","○","○",{"$f":"IF($B35=\"\",\"\",\"무\")","v":"무"},{"$f":"IF($B35=\"\",\"\",H32)","v":"홍길동"}]
[{"$f":"IF(B35=\"\",\"\",A35+1)","v":31},{"$f":"IF(A35=\"\",\"\",IF(MONTH(B35+1)=MONTH(B35),B35+1,\"\"))","v":"2021-01-31"},"○","○","○","○",{"$f":"IF($B36=\"\",\"\",\"무\")","v":"무"},{"$f":"IF($B36=\"\",\"\",H33)","v":"홍길동"}]

{"sheet":"마약류양도","index":70,"n_rows":36,"n_cols":24,"rows_kept":36,"cut":false,"hidden":false,"merged":[[0,0,0,15],[1,0,1,15],[2,1,2,3],[2,4,2,5],[2,6,2,8],[2,9,2,10],[2,11,2,12],[2,13,2,14],[3,0,3,15],[4,0,7,0],[4,1,4,3],[4,4,4,8],[4,9,4,11],[4,12,4,15],[5,1,5,3],[5,4,5,8],[5,9,5,11],[5,12,5,15],[6,1,6,3],[6,4,6,8],[6,9,6,11],[6,12,6,15],[7,1,7,3],[7,4,7,15],[10,1,10,3],[10,4,10,8],[10,9,10,11],[10,12,10,15],[9,1,9,3],[9,4,9,8],[9,9,9,11],[9,12,9,15],[19,3,19,15],[11,1,11,3],[11,4,11,8],[11,9,11,11],[11,12,11,15],[17,14,18,15],[18,11,18,13],[9,0,12,0],[12,1,12,3],[12,4,12,15],[15,14,16,15],[16,11,16,13],[14,0,19,0],[14,1,14,2],[14,3,14,8],[14,9,14,10],[14,11,14,15],[15,1,18,2],[15,3,18,8],[15,9,18,10],[15,11,15,13],[17,11,17,13],[19,1,19,2],[20,0,20,15],[21,9,21,14],[22,0,22,6],[22,7,22,9],[22,10,22,12],[22,13,22,15],[23,0,23,6],[23,7,23,9],[23,10,23,15],[24,0,24,6],[24,7,24,9],[24,10,24,15],[25,0,25,8],[26,0,26,8],[27,0,27,15],[28,0,29,0],[28,1,29,13],[28,14,28,15],[29,14,29,15],[34,0,34,1],[34,2,34,15],[35,0,35,15],[30,0,30,15],[31,0,31,15],[32,0,32,15],[33,0,33,1],[33,3,33,4],[33,6,33,7],[33,9,33,11],[33,13,33,15],[8,17,9,18],[8,19,9,20],[7,17,7,18],[7,19,7,20],[7,21,7,22],[8,21,9,22]]}
["■ 마약류 관리에 관한 법률 시행규칙 [별지 제14호서식] <개정 2018. 2. 9.>"]
["마약류양도승인신청서"]
["접수번호",null,null,null,"접수일",null,null,null,null,"발급일",null,null,null,"처리기간  ",null,"7일"]
[]
["양도자","허가번호",null,null,{"$f":"IFBLANK(요양기관기초정보!C9)","v":"제3443호"},null,null,null,null,"허가종별",null,null,"마약류소매업"]
[null,"대표자",null,null,{"$f":"IFBLANK(요양기관기초정보!C6)","v":"홍길동"},null,null,null,null,"생년월일",null,null,{"$f":"LEFT(IFBLANK(요양기관기초정보!C7),6)","v":"680623"}]
[null,"업소의 명칭",null,null,{"$f":"IFBLANK(요양기관기초정보!C5)","v":"팜오피스약국"},null,null,null,null,"사업자등록번호",null,null,{"$f":"IFBLANK(요양기관기초정보!C14)","v":"307-06-71688"}]
[null,"업소의 소재지",null,null,{"$f":"IFBLANK(요양기관기초정보!C11)","v":"서울 서대문구 연세로 41 (창천동 78-14)"},null,null,null,null,null,null,null,null,null,null,null,null,"양수자코드",null,"업소의명칭",null,"양도사유"]
[null,null,null,null,null,null,null,null,null,null,null,null,null,null,null,null,null,2,null,{"$f":"IF(R9=\"\",\"\",VLOOKUP(R9,$R$13:$W$20,2))","v":"지오영"},null,"오주문"]
["양수자","허가번호",null,null,{"$f":"IF(R9=\"\",\"\",IF(R9=\"\",\"\",VLOOKUP(R9,$R$13:$W$20,6)))","v":"제24호"},null,null,null,null,"허가종별",null,null,"마약류도매업"]
[null,"대표자",null,null,{"$f":"IF(R9=\"\",\"\",IF(R9=\"\",\"\",VLOOKUP(R9,$R$13:$W$20,4)))","v":"조선혜"},null,null,null,null,"생년월일",null,null,{"$f":"IF(R9=\"\",\"\",IF(R9=\"\",\"\",VLOOKUP(R9,$R$13:$W$20,5)))","v":680623}]
[null,"업소의 명칭",null,null,{"$f":"IF(R9=\"\",\"\",IF(R9=\"\",\"\",VLOOKUP(R9,$R$13:$W$20,2)))","v":"지오영"},null,null,null,null,"사업자등록번호",null,null,{"$f":"IF(R9=\"\",\"\",IF(R9=\"\",\"\",VLOOKUP(R9,$R$13:$W$20,3)))","v":"307-06-71689"},null,null,null,null,"관리번호","도매업체","사업자","대표자","생년월일","허가번호","소재지"]
[null,"업소의 소재지",null,null,{"$f":"IF(R9=\"\",\"\",IF(R9=\"\",\"\",VLOOKUP(R9,$R$13:$X$20,7)))","v":"서울 서대문구 연세로 41 (창천동 78-15)"},null,null,null,null,null,null,null,null,null,null,null,null,{"$f":"IF(S13=\"\",\"\",1)","v":1},"정문약국","307-06-71688","이근호",680623,"제26호","서울 서대문구 연세로 41 (창천동 78-14)"]
[null,null,null,null,null,null,null,null,null,null,null,null,null,null,null,null,null,{"$f":"IF(S14=\"\",\"\",R13+1)","v":2},"지오영","307-06-71689","조선혜",680623,"제24호","서울 서대문구 연세로 41 (창천동 78-15)"]
["양도물품정보","마약류구분",null,"마약",null,null,null,null,null,"제품명",null,null,null,null,null,null,null,{"$f":"IF(S15=\"\",\"\",R14+1)","v":""}]
[null,"제조번호",null,null,null,null,null,null,null,"수량",null,"최소유통단위개수",null,null,null,null,null,""]
[null,null,null,null,null,null,null,null,null,null,null,"(개/병*개수)",null,null,null,null,null,""]
[null,null,null,null,null,null,null,null,null,null,null,"낱개 수량",null,null,null,null,null,""]
[null,null,null,null,null,null,null,null,null,null,null,"(개*개수)",null,null,null,null,null,""]
[null,"양도사유",null,{"$f":"IFBLANK(V9)","v":"오주문"},null,null,null,null,null,null,null,null,null,null,null,null,null,""]
["「마약류 관리에 관한 법률 시행규칙」제18조 또는  제24조제1항에 따라 위와 같이 마약류(원료)양도승인을 신청합니다."]
[null,null,null,null,null,null,null,null,null,{"$f":"TODAY()","v":"2021-05-31"}]
[null,null,null,null,null,null,null,"신청인",null,null,{"$f":"IFBLANK(E6)","v":"홍길동"},null,null,"(서명 또는 인)"]
[null,null,null,null,null,null,null,"담당자 성명",null,null,{"$f":"IFBLANK(E6)","v":"홍길동"}]
[null,null,null,null,null,null,null,"담당자 전화번호",null,null,{"$f":"IFBLANK(요양기관기초정보!C12)","v":"02-324-4650"}]
[]
[{"$f":"\"             \"&IFBLANK(요양기관기초정보!C21)&\"보건소장\"","v":"             서대문구보건소장"},null,null,null,null,null,null,null,null,null,"귀하"]
[]
["첨부서류","계약서",null,null,null,null,null,null,null,null,null,null,null,null,"수수료"]
[null,null,null,null,null,null,null,null,null,null,null,null,null,null,"없음"]
[]
["처리절차"]
[]
["신청서 작성",null,"","접 수",null,"","검 토",null,"","기안 결재",null,null,"","처리결과 알림"]
["신청인",null,"    처리기관 : 지방식품의약품안전청, 시·도, 시·군·구"]
["210mm×297mm[백상지 80g/㎡]"]

{"sheet":"양도계약서","index":71,"n_rows":32,"n_cols":15,"rows_kept":32,"cut":false,"hidden":false,"merged":[[31,0,31,15],[30,1,30,5],[30,6,30,7],[30,8,30,9],[30,10,30,11],[30,12,30,13],[30,14,30,15],[28,1,28,5],[28,6,28,7],[28,8,28,9],[28,10,28,11],[28,12,28,13],[28,14,28,15],[29,1,29,5],[29,6,29,7],[29,8,29,9],[29,10,29,11],[29,12,29,13],[29,14,29,15],[26,1,26,5],[26,6,26,7],[26,8,26,9],[26,10,26,11],[26,12,26,13],[26,14,26,15],[27,1,27,5],[27,6,27,7],[27,8,27,9],[27,10,27,11],[27,12,27,13],[27,14,27,15],[24,1,24,5],[24,6,24,7],[24,8,24,9],[24,10,24,11],[24,12,24,13],[24,14,24,15],[25,1,25,5],[25,6,25,7],[25,8,25,9],[25,10,25,11],[25,12,25,13],[25,14,25,15],[22,1,22,5],[22,6,22,7],[22,8,22,9],[22,10,22,11],[22,12,22,13],[22,14,22,15],[23,1,23,5],[23,6,23,7],[23,8,23,9],[23,10,23,11],[23,12,23,13],[23,14,23,15],[20,1,20,5],[20,6,20,7],[20,8,20,9],[20,10,20,11],[20,12,20,13],[20,14,20,15],[21,1,21,5],[21,6,21,7],[21,8,21,9],[21,10,21,11],[21,12,21,13],[21,14,21,15],[19,1,19,5],[19,6,19,7],[19,8,19,9],[19,10,19,11],[19,12,19,13],[19,14,19,15],[18,1,18,5],[18,6,18,7],[18,8,18,9],[18,10,18,11],[18,12,18,13],[18,14,18,15],[17,1,17,5],[17,6,17,7],[17,8,17,9],[17,10,17,11],[17,12,17,13],[17,14,17,15],[16,1,16,5],[16,6,16,7],[16,8,16,9],[16,10,16,11],[16,12,16,13],[16,14,16,15],[12,0,12,15],[13,1,13,15],[14,0,14,15],[15,1,15,5],[15,6,15,7],[15,8,15,9],[15,10,15,11],[15,12,15,13],[15,14,15,15],[8,0,11,0],[8,1,8,2],[8,3,8,15],[9,1,9,2],[9,3,9,15],[10,1,10,2],[10,3,10,15],[11,1,11,2],[11,3,11,15],[0,0,0,15],[1,0,1,15],[2,3,2,8],[2,9,2,10],[2,12,2,15],[3,0,3,15],[4,0,7,0],[4,1,4,2],[4,3,4,15],[5,1,5,2],[5,3,5,15],[6,1,6,2],[6,3,6,15],[7,1,7,2],[7,3,7,15]]}
[]
["마약류 양도 승인 신청 계약서"]
[]
[]
["양도인","허가번호",null,{"$f":"IFBLANK(마약류양도!E5)","v":"제3443호"}]
[null,"대표자",null,{"$f":"IFBLANK(마약류양도!E6)&\"  (인)\"","v":"홍길동  (인)"}]
[null,"업소명",null,{"$f":"IFBLANK(마약류양도!E7)","v":"팜오피스약국"}]
[null,"소재지",null,{"$f":"IFBLANK(마약류양도!E8)","v":"서울 서대문구 연세로 41 (창천동 78-14)"}]
["양수인","허가번호",null,{"$f":"IFBLANK(마약류양도!E10)","v":"제24호"}]
[null,"대표자",null,{"$f":"IFBLANK(마약류양도!E11)&\"  (인)\"","v":"조선혜  (인)"}]
[null,"업소명",null,{"$f":"IFBLANK(마약류양도!E12)","v":"지오영"}]
[null,"소재지",null,{"$f":"IFBLANK(마약류양도!E13)","v":"서울 서대문구 연세로 41 (창천동 78-15)"}]
[]
["양도사유",{"$f":"IFBLANK(마약류양도!D20)","v":"오주문"}]
["        양도인은 양수인에게 아래품목을  양도합니다."]
["연번","품명",null,null,null,null,"단위",null,"수량",null,"제조번호",null,"유효기간",null,"비고"]
[{"$f":"IF(B17=\"\",\"\",1)","v":""}]
[{"$f":"IF(B18=\"\",\"\",A17+1)","v":""}]
[{"$f":"IF(B19=\"\",\"\",A18+1)","v":""},"",null,null,null,null,""]
["","",null,null,null,null,""]
["","",null,null,null,null,""]
["","",null,null,null,null,""]
["","",null,null,null,null,""]
["","",null,null,null,null,""]
["","",null,null,null,null,""]
["","",null,null,null,null,""]
["","",null,null,null,null,""]
["","",null,null,null,null,""]
["","",null,null,null,null,""]
["","",null,null,null,null,""]
["","",null,null,null,null,""]
[{"$f":"IFBLANK(마약류양도!J22)","v":"2021-05-31"}]

{"sheet":"폐기신청","index":72,"n_rows":32,"n_cols":19,"rows_kept":32,"cut":false,"hidden":false,"merged":[[0,0,0,15],[1,0,1,15],[2,0,2,15],[3,0,4,2],[3,9,4,10],[3,12,3,15],[4,12,4,15],[8,1,8,3],[8,4,8,15],[5,0,5,15],[6,0,10,0],[6,1,6,3],[6,4,6,8],[6,9,6,11],[6,12,6,15],[7,1,7,3],[7,4,7,8],[7,9,7,11],[7,12,7,15],[10,1,10,3],[10,4,10,15],[16,2,16,5],[16,6,16,7],[16,8,16,9],[16,10,16,11],[9,1,9,3],[9,4,9,8],[9,9,9,11],[9,12,9,15],[16,12,16,13],[16,14,16,15],[15,2,15,5],[15,6,15,7],[15,8,15,9],[15,10,15,11],[15,12,15,13],[15,14,15,15],[11,0,11,15],[12,0,20,0],[12,2,12,5],[12,6,12,7],[12,8,12,9],[12,10,12,11],[12,12,12,13],[12,14,12,15],[14,2,14,5],[14,6,14,7],[14,8,14,9],[14,10,14,11],[14,12,14,13],[14,14,14,15],[13,2,13,5],[13,6,13,7],[13,8,13,9],[13,10,13,11],[13,12,13,13],[13,14,13,15],[18,2,18,5],[18,6,18,7],[18,8,18,9],[18,10,18,11],[18,12,18,13],[18,14,18,15],[17,2,17,5],[17,6,17,7],[17,8,17,9],[17,10,17,11],[17,12,17,13],[17,14,17,15],[20,10,20,11],[20,12,20,13],[20,14,20,15],[19,2,19,5],[19,6,19,7],[19,8,19,9],[19,10,19,11],[19,12,19,13],[19,14,19,15],[12,17,12,18],[31,0,31,15],[26,0,27,5],[26,6,27,6],[28,0,28,15],[29,0,30,0],[29,1,30,13],[29,14,29,15],[30,14,30,15],[24,0,24,6],[24,7,24,9],[24,10,24,15],[25,0,25,6],[25,7,25,9],[25,10,25,15],[21,0,21,15],[22,9,22,14],[23,0,23,6],[23,7,23,9],[23,10,23,12],[23,13,23,15],[20,2,20,5],[20,6,20,7],[20,8,20,9]]}
[]
["사고 마약류 등의 폐기 신청서"]
[]
["접수번호",null,null,"접수일",null,null,null,null,null,"처리기간 ",null,null," 7일"]
[]
[]
["신청인정보","업소명",null,null,{"$f":"IFBLANK(요양기관기초정보!D1)","v":"팜오피스약국"},null,null,null,null,"허가(지정)종별",null,null,"마약류소매업"]
[null,"연락처",null,null,{"$f":"IFBLANK(요양기관기초정보!C12)","v":"02-324-4650"},null,null,null,null,"전송(FAX)",null,null,{"$f":"IFBLANK(요양기관기초정보!C13)","v":"0505-324-4662"}]
[null,"업소의 소재지",null,null,{"$f":"IFBLANK(요양기관기초정보!C11)","v":"서울 서대문구 연세로 41 (창천동 78-14)"}]
[null,"허가번호",null,null,{"$f":"IFBLANK(요양기관기초정보!C9)","v":"제3443호"},null,null,null,null,"취급승인번호"]
[null,"마약류취급자식별번호",null,null,{"$f":"IFBLANK(요양기관기초정보!C19)","v":"D00001610"}]
[]
["폐기마약류정보","연번","제품명",null,null,null,"품목코드",null,"제조번호   (사용기한)",null,"최소유통단위",null,"수량      (단위)",null,"폐기사유",null,null,"폐기사유"]
[null,{"$f":"IF(C14=\"\",\"\",1)","v":""},null,null,null,null,null,null,null,null,null,null,null,null,null,null,null,1,"유통기간경과"]
[null,{"$f":"IF(C15=\"\",\"\",B14+1)","v":""},null,null,null,null,null,null,null,null,null,null,null,null,null,null,null,2,"유통기간임박"]
[null,{"$f":"IF(C16=\"\",\"\",B15+1)","v":""},null,null,null,null,null,null,null,null,null,null,null,null,null,null,null,3,"처방중단"]
[null,"",null,null,null,null,null,null,null,null,null,null,null,null,null,null,null,4,"허가취소"]
[null,"",null,null,null,null,null,null,null,null,null,null,null,null,null,null," ",5,"폐업"]
[null,""]
[null,""]
[null,{"$f":"IF(C21=\"\",\"\",1)","v":""}]
["「마약류 관리에 관한 법률 시행규칙」 제12조제2항 및 같은법 시행규칙 제23조제4항에 따라 위와 같이 사고 마약류 등의 폐기를 신청합니다."]
[null,null,null,null,null,null,null,null,null,{"$f":"TODAY()","v":"2021-05-31"}]
[null,null,null,null,null,null,null,"신청인",null,null,{"$f":"IFBLANK(요양기관기초정보!C6)","v":"홍길동"},null,null,"(서명 또는 인)"]
[null,null,null,null,null,null,null,"담당자 성명",null,null,{"$f":"IFBLANK(요양기관기초정보!C6)","v":"홍길동"}]
[null,null,null,null,null,null,null,"담당자 전화번호",null,null,{"$f":"IFBLANK(E8)","v":"02-324-4650"}]
[{"$f":"\"             \"&IFBLANK(요양기관기초정보!C21)&\"보건소장\"","v":"             서대문구보건소장"},null,null,null,null,null,"귀하"]
[]
[]
["첨부서류","없음",null,null,null,null,null,null,null,null,null,null,null,null,"수수료"]
[null,null,null,null,null,null,null,null,null,null,null,null,null,null,"없음"]
["210mm×297mm[백상지 80g/㎡]"]

{"sheet":"사고마약발생","index":73,"n_rows":26,"n_cols":19,"rows_kept":26,"cut":false,"hidden":false,"merged":[[5,0,5,9],[5,10,5,11],[5,12,5,13],[0,0,0,16],[2,0,2,18],[4,0,4,4],[4,5,4,9],[4,10,4,18],[6,1,6,6],[6,7,6,13],[6,14,6,16],[8,0,9,0],[8,1,9,1],[8,9,9,9],[20,7,20,8],[20,9,20,11],[20,12,20,13],[8,18,9,18],[10,7,10,18],[11,0,11,16],[12,0,12,16],[14,0,14,16],[15,0,15,16],[16,0,16,16],[17,0,17,16],[18,9,18,15],[19,2,19,18],[25,0,25,18],[21,7,21,8],[21,9,21,11],[21,12,21,13],[21,14,21,18],[23,0,23,18],[24,0,24,18]]}
["■ 마약류 관리에 관한 법률 시행규칙 [별지 제26호서식] <개정 2018. 2. 9.>           "]
[]
["사고마약류 발생 보고서"]
[]
["접수번호",null,null,null,null,"접수일",null,null,null,null,"처리기간 : 7일"]
[]
[null,"보고자 정보",null,null,null,null,null,"보고품정보",null,null,null,null,null,null,"사고 관련 정보",null,null,"사고량","재고량"]
["연번","①","②","③","④","⑤","⑥","⑦","⑧","⑨","⑩","⑪","⑫","⑬","⑬","⑭","⑮","⑯","⑰"]
["항목","업소명","업 소 의","허가","허가","취급 승인","사업자","마약류","제품","제품명","품목","제조","최소유통","최소유통","사고","사고","처리","사고발생","수량"]
[null,null,"소 재 지","종별","번호","번     호","등록번호","구 분","형태",null,"코드","번호","단    위","단    위","발생일","사유","현황","수량"]
[null,{"$f":"IFBLANK(요양기관기초정보!D1)","v":"팜오피스약국"},{"$f":"IFBLANK(요양기관기초정보!C11)","v":"서울 서대문구 연세로 41 (창천동 78-14)"},"마약류소매업",{"$f":"IFBLANK(요양기관기초정보!C9)","v":"제3443호"},null,{"$f":"IFBLANK(요양기관기초정보!C14)","v":"307-06-71688"},"별첨"]
[]
["「마약류 관리에 관한 법률 시행규칙」 제23조제1항에 따라 위와 같이 사고마약류의 발생을 보고합니다."]
[]
["  제출서류"]
["  1. 재해로 인한 상실의 경우: 관할 시·도지사가 발급한 증명서류"]
["  2. 분실 또는 도난의 경우: 수사기관이 발급한 증명서류"]
["  3. 변질·부패 또는 파손의 경우: 제출하지 않음"]
[null,null,"                                                                                                  년         월         일",null,null,null,null,null,null,{"$f":"TODAY()","v":"2021-05-31"}]
[]
[null,null,null,null,null,null,null,"신청인(담당자)",null,{"$f":"IFBLANK(요양기관기초정보!C6)","v":"홍길동"},null,null," (서명 또는 인)"]
[null,null,null,null,null,null,null,"담당자  성명",null,{"$f":"IFBLANK(요양기관기초정보!C6)","v":"홍길동"},null,null,"담당자 전화번호",null,{"$f":"IFBLANK(요양기관기초정보!C12)","v":"02-324-4650"}]
[]
[{"$f":"\"                  \"&IFBLANK(요양기관기초정보!C21)&\"보건소장  귀하\"","v":"                  서대문구보건소장  귀하"}]
[]
["297mm×210mm[백상지 80g/㎡ 또는 중질지 80g/㎡]"]

{"sheet":"발생별첨","index":74,"n_rows":26,"n_cols":12,"rows_kept":26,"cut":false,"hidden":false,"merged":[[5,0,6,0],[24,0,24,11],[25,0,25,11],[0,0,0,11],[1,0,1,11],[2,0,2,11],[3,0,3,8],[4,1,4,6],[4,7,4,9]]}
["■ 마약류 관리에 관한 법률 시행규칙 [별지 제26호서식]                          "]
["사고마약류 발생 보고서"]
[]
[]
[null,"보고품정보",null,null,null,null,null,"사고 관련 정보",null,null,"사고량","재고량"]
["연번","⑦","⑧","⑨","⑩","⑪","⑫","⑬","⑭","⑮","⑯","⑰"]
[null,"마약류구분","제품형태","제품명","품목코드","제조번호","최소유통단위","사고 발생일","사고 사유","처리 현황","사고발생 수량","수량"]
[]
[]
[{"$f":"IF(B10=\"\",\"\",A9+1)","v":""},"","","","",null,""]
["","","","","",null,""]
["","","","","",null,""]
["","","","","",null,""]
["","","","","",null,""]
["","","","","",null,""]
["","","","","",null,""]
["","","","","",null,""]
["","","","","",null,""]
["","","","","",null,""]
["","","","","",null,""]
[null,"","","","",null,""]
[{"$f":"IF(B22=\"\",\"\",A20+1)","v":""},"","","","",null,""]
[null,"","","","",null,""]
[{"$f":"IF(B24=\"\",\"\",A22+1)","v":""},"","","","",null,""]
[]
["297mm×210mm[백상지 80g/㎡ 또는 중질지 80g/㎡]"]

{"sheet":"희귀약품발주서","index":75,"n_rows":27,"n_cols":13,"rows_kept":27,"cut":false,"hidden":false,"merged":[[5,12,5,13],[3,1,3,2],[21,7,21,8],[19,3,19,4],[20,3,20,4],[10,6,10,9],[9,4,9,5],[17,3,17,4],[14,3,14,4],[15,3,15,4],[10,4,10,5],[16,3,16,4],[1,0,1,9],[3,6,3,9],[4,6,4,7],[5,6,5,9],[6,6,6,7],[3,3,10,3],[8,4,8,5],[3,4,3,5],[4,4,4,5],[5,4,5,5],[6,4,6,5],[7,4,7,5],[7,0,7,1],[7,6,7,9],[8,6,8,9],[9,6,9,9],[26,7,26,9],[12,7,12,8],[13,7,13,8],[21,3,21,4],[12,3,12,4],[18,3,18,4],[17,7,17,8],[18,7,18,8],[14,7,14,8],[15,7,15,8],[16,7,16,8],[22,0,24,9],[25,0,25,9],[19,7,19,8],[20,7,20,8],[13,3,13,4]]}
[]
["발      주      서"]
[]
[{"$f":"\"발주일 :\"","v":"발주일 :"},{"$f":"M6","v":"2021-10-10"},null,"발                        \n\n\n주\n\n\n처","사업자등록번호",null,{"$f":"IFBLANK(요양기관기초정보!C14)","v":"307-06-71688"}]
["수신처 : 한국희귀ㆍ필수의약품센터",null,null,null,"상호 ",null,{"$f":"IFBLANK(요양기관기초정보!C5)","v":"팜오피스약국"},null,"대표",{"$f":"IFBLANK(요양기관기초정보!C6)","v":"홍길동"}]
["아래와 같이 발주함.",null,null,null,"사업장 소재지",null,{"$f":"IFBLANK(요양기관기초정보!C11)","v":"서울 서대문구 연세로 41 (창천동 78-14)"},null,null,null,null,"발주일","2021-10-10"]
["합계금액 (보험가 x 수량)",null,null,null,"업태",null,{"$f":"IFBLANK(요양기관기초정보!C15)","v":"소매"},null,"종목",{"$f":"IFBLANK(요양기관기초정보!C16)","v":"양약,의료기기"}]
[{"$f":"SUM(H14:I22)","v":427500},null,null,null,"전화/FAX",null,{"$f":"IFBLANK(요양기관기초정보!C12)","v":"02-324-4650"}]
[null,null,null,null,"담당자",null,{"$f":"IFBLANK(요양기관기초정보!C6)","v":"홍길동"}]
[null,null,null,null,"이동전화\n(세금계산서 발행시 문자)",null,{"$f":"IFBLANK(요양기관기초정보!C10)","v":"010-1234-5678"}]
[null,null,null,null,"이메일주소\n(세금계산서 발행시 메일발송)",null,{"$f":"IFBLANK(요양기관기초정보!C20)","v":"azerci@hanmail.net"}]
[]
["품명","용량","규격","포장단위",null,"단가","수량","가격",null,"비고"]
["디벤지란",null,"1c",30,null,{"$f":"30*2375","v":71250},6,{"$f":"IF(F14*G14=0,\"\",F14*G14)","v":427500}]
[null,null,null,null,null,null,null,{"$f":"IF(F15*G15=0,\"\",F15*G15)","v":""}]
[null,null,null,null,null,null,null,{"$f":"IF(F16*G16=0,\"\",F16*G16)","v":""}]
[null,null,null,null,null,null,null,""]
[null,null,null,null,null,null,null,""]
[null,null,null,null,null,null,null,""]
[null,null,null,null,null,null,null,""]
[null,null,null,null,null,null,null,""]
[null,null,null,null,null,null,null,""]
["※ 특이사항 : 발주서에 관인 또는 직인 날인 (입금 후 확인전화 필수)\n    전화 : 02-2219-9827 / 팩스 : 0507-489-7325~30\n※ 계좌 : 기업은행 129-064221-04-021 예금주 : 한국희귀필수의약품센터\n※ 최초 발주 시, 사업자 등록증과 발주서를 함께 팩스 송부해주십시오.\n※ 반품 불가. 단, 불량의약품(약품자체결함 등)의 경우 24시간(영업일기준)내 \n   센터로 연락 바랍니다."]
[]
[]
["※ 배송을 원하실 경우(냉장 의약품은 냉장 포장으로 인한 추가비용 발생) 주소를 정확히 기입해 주십시오. \n   배송비용은 발주처 부담이며 센터 출고 이후, 약품 및 배송에 대한 문제(파손, 분실 등) 발생 시 센터에서 책임지지않습니다.                                                                                                      "]
[null,null,null,null,null,null,null,"2020. 12. 01. 시행"]

{"sheet":"약국간거래","index":76,"n_rows":39,"n_cols":15,"rows_kept":39,"cut":false,"hidden":false,"merged":[[6,9,7,9],[6,10,7,10],[6,11,7,14],[12,9,12,10],[12,12,12,14],[20,13,20,14],[28,13,28,14],[21,13,21,14],[23,13,23,14],[24,13,24,14],[25,13,25,14],[25,10,25,11],[22,13,22,14],[26,13,26,14],[27,13,27,14],[29,13,29,14],[26,10,26,11],[27,10,27,11],[28,10,28,11],[29,10,29,11],[20,10,20,11],[21,10,21,11],[22,10,22,11],[23,10,23,11],[24,10,24,11],[13,4,13,6],[16,9,17,14],[18,13,18,14],[18,10,18,11],[19,10,19,11],[13,9,14,10],[13,11,14,11],[13,12,14,14],[19,13,19,14],[12,0,12,6],[0,0,0,6],[1,0,3,0],[4,0,6,0],[7,0,7,6],[8,1,8,2],[9,1,9,2],[10,1,10,2],[11,0,11,4],[1,2,1,6],[2,2,2,6],[3,2,3,6],[4,2,4,6],[5,2,5,6],[6,2,6,6],[29,1,29,2],[21,0,21,6],[22,0,24,0],[25,0,27,0],[28,0,28,6],[22,2,22,6],[23,2,23,6],[24,2,24,6],[25,2,25,6],[26,2,26,6],[27,2,27,6],[30,1,30,2],[31,1,31,2],[32,0,32,4],[33,0,33,6],[34,4,34,6]]}
["약국간 거래확인서(매도인용)"]
["매도인","약국명",{"$f":"IF(L14=\"매도인\",IF(J14=\"\",\"\",VLOOKUP(J14,$J$20:$O$30,2,FALSE)),요양기관기초정보!C5)","v":"팜오피스약국"}]
[null,"대표자",{"$f":"IF(L14=\"매도인\",IF(J14=\"\",\"\",VLOOKUP(J14,$J$20:$O$30,4,FALSE)),요양기관기초정보!C6)","v":"홍길동"}]
[null,"전화번호",{"$f":"IF(L14=\"매도인\",IF(J14=\"\",\"\",VLOOKUP(J14,$J$20:$O$30,5,FALSE)),요양기관기초정보!C12)","v":"02-324-4650"}]
["매수인","약국명",{"$f":"IF(L14=\"매수인\",IF(J14=\"\",\"\",VLOOKUP(J14,$J$20:$O$30,2,FALSE)),요양기관기초정보!C5)","v":"비타민약국"}]
[null,"대표자",{"$f":"IF(L14=\"매수인\",IF(J14=\"\",\"\",VLOOKUP(J14,$J$20:$O$30,4,FALSE)),요양기관기초정보!C6)","v":"최영훈"}]
[null,"전화번호",{"$f":"IF(L14=\"매수인\",IF(J14=\"\",\"\",VLOOKUP(J14,$J$20:$O$30,5,FALSE)),요양기관기초정보!C12)","v":"02-313-2484"},null,null,null,null,null,null,"거래일","2021-01-27","품목"]
["의약품내역"]
["EDI","품명",null,"단위","수량","단가","금액",null,null,null,"EDI","품명","단위","수량","단가"]
[{"$f":"IFBLANK(K10)","v":""},{"$f":"IFBLANK(L10)","v":"디벤지란"},null,{"$f":"IFBLANK(M10)","v":"1C"},30,2375,{"$f":"IFERROR(E10*F10,0)","v":71250},null,null,1,null,"디벤지란","1C",30,2375]
[{"$f":"IFBLANK(K11)","v":""},{"$f":"IFBLANK(L11)","v":""},null,"","","",{"$f":"IFERROR(E11*F11,0)","v":0},null,null,2]
[null,null,null,null,null,"합계",{"$f":"SUM(G10:G11)","v":71250}]
["위와 같이 의약품을 거래 하였음을 확인합니다.",null,null,null,null,null,null,null,null,"거래처코드",null,"구분","거래처명"]
[null,null,null,null,{"$f":"K7","v":"2021-01-27"},null,null,null,null,1,null,"매수인",{"$f":"IF(J14=\"\",\"\",VLOOKUP(J14,$J$20:$O$30,2,FALSE))","v":"비타민약국"}]
[]
[]
[null,null,null,null,null,null,null,null,null,"약국간 거래 거래처"]
[null,null,null,{"$f":"A5","v":"매수인"},{"$f":"IFBLANK(C6)","v":"최영훈"},"(서명 )"]
[null,null,null,null,null,null,null,null,null,"순번","약국명",null,"대표자","연락처"]
[null,null,null,null,null,null,null,null,null,{"$f":"IF(K20=\"\",\"\",1)","v":1},"비타민약국",null,"최영훈","02-313-2484"]
[null,null,null,null,null,null,null,null,null,{"$f":"IF(K21=\"\",\"\",J20+1)","v":2},"일심약국",null,"송정순","02-392-3333"]
["약국간 거래확인서(매수인용)",null,null,null,null,null,null,null,null,3,"대학약국",null,"권도연","02-323-0111"]
["매도인","약국명",{"$f":"IFBLANK(C2)","v":"팜오피스약국"},null,null,null,null,null,null,4,"독수리약국",null,"정석문","02-3147-0770"]
[null,"대표자","홍길동",null,null,null,null,null,null,5,"정문약국",null,"이근호","02-324-4650"]
[null,"전화번호","02-324-4650",null,null,null,null,null,null,{"$f":"IF(K25=\"\",\"\",J24+1)","v":""}]
["매수인","약국명","비타민약국",null,null,null,null,null,null,""]
[null,"대표자","최영훈",null,null,null,null,null,null,""]
[null,"전화번호","02-313-2484",null,null,null,null,null,null,""]
["의약품내역",null,null,null,null,null,null,null,null,""]
["EDI","품명",null,"단위","수량","단가","금액",null,null,""]
[{"$f":"IF(A10=\"\",\"\",A10)","v":""},{"$f":"IF(B10=\"\",\"\",B10)","v":"디벤지란"},null,{"$f":"IF(D10=\"\",\"\",D10)","v":"1C"},30,2375,71250,null,null,""]
[{"$f":"IF(A11=\"\",\"\",A11)","v":""},{"$f":"IF(B11=\"\",\"\",B11)","v":""},null,"","","",0]
[null,null,null,null,null,"합계",{"$f":"SUM(G31:G32)","v":71250}]
["위와 같이 의약품을 거래 하였음을 확인합니다."]
[null,null,null,null,{"$f":"K7","v":"2021-01-27"}]
[]
[]
[]
[null,null,null,{"$f":"A23","v":"매도인"},{"$f":"IFBLANK(C24)","v":"홍길동"},"(서명 )"]

{"sheet":"도장제작","index":77,"n_rows":169,"n_cols":133,"rows_kept":169,"cut":false,"hidden":false,"merged":[[140,9,148,18],[140,19,148,55],[168,73,175,96],[8,0,17,35],[48,24,57,35],[48,0,57,17],[38,0,47,35],[48,18,57,23],[18,6,27,11],[18,12,27,17],[18,18,27,23],[18,24,27,29],[18,30,27,35],[28,6,37,11],[28,12,37,17],[28,18,37,23],[28,24,37,29],[28,30,37,35],[30,132,70,148],[71,132,111,148],[112,132,152,148],[18,0,27,5],[28,0,37,5],[104,9,112,55],[53,69,93,85],[53,86,93,102],[94,69,134,85],[94,86,134,102],[113,9,121,55],[122,9,130,55],[131,9,139,18],[131,19,139,55]]}
[]
[]
[]
[]
[]
[]
[]
[]
["도장제작"]
[]
[]
[]
[]
[]
[]
[]
[]
[]
[1,null,null,null,null,null,"한글",null,null,null,null,null,"홍",null,null,null,null,null,"길",null,null,null,null,null,"동",null,null,null,null,null,"인"]
[]
[]
[]
[]
[]
[]
[]
[]
[]
[2,null,null,null,null,null,"漢字",null,null,null,null,null,null,null,null,null,null,null,null,null,null,null,null,null,null,null,null,null,null,null,"印"]
[]
[null,null,null,null,null,null,null,null,null,null,null,null,null,null,null,null,null,null,null,null,null,null,null,null,null,null,null,null,null,null,null,null,null,null,null,null,null,null,null,null,null,null,null,null,null,null,null,null,null,null,null,null,null,null,null,null,null,null,null,null,null,null,null,null,null,null,null,null,null,null,null,null,null,null,null,null,null,null,null,null,null,null,null,null,null,null,null,null,null,null,null,null,null,null,null,null,null,null,null,null,null,null,null,null,null,null,null,null,null,null,null,null,null,null,null,null,null,null,null,null,null,null,null,null,null,null,null,null,null,null,null,null,{"$f":"IF($S$49=1,M19,IF($S$49,M29,\"\"))","v":"홍"}]
[]
[]
[]
[]
[]
[]
[]
[]
[]
[]
[]
[]
[]
[]
[]
[]
[]
["도장선택",null,null,null,null,null,null,null,null,null,null,null,null,null,null,null,null,null,1,null,null,null,null,null,{"$f":"IF(S49=1,\"한글\",IF(S49=2,\"漢字\",\"\"))","v":"한글"}]
[]
[]
[]
[]
[null,null,null,null,null,null,null,null,null,null,null,null,null,null,null,null,null,null,null,null,null,null,null,null,null,null,null,null,null,null,null,null,null,null,null,null,null,null,null,null,null,null,null,null,null,null,null,null,null,null,null,null,null,null,null,null,null,null,null,null,null,null,null,null,null,null,null,null,null,{"$f":"IF($S$49=1,M19,IF($S$49=2,Y29,\"\"))","v":"홍"},null,null,null,null,null,null,null,null,null,null,null,null,null,null,null,null,{"$f":"IF($S$49=1,S19,IF($S$49=2,M29,\"\"))","v":"길"}]
[]
[]
[]
[]
[]
[]
[]
[]
[]
[]
[]
[]
[]
[]
[]
[]
[]
[null,null,null,null,null,null,null,null,null,null,null,null,null,null,null,null,null,null,null,null,null,null,null,null,null,null,null,null,null,null,null,null,null,null,null,null,null,null,null,null,null,null,null,null,null,null,null,null,null,null,null,null,null,null,null,null,null,null,null,null,null,null,null,null,null,null,null,null,null,null,null,null,null,null,null,null,null,null,null,null,null,null,null,null,null,null,null,null,null,null,null,null,null,null,null,null,null,null,null,null,null,null,null,null,null,null,null,null,null,null,null,null,null,null,null,null,null,null,null,null,null,null,null,null,null,null,null,null,null,null,null,null,{"$f":"IF($S$49=1,S19,IF($S$49=2,S29,\"\"))","v":"길"}]
[]
[]
[]
[]
[]
[]
[]
[]
[]
[]
[]
[]
[]
[]
[]
[]
[]
[]
[]
[]
[]
[]
[null,null,null,null,null,null,null,null,null,null,null,null,null,null,null,null,null,null,null,null,null,null,null,null,null,null,null,null,null,null,null,null,null,null,null,null,null,null,null,null,null,null,null,null,null,null,null,null,null,null,null,null,null,null,null,null,null,null,null,null,null,null,null,null,null,null,null,null,null,{"$f":"IF($S$49=1,Y19,IF($S$49=2,AE29,\"\"))","v":"동"},null,null,null,null,null,null,null,null,null,null,null,null,null,null,null,null,{"$f":"IF($S$49=1,AE19,IF($S$49=2,S29,\"\"))","v":"인"}]
[]
[]
[]
[]
[]
[]
[]
[]
[]
[null,null,null,null,null,null,null,null,null,"복사하여 도장이필요한 곳에 사이즈 조절하여 사용 하세요"]
[]
[]
[]
[]
[]
[]
[]
[null,null,null,null,null,null,null,null,null,null,null,null,null,null,null,null,null,null,null,null,null,null,null,null,null,null,null,null,null,null,null,null,null,null,null,null,null,null,null,null,null,null,null,null,null,null,null,null,null,null,null,null,null,null,null,null,null,null,null,null,null,null,null,null,null,null,null,null,null,null,null,null,null,null,null,null,null,null,null,null,null,null,null,null,null,null,null,null,null,null,null,null,null,null,null,null,null,null,null,null,null,null,null,null,null,null,null,null,null,null,null,null,null,null,null,null,null,null,null,null,null,null,null,null,null,null,null,null,null,null,null,null,{"$f":"IF($S$49=1,Y19,IF($S$49=2,Y29,\"\"))","v":"동"}]
[null,null,null,null,null,null,null,null,null,"약국이름이 길거나 주소가 길어서 상호인이 잘려나오면"]
[]
[]
[]
[]
[]
[]
[]
[]
[null,null,null,null,null,null,null,null,null,"줄여서 쓸명칭을 기록한다음 상호인을 다시 생성하세요"]
[]
[]
[]
[]
[]
[]
[]
[]
[null,null,null,null,null,null,null,null,null,"약국명"]
[]
[]
[]
[]
[]
[]
[]
[]
[null,null,null,null,null,null,null,null,null,"주소"]
[]
[]
[]
[]
[]
[]
[]
[]
[]
[]
[]
[]
[]
[]
[]
[]
[]
[]
[]
[]
[]
[]
[]
[]
[]
[]
[]
[null,null,null,null,null,null,null,null,null,null,null,null,null,null,null,null,null,null,null,null,null,null,null,null,null,null,null,null,null,null,null,null,null,null,null,null,null,null,null,null,null,null,null,null,null,null,null,null,null,null,null,null,null,null,null,null,null,null,null,null,null,null,null,null,null,null,null,null,null,null,null,null,null,{"$f":"IFBLANK($L$19)","v":""}]

{"sheet":"목차제작","index":78,"n_rows":60,"n_cols":20,"rows_kept":60,"cut":false,"hidden":false,"merged":[[6,0,7,0],[6,1,7,7],[0,0,0,8],[6,8,7,8],[1,1,1,7],[2,0,3,0],[2,1,3,7],[2,8,3,8],[4,0,5,0],[4,1,5,7],[4,8,5,8],[8,0,9,0],[8,1,9,7],[8,8,9,8],[10,0,11,0],[10,1,11,7],[10,8,11,8],[12,0,13,0],[12,1,13,7],[12,8,13,8],[14,0,15,0],[14,1,15,7],[14,8,15,8],[16,0,17,0],[16,1,17,7],[16,8,17,8],[18,0,19,0],[18,1,19,7],[18,8,19,8],[20,0,21,0],[20,1,21,7],[20,8,21,8],[22,0,23,0],[22,1,23,7],[22,8,23,8],[10,13,11,13],[32,0,33,0],[32,1,33,7],[32,8,33,8],[28,0,29,0],[28,1,29,7],[28,8,29,8],[30,0,31,0],[30,1,31,7],[30,8,31,8],[24,0,25,0],[24,1,25,7],[24,8,25,8],[26,0,27,0],[26,1,27,7],[26,8,27,8],[32,13,33,13],[2,12,3,12],[4,12,5,12],[6,12,7,12],[8,12,9,12],[10,12,11,12],[12,13,13,13],[14,13,15,13],[16,13,17,13],[18,13,19,13],[20,13,21,13],[22,13,23,13],[2,13,3,13],[4,13,5,13],[6,13,7,13],[8,13,9,13],[24,13,25,13],[26,13,27,13],[28,13,29,13],[30,13,31,13],[24,12,25,12],[26,12,27,12],[28,12,29,12],[30,12,31,12],[32,12,33,12],[12,12,13,12],[14,12,15,12],[16,12,17,12],[18,12,19,12],[20,12,21,12],[22,12,23,12]]}
[{"$f":"요양기관기초정보!D1&\" \"&VLOOKUP(N1,$R$3:$T$7,2,FALSE)","v":"팜오피스약국 근로,노무관련서류"},null,null,null,null,null,null,null,null,null,null,null,"제목",2,null,null,null,null,"목차제작을 위해 PharmOffice챠트를 참조하세요"]
["순번","자료  설명 ",null,null,null,null,null,null,"비고",null,null,null,"순번","자료번호",null,null,null,null,"서류철에 정리하기 편하게 하기 위해 만드는 목차 입니다."]
[{"$f":"IF(B3=\"\",\"\",1)","v":1},{"$f":"IF(N3=\"\",\"\",\" \"&VLOOKUP(N3,$R$3:$T$100,2,FALSE))","v":" 취업규칙"},null,null,null,null,null,null,null,null,null,null,{"$f":"IF(N3=\"\",\"\",1)","v":1},4,null,null,null,"자료번호","명칭","비고"]
[null,null,null,null,null,null,null,null,null,null,null,null,null,null,null,null,null,{"$f":"IF(S4=\"\",\"\",1)","v":1},"개인정보보호 관련 ","제목란"]
[{"$f":"IF(B5=\"\",\"\",A3+1)","v":2},{"$f":"IF(N5=\"\",\"\",\" \"&VLOOKUP(N5,$R$3:$T$100,2,FALSE))","v":" 취업규칙 근로자 동의서"},null,null,null,null,null,null,null,null,null,null,{"$f":"IF(N5=\"\",\"\",M3+1)","v":2},5,null,null,null,{"$f":"IF(S5=\"\",\"\",R4+1)","v":2},"근로,노무관련서류","제목란"]
[null,null,null,null,null,null,null,null,null,null,null,null,null,null,null,null,null,{"$f":"IF(S6=\"\",\"\",R5+1)","v":3},"업무용 서류철","제목란"]
[{"$f":"IF(B7=\"\",\"\",A5+1)","v":3},{"$f":"IF(N7=\"\",\"\",\" \"&VLOOKUP(N7,$R$3:$T$100,2,FALSE))","v":" 근로계약서"},null,null,null,null,null,null,null,null,null,null,{"$f":"IF(N7=\"\",\"\",M5+1)","v":3},6,null,null,null,4,"취업규칙"]
[null,null,null,null,null,null,null,null,null,null,null,null,null,null,null,null,null,5,"취업규칙 근로자 동의서"]
[{"$f":"IF(B9=\"\",\"\",A7+1)","v":4},{"$f":"IF(N9=\"\",\"\",\" \"&VLOOKUP(N9,$R$3:$T$100,2,FALSE))","v":" 근로자명부"},null,null,null,null,null,null,null,null,null,null,{"$f":"IF(N9=\"\",\"\",M7+1)","v":4},7,null,null,null,6,"근로계약서"]
[null,null,null,null,null,null,null,null,null,null,null,null,null,null,null,null,null,7,"근로자명부"]
[{"$f":"IF(B11=\"\",\"\",A9+1)","v":5},{"$f":"IF(N11=\"\",\"\",\" \"&VLOOKUP(N11,$R$3:$T$100,2,FALSE))","v":" 업무분장표"},null,null,null,null,null,null,null,null,null,null,{"$f":"IF(N11=\"\",\"\",M9+1)","v":5},8,null,null,null,8,"업무분장표"]
[null,null,null,null,null,null,null,null,null,null,null,null,null,null,null,null,null,9,"부서별업무분장표"]
[{"$f":"IF(B13=\"\",\"\",A11+1)","v":6},{"$f":"IF(N13=\"\",\"\",\" \"&VLOOKUP(N13,$R$3:$T$100,2,FALSE))","v":" 부서별업무분장표"},null,null,null,null,null,null,null,null,null,null,{"$f":"IF(N13=\"\",\"\",M11+1)","v":6},9,null,null,null,10,"휴가계획서"]
[null,null,null,null,null,null,null,null,null,null,null,null,null,null,null,null,null,11,"임금구성표"]
[{"$f":"IF(B15=\"\",\"\",A13+1)","v":7},{"$f":"IF(N15=\"\",\"\",\" \"&VLOOKUP(N15,$R$3:$T$100,2,FALSE))","v":" 휴가계획서"},null,null,null,null,null,null,null,null,null,null,{"$f":"IF(N15=\"\",\"\",M13+1)","v":7},10,null,null,null,12,"근로자 관련 보관서류"]
[null,null,null,null,null,null,null,null,null,null,null,null,null,null,null,null,null,13,"해고,퇴직에 관계된서류"]
[{"$f":"IF(B17=\"\",\"\",A15+1)","v":8},{"$f":"IF(N17=\"\",\"\",\" \"&VLOOKUP(N17,$R$3:$T$100,2,FALSE))","v":" 임금구성표"},null,null,null,null,null,null,null,null,null,null,{"$f":"IF(N17=\"\",\"\",M15+1)","v":8},11,null,null,null,""]
[null,null,null,null,null,null,null,null,null,null,null,null,null,null,null,null,null,""]
[{"$f":"IF(B19=\"\",\"\",A17+1)","v":9},{"$f":"IF(N19=\"\",\"\",\" \"&VLOOKUP(N19,$R$3:$T$100,2,FALSE))","v":" 근로자 관련 보관서류"},null,null,null,null,null,null,null,null,null,null,{"$f":"IF(N19=\"\",\"\",M17+1)","v":9},12,null,null,null,""]
[null,null,null,null,null,null,null,null,null,null,null,null,null,null,null,null,null,""]
[{"$f":"IF(B21=\"\",\"\",A19+1)","v":10},{"$f":"IF(N21=\"\",\"\",\" \"&VLOOKUP(N21,$R$3:$T$100,2,FALSE))","v":" 해고,퇴직에 관계된서류"},null,null,null,null,null,null,null,null,null,null,{"$f":"IF(N21=\"\",\"\",M19+1)","v":10},13,null,null,null,""]
[null,null,null,null,null,null,null,null,null,null,null,null,null,null,null,null,null,""]
[{"$f":"IF(B23=\"\",\"\",A21+1)","v":""},{"$f":"IF(N23=\"\",\"\",\" \"&VLOOKUP(N23,$R$3:$T$100,2,FALSE))","v":""},null,null,null,null,null,null,null,null,null,null,{"$f":"IF(N23=\"\",\"\",M21+1)","v":""},null,null,null,null,""]
[null,null,null,null,null,null,null,null,null,null,null,null,null,null,null,null,null,""]
[{"$f":"IF(B25=\"\",\"\",A23+1)","v":""},{"$f":"IF(N25=\"\",\"\",\" \"&VLOOKUP(N25,$R$3:$T$100,2,FALSE))","v":""},null,null,null,null,null,null,null,null,null,null,{"$f":"IF(N25=\"\",\"\",M23+1)","v":""},null,null,null,null,""]
[null,null,null,null,null,null,null,null,null,null,null,null,null,null,null,null,null,""]
[{"$f":"IF(B27=\"\",\"\",A25+1)","v":""},{"$f":"IF(N27=\"\",\"\",\" \"&VLOOKUP(N27,$R$3:$T$100,2,FALSE))","v":""},null,null,null,null,null,null,null,null,null,null,{"$f":"IF(N27=\"\",\"\",M25+1)","v":""},null,null,null,null,""]
[null,null,null,null,null,null,null,null,null,null,null,null,null,null,null,null,null,""]
[{"$f":"IF(B29=\"\",\"\",A27+1)","v":""},{"$f":"IF(N29=\"\",\"\",\" \"&VLOOKUP(N29,$R$3:$T$100,2,FALSE))","v":""},null,null,null,null,null,null,null,null,null,null,{"$f":"IF(N29=\"\",\"\",M27+1)","v":""},null,null,null,null,""]
[null,null,null,null,null,null,null,null,null,null,null,null,null,null,null,null,null,""]
[{"$f":"IF(B31=\"\",\"\",A29+1)","v":""},{"$f":"IF(N31=\"\",\"\",\" \"&VLOOKUP(N31,$R$3:$T$100,2,FALSE))","v":""},null,null,null,null,null,null,null,null,null,null,{"$f":"IF(N31=\"\",\"\",M29+1)","v":""},null,null,null,null,""]
[null,null,null,null,null,null,null,null,null,null,null,null,null,null,null,null,null,""]
[{"$f":"IF(B33=\"\",\"\",A31+1)","v":""},{"$f":"IF(N33=\"\",\"\",\" \"&VLOOKUP(N33,$R$3:$T$100,2,FALSE))","v":""},null,null,null,null,null,null,null,null,null,null,{"$f":"IF(N33=\"\",\"\",M31+1)","v":""},null,null,null,null,""]
[null,null,null,null,null,null,null,null,null,null,null,null,null,null,null,null,null,""]
[null,null,null,null,null,null,null,null,null,null,null,null,null,null,null,null,null,""]
[null,null,null,null,null,null,null,null,null,null,null,null,null,null,null,null,null,""]
[null,null,null,null,null,null,null,null,null,null,null,null,null,null,null,null,null,""]
[null,null,null,null,null,null,null,null,null,null,null,null,null,null,null,null,null,""]
[null,null,null,null,null,null,null,null,null,null,null,null,null,null,null,null,null,""]
[null,null,null,null,null,null,null,null,null,null,null,null,null,null,null,null,null,""]
[null,null,null,null,null,null,null,null,null,null,null,null,null,null,null,null,null,""]
[null,null,null,null,null,null,null,null,null,null,null,null,null,null,null,null,null,""]
[null,null,null,null,null,null,null,null,null,null,null,null,null,null,null,null,null,""]
[null,null,null,null,null,null,null,null,null,null,null,null,null,null,null,null,null,""]
[null,null,null,null,null,null,null,null,null,null,null,null,null,null,null,null,null,""]
[null,null,null,null,null,null,null,null,null,null,null,null,null,null,null,null,null,""]
[null,null,null,null,null,null,null,null,null,null,null,null,null,null,null,null,null,""]
[null,null,null,null,null,null,null,null,null,null,null,null,null,null,null,null,null,""]
[null,null,null,null,null,null,null,null,null,null,null,null,null,null,null,null,null,""]
[null,null,null,null,null,null,null,null,null,null,null,null,null,null,null,null,null,""]
[null,null,null,null,null,null,null,null,null,null,null,null,null,null,null,null,null,""]
[null,null,null,null,null,null,null,null,null,null,null,null,null,null,null,null,null,""]
[null,null,null,null,null,null,null,null,null,null,null,null,null,null,null,null,null,""]
[null,null,null,null,null,null,null,null,null,null,null,null,null,null,null,null,null,""]
[null,null,null,null,null,null,null,null,null,null,null,null,null,null,null,null,null,""]
[null,null,null,null,null,null,null,null,null,null,null,null,null,null,null,null,null,""]
[null,null,null,null,null,null,null,null,null,null,null,null,null,null,null,null,null,""]
[null,null,null,null,null,null,null,null,null,null,null,null,null,null,null,null,null,""]
[null,null,null,null,null,null,null,null,null,null,null,null,null,null,null,null,null,""]
[null,null,null,null,null,null,null,null,null,null,null,null,null,null,null,null,null,""]

{"sheet":"목차제작1","index":79,"n_rows":60,"n_cols":20,"rows_kept":60,"cut":false,"hidden":false,"merged":[[0,0,0,8],[1,1,1,7],[2,0,3,0],[2,1,3,7],[2,8,3,8],[2,13,3,13],[4,0,5,0],[4,1,5,7],[4,8,5,8],[4,12,5,12],[4,13,5,13],[2,12,3,12],[8,0,9,0],[8,1,9,7],[8,8,9,8],[8,12,9,12],[8,13,9,13],[6,0,7,0],[6,1,7,7],[6,8,7,8],[6,12,7,12],[6,13,7,13],[12,0,13,0],[12,1,13,7],[12,8,13,8],[12,12,13,12],[12,13,13,13],[10,0,11,0],[10,1,11,7],[10,8,11,8],[10,12,11,12],[10,13,11,13],[16,0,17,0],[16,1,17,7],[16,8,17,8],[16,12,17,12],[16,13,17,13],[14,0,15,0],[14,1,15,7],[14,8,15,8],[14,12,15,12],[14,13,15,13],[20,0,21,0],[20,1,21,7],[20,8,21,8],[20,12,21,12],[20,13,21,13],[18,0,19,0],[18,1,19,7],[18,8,19,8],[18,12,19,12],[18,13,19,13],[24,0,25,0],[24,1,25,7],[24,8,25,8],[24,12,25,12],[24,13,25,13],[22,0,23,0],[22,1,23,7],[22,8,23,8],[22,12,23,12],[22,13,23,13],[28,0,29,0],[28,1,29,7],[28,8,29,8],[28,12,29,12],[28,13,29,13],[26,0,27,0],[26,1,27,7],[26,8,27,8],[26,12,27,12],[26,13,27,13],[32,0,33,0],[32,1,33,7],[32,8,33,8],[32,12,33,12],[32,13,33,13],[30,0,31,0],[30,1,31,7],[30,8,31,8],[30,12,31,12],[30,13,31,13]]}
[{"$f":"요양기관기초정보!D1&\" \"&VLOOKUP(N1,$R$3:$T$7,2,FALSE)","v":"팜오피스약국 개인정보보호 관련 "},null,null,null,null,null,null,null,null,null,null,null,"제목",1,null,null,null,null,"목차제작을 위해 PharmOffice챠트를 참조하세요"]
["순번","자료  설명 ",null,null,null,null,null,null,"비고",null,null,null,"순번","자료번호",null,null,null,null,"서류철에 정리하기 편하게 하기 위해 만드는 목차 입니다."]
[{"$f":"IF(B3=\"\",\"\",1)","v":1},{"$f":"IF(N3=\"\",\"\",\" \"&VLOOKUP(N3,$R$3:$T$100,2,FALSE))","v":" 개인정보보호를 위한 내부 관리 계획"},null,null,null,null,null,null,null,null,null,null,{"$f":"IF(N3=\"\",\"\",1)","v":1},4,null,null,null,"자료번호","명칭","비고"]
[null,null,null,null,null,null,null,null,null,null,null,null,null,null,null,null,null,{"$f":"IF(S4=\"\",\"\",1)","v":1},"개인정보보호 관련 ","제목란"]
[{"$f":"IF(B5=\"\",\"\",A3+1)","v":2},{"$f":"IF(N5=\"\",\"\",\" \"&VLOOKUP(N5,$R$3:$T$100,2,FALSE))","v":" 개인정보처리방침"},null,null,null,null,null,null,null,null,null,null,{"$f":"IF(N5=\"\",\"\",M3+1)","v":2},5,null,null,null,{"$f":"IF(S5=\"\",\"\",R4+1)","v":2},"근로,노무관련서류","제목란"]
[null,null,null,null,null,null,null,null,null,null,null,null,null,null,null,null,null,{"$f":"IF(S6=\"\",\"\",R5+1)","v":3},"업무용 서류철","제목란"]
[{"$f":"IF(B7=\"\",\"\",A5+1)","v":3},{"$f":"IF(N7=\"\",\"\",\" \"&VLOOKUP(N7,$R$3:$T$100,2,FALSE))","v":" 조제기록부 열람및 사본발급기준"},null,null,null,null,null,null,null,null,null,null,{"$f":"IF(N7=\"\",\"\",M5+1)","v":3},6,null,null,null,4,"개인정보보호를 위한 내부 관리 계획"]
[null,null,null,null,null,null,null,null,null,null,null,null,null,null,null,null,null,5,"개인정보처리방침"]
[{"$f":"IF(B9=\"\",\"\",A7+1)","v":4},{"$f":"IF(N9=\"\",\"\",\" \"&VLOOKUP(N9,$R$3:$T$100,2,FALSE))","v":" 개인정보 자율점검 결과"},null,null,null,null,null,null,null,null,null,null,{"$f":"IF(N9=\"\",\"\",M7+1)","v":4},7,null,null,null,6,"조제기록부 열람및 사본발급기준"]
[null,null,null,null,null,null,null,null,null,null,null,null,null,null,null,null,null,7,"개인정보 자율점검 결과"]
[{"$f":"IF(B11=\"\",\"\",A9+1)","v":5},{"$f":"IF(N11=\"\",\"\",\" \"&VLOOKUP(N11,$R$3:$T$100,2,FALSE))","v":" 개인정보 파기 관리대장"},null,null,null,null,null,null,null,null,null,null,{"$f":"IF(N11=\"\",\"\",M9+1)","v":5},8,null,null,null,8,"개인정보 파기 관리대장"]
[null,null,null,null,null,null,null,null,null,null,null,null,null,null,null,null,null,9,"개인정보처리위탁계약서"]
[{"$f":"IF(B13=\"\",\"\",A11+1)","v":6},{"$f":"IF(N13=\"\",\"\",\" \"&VLOOKUP(N13,$R$3:$T$100,2,FALSE))","v":" 개인정보처리위탁계약서"},null,null,null,null,null,null,null,null,null,null,{"$f":"IF(N13=\"\",\"\",M11+1)","v":6},9,null,null,null,10,"위탁업체 개인정보보호 책임자 교육여부등 점검부"]
[null,null,null,null,null,null,null,null,null,null,null,null,null,null,null,null,null,11,"영상정보처리기기(CCTV) 운영·관리 방침"]
[{"$f":"IF(B15=\"\",\"\",A13+1)","v":7},{"$f":"IF(N15=\"\",\"\",\" \"&VLOOKUP(N15,$R$3:$T$100,2,FALSE))","v":" 위탁업체 개인정보보호 책임자 교육여부등 점검부"},null,null,null,null,null,null,null,null,null,null,{"$f":"IF(N15=\"\",\"\",M13+1)","v":7},10,null,null,null,12,"직원 개인정보 이수교육 확인"]
[null,null,null,null,null,null,null,null,null,null,null,null,null,null,null,null,null,13,"개인정보 보관장소 출입일지"]
[{"$f":"IF(B17=\"\",\"\",A15+1)","v":8},{"$f":"IF(N17=\"\",\"\",\" \"&VLOOKUP(N17,$R$3:$T$100,2,FALSE))","v":" 영상정보처리기기(CCTV) 운영·관리 방침"},null,null,null,null,null,null,null,null,null,null,{"$f":"IF(N17=\"\",\"\",M15+1)","v":8},11,null,null,null,14,"개인정보 정기 점검 체크리스트"]
[null,null,null,null,null,null,null,null,null,null,null,null,null,null,null,null,null,15,"개인정보처리시스템(청구 S/W)이 설치된 컴퓨터 관리 대장"]
[{"$f":"IF(B19=\"\",\"\",A17+1)","v":9},{"$f":"IF(N19=\"\",\"\",\" \"&VLOOKUP(N19,$R$3:$T$100,2,FALSE))","v":" 직원 개인정보 이수교육 확인"},null,null,null,null,null,null,null,null,null,null,{"$f":"IF(N19=\"\",\"\",M17+1)","v":9},12,null,null,null,16,"업무분장표 및 보안서약서"]
[null,null,null,null,null,null,null,null,null,null,null,null,null,null,null,null,null,17,"개인정보보호안내 부착물"]
[{"$f":"IF(B21=\"\",\"\",A19+1)","v":10},{"$f":"IF(N21=\"\",\"\",\" \"&VLOOKUP(N21,$R$3:$T$100,2,FALSE))","v":" 개인정보 보관장소 출입일지"},null,null,null,null,null,null,null,null,null,null,{"$f":"IF(N21=\"\",\"\",M19+1)","v":10},13,null,null,null,18,"개인정보보호관련 스크랩"]
[null,null,null,null,null,null,null,null,null,null,null,null,null,null,null,null,null,""]
[{"$f":"IF(B23=\"\",\"\",A21+1)","v":11},{"$f":"IF(N23=\"\",\"\",\" \"&VLOOKUP(N23,$R$3:$T$100,2,FALSE))","v":" 개인정보 정기 점검 체크리스트"},null,null,null,null,null,null,null,null,null,null,{"$f":"IF(N23=\"\",\"\",M21+1)","v":11},14,null,null,null,""]
[null,null,null,null,null,null,null,null,null,null,null,null,null,null,null,null,null,""]
[{"$f":"IF(B25=\"\",\"\",A23+1)","v":12},{"$f":"IF(N25=\"\",\"\",\" \"&VLOOKUP(N25,$R$3:$T$100,2,FALSE))","v":" 개인정보처리시스템(청구 S/W)이 설치된 컴퓨터 관리 대장"},null,null,null,null,null,null,null,null,null,null,{"$f":"IF(N25=\"\",\"\",M23+1)","v":12},15,null,null,null,""]
[null,null,null,null,null,null,null,null,null,null,null,null,null,null,null,null,null,""]
[{"$f":"IF(B27=\"\",\"\",A25+1)","v":13},{"$f":"IF(N27=\"\",\"\",\" \"&VLOOKUP(N27,$R$3:$T$100,2,FALSE))","v":" 업무분장표 및 보안서약서"},null,null,null,null,null,null,null,null,null,null,{"$f":"IF(N27=\"\",\"\",M25+1)","v":13},16,null,null,null,""]
[null,null,null,null,null,null,null,null,null,null,null,null,null,null,null,null,null,""]
[{"$f":"IF(B29=\"\",\"\",A27+1)","v":14},{"$f":"IF(N29=\"\",\"\",\" \"&VLOOKUP(N29,$R$3:$T$100,2,FALSE))","v":" 개인정보보호안내 부착물"},null,null,null,null,null,null,null,null,null,null,{"$f":"IF(N29=\"\",\"\",M27+1)","v":14},17,null,null,null,""]
[null,null,null,null,null,null,null,null,null,null,null,null,null,null,null,null,null,""]
[{"$f":"IF(B31=\"\",\"\",A29+1)","v":15},{"$f":"IF(N31=\"\",\"\",\" \"&VLOOKUP(N31,$R$3:$T$100,2,FALSE))","v":" 개인정보보호관련 스크랩"},null,null,null,null,null,null,null,null,null,null,{"$f":"IF(N31=\"\",\"\",M29+1)","v":15},18,null,null,null,""]
[null,null,null,null,null,null,null,null,null,null,null,null,null,null,null,null,null,""]
[{"$f":"IF(B33=\"\",\"\",A31+1)","v":""},{"$f":"IF(N33=\"\",\"\",\" \"&VLOOKUP(N33,$R$3:$T$100,2,FALSE))","v":""},null,null,null,null,null,null,null,null,null,null,{"$f":"IF(N33=\"\",\"\",M31+1)","v":""},null,null,null,null,""]
[null,null,null,null,null,null,null,null,null,null,null,null,null,null,null,null,null,""]
[null,null,null,null,null,null,null,null,null,null,null,null,null,null,null,null,null,""]
[null,null,null,null,null,null,null,null,null,null,null,null,null,null,null,null,null,""]
[null,null,null,null,null,null,null,null,null,null,null,null,null,null,null,null,null,""]
[null,null,null,null,null,null,null,null,null,null,null,null,null,null,null,null,null,""]
[null,null,null,null,null,null,null,null,null,null,null,null,null,null,null,null,null,""]
[null,null,null,null,null,null,null,null,null,null,null,null,null,null,null,null,null,""]
[null,null,null,null,null,null,null,null,null,null,null,null,null,null,null,null,null,""]
[null,null,null,null,null,null,null,null,null,null,null,null,null,null,null,null,null,""]
[null,null,null,null,null,null,null,null,null,null,null,null,null,null,null,null,null,""]
[null,null,null,null,null,null,null,null,null,null,null,null,null,null,null,null,null,""]
[null,null,null,null,null,null,null,null,null,null,null,null,null,null,null,null,null,""]
[null,null,null,null,null,null,null,null,null,null,null,null,null,null,null,null,null,""]
[null,null,null,null,null,null,null,null,null,null,null,null,null,null,null,null,null,""]
[null,null,null,null,null,null,null,null,null,null,null,null,null,null,null,null,null,""]
[null,null,null,null,null,null,null,null,null,null,null,null,null,null,null,null,null,""]
[null,null,null,null,null,null,null,null,null,null,null,null,null,null,null,null,null,""]
[null,null,null,null,null,null,null,null,null,null,null,null,null,null,null,null,null,""]
[null,null,null,null,null,null,null,null,null,null,null,null,null,null,null,null,null,""]
[null,null,null,null,null,null,null,null,null,null,null,null,null,null,null,null,null,""]
[null,null,null,null,null,null,null,null,null,null,null,null,null,null,null,null,null,""]
[null,null,null,null,null,null,null,null,null,null,null,null,null,null,null,null,null,""]
[null,null,null,null,null,null,null,null,null,null,null,null,null,null,null,null,null,""]
[null,null,null,null,null,null,null,null,null,null,null,null,null,null,null,null,null,""]
[null,null,null,null,null,null,null,null,null,null,null,null,null,null,null,null,null,""]
[null,null,null,null,null,null,null,null,null,null,null,null,null,null,null,null,null,""]
[null,null,null,null,null,null,null,null,null,null,null,null,null,null,null,null,null,""]

{"sheet":"가격1","index":80,"n_rows":202,"n_cols":15,"rows_kept":202,"cut":false,"hidden":false,"merged":[[11,0,11,7],[2,4,3,4],[2,5,3,5],[2,6,3,6],[2,7,3,7],[6,0,7,0],[6,1,7,1],[6,2,7,2],[6,3,7,3],[8,0,9,0],[8,1,9,1],[8,2,9,2],[8,3,9,3],[2,2,3,2],[8,4,9,4],[8,5,9,5],[8,6,9,6],[8,7,9,7],[6,4,7,4],[6,5,7,5],[6,6,7,6],[6,7,7,7],[0,9,0,14],[4,4,5,4],[4,5,5,5],[4,6,5,6],[4,7,5,7],[1,0,1,7],[2,3,3,3],[4,0,5,0],[2,0,3,0],[2,1,3,1],[4,1,5,1],[4,2,5,2],[4,3,5,3]]}
[]
["이곳 16칸에  약이름 앞의 코드를 입력하면",null,null,null,null,null,null,null,"코드","약이름","특장점1","효능효과1","효능효과1","수량","금액"]
[1,2,3,1,{"$f":"IFERROR(IF(VLOOKUP(A3,$I$2:$O$102,2)=\"\",\"\",VLOOKUP(A3,$I$2:$O$102,2)),\"\")","v":"하이락토"},{"$f":"IFERROR(IF(VLOOKUP(B3,$I$2:$O$102,2)=\"\",\"\",VLOOKUP(B3,$I$2:$O$102,2)),\"\")","v":"모아락"},"일동메가루테인","하이락토",1,"하이락토","프로바이오틱스+프리바이오틱스","유익균증식","유해균억제","30포","35000원"]
[null,null,null,null,null,null,null,null,2,"모아락","장까지살아가는","19종의유산균","배변활동에도움","60정","60000원"]
[2,3,1,2,{"$f":"IFERROR(IF(VLOOKUP(A5,$I$2:$O$102,2)=\"\",\"\",VLOOKUP(A5,$I$2:$O$102,2)),\"\")","v":"모아락"},{"$f":"IFERROR(IF(VLOOKUP(B5,$I$2:$O$102,2)=\"\",\"\",VLOOKUP(B5,$I$2:$O$102,2)),\"\")","v":"일동메가루테인"},{"$f":"IFERROR(IF(VLOOKUP(C5,$I$2:$O$102,2)=\"\",\"\",VLOOKUP(C5,$I$2:$O$102,2)),\"\")","v":"하이락토"},{"$f":"IFERROR(IF(VLOOKUP(D5,$I$2:$O$102,2)=\"\",\"\",VLOOKUP(D5,$I$2:$O$102,2)),\"\")","v":"모아락"},3,"일동메가루테인","황반색소밀도유지","눈의피로도개선","루테인지아잔틴복합추출물","120정","70000원"]
[null,null,null,null,null,null,null,null,4]
[3,1,2,1,{"$f":"IFERROR(IF(VLOOKUP(A7,$I$2:$O$102,2)=\"\",\"\",VLOOKUP(A7,$I$2:$O$102,2)),\"\")","v":"일동메가루테인"},{"$f":"IFERROR(IF(VLOOKUP(B7,$I$2:$O$102,2)=\"\",\"\",VLOOKUP(B7,$I$2:$O$102,2)),\"\")","v":"하이락토"},{"$f":"IFERROR(IF(VLOOKUP(C7,$I$2:$O$102,2)=\"\",\"\",VLOOKUP(C7,$I$2:$O$102,2)),\"\")","v":"모아락"},{"$f":"IFERROR(IF(VLOOKUP(D7,$I$2:$O$102,2)=\"\",\"\",VLOOKUP(D7,$I$2:$O$102,2)),\"\")","v":"하이락토"},5]
[null,null,null,null,null,null,null,null,6]
[3,1,2,1,{"$f":"IFERROR(IF(VLOOKUP(A9,$I$2:$O$102,2)=\"\",\"\",VLOOKUP(A9,$I$2:$O$102,2)),\"\")","v":"일동메가루테인"},{"$f":"IFERROR(IF(VLOOKUP(B9,$I$2:$O$102,2)=\"\",\"\",VLOOKUP(B9,$I$2:$O$102,2)),\"\")","v":"하이락토"},{"$f":"IFERROR(IF(VLOOKUP(C9,$I$2:$O$102,2)=\"\",\"\",VLOOKUP(C9,$I$2:$O$102,2)),\"\")","v":"모아락"},{"$f":"IFERROR(IF(VLOOKUP(D9,$I$2:$O$102,2)=\"\",\"\",VLOOKUP(D9,$I$2:$O$102,2)),\"\")","v":"하이락토"},7]
[null,null,null,null,null,null,null,null,8]
[null,null,null,null,null,null,null,null,9]
["다음과 같은 양식으로  A4용지에 16가지 위에 정한 의약품 가격라벨이 출력됩니다 ",null,null,null,null,null,null,null,10]
[null,null,null,null,null,null,null,null,11]
[null,null,null,null,null,null,"약이름",null,12]
[null,null,null,null,null,null,null,null,13]
[null,null,null,null,null,null,null,null,14]
[null,null,null,null,null,null,null,null,15]
[null,null,null,null,null,null,null,null,16]
[null,null,null,null,null,null,"가격",null,17]
[null,null,null,null,null,null,null,null,18]
[null,null,null,null,null,null,null,null,19]
[null,null,null,null,null,null,null,null,20]
[null,null,null,null,"designed by 노영균",null,null,null,21]
[null,null,null,null,null,null,null,null,22]
[null,"포장단위",null,null,null,null,null,null,23]
[null,null,null,null,null,null,null,null,24]
[null,null,null,null,null,null,null,null,25]
[null,null,null,null,null,null,null,null,26]
[null,null,null,null,null,null,null,null,27]
[null,null,null,null,null,null,null,null,28]
[null,null,null,null,null,null,null,null,29]
[null,null,null,null,null,null,null,null,30]
[null,null,null,null,null,null,null,null,31]
[null,null,null,null,null,null,null,null,32]
[null,null,null,null,null,null,null,null,33]
[null,null,null,null,null,null,null,null,34]
[null,null,null,null,null,null,null,null,35]
[null,null,null,null,null,null,null,null,36]
[null,null,null,null,null,null,null,null,37]
[null,null,null,null,null,null,null,null,38]
[null,null,null,null,null,null,null,null,39]
[null,null,null,null,null,null,null,null,40]
[null,null,null,null,null,null,null,null,41]
[null,null,null,null,null,null,null,null,42]
[null,null,null,null,null,null,null,null,43]
[null,null,null,null,null,null,null,null,44]
[null,null,null,null,null,null,null,null,45]
[null,null,null,null,null,null,null,null,46]
[null,null,null,null,null,null,null,null,47]
[null,null,null,null,null,null,null,null,48]
[null,null,null,null,null,null,null,null,49]
[null,null,null,null,null,null,null,null,50]
[null,null,null,null,null,null,null,null,51]
[null,null,null,null,null,null,null,null,52]
[null,null,null,null,null,null,null,null,53]
[null,null,null,null,null,null,null,null,54]
[null,null,null,null,null,null,null,null,55]
[null,null,null,null,null,null,null,null,56]
[null,null,null,null,null,null,null,null,57]
[null,null,null,null,null,null,null,null,58]
[null,null,null,null,null,null,null,null,59]
[null,null,null,null,null,null,null,null,60]
[null,null,null,null,null,null,null,null,61]
[null,null,null,null,null,null,null,null,62]
[null,null,null,null,null,null,null,null,63]
[null,null,null,null,null,null,null,null,64]
[null,null,null,null,null,null,null,null,65]
[null,null,null,null,null,null,null,null,66]
[null,null,null,null,null,null,null,null,67]
[null,null,null,null,null,null,null,null,68]
[null,null,null,null,null,null,null,null,69]
[null,null,null,null,null,null,null,null,70]
[null,null,null,null,null,null,null,null,71]
[null,null,null,null,null,null,null,null,72]
[null,null,null,null,null,null,null,null,73]
[null,null,null,null,null,null,null,null,74]
[null,null,null,null,null,null,null,null,75]
[null,null,null,null,null,null,null,null,76]
[null,null,null,null,null,null,null,null,77]
[null,null,null,null,null,null,null,null,78]
[null,null,null,null,null,null,null,null,79]
[null,null,null,null,null,null,null,null,80]
[null,null,null,null,null,null,null,null,81]
[null,null,null,null,null,null,null,null,82]
[null,null,null,null,null,null,null,null,83]
[null,null,null,null,null,null,null,null,84]
[null,null,null,null,null,null,null,null,85]
[null,null,null,null,null,null,null,null,86]
[null,null,null,null,null,null,null,null,87]
[null,null,null,null,null,null,null,null,88]
[null,null,null,null,null,null,null,null,89]
[null,null,null,null,null,null,null,null,90]
[null,null,null,null,null,null,null,null,91]
[null,null,null,null,null,null,null,null,92]
[null,null,null,null,null,null,null,null,93]
[null,null,null,null,null,null,null,null,94]
[null,null,null,null,null,null,null,null,95]
[null,null,null,null,null,null,null,null,96]
[null,null,null,null,null,null,null,null,97]
[null,null,null,null,null,null,null,null,98]
[null,null,null,null,null,null,null,null,99]
[null,null,null,null,null,null,null,null,100]
[null,null,null,null,null,null,null,null,101]
[null,null,null,null,null,null,null,null,102]
[null,null,null,null,null,null,null,null,103]
[null,null,null,null,null,null,null,null,104]
[null,null,null,null,null,null,null,null,105]
[null,null,null,null,null,null,null,null,106]
[null,null,null,null,null,null,null,null,107]
[null,null,null,null,null,null,null,null,108]
[null,null,null,null,null,null,null,null,109]
[null,null,null,null,null,null,null,null,110]
[null,null,null,null,null,null,null,null,111]
[null,null,null,null,null,null,null,null,112]
[null,null,null,null,null,null,null,null,113]
[null,null,null,null,null,null,null,null,114]
[null,null,null,null,null,null,null,null,115]
[null,null,null,null,null,null,null,null,116]
[null,null,null,null,null,null,null,null,117]
[null,null,null,null,null,null,null,null,118]
[null,null,null,null,null,null,null,null,119]
[null,null,null,null,null,null,null,null,120]
[null,null,null,null,null,null,null,null,121]
[null,null,null,null,null,null,null,null,122]
[null,null,null,null,null,null,null,null,123]
[null,null,null,null,null,null,null,null,124]
[null,null,null,null,null,null,null,null,125]
[null,null,null,null,null,null,null,null,126]
[null,null,null,null,null,null,null,null,127]
[null,null,null,null,null,null,null,null,128]
[null,null,null,null,null,null,null,null,129]
[null,null,null,null,null,null,null,null,130]
[null,null,null,null,null,null,null,null,131]
[null,null,null,null,null,null,null,null,132]
[null,null,null,null,null,null,null,null,133]
[null,null,null,null,null,null,null,null,134]
[null,null,null,null,null,null,null,null,135]
[null,null,null,null,null,null,null,null,136]
[null,null,null,null,null,null,null,null,137]
[null,null,null,null,null,null,null,null,138]
[null,null,null,null,null,null,null,null,139]
[null,null,null,null,null,null,null,null,140]
[null,null,null,null,null,null,null,null,141]
[null,null,null,null,null,null,null,null,142]
[null,null,null,null,null,null,null,null,143]
[null,null,null,null,null,null,null,null,144]
[null,null,null,null,null,null,null,null,145]
[null,null,null,null,null,null,null,null,146]
[null,null,null,null,null,null,null,null,147]
[null,null,null,null,null,null,null,null,148]
[null,null,null,null,null,null,null,null,149]
[null,null,null,null,null,null,null,null,150]
[null,null,null,null,null,null,null,null,151]
[null,null,null,null,null,null,null,null,152]
[null,null,null,null,null,null,null,null,153]
[null,null,null,null,null,null,null,null,154]
[null,null,null,null,null,null,null,null,155]
[null,null,null,null,null,null,null,null,156]
[null,null,null,null,null,null,null,null,157]
[null,null,null,null,null,null,null,null,158]
[null,null,null,null,null,null,null,null,159]
[null,null,null,null,null,null,null,null,160]
[null,null,null,null,null,null,null,null,161]
[null,null,null,null,null,null,null,null,162]
[null,null,null,null,null,null,null,null,163]
[null,null,null,null,null,null,null,null,164]
[null,null,null,null,null,null,null,null,165]
[null,null,null,null,null,null,null,null,166]
[null,null,null,null,null,null,null,null,167]
[null,null,null,null,null,null,null,null,168]
[null,null,null,null,null,null,null,null,169]
[null,null,null,null,null,null,null,null,170]
[null,null,null,null,null,null,null,null,171]
[null,null,null,null,null,null,null,null,172]
[null,null,null,null,null,null,null,null,173]
[null,null,null,null,null,null,null,null,174]
[null,null,null,null,null,null,null,null,175]
[null,null,null,null,null,null,null,null,176]
[null,null,null,null,null,null,null,null,177]
[null,null,null,null,null,null,null,null,178]
[null,null,null,null,null,null,null,null,179]
[null,null,null,null,null,null,null,null,180]
[null,null,null,null,null,null,null,null,181]
[null,null,null,null,null,null,null,null,182]
[null,null,null,null,null,null,null,null,183]
[null,null,null,null,null,null,null,null,184]
[null,null,null,null,null,null,null,null,185]
[null,null,null,null,null,null,null,null,186]
[null,null,null,null,null,null,null,null,187]
[null,null,null,null,null,null,null,null,188]
[null,null,null,null,null,null,null,null,189]
[null,null,null,null,null,null,null,null,190]
[null,null,null,null,null,null,null,null,191]
[null,null,null,null,null,null,null,null,192]
[null,null,null,null,null,null,null,null,193]
[null,null,null,null,null,null,null,null,194]
[null,null,null,null,null,null,null,null,195]
[null,null,null,null,null,null,null,null,196]
[null,null,null,null,null,null,null,null,197]
[null,null,null,null,null,null,null,null,198]
[null,null,null,null,null,null,null,null,199]
[null,null,null,null,null,null,null,null,200]

{"sheet":"가격2","index":81,"n_rows":202,"n_cols":12,"rows_kept":202,"cut":false,"hidden":false,"merged":[[4,0,5,0],[4,1,5,1],[4,2,5,2],[4,3,5,3],[0,6,0,11],[1,0,1,3],[2,0,3,0],[2,1,3,1],[2,2,3,2],[2,3,3,3],[8,0,9,0],[8,1,9,1],[8,2,9,2],[8,3,9,3],[6,0,7,0],[6,1,7,1],[6,2,7,2],[6,3,7,3],[13,0,13,4],[10,0,11,0],[10,1,11,1],[10,2,11,2],[10,3,11,3]]}
[]
["이곳 10칸에  약이름 앞의 코드를 입력하면",null,null,null,null,"코드","약이름","특장점1","효능효과1","효능효과1","수량","금액"]
[1,2,{"$f":"IFERROR(IF(VLOOKUP(A3,$F$2:$L$102,2)=\"\",\"\",VLOOKUP(A3,$F$2:$L$102,2)),\"\")","v":"하이락토"},{"$f":"IFERROR(IF(VLOOKUP(B3,$F$2:$L$102,2)=\"\",\"\",VLOOKUP(B3,$F$2:$L$102,2)),\"\")","v":"모아락"},null,1,"하이락토","프로바이오틱스+프리바이오틱스","유익균증식","유해균억제","30포","35000원"]
[null,null,null,null,null,2,"모아락","장까지살아가는","19종의유산균","배변활동에도움","60정","60000원"]
[3,4,{"$f":"IFERROR(IF(VLOOKUP(A5,$F$2:$L$102,2)=\"\",\"\",VLOOKUP(A5,$F$2:$L$102,2)),\"\")","v":"일동메가루테인"},{"$f":"IFERROR(IF(VLOOKUP(B5,$F$2:$L$102,2)=\"\",\"\",VLOOKUP(B5,$F$2:$L$102,2)),\"\")","v":"하이락토"},null,3,"일동메가루테인","황반색소밀도유지","눈의피로도개선","루테인지아잔틴복합추출물","120정","70000원"]
[null,null,null,null,null,4,"하이락토","프로바이오틱스+프리바이오틱스","유익균증식","유해균억제","30포","35000원"]
[5,6,{"$f":"IFERROR(IF(VLOOKUP(A7,$F$2:$L$102,2)=\"\",\"\",VLOOKUP(A7,$F$2:$L$102,2)),\"\")","v":"모아락"},{"$f":"IFERROR(IF(VLOOKUP(B7,$F$2:$L$102,2)=\"\",\"\",VLOOKUP(B7,$F$2:$L$102,2)),\"\")","v":"일동메가루테인"},null,5,"모아락","장까지살아가는","19종의유산균","배변활동에도움","60정","60000원"]
[null,null,null,null,null,6,"일동메가루테인","황반색소밀도유지","눈의피로도개선","루테인지아잔틴복합추출물","120정","70000원"]
[7,8,{"$f":"IFERROR(IF(VLOOKUP(A9,$F$2:$L$102,2)=\"\",\"\",VLOOKUP(A9,$F$2:$L$102,2)),\"\")","v":"하이락토"},{"$f":"IFERROR(IF(VLOOKUP(B9,$F$2:$L$102,2)=\"\",\"\",VLOOKUP(B9,$F$2:$L$102,2)),\"\")","v":"모아락"},null,7,"하이락토","프로바이오틱스+프리바이오틱스","유익균증식","유해균억제","30포","35000원"]
[null,null,null,null,null,8,"모아락","장까지살아가는","19종의유산균","배변활동에도움","60정","60000원"]
[9,10,{"$f":"IFERROR(IF(VLOOKUP(A11,$F$2:$L$102,2)=\"\",\"\",VLOOKUP(A11,$F$2:$L$102,2)),\"\")","v":"일동메가루테인"},{"$f":"IFERROR(IF(VLOOKUP(B11,$F$2:$L$102,2)=\"\",\"\",VLOOKUP(B11,$F$2:$L$102,2)),\"\")","v":"하이락토"},null,9,"일동메가루테인","황반색소밀도유지","눈의피로도개선","루테인지아잔틴복합추출물","120정","70000원"]
[null,null,null,null,null,10,"하이락토","프로바이오틱스+프리바이오틱스","유익균증식","유해균억제","30포","35000원"]
[null,null,null,null,null,11,"모아락","장까지살아가는","19종의유산균","배변활동에도움","60정","60000원"]
["다음과 같은 양식으로  A4용지에 10가지 위에 정한 의약품 가격라벨이 출력됩니다 ",null,null,null,null,12,"일동메가루테인","황반색소밀도유지","눈의피로도개선","루테인지아잔틴복합추출물","120정","70000원"]
[null,null,null,null,null,13]
[null,null,null,null,null,14]
[null,null,null,null,null,15]
[null,null,null,null,null,16]
[null,null,null,null,null,17]
[null,null,null,null,null,18]
[null,null,null,null,null,19]
[null,null,null,null,null,20]
[null,null,null,null,null,21]
[null,null,null,null,null,22]
[null,null,null,null,null,23]
[null,null,null,null,null,24]
[null,null,null,null,null,25]
[null,null,"designed by 노영균",null,null,26]
[null,null,null,null,null,27]
[null,null,null,null,null,28]
[null,null,null,null,null,29]
[null,null,null,null,null,30]
[null,null,null,null,null,31]
[null,null,null,null,null,32]
[null,null,null,null,null,33]
[null,null,null,null,null,34]
[null,null,null,null,null,35]
[null,null,null,null,null,36]
[null,null,null,null,null,37]
[null,null,null,null,null,38]
[null,null,null,null,null,39]
[null,null,null,null,null,40]
[null,null,null,null,null,41]
[null,null,null,null,null,42]
[null,null,null,null,null,43]
[null,null,null,null,null,44]
[null,null,null,null,null,45]
[null,null,null,null,null,46]
[null,null,null,null,null,47]
[null,null,null,null,null,48]
[null,null,null,null,null,49]
[null,null,null,null,null,50]
[null,null,null,null,null,51]
[null,null,null,null,null,52]
[null,null,null,null,null,53]
[null,null,null,null,null,54]
[null,null,null,null,null,55]
[null,null,null,null,null,56]
[null,null,null,null,null,57]
[null,null,null,null,null,58]
[null,null,null,null,null,59]
[null,null,null,null,null,60]
[null,null,null,null,null,61]
[null,null,null,null,null,62]
[null,null,null,null,null,63]
[null,null,null,null,null,64]
[null,null,null,null,null,65]
[null,null,null,null,null,66]
[null,null,null,null,null,67]
[null,null,null,null,null,68]
[null,null,null,null,null,69]
[null,null,null,null,null,70]
[null,null,null,null,null,71]
[null,null,null,null,null,72]
[null,null,null,null,null,73]
[null,null,null,null,null,74]
[null,null,null,null,null,75]
[null,null,null,null,null,76]
[null,null,null,null,null,77]
[null,null,null,null,null,78]
[null,null,null,null,null,79]
[null,null,null,null,null,80]
[null,null,null,null,null,81]
[null,null,null,null,null,82]
[null,null,null,null,null,83]
[null,null,null,null,null,84]
[null,null,null,null,null,85]
[null,null,null,null,null,86]
[null,null,null,null,null,87]
[null,null,null,null,null,88]
[null,null,null,null,null,89]
[null,null,null,null,null,90]
[null,null,null,null,null,91]
[null,null,null,null,null,92]
[null,null,null,null,null,93]
[null,null,null,null,null,94]
[null,null,null,null,null,95]
[null,null,null,null,null,96]
[null,null,null,null,null,97]
[null,null,null,null,null,98]
[null,null,null,null,null,99]
[null,null,null,null,null,100]
[null,null,null,null,null,101]
[null,null,null,null,null,102]
[null,null,null,null,null,103]
[null,null,null,null,null,104]
[null,null,null,null,null,105]
[null,null,null,null,null,106]
[null,null,null,null,null,107]
[null,null,null,null,null,108]
[null,null,null,null,null,109]
[null,null,null,null,null,110]
[null,null,null,null,null,111]
[null,null,null,null,null,112]
[null,null,null,null,null,113]
[null,null,null,null,null,114]
[null,null,null,null,null,115]
[null,null,null,null,null,116]
[null,null,null,null,null,117]
[null,null,null,null,null,118]
[null,null,null,null,null,119]
[null,null,null,null,null,120]
[null,null,null,null,null,121]
[null,null,null,null,null,122]
[null,null,null,null,null,123]
[null,null,null,null,null,124]
[null,null,null,null,null,125]
[null,null,null,null,null,126]
[null,null,null,null,null,127]
[null,null,null,null,null,128]
[null,null,null,null,null,129]
[null,null,null,null,null,130]
[null,null,null,null,null,131]
[null,null,null,null,null,132]
[null,null,null,null,null,133]
[null,null,null,null,null,134]
[null,null,null,null,null,135]
[null,null,null,null,null,136]
[null,null,null,null,null,137]
[null,null,null,null,null,138]
[null,null,null,null,null,139]
[null,null,null,null,null,140]
[null,null,null,null,null,141]
[null,null,null,null,null,142]
[null,null,null,null,null,143]
[null,null,null,null,null,144]
[null,null,null,null,null,145]
[null,null,null,null,null,146]
[null,null,null,null,null,147]
[null,null,null,null,null,148]
[null,null,null,null,null,149]
[null,null,null,null,null,150]
[null,null,null,null,null,151]
[null,null,null,null,null,152]
[null,null,null,null,null,153]
[null,null,null,null,null,154]
[null,null,null,null,null,155]
[null,null,null,null,null,156]
[null,null,null,null,null,157]
[null,null,null,null,null,158]
[null,null,null,null,null,159]
[null,null,null,null,null,160]
[null,null,null,null,null,161]
[null,null,null,null,null,162]
[null,null,null,null,null,163]
[null,null,null,null,null,164]
[null,null,null,null,null,165]
[null,null,null,null,null,166]
[null,null,null,null,null,167]
[null,null,null,null,null,168]
[null,null,null,null,null,169]
[null,null,null,null,null,170]
[null,null,null,null,null,171]
[null,null,null,null,null,172]
[null,null,null,null,null,173]
[null,null,null,null,null,174]
[null,null,null,null,null,175]
[null,null,null,null,null,176]
[null,null,null,null,null,177]
[null,null,null,null,null,178]
[null,null,null,null,null,179]
[null,null,null,null,null,180]
[null,null,null,null,null,181]
[null,null,null,null,null,182]
[null,null,null,null,null,183]
[null,null,null,null,null,184]
[null,null,null,null,null,185]
[null,null,null,null,null,186]
[null,null,null,null,null,187]
[null,null,null,null,null,188]
[null,null,null,null,null,189]
[null,null,null,null,null,190]
[null,null,null,null,null,191]
[null,null,null,null,null,192]
[null,null,null,null,null,193]
[null,null,null,null,null,194]
[null,null,null,null,null,195]
[null,null,null,null,null,196]
[null,null,null,null,null,197]
[null,null,null,null,null,198]
[null,null,null,null,null,199]
[null,null,null,null,null,200]

{"sheet":"가격1인쇄","index":82,"n_rows":60,"n_cols":97,"rows_kept":60,"cut":false,"hidden":false,"merged":[[41,1,42,3],[41,4,42,24],[41,28,42,30],[41,31,42,51],[33,1,34,24],[33,28,34,51],[35,1,38,24],[35,28,38,51],[1,28,2,51],[3,28,6,51],[7,28,8,30],[7,31,8,51],[9,28,10,30],[9,31,10,51],[1,1,2,24],[3,1,6,24],[7,1,8,3],[7,4,8,24],[9,1,10,3],[9,4,10,24],[39,1,40,3],[39,4,40,24],[39,28,40,30],[39,31,40,51],[43,1,45,14],[43,15,45,24],[43,28,45,41],[43,42,45,51],[59,1,61,14],[59,15,61,24],[59,28,61,41],[59,42,61,51],[57,1,58,3],[57,4,58,24],[57,28,58,30],[57,31,58,51],[49,1,50,24],[49,28,50,51],[51,1,54,24],[51,28,54,51],[55,1,56,3],[55,4,56,24],[55,28,56,30],[55,31,56,51],[11,42,13,51],[27,1,29,14],[27,15,29,24],[27,28,29,41],[27,42,29,51],[11,1,13,14],[11,15,13,24],[11,28,13,41],[17,1,18,24],[17,28,18,51],[19,1,22,24],[19,28,22,51],[23,1,24,3],[23,4,24,24],[23,28,24,30],[23,31,24,51],[25,1,26,3],[25,4,26,24],[25,28,26,30],[25,31,26,51],[9,55,10,57],[9,58,10,78],[9,82,10,84],[9,85,10,105],[11,55,13,68],[11,69,13,78],[11,82,13,95],[11,96,13,105],[1,55,2,78],[1,82,2,105],[3,55,6,78],[3,82,6,105],[7,55,8,57],[7,58,8,78],[7,82,8,84],[7,85,8,105],[25,55,26,57],[25,58,26,78],[25,82,26,84],[25,85,26,105],[27,55,29,68],[27,69,29,78],[27,82,29,95],[27,96,29,105],[17,55,18,78],[17,82,18,105],[19,55,22,78],[19,82,22,105],[23,55,24,57],[23,58,24,78],[23,82,24,84],[23,85,24,105],[41,55,42,57],[41,58,42,78],[41,82,42,84],[41,85,42,105],[43,55,45,68],[43,69,45,78],[43,82,45,95],[43,96,45,105],[33,55,34,78],[33,82,34,105],[35,55,38,78],[35,82,38,105],[39,55,40,57],[39,58,40,78],[39,82,40,84],[39,85,40,105],[57,55,58,57],[57,58,58,78],[57,82,58,84],[57,85,58,105],[59,55,61,68],[59,69,61,78],[59,82,61,95],[59,96,61,105],[49,55,50,78],[49,82,50,105],[51,55,54,78],[51,82,54,105],[55,55,56,57],[55,58,56,78],[55,82,56,84],[55,85,56,105]]}
[null,null,null,null,null,null,null,null,null,null,null,null,null,null,null,null,null,null,null,null,null,null,null,null,null,null,null,1,null,null,null,null,null,null,null,null,null,null,null,null,null,null,null,null,null,null,null,null,null,null,null,null,null,null,1,null,null,null,null,null,null,null,null,null,null,null,null,null,null,null,null,null,null,null,null,null,null,null,null,null,null,1]
[null,{"$f":"IFERROR(VLOOKUP(가격1!A3,가격1!$I$2:$O$2012,3),\"\")","v":"프로바이오틱스+프리바이오틱스"},null,null,null,null,null,null,null,null,null,null,null,null,null,null,null,null,null,null,null,null,null,null,null,null,null,null,{"$f":"IFERROR(VLOOKUP(가격1!B3,가격1!$I$2:$O$2012,3),\"\")","v":"장까지살아가는"},null,null,null,null,null,null,null,null,null,null,null,null,null,null,null,null,null,null,null,null,null,null,null,null,null,null,{"$f":"IFERROR(VLOOKUP(가격1!C3,가격1!$I$2:$O$201,3),\"\")","v":"황반색소밀도유지"},null,null,null,null,null,null,null,null,null,null,null,null,null,null,null,null,null,null,null,null,null,null,null,null,null,null,{"$f":"IFERROR(VLOOKUP(가격1!D3,가격1!$I$2:$O$201,3),\"\")","v":"프로바이오틱스+프리바이오틱스"}]
[]
[null,{"$f":"IFERROR(VLOOKUP(가격1!A3,가격1!$I$2:$O$2012,2),\"\")","v":"하이락토"},null,null,null,null,null,null,null,null,null,null,null,null,null,null,null,null,null,null,null,null,null,null,null,null,null,null,{"$f":"IFERROR(VLOOKUP(가격1!B3,가격1!$I$2:$O$2012,2),\"\")","v":"모아락"},null,null,null,null,null,null,null,null,null,null,null,null,null,null,null,null,null,null,null,null,null,null,null,null,null,null,{"$f":"IFERROR(VLOOKUP(가격1!C3,가격1!$I$2:$O$201,2),\"\")","v":"일동메가루테인"},null,null,null,null,null,null,null,null,null,null,null,null,null,null,null,null,null,null,null,null,null,null,null,null,null,null,{"$f":"IFERROR(VLOOKUP(가격1!D3,가격1!$I$2:$O$201,2),\"\")","v":"하이락토"}]
[]
[]
[]
[null,"◈",null,null,{"$f":"IFERROR(VLOOKUP(가격1!A3,가격1!$I$2:$O$2012,4),\"\")","v":"유익균증식"},null,null,null,null,null,null,null,null,null,null,null,null,null,null,null,null,null,null,null,null,null,null,null,"◈",null,null,{"$f":"IFERROR(VLOOKUP(가격1!B3,가격1!$I$2:$O$2012,4),\"\")","v":"19종의유산균"},null,null,null,null,null,null,null,null,null,null,null,null,null,null,null,null,null,null,null,null,null,null,null,"◈",null,null,{"$f":"IFERROR(VLOOKUP(가격1!C3,가격1!$I$2:$O$201,4),\"\")","v":"눈의피로도개선"},null,null,null,null,null,null,null,null,null,null,null,null,null,null,null,null,null,null,null,null,null,null,null,"◈",null,null,{"$f":"IFERROR(VLOOKUP(가격1!D3,가격1!$I$2:$O$201,4),\"\")","v":"유익균증식"}]
[]
[null,"◈",null,null,{"$f":"IFERROR(VLOOKUP(가격1!A3,가격1!$I$2:$O$2012,5),\"\")","v":"유해균억제"},null,null,null,null,null,null,null,null,null,null,null,null,null,null,null,null,null,null,null,null,null,null,null,"◈",null,null,{"$f":"IFERROR(VLOOKUP(가격1!B3,가격1!$I$2:$O$2012,5),\"\")","v":"배변활동에도움"},null,null,null,null,null,null,null,null,null,null,null,null,null,null,null,null,null,null,null,null,null,null,null,"◈",null,null,{"$f":"IFERROR(VLOOKUP(가격1!C3,가격1!$I$2:$O$201,5),\"\")","v":"루테인지아잔틴복합추출물"},null,null,null,null,null,null,null,null,null,null,null,null,null,null,null,null,null,null,null,null,null,null,null,"◈",null,null,{"$f":"IFERROR(VLOOKUP(가격1!D3,가격1!$I$2:$O$201,5),\"\")","v":"유해균억제"}]
[]
[null,{"$f":"IFERROR(VLOOKUP(가격1!A3,가격1!$I$2:$O$2012,6),\"\")","v":"30포"},null,null,null,null,null,null,null,null,null,null,null,null,null,{"$f":"IFERROR(VLOOKUP(가격1!A3,가격1!$I$2:$O$2012,7),\"\")","v":"35000원"},null,null,null,null,null,null,null,null,null,null,null,null,{"$f":"IFERROR(VLOOKUP(가격1!B3,가격1!$I$2:$O$2012,6),\"\")","v":"60정"},null,null,null,null,null,null,null,null,null,null,null,null,null,{"$f":"IFERROR(VLOOKUP(가격1!B3,가격1!$I$2:$O$2012,7),\"\")","v":"60000원"},null,null,null,null,null,null,null,null,null,null,null,null,{"$f":"IFERROR(VLOOKUP(가격1!C3,가격1!$I$2:$O$201,6),\"\")","v":"120정"},null,null,null,null,null,null,null,null,null,null,null,null,null,{"$f":"IFERROR(VLOOKUP(가격1!C3,가격1!$I$2:$O$201,7),\"\")","v":"70000원"},null,null,null,null,null,null,null,null,null,null,null,null,{"$f":"IFERROR(VLOOKUP(가격1!D3,가격1!$I$2:$O$201,6),\"\")","v":"30포"},null,null,null,null,null,null,null,null,null,null,null,null,null,{"$f":"IFERROR(VLOOKUP(가격1!D3,가격1!$I$2:$O$201,7),\"\")","v":"35000원"}]
[]
[]
[]
[]
[]
[null,{"$f":"IFERROR(VLOOKUP(가격1!A5,가격1!$I$2:$O$120,3),\"\")","v":"장까지살아가는"},null,null,null,null,null,null,null,null,null,null,null,null,null,null,null,null,null,null,null,null,null,null,null,null,null,null,{"$f":"IFERROR(VLOOKUP(가격1!B5,가격1!$I$2:$O$120,3),\"\")","v":"황반색소밀도유지"},null,null,null,null,null,null,null,null,null,null,null,null,null,null,null,null,null,null,null,null,null,null,null,null,null,null,{"$f":"IFERROR(VLOOKUP(가격1!C5,가격1!$I$2:$O$120,3),\"\")","v":"프로바이오틱스+프리바이오틱스"},null,null,null,null,null,null,null,null,null,null,null,null,null,null,null,null,null,null,null,null,null,null,null,null,null,null,{"$f":"IFERROR(VLOOKUP(가격1!D5,가격1!$I$2:$O$120,3),\"\")","v":"장까지살아가는"}]
[]
[null,{"$f":"IFERROR(VLOOKUP(가격1!A5,가격1!$I$2:$O$120,2),\"\")","v":"모아락"},null,null,null,null,null,null,null,null,null,null,null,null,null,null,null,null,null,null,null,null,null,null,null,null,null,null,{"$f":"IFERROR(VLOOKUP(가격1!B5,가격1!$I$2:$O$120,2),\"\")","v":"일동메가루테인"},null,null,null,null,null,null,null,null,null,null,null,null,null,null,null,null,null,null,null,null,null,null,null,null,null,null,{"$f":"IFERROR(VLOOKUP(가격1!C5,가격1!$I$2:$O$120,2),\"\")","v":"하이락토"},null,null,null,null,null,null,null,null,null,null,null,null,null,null,null,null,null,null,null,null,null,null,null,null,null,null,{"$f":"IFERROR(VLOOKUP(가격1!D5,가격1!$I$2:$O$120,2),\"\")","v":"모아락"}]
[]
[]
[]
[null,"◈",null,null,{"$f":"IFERROR(VLOOKUP(가격1!A5,가격1!$I$2:$O$120,4),\"\")","v":"19종의유산균"},null,null,null,null,null,null,null,null,null,null,null,null,null,null,null,null,null,null,null,null,null,null,null,"◈",null,null,{"$f":"IFERROR(VLOOKUP(가격1!B5,가격1!$I$2:$O$120,4),\"\")","v":"눈의피로도개선"},null,null,null,null,null,null,null,null,null,null,null,null,null,null,null,null,null,null,null,null,null,null,null,"◈",null,null,{"$f":"IFERROR(VLOOKUP(가격1!C5,가격1!$I$2:$O$120,4),\"\")","v":"유익균증식"},null,null,null,null,null,null,null,null,null,null,null,null,null,null,null,null,null,null,null,null,null,null,null,"◈",null,null,{"$f":"IFERROR(VLOOKUP(가격1!D5,가격1!$I$2:$O$120,4),\"\")","v":"19종의유산균"}]
[]
[null,"◈",null,null,{"$f":"IFERROR(VLOOKUP(가격1!A5,가격1!$I$2:$O$120,5),\"\")","v":"배변활동에도움"},null,null,null,null,null,null,null,null,null,null,null,null,null,null,null,null,null,null,null,null,null,null,null,"◈",null,null,{"$f":"IFERROR(VLOOKUP(가격1!B5,가격1!$I$2:$O$120,5),\"\")","v":"루테인지아잔틴복합추출물"},null,null,null,null,null,null,null,null,null,null,null,null,null,null,null,null,null,null,null,null,null,null,null,"◈",null,null,{"$f":"IFERROR(VLOOKUP(가격1!C5,가격1!$I$2:$O$120,5),\"\")","v":"유해균억제"},null,null,null,null,null,null,null,null,null,null,null,null,null,null,null,null,null,null,null,null,null,null,null,"◈",null,null,{"$f":"IFERROR(VLOOKUP(가격1!D5,가격1!$I$2:$O$120,5),\"\")","v":"배변활동에도움"}]
[]
[null,{"$f":"IFERROR(VLOOKUP(가격1!A5,가격1!$I$2:$O$201,6),\"\")","v":"60정"},null,null,null,null,null,null,null,null,null,null,null,null,null,{"$f":"IFERROR(VLOOKUP(가격1!A5,가격1!$I$2:$O$201,7),\"\")","v":"60000원"},null,null,null,null,null,null,null,null,null,null,null,null,{"$f":"IFERROR(VLOOKUP(가격1!B5,가격1!$I$2:$O$201,6),\"\")","v":"120정"},null,null,null,null,null,null,null,null,null,null,null,null,null,{"$f":"IFERROR(VLOOKUP(가격1!B5,가격1!$I$2:$O$201,7),\"\")","v":"70000원"},null,null,null,null,null,null,null,null,null,null,null,null,{"$f":"IFERROR(VLOOKUP(가격1!C5,가격1!$I$2:$O$201,6),\"\")","v":"30포"},null,null,null,null,null,null,null,null,null,null,null,null,null,{"$f":"IFERROR(VLOOKUP(가격1!C5,가격1!$I$2:$O$201,7),\"\")","v":"35000원"},null,null,null,null,null,null,null,null,null,null,null,null,{"$f":"IFERROR(VLOOKUP(가격1!D5,가격1!$I$2:$O$201,6),\"\")","v":"60정"},null,null,null,null,null,null,null,null,null,null,null,null,null,{"$f":"IFERROR(VLOOKUP(가격1!D5,가격1!$I$2:$O$201,7),\"\")","v":"60000원"}]
[]
[]
[]
[]
[]
[null,{"$f":"IFERROR(VLOOKUP(가격1!A7,가격1!$I$2:$O$120,3),\"\")","v":"황반색소밀도유지"},null,null,null,null,null,null,null,null,null,null,null,null,null,null,null,null,null,null,null,null,null,null,null,null,null,null,{"$f":"IFERROR(VLOOKUP(가격1!B7,가격1!$I$2:$O$120,3),\"\")","v":"프로바이오틱스+프리바이오틱스"},null,null,null,null,null,null,null,null,null,null,null,null,null,null,null,null,null,null,null,null,null,null,null,null,null,null,{"$f":"IFERROR(VLOOKUP(가격1!C7,가격1!$I$2:$O$120,3),\"\")","v":"장까지살아가는"},null,null,null,null,null,null,null,null,null,null,null,null,null,null,null,null,null,null,null,null,null,null,null,null,null,null,{"$f":"IFERROR(VLOOKUP(가격1!D7,가격1!$I$2:$O$120,3),\"\")","v":"프로바이오틱스+프리바이오틱스"}]
[]
[null,{"$f":"IFERROR(VLOOKUP(가격1!A7,가격1!$I$2:$O$120,2),\"\")","v":"일동메가루테인"},null,null,null,null,null,null,null,null,null,null,null,null,null,null,null,null,null,null,null,null,null,null,null,null,null,null,{"$f":"IFERROR(VLOOKUP(가격1!B7,가격1!$I$2:$O$120,2),\"\")","v":"하이락토"},null,null,null,null,null,null,null,null,null,null,null,null,null,null,null,null,null,null,null,null,null,null,null,null,null,null,{"$f":"IFERROR(VLOOKUP(가격1!C7,가격1!$I$2:$O$120,2),\"\")","v":"모아락"},null,null,null,null,null,null,null,null,null,null,null,null,null,null,null,null,null,null,null,null,null,null,null,null,null,null,{"$f":"IFERROR(VLOOKUP(가격1!D7,가격1!$I$2:$O$120,2),\"\")","v":"하이락토"}]
[]
[]
[]
[null,"◈",null,null,{"$f":"IFERROR(VLOOKUP(가격1!A7,가격1!$I$2:$O$120,4),\"\")","v":"눈의피로도개선"},null,null,null,null,null,null,null,null,null,null,null,null,null,null,null,null,null,null,null,null,null,null,null,"◈",null,null,{"$f":"IFERROR(VLOOKUP(가격1!B7,가격1!$I$2:$O$120,4),\"\")","v":"유익균증식"},null,null,null,null,null,null,null,null,null,null,null,null,null,null,null,null,null,null,null,null,null,null,null,"◈",null,null,{"$f":"IFERROR(VLOOKUP(가격1!C7,가격1!$I$2:$O$120,4),\"\")","v":"19종의유산균"},null,null,null,null,null,null,null,null,null,null,null,null,null,null,null,null,null,null,null,null,null,null,null,"◈",null,null,{"$f":"IFERROR(VLOOKUP(가격1!C7,가격1!$I$2:$O$120,4),\"\")","v":"19종의유산균"}]
[]
[null,"◈",null,null,{"$f":"IFERROR(VLOOKUP(가격1!A7,가격1!$I$2:$O$120,5),\"\")","v":"루테인지아잔틴복합추출물"},null,null,null,null,null,null,null,null,null,null,null,null,null,null,null,null,null,null,null,null,null,null,null,"◈",null,null,{"$f":"IFERROR(VLOOKUP(가격1!B7,가격1!$I$2:$O$120,5),\"\")","v":"유해균억제"},null,null,null,null,null,null,null,null,null,null,null,null,null,null,null,null,null,null,null,null,null,null,null,"◈",null,null,{"$f":"IFERROR(VLOOKUP(가격1!C7,가격1!$I$2:$O$120,5),\"\")","v":"배변활동에도움"},null,null,null,null,null,null,null,null,null,null,null,null,null,null,null,null,null,null,null,null,null,null,null,"◈",null,null,{"$f":"IFERROR(VLOOKUP(가격1!D7,가격1!$I$2:$O$120,5),\"\")","v":"유해균억제"}]
[]
[null,{"$f":"IFERROR(VLOOKUP(가격1!A7,가격1!$I$2:$O$201,6),\"\")","v":"120정"},null,null,null,null,null,null,null,null,null,null,null,null,null,{"$f":"IFERROR(VLOOKUP(가격1!A7,가격1!$I$2:$O$201,7),\"\")","v":"70000원"},null,null,null,null,null,null,null,null,null,null,null,null,{"$f":"IFERROR(VLOOKUP(가격1!B7,가격1!$I$2:$O$201,6),\"\")","v":"30포"},null,null,null,null,null,null,null,null,null,null,null,null,null,{"$f":"IFERROR(VLOOKUP(가격1!B7,가격1!$I$2:$O$201,7),\"\")","v":"35000원"},null,null,null,null,null,null,null,null,null,null,null,null,{"$f":"IFERROR(VLOOKUP(가격1!C7,가격1!$I$2:$O$201,6),\"\")","v":"60정"},null,null,null,null,null,null,null,null,null,null,null,null,null,{"$f":"IFERROR(VLOOKUP(가격1!C7,가격1!$I$2:$O$201,7),\"\")","v":"60000원"},null,null,null,null,null,null,null,null,null,null,null,null,{"$f":"IFERROR(VLOOKUP(가격1!D7,가격1!$I$2:$O$201,6),\"\")","v":"30포"},null,null,null,null,null,null,null,null,null,null,null,null,null,{"$f":"IFERROR(VLOOKUP(가격1!D7,가격1!$I$2:$O$201,7),\"\")","v":"35000원"}]
[]
[]
[]
[]
[]
[null,{"$f":"IFERROR(VLOOKUP(가격1!A9,가격1!$I$2:$O$120,3),\"\")","v":"황반색소밀도유지"},null,null,null,null,null,null,null,null,null,null,null,null,null,null,null,null,null,null,null,null,null,null,null,null,null,null,{"$f":"IFERROR(VLOOKUP(가격1!B9,가격1!$I$2:$O$120,3),\"\")","v":"프로바이오틱스+프리바이오틱스"},null,null,null,null,null,null,null,null,null,null,null,null,null,null,null,null,null,null,null,null,null,null,null,null,null,null,{"$f":"IFERROR(VLOOKUP(가격1!C9,가격1!$I$2:$O$120,3),\"\")","v":"장까지살아가는"},null,null,null,null,null,null,null,null,null,null,null,null,null,null,null,null,null,null,null,null,null,null,null,null,null,null,{"$f":"IFERROR(VLOOKUP(가격1!D9,가격1!$I$2:$O$120,3),\"\")","v":"프로바이오틱스+프리바이오틱스"}]
[]
[null,{"$f":"IFERROR(VLOOKUP(가격1!A9,가격1!$I$2:$O$120,2),\"\")","v":"일동메가루테인"},null,null,null,null,null,null,null,null,null,null,null,null,null,null,null,null,null,null,null,null,null,null,null,null,null,null,{"$f":"IFERROR(VLOOKUP(가격1!B9,가격1!$I$2:$O$120,2),\"\")","v":"하이락토"},null,null,null,null,null,null,null,null,null,null,null,null,null,null,null,null,null,null,null,null,null,null,null,null,null,null,{"$f":"IFERROR(VLOOKUP(가격1!C9,가격1!$I$2:$O$120,2),\"\")","v":"모아락"},null,null,null,null,null,null,null,null,null,null,null,null,null,null,null,null,null,null,null,null,null,null,null,null,null,null,{"$f":"IFERROR(VLOOKUP(가격1!D9,가격1!$I$2:$O$120,2),\"\")","v":"하이락토"}]
[]
[]
[]
[null,"◈",null,null,{"$f":"IFERROR(VLOOKUP(가격1!A9,가격1!$I$2:$O$120,4),\"\")","v":"눈의피로도개선"},null,null,null,null,null,null,null,null,null,null,null,null,null,null,null,null,null,null,null,null,null,null,null,"◈",null,null,{"$f":"IFERROR(VLOOKUP(가격1!B9,가격1!$I$2:$O$120,4),\"\")","v":"유익균증식"},null,null,null,null,null,null,null,null,null,null,null,null,null,null,null,null,null,null,null,null,null,null,null,"◈",null,null,{"$f":"IFERROR(VLOOKUP(가격1!C9,가격1!$I$2:$O$120,4),\"\")","v":"19종의유산균"},null,null,null,null,null,null,null,null,null,null,null,null,null,null,null,null,null,null,null,null,null,null,null,"◈",null,null,{"$f":"IFERROR(VLOOKUP(가격1!D9,가격1!$I$2:$O$120,4),\"\")","v":"유익균증식"}]
[]
[null,"◈",null,null,{"$f":"IFERROR(VLOOKUP(가격1!A9,가격1!$I$2:$O$120,5),\"\")","v":"루테인지아잔틴복합추출물"},null,null,null,null,null,null,null,null,null,null,null,null,null,null,null,null,null,null,null,null,null,null,null,"◈",null,null,{"$f":"IFERROR(VLOOKUP(가격1!B9,가격1!$I$2:$O$120,5),\"\")","v":"유해균억제"},null,null,null,null,null,null,null,null,null,null,null,null,null,null,null,null,null,null,null,null,null,null,null,"◈",null,null,{"$f":"IFERROR(VLOOKUP(가격1!C9,가격1!$I$2:$O$120,5),\"\")","v":"배변활동에도움"},null,null,null,null,null,null,null,null,null,null,null,null,null,null,null,null,null,null,null,null,null,null,null,"◈",null,null,{"$f":"IFERROR(VLOOKUP(가격1!D9,가격1!$I$2:$O$120,5),\"\")","v":"유해균억제"}]
[]
[null,{"$f":"IFERROR(VLOOKUP(가격1!A9,가격1!$I$2:$O$201,6),\"\")","v":"120정"},null,null,null,null,null,null,null,null,null,null,null,null,null,{"$f":"IFERROR(VLOOKUP(가격1!A9,가격1!$I$2:$O$201,7),\"\")","v":"70000원"},null,null,null,null,null,null,null,null,null,null,null,null,{"$f":"IFERROR(VLOOKUP(가격1!B9,가격1!$I$2:$O$201,6),\"\")","v":"30포"},null,null,null,null,null,null,null,null,null,null,null,null,null,{"$f":"IFERROR(VLOOKUP(가격1!B9,가격1!$I$2:$O$201,7),\"\")","v":"35000원"},null,null,null,null,null,null,null,null,null,null,null,null,{"$f":"IFERROR(VLOOKUP(가격1!C9,가격1!$I$2:$O$201,6),\"\")","v":"60정"},null,null,null,null,null,null,null,null,null,null,null,null,null,{"$f":"IFERROR(VLOOKUP(가격1!C9,가격1!$I$2:$O$201,7),\"\")","v":"60000원"},null,null,null,null,null,null,null,null,null,null,null,null,{"$f":"IFERROR(VLOOKUP(가격1!D9,가격1!$I$2:$O$201,6),\"\")","v":"30포"},null,null,null,null,null,null,null,null,null,null,null,null,null,{"$f":"IFERROR(VLOOKUP(가격1!D9,가격1!$I$2:$O$201,7),\"\")","v":"35000원"}]

{"sheet":"가격2인쇄","index":83,"n_rows":85,"n_cols":64,"rows_kept":85,"cut":false,"hidden":false,"merged":[[84,1,87,16],[84,17,87,31],[80,63,81,65],[82,1,83,3],[82,4,83,28],[82,29,83,31],[82,35,83,37],[82,38,83,62],[82,63,83,65],[80,1,81,3],[80,4,81,28],[80,29,81,31],[80,35,81,37],[80,38,81,62],[84,35,87,50],[84,51,87,65],[73,1,74,31],[73,35,74,65],[75,1,79,31],[75,35,79,65],[66,1,69,16],[66,17,69,31],[66,35,69,50],[66,51,69,65],[62,63,63,65],[64,1,65,3],[64,4,65,28],[64,29,65,31],[64,35,65,37],[64,38,65,62],[64,63,65,65],[62,1,63,3],[62,4,63,28],[62,29,63,31],[62,35,63,37],[62,38,63,62],[55,1,56,31],[55,35,56,65],[57,1,61,31],[57,35,61,65],[48,1,51,16],[48,17,51,31],[48,35,51,50],[48,51,51,65],[44,29,45,31],[44,35,45,37],[44,38,45,62],[44,63,45,65],[46,1,47,3],[46,4,47,28],[46,29,47,31],[46,35,47,37],[46,38,47,62],[46,63,47,65],[44,1,45,3],[44,4,45,28],[10,63,11,65],[19,35,20,65],[21,35,25,65],[19,1,20,31],[1,1,2,31],[3,1,7,31],[8,1,9,3],[8,29,9,31],[8,4,9,28],[1,35,2,65],[3,35,7,65],[8,35,9,37],[8,38,9,62],[8,63,9,65],[10,1,11,3],[10,29,11,31],[10,4,11,28],[10,35,11,37],[10,38,11,62],[12,17,15,31],[12,1,15,16],[12,35,15,50],[39,1,43,31],[39,35,43,65],[26,1,27,3],[26,4,27,28],[26,29,27,31],[30,51,33,65],[28,38,29,62],[28,63,29,65],[37,1,38,31],[37,35,38,65],[28,1,29,3],[28,4,29,28],[30,1,33,16],[30,17,33,31],[30,35,33,50],[28,29,29,31],[28,35,29,37],[26,35,27,37],[26,38,27,62],[12,51,15,65],[21,1,25,31],[26,63,27,65]]}
[]
[null,{"$f":"IFERROR(VLOOKUP(가격2!A3,가격2!$F$2:$L$200,3),\"\")","v":"프로바이오틱스+프리바이오틱스"},null,null,null,null,null,null,null,null,null,null,null,null,null,null,null,null,null,null,null,null,null,null,null,null,null,null,null,null,null,null,null,null,null,{"$f":"IFERROR(VLOOKUP(가격2!B3,가격2!$F$2:$L$200,3),\"\")","v":"장까지살아가는"}]
[]
[null,{"$f":"IFERROR(VLOOKUP(가격2!A3,가격2!$F$2:$L$200,2),\"\")","v":"하이락토"},null,null,null,null,null,null,null,null,null,null,null,null,null,null,null,null,null,null,null,null,null,null,null,null,null,null,null,null,null,null,null,null,null,{"$f":"IFERROR(VLOOKUP(가격2!B3,가격2!$F$2:$L$200,2),\"\")","v":"모아락"}]
[]
[]
[]
[]
[null,"◈",null,null,{"$f":"IFERROR(VLOOKUP(가격2!A3,가격2!$F$2:$L$200,4),\"\")","v":"유익균증식"},null,null,null,null,null,null,null,null,null,null,null,null,null,null,null,null,null,null,null,null,null,null,null,null,"◈",null,null,null,null,null,"◈",null,null,{"$f":"IFERROR(VLOOKUP(가격2!B3,가격2!$F$2:$L$200,4),\"\")","v":"19종의유산균"},null,null,null,null,null,null,null,null,null,null,null,null,null,null,null,null,null,null,null,null,null,null,null,null,"◈"]
[]
[null,"◈",null,null,{"$f":"IFERROR(VLOOKUP(가격2!A3,가격2!$F$2:$L$200,5),\"\")","v":"유해균억제"},null,null,null,null,null,null,null,null,null,null,null,null,null,null,null,null,null,null,null,null,null,null,null,null,"◈",null,null,null,null,null,"◈",null,null,{"$f":"IFERROR(VLOOKUP(가격2!B3,가격2!$F$2:$L$200,5),\"\")","v":"배변활동에도움"},null,null,null,null,null,null,null,null,null,null,null,null,null,null,null,null,null,null,null,null,null,null,null,null,"◈"]
[]
[null,{"$f":"IFERROR(VLOOKUP(가격2!A3,가격2!$F$2:$L$200,6),\"\")","v":"30포"},null,null,null,null,null,null,null,null,null,null,null,null,null,null,null,{"$f":"IFERROR(VLOOKUP(가격2!A3,가격2!$F$2:$L$200,7),\"\")","v":"35000원"},null,null,null,null,null,null,null,null,null,null,null,null,null,null,null,null,null,{"$f":"IFERROR(VLOOKUP(가격2!B3,가격2!$F$2:$L$200,6),\"\")","v":"60정"},null,null,null,null,null,null,null,null,null,null,null,null,null,null,null,{"$f":"IFERROR(VLOOKUP(가격2!B3,가격2!$F$2:$L$200,7),\"\")","v":"60000원"}]
[]
[]
[]
[]
[]
[]
[null,{"$f":"IFERROR(VLOOKUP(가격2!A5,가격2!$F$2:$L$200,3),\"\")","v":"황반색소밀도유지"},null,null,null,null,null,null,null,null,null,null,null,null,null,null,null,null,null,null,null,null,null,null,null,null,null,null,null,null,null,null,null,null,null,{"$f":"IFERROR(VLOOKUP(가격2!B5,가격2!$F$2:$L$200,3),\"\")","v":"프로바이오틱스+프리바이오틱스"}]
[]
[null,{"$f":"IFERROR(VLOOKUP(가격2!A5,가격2!$F$2:$L$200,2),\"\")","v":"일동메가루테인"},null,null,null,null,null,null,null,null,null,null,null,null,null,null,null,null,null,null,null,null,null,null,null,null,null,null,null,null,null,null,null,null,null,{"$f":"IFERROR(VLOOKUP(가격2!B5,가격2!$F$2:$L$200,2),\"\")","v":"하이락토"}]
[]
[]
[]
[]
[null,"◈",null,null,{"$f":"IFERROR(VLOOKUP(가격2!A5,가격2!$F$2:$L$200,4),\"\")","v":"눈의피로도개선"},null,null,null,null,null,null,null,null,null,null,null,null,null,null,null,null,null,null,null,null,null,null,null,null,"◈",null,null,null,null,null,"◈",null,null,{"$f":"IFERROR(VLOOKUP(가격2!B5,가격2!$F$2:$L$200,4),\"\")","v":"유익균증식"},null,null,null,null,null,null,null,null,null,null,null,null,null,null,null,null,null,null,null,null,null,null,null,null,"◈"]
[]
[null,"◈",null,null,{"$f":"IFERROR(VLOOKUP(가격2!A5,가격2!$F$2:$L$200,5),\"\")","v":"루테인지아잔틴복합추출물"},null,null,null,null,null,null,null,null,null,null,null,null,null,null,null,null,null,null,null,null,null,null,null,null,"◈",null,null,null,null,null,"◈",null,null,{"$f":"IFERROR(VLOOKUP(가격2!B5,가격2!$F$2:$L$200,5),\"\")","v":"유해균억제"},null,null,null,null,null,null,null,null,null,null,null,null,null,null,null,null,null,null,null,null,null,null,null,null,"◈"]
[]
[null,{"$f":"IFERROR(VLOOKUP(가격2!A5,가격2!$F$2:$L$200,6),\"\")","v":"120정"},null,null,null,null,null,null,null,null,null,null,null,null,null,null,null,{"$f":"IFERROR(VLOOKUP(가격2!A5,가격2!$F$2:$L$200,7),\"\")","v":"70000원"},null,null,null,null,null,null,null,null,null,null,null,null,null,null,null,null,null,{"$f":"IFERROR(VLOOKUP(가격2!B5,가격2!$F$2:$L$200,6),\"\")","v":"30포"},null,null,null,null,null,null,null,null,null,null,null,null,null,null,null,{"$f":"IFERROR(VLOOKUP(가격2!B5,가격2!$F$2:$L$200,7),\"\")","v":"35000원"}]
[]
[]
[]
[]
[]
[]
[null,{"$f":"IFERROR(VLOOKUP(가격2!A7,가격2!$F$2:$L$200,3),\"\")","v":"장까지살아가는"},null,null,null,null,null,null,null,null,null,null,null,null,null,null,null,null,null,null,null,null,null,null,null,null,null,null,null,null,null,null,null,null,null,{"$f":"IFERROR(VLOOKUP(가격2!B7,가격2!$F$2:$L$200,3),\"\")","v":"황반색소밀도유지"}]
[]
[null,{"$f":"IFERROR(VLOOKUP(가격2!A7,가격2!$F$2:$L$200,2),\"\")","v":"모아락"},null,null,null,null,null,null,null,null,null,null,null,null,null,null,null,null,null,null,null,null,null,null,null,null,null,null,null,null,null,null,null,null,null,{"$f":"IFERROR(VLOOKUP(가격2!B7,가격2!$F$2:$L$200,2),\"\")","v":"일동메가루테인"}]
[]
[]
[]
[]
[null,"◈",null,null,{"$f":"IFERROR(VLOOKUP(가격2!A7,가격2!$F$2:$L$200,4),\"\")","v":"19종의유산균"},null,null,null,null,null,null,null,null,null,null,null,null,null,null,null,null,null,null,null,null,null,null,null,null,"◈",null,null,null,null,null,"◈",null,null,{"$f":"IFERROR(VLOOKUP(가격2!B7,가격2!$F$2:$L$200,4),\"\")","v":"눈의피로도개선"},null,null,null,null,null,null,null,null,null,null,null,null,null,null,null,null,null,null,null,null,null,null,null,null,"◈"]
[]
[null,"◈",null,null,{"$f":"IFERROR(VLOOKUP(가격2!A7,가격2!$F$2:$L$200,5),\"\")","v":"배변활동에도움"},null,null,null,null,null,null,null,null,null,null,null,null,null,null,null,null,null,null,null,null,null,null,null,null,"◈",null,null,null,null,null,"◈",null,null,{"$f":"IFERROR(VLOOKUP(가격2!B7,가격2!$F$2:$L$200,5),\"\")","v":"루테인지아잔틴복합추출물"},null,null,null,null,null,null,null,null,null,null,null,null,null,null,null,null,null,null,null,null,null,null,null,null,"◈"]
[]
[null,{"$f":"IFERROR(VLOOKUP(가격2!A7,가격2!$F$2:$L$200,6),\"\")","v":"60정"},null,null,null,null,null,null,null,null,null,null,null,null,null,null,null,{"$f":"IFERROR(VLOOKUP(가격2!A7,가격2!$F$2:$L$200,7),\"\")","v":"60000원"},null,null,null,null,null,null,null,null,null,null,null,null,null,null,null,null,null,{"$f":"IFERROR(VLOOKUP(가격2!B7,가격2!$F$2:$L$200,6),\"\")","v":"120정"},null,null,null,null,null,null,null,null,null,null,null,null,null,null,null,{"$f":"IFERROR(VLOOKUP(가격2!B7,가격2!$F$2:$L$200,7),\"\")","v":"70000원"}]
[]
[]
[]
[]
[]
[]
[null,{"$f":"IFERROR(VLOOKUP(가격2!A9,가격2!$F$2:$L$200,3),\"\")","v":"프로바이오틱스+프리바이오틱스"},null,null,null,null,null,null,null,null,null,null,null,null,null,null,null,null,null,null,null,null,null,null,null,null,null,null,null,null,null,null,null,null,null,{"$f":"IFERROR(VLOOKUP(가격2!B9,가격2!$F$2:$L$200,3),\"\")","v":"장까지살아가는"}]
[]
[null,{"$f":"IFERROR(VLOOKUP(가격2!A9,가격2!$F$2:$L$200,2),\"\")","v":"하이락토"},null,null,null,null,null,null,null,null,null,null,null,null,null,null,null,null,null,null,null,null,null,null,null,null,null,null,null,null,null,null,null,null,null,{"$f":"IFERROR(VLOOKUP(가격2!B9,가격2!$F$2:$L$200,2),\"\")","v":"모아락"}]
[]
[]
[]
[]
[null,"◈",null,null,{"$f":"IFERROR(VLOOKUP(가격2!A9,가격2!$F$2:$L$200,4),\"\")","v":"유익균증식"},null,null,null,null,null,null,null,null,null,null,null,null,null,null,null,null,null,null,null,null,null,null,null,null,"◈",null,null,null,null,null,"◈",null,null,{"$f":"IFERROR(VLOOKUP(가격2!B9,가격2!$F$2:$L$200,4),\"\")","v":"19종의유산균"},null,null,null,null,null,null,null,null,null,null,null,null,null,null,null,null,null,null,null,null,null,null,null,null,"◈"]
[]
[null,"◈",null,null,{"$f":"IFERROR(VLOOKUP(가격2!A9,가격2!$F$2:$L$200,5),\"\")","v":"유해균억제"},null,null,null,null,null,null,null,null,null,null,null,null,null,null,null,null,null,null,null,null,null,null,null,null,"◈",null,null,null,null,null,"◈",null,null,{"$f":"IFERROR(VLOOKUP(가격2!B9,가격2!$F$2:$L$200,5),\"\")","v":"배변활동에도움"},null,null,null,null,null,null,null,null,null,null,null,null,null,null,null,null,null,null,null,null,null,null,null,null,"◈"]
[]
[null,{"$f":"IFERROR(VLOOKUP(가격2!A9,가격2!$F$2:$L$200,6),\"\")","v":"30포"},null,null,null,null,null,null,null,null,null,null,null,null,null,null,null,{"$f":"IFERROR(VLOOKUP(가격2!A9,가격2!$F$2:$L$200,7),\"\")","v":"35000원"},null,null,null,null,null,null,null,null,null,null,null,null,null,null,null,null,null,{"$f":"IFERROR(VLOOKUP(가격2!B9,가격2!$F$2:$L$200,6),\"\")","v":"60정"},null,null,null,null,null,null,null,null,null,null,null,null,null,null,null,{"$f":"IFERROR(VLOOKUP(가격2!B9,가격2!$F$2:$L$200,7),\"\")","v":"60000원"}]
[]
[]
[]
[]
[]
[]
[null,{"$f":"IFERROR(VLOOKUP(가격2!A11,가격2!$F$2:$L$200,3),\"\")","v":"황반색소밀도유지"},null,null,null,null,null,null,null,null,null,null,null,null,null,null,null,null,null,null,null,null,null,null,null,null,null,null,null,null,null,null,null,null,null,{"$f":"IFERROR(VLOOKUP(가격2!B11,가격2!$F$2:$L$200,3),\"\")","v":"프로바이오틱스+프리바이오틱스"}]
[]
[null,{"$f":"IFERROR(VLOOKUP(가격2!A11,가격2!$F$2:$L$200,2),\"\")","v":"일동메가루테인"},null,null,null,null,null,null,null,null,null,null,null,null,null,null,null,null,null,null,null,null,null,null,null,null,null,null,null,null,null,null,null,null,null,{"$f":"IFERROR(VLOOKUP(가격2!B11,가격2!$F$2:$L$200,2),\"\")","v":"하이락토"}]
[]
[]
[]
[]
[null,"◈",null,null,{"$f":"IFERROR(VLOOKUP(가격2!A11,가격2!$F$2:$L$200,4),\"\")","v":"눈의피로도개선"},null,null,null,null,null,null,null,null,null,null,null,null,null,null,null,null,null,null,null,null,null,null,null,null,"◈",null,null,null,null,null,"◈",null,null,{"$f":"IFERROR(VLOOKUP(가격2!B11,가격2!$F$2:$L$200,4),\"\")","v":"유익균증식"},null,null,null,null,null,null,null,null,null,null,null,null,null,null,null,null,null,null,null,null,null,null,null,null,"◈"]
[]
[null,"◈",null,null,{"$f":"IFERROR(VLOOKUP(가격2!A11,가격2!$F$2:$L$200,5),\"\")","v":"루테인지아잔틴복합추출물"},null,null,null,null,null,null,null,null,null,null,null,null,null,null,null,null,null,null,null,null,null,null,null,null,"◈",null,null,null,null,null,"◈",null,null,{"$f":"IFERROR(VLOOKUP(가격2!B11,가격2!$F$2:$L$200,5),\"\")","v":"유해균억제"},null,null,null,null,null,null,null,null,null,null,null,null,null,null,null,null,null,null,null,null,null,null,null,null,"◈"]
[]
[null,{"$f":"IFERROR(VLOOKUP(가격2!A11,가격2!$F$2:$L$200,6),\"\")","v":"120정"},null,null,null,null,null,null,null,null,null,null,null,null,null,null,null,{"$f":"IFERROR(VLOOKUP(가격2!A11,가격2!$F$2:$L$200,7),\"\")","v":"70000원"},null,null,null,null,null,null,null,null,null,null,null,null,null,null,null,null,null,{"$f":"IFERROR(VLOOKUP(가격2!B11,가격2!$F$2:$L$200,6),\"\")","v":"30포"},null,null,null,null,null,null,null,null,null,null,null,null,null,null,null,{"$f":"IFERROR(VLOOKUP(가격2!B11,가격2!$F$2:$L$200,7),\"\")","v":"35000원"}]

{"sheet":"가격표A4","index":84,"n_rows":117,"n_cols":129,"rows_kept":117,"cut":false,"hidden":false,"merged":[[94,111,95,113],[94,114,95,146],[21,111,26,126],[21,127,26,146],[6,111,7,146],[88,111,89,113],[88,114,89,146],[90,111,91,113],[90,114,91,146],[92,111,93,113],[92,114,93,146],[82,111,83,113],[82,114,83,146],[84,111,85,113],[84,114,85,146],[86,111,87,113],[86,114,87,146],[78,111,79,113],[78,114,79,146],[80,111,81,113],[80,114,81,146],[60,111,61,113],[60,114,61,146],[62,111,63,113],[62,114,63,146],[64,111,65,113],[64,114,65,146],[76,111,77,113],[76,114,77,146],[66,111,67,113],[66,114,67,146],[68,111,69,113],[68,114,69,146],[70,111,71,113],[70,114,71,146],[72,111,73,113],[72,114,73,146],[74,111,75,113],[74,114,75,146],[58,114,59,146],[48,111,49,113],[48,114,49,146],[50,111,51,113],[50,114,51,146],[52,111,53,113],[52,114,53,146],[54,111,55,113],[54,114,55,146],[56,111,57,113],[56,114,57,146],[58,111,59,113],[40,114,41,146],[30,111,31,113],[30,114,31,146],[32,111,33,113],[32,114,33,146],[34,111,35,113],[34,114,35,146],[42,114,43,146],[44,114,45,146],[46,114,47,146],[27,111,28,146],[11,111,12,146],[13,111,16,135],[13,136,20,146],[17,111,20,135],[42,111,43,113],[44,111,45,113],[46,111,47,113],[36,111,37,113],[36,114,37,146],[38,111,39,113],[38,114,39,146],[40,111,41,113],[58,0,61,104],[57,0,57,104],[36,49,56,104],[0,0,2,104],[3,0,3,104],[35,0,35,104],[4,70,34,104],[4,0,19,69],[20,0,34,69],[36,0,56,39]]}
[{"$f":"IFERROR(IF(DH12=\"\",\"\",VLOOKUP(DH12,$DH$31:$EQ$96,4)),\"\")","v":"코로나 19 극복을 위해서 힘을 더해주세요----"}]
[]
[]
[]
[{"$f":"IFERROR(IF(DH14=\"\",\"\",VLOOKUP(DH14,$DH$31:$EQ$96,4)),\"\")","v":"코로나항원  자가 검사 키트"}]
[]
[null,null,null,null,null,null,null,null,null,null,null,null,null,null,null,null,null,null,null,null,null,null,null,null,null,null,null,null,null,null,null,null,null,null,null,null,null,null,null,null,null,null,null,null,null,null,null,null,null,null,null,null,null,null,null,null,null,null,null,null,null,null,null,null,null,null,null,null,null,null,null,null,null,null,null,null,null,null,null,null,null,null,null,null,null,null,null,null,null,null,null,null,null,null,null,null,null,null,null,null,null,null,null,null,null,null,null,null,null,null,null,"마스크 박스 판매안내"]
[]
[]
[]
[]
[null,null,null,null,null,null,null,null,null,null,null,null,null,null,null,null,null,null,null,null,null,null,null,null,null,null,null,null,null,null,null,null,null,null,null,null,null,null,null,null,null,null,null,null,null,null,null,null,null,null,null,null,null,null,null,null,null,null,null,null,null,null,null,null,null,null,null,null,null,null,null,null,null,null,null,null,null,null,null,null,null,null,null,null,null,null,null,null,null,null,null,null,null,null,null,null,null,null,null,null,null,null,null,null,null,null,null,null,null,null,null,2]
[]
[null,null,null,null,null,null,null,null,null,null,null,null,null,null,null,null,null,null,null,null,null,null,null,null,null,null,null,null,null,null,null,null,null,null,null,null,null,null,null,null,null,null,null,null,null,null,null,null,null,null,null,null,null,null,null,null,null,null,null,null,null,null,null,null,null,null,null,null,null,null,null,null,null,null,null,null,null,null,null,null,null,null,null,null,null,null,null,null,null,null,null,null,null,null,null,null,null,null,null,null,null,null,null,null,null,null,null,null,null,null,null,27]
[]
[]
[]
[null,null,null,null,null,null,null,null,null,null,null,null,null,null,null,null,null,null,null,null,null,null,null,null,null,null,null,null,null,null,null,null,null,null,null,null,null,null,null,null,null,null,null,null,null,null,null,null,null,null,null,null,null,null,null,null,null,null,null,null,null,null,null,null,null,null,null,null,null,null,null,null,null,null,null,null,null,null,null,null,null,null,null,null,null,null,null,null,null,null,null,null,null,null,null,null,null,null,null,null,null,null,null,null,null,null,null,null,null,null,null,29]
[]
[]
[{"$f":"IFERROR(IF(DH18=\"\",\"\",VLOOKUP(DH18,$DH$31:$EQ$96,4)),\"\")","v":"비강검사 15분후 판독"}]
[null,null,null,null,null,null,null,null,null,null,null,null,null,null,null,null,null,null,null,null,null,null,null,null,null,null,null,null,null,null,null,null,null,null,null,null,null,null,null,null,null,null,null,null,null,null,null,null,null,null,null,null,null,null,null,null,null,null,null,null,null,null,null,null,null,null,null,null,null,null,null,null,null,null,null,null,null,null,null,null,null,null,null,null,null,null,null,null,null,null,null,null,null,null,null,null,null,null,null,null,null,null,null,null,null,null,null,null,null,null,null,28,null,null,null,null,null,null,null,null,null,null,null,null,null,null,null,20]
[]
[]
[]
[]
[]
[null,null,null,null,null,null,null,null,null,null,null,null,null,null,null,null,null,null,null,null,null,null,null,null,null,null,null,null,null,null,null,null,null,null,null,null,null,null,null,null,null,null,null,null,null,null,null,null,null,null,null,null,null,null,null,null,null,null,null,null,null,null,null,null,null,null,null,null,null,null,null,null,null,null,null,null,null,null,null,null,null,null,null,null,null,null,null,null,null,null,null,null,null,null,null,null,null,null,null,null,null,null,null,null,null,null,null,null,null,null,null,{"$f":"A59","v":"팜오피스약국"}]
[]
[]
[null,null,null,null,null,null,null,null,null,null,null,null,null,null,null,null,null,null,null,null,null,null,null,null,null,null,null,null,null,null,null,null,null,null,null,null,null,null,null,null,null,null,null,null,null,null,null,null,null,null,null,null,null,null,null,null,null,null,null,null,null,null,null,null,null,null,null,null,null,null,null,null,null,null,null,null,null,null,null,null,null,null,null,null,null,null,null,null,null,null,null,null,null,null,null,null,null,null,null,null,null,null,null,null,null,null,null,null,null,null,null,1,null,null,"품질 좋은 마스크를 저렴하게 공급합니다."]
[]
[null,null,null,null,null,null,null,null,null,null,null,null,null,null,null,null,null,null,null,null,null,null,null,null,null,null,null,null,null,null,null,null,null,null,null,null,null,null,null,null,null,null,null,null,null,null,null,null,null,null,null,null,null,null,null,null,null,null,null,null,null,null,null,null,null,null,null,null,null,null,null,null,null,null,null,null,null,null,null,null,null,null,null,null,null,null,null,null,null,null,null,null,null,null,null,null,null,null,null,null,null,null,null,null,null,null,null,null,null,null,null,{"$f":"IF(DK33=\"\",\"\",DH31+1)","v":2},null,null,"코로나 19 극복을 위해서 힘을 더해주세요----"]
[]
[null,null,null,null,null,null,null,null,null,null,null,null,null,null,null,null,null,null,null,null,null,null,null,null,null,null,null,null,null,null,null,null,null,null,null,null,null,null,null,null,null,null,null,null,null,null,null,null,null,null,null,null,null,null,null,null,null,null,null,null,null,null,null,null,null,null,null,null,null,null,null,null,null,null,null,null,null,null,null,null,null,null,null,null,null,null,null,null,null,null,null,null,null,null,null,null,null,null,null,null,null,null,null,null,null,null,null,null,null,null,null,{"$f":"IF(DK35=\"\",\"\",DH33+1)","v":3},null,null,"KF94"]
[]
[{"$f":"IFERROR(IF(DH22=\"\",\"\",VLOOKUP(DH22,$DH$31:$EQ$96,4)),\"\")","v":"2회용"},null,null,null,null,null,null,null,null,null,null,null,null,null,null,null,null,null,null,null,null,null,null,null,null,null,null,null,null,null,null,null,null,null,null,null,null,null,null,null,null,null,null,null,null,null,null,null,null,{"$f":"IFERROR(IF(DX22=\"\",\"\",VLOOKUP(DX22,$DH$31:$EQ$96,4)),\"\")","v":"16,000원"},null,null,null,null,null,null,null,null,null,null,null,null,null,null,null,null,null,null,null,null,null,null,null,null,null,null,null,null,null,null,null,null,null,null,null,null,null,null,null,null,null,null,null,null,null,null,null,null,null,null,null,null,null,null,null,null,null,null,null,null,null,{"$f":"IF(DK37=\"\",\"\",DH35+1)","v":4},null,null,"비말차단마스크"]
[]
[null,null,null,null,null,null,null,null,null,null,null,null,null,null,null,null,null,null,null,null,null,null,null,null,null,null,null,null,null,null,null,null,null,null,null,null,null,null,null,null,null,null,null,null,null,null,null,null,null,null,null,null,null,null,null,null,null,null,null,null,null,null,null,null,null,null,null,null,null,null,null,null,null,null,null,null,null,null,null,null,null,null,null,null,null,null,null,null,null,null,null,null,null,null,null,null,null,null,null,null,null,null,null,null,null,null,null,null,null,null,null,{"$f":"IF(DK39=\"\",\"\",DH37+1)","v":5},null,null,"의료용덴탈마스크"]
[]
[null,null,null,null,null,null,null,null,null,null,null,null,null,null,null,null,null,null,null,null,null,null,null,null,null,null,null,null,null,null,null,null,null,null,null,null,null,null,null,null,null,null,null,null,null,null,null,null,null,null,null,null,null,null,null,null,null,null,null,null,null,null,null,null,null,null,null,null,null,null,null,null,null,null,null,null,null,null,null,null,null,null,null,null,null,null,null,null,null,null,null,null,null,null,null,null,null,null,null,null,null,null,null,null,null,null,null,null,null,null,null,{"$f":"IF(DK41=\"\",\"\",DH39+1)","v":6},null,null,"초특가"]
[]
[null,null,null,null,null,null,null,null,null,null,null,null,null,null,null,null,null,null,null,null,null,null,null,null,null,null,null,null,null,null,null,null,null,null,null,null,null,null,null,null,null,null,null,null,null,null,null,null,null,null,null,null,null,null,null,null,null,null,null,null,null,null,null,null,null,null,null,null,null,null,null,null,null,null,null,null,null,null,null,null,null,null,null,null,null,null,null,null,null,null,null,null,null,null,null,null,null,null,null,null,null,null,null,null,null,null,null,null,null,null,null,{"$f":"IF(DK43=\"\",\"\",DH41+1)","v":7},null,null,"숨쉬기 편한  새부리형"]
[]
[null,null,null,null,null,null,null,null,null,null,null,null,null,null,null,null,null,null,null,null,null,null,null,null,null,null,null,null,null,null,null,null,null,null,null,null,null,null,null,null,null,null,null,null,null,null,null,null,null,null,null,null,null,null,null,null,null,null,null,null,null,null,null,null,null,null,null,null,null,null,null,null,null,null,null,null,null,null,null,null,null,null,null,null,null,null,null,null,null,null,null,null,null,null,null,null,null,null,null,null,null,null,null,null,null,null,null,null,null,null,null,{"$f":"IF(DK45=\"\",\"\",DH43+1)","v":8},null,null,"1인 2박스제한"]
[]
[null,null,null,null,null,null,null,null,null,null,null,null,null,null,null,null,null,null,null,null,null,null,null,null,null,null,null,null,null,null,null,null,null,null,null,null,null,null,null,null,null,null,null,null,null,null,null,null,null,null,null,null,null,null,null,null,null,null,null,null,null,null,null,null,null,null,null,null,null,null,null,null,null,null,null,null,null,null,null,null,null,null,null,null,null,null,null,null,null,null,null,null,null,null,null,null,null,null,null,null,null,null,null,null,null,null,null,null,null,null,null,{"$f":"IF(DK47=\"\",\"\",DH45+1)","v":9},null,null,"식약처인증"]
[]
[null,null,null,null,null,null,null,null,null,null,null,null,null,null,null,null,null,null,null,null,null,null,null,null,null,null,null,null,null,null,null,null,null,null,null,null,null,null,null,null,null,null,null,null,null,null,null,null,null,null,null,null,null,null,null,null,null,null,null,null,null,null,null,null,null,null,null,null,null,null,null,null,null,null,null,null,null,null,null,null,null,null,null,null,null,null,null,null,null,null,null,null,null,null,null,null,null,null,null,null,null,null,null,null,null,null,null,null,null,null,null,{"$f":"IF(DK49=\"\",\"\",DH47+1)","v":10},null,null,"국산 덴탈마스크"]
[]
[null,null,null,null,null,null,null,null,null,null,null,null,null,null,null,null,null,null,null,null,null,null,null,null,null,null,null,null,null,null,null,null,null,null,null,null,null,null,null,null,null,null,null,null,null,null,null,null,null,null,null,null,null,null,null,null,null,null,null,null,null,null,null,null,null,null,null,null,null,null,null,null,null,null,null,null,null,null,null,null,null,null,null,null,null,null,null,null,null,null,null,null,null,null,null,null,null,null,null,null,null,null,null,null,null,null,null,null,null,null,null,{"$f":"IF(DK51=\"\",\"\",DH49+1)","v":11},null,null,"10매입"]
[]
[null,null,null,null,null,null,null,null,null,null,null,null,null,null,null,null,null,null,null,null,null,null,null,null,null,null,null,null,null,null,null,null,null,null,null,null,null,null,null,null,null,null,null,null,null,null,null,null,null,null,null,null,null,null,null,null,null,null,null,null,null,null,null,null,null,null,null,null,null,null,null,null,null,null,null,null,null,null,null,null,null,null,null,null,null,null,null,null,null,null,null,null,null,null,null,null,null,null,null,null,null,null,null,null,null,null,null,null,null,null,null,{"$f":"IF(DK53=\"\",\"\",DH51+1)","v":12},null,null,"25매입"]
[]
[null,null,null,null,null,null,null,null,null,null,null,null,null,null,null,null,null,null,null,null,null,null,null,null,null,null,null,null,null,null,null,null,null,null,null,null,null,null,null,null,null,null,null,null,null,null,null,null,null,null,null,null,null,null,null,null,null,null,null,null,null,null,null,null,null,null,null,null,null,null,null,null,null,null,null,null,null,null,null,null,null,null,null,null,null,null,null,null,null,null,null,null,null,null,null,null,null,null,null,null,null,null,null,null,null,null,null,null,null,null,null,{"$f":"IF(DK55=\"\",\"\",DH53+1)","v":13},null,null,"30매입"]
[]
[null,null,null,null,null,null,null,null,null,null,null,null,null,null,null,null,null,null,null,null,null,null,null,null,null,null,null,null,null,null,null,null,null,null,null,null,null,null,null,null,null,null,null,null,null,null,null,null,null,null,null,null,null,null,null,null,null,null,null,null,null,null,null,null,null,null,null,null,null,null,null,null,null,null,null,null,null,null,null,null,null,null,null,null,null,null,null,null,null,null,null,null,null,null,null,null,null,null,null,null,null,null,null,null,null,null,null,null,null,null,null,{"$f":"IF(DK57=\"\",\"\",DH55+1)","v":14},null,null,"50매입"]
[]
[{"$f":"요양기관기초정보!D1","v":"팜오피스약국"},null,null,null,null,null,null,null,null,null,null,null,null,null,null,null,null,null,null,null,null,null,null,null,null,null,null,null,null,null,null,null,null,null,null,null,null,null,null,null,null,null,null,null,null,null,null,null,null,null,null,null,null,null,null,null,null,null,null,null,null,null,null,null,null,null,null,null,null,null,null,null,null,null,null,null,null,null,null,null,null,null,null,null,null,null,null,null,null,null,null,null,null,null,null,null,null,null,null,null,null,null,null,null,null,null,null,null,null,null,null,{"$f":"IF(DK59=\"\",\"\",DH57+1)","v":15},null,null,"5,000원"]
[]
[null,null,null,null,null,null,null,null,null,null,null,null,null,null,null,null,null,null,null,null,null,null,null,null,null,null,null,null,null,null,null,null,null,null,null,null,null,null,null,null,null,null,null,null,null,null,null,null,null,null,null,null,null,null,null,null,null,null,null,null,null,null,null,null,null,null,null,null,null,null,null,null,null,null,null,null,null,null,null,null,null,null,null,null,null,null,null,null,null,null,null,null,null,null,null,null,null,null,null,null,null,null,null,null,null,null,null,null,null,null,null,{"$f":"IF(DK61=\"\",\"\",DH59+1)","v":16},null,null,"7,000원"]
[]
[null,null,null,null,null,null,null,null,null,null,null,null,null,null,null,null,null,null,null,null,null,null,null,null,null,null,null,null,null,null,null,null,null,null,null,null,null,null,null,null,null,null,null,null,null,null,null,null,null,null,null,null,null,null,null,null,null,null,null,null,null,null,null,null,null,null,null,null,null,null,null,null,null,null,null,null,null,null,null,null,null,null,null,null,null,null,null,null,null,null,null,null,null,null,null,null,null,null,null,null,null,null,null,null,null,null,null,null,null,null,null,{"$f":"IF(DK63=\"\",\"\",DH61+1)","v":17},null,null,"9,000원"]
[]
[null,null,null,null,null,null,null,null,null,null,null,null,null,null,null,null,null,null,null,null,null,null,null,null,null,null,null,null,null,null,null,null,null,null,null,null,null,null,null,null,null,null,null,null,null,null,null,null,null,null,null,null,null,null,null,null,null,null,null,null,null,null,null,null,null,null,null,null,null,null,null,null,null,null,null,null,null,null,null,null,null,null,null,null,null,null,null,null,null,null,null,null,null,null,null,null,null,null,null,null,null,null,null,null,null,null,null,null,null,null,null,{"$f":"IF(DK65=\"\",\"\",DH63+1)","v":18},null,null,"10,000원"]
[]
[null,null,null,null,null,null,null,null,null,null,null,null,null,null,null,null,null,null,null,null,null,null,null,null,null,null,null,null,null,null,null,null,null,null,null,null,null,null,null,null,null,null,null,null,null,null,null,null,null,null,null,null,null,null,null,null,null,null,null,null,null,null,null,null,null,null,null,null,null,null,null,null,null,null,null,null,null,null,null,null,null,null,null,null,null,null,null,null,null,null,null,null,null,null,null,null,null,null,null,null,null,null,null,null,null,null,null,null,null,null,null,{"$f":"IF(DK67=\"\",\"\",DH65+1)","v":19},null,null,"12,000원"]
[]
[null,null,null,null,null,null,null,null,null,null,null,null,null,null,null,null,null,null,null,null,null,null,null,null,null,null,null,null,null,null,null,null,null,null,null,null,null,null,null,null,null,null,null,null,null,null,null,null,null,null,null,null,null,null,null,null,null,null,null,null,null,null,null,null,null,null,null,null,null,null,null,null,null,null,null,null,null,null,null,null,null,null,null,null,null,null,null,null,null,null,null,null,null,null,null,null,null,null,null,null,null,null,null,null,null,null,null,null,null,null,null,{"$f":"IF(DK69=\"\",\"\",DH67+1)","v":20},null,null,"16,000원"]
[]
[null,null,null,null,null,null,null,null,null,null,null,null,null,null,null,null,null,null,null,null,null,null,null,null,null,null,null,null,null,null,null,null,null,null,null,null,null,null,null,null,null,null,null,null,null,null,null,null,null,null,null,null,null,null,null,null,null,null,null,null,null,null,null,null,null,null,null,null,null,null,null,null,null,null,null,null,null,null,null,null,null,null,null,null,null,null,null,null,null,null,null,null,null,null,null,null,null,null,null,null,null,null,null,null,null,null,null,null,null,null,null,{"$f":"IF(DK71=\"\",\"\",DH69+1)","v":21},null,null,"18,000원"]
[]
[null,null,null,null,null,null,null,null,null,null,null,null,null,null,null,null,null,null,null,null,null,null,null,null,null,null,null,null,null,null,null,null,null,null,null,null,null,null,null,null,null,null,null,null,null,null,null,null,null,null,null,null,null,null,null,null,null,null,null,null,null,null,null,null,null,null,null,null,null,null,null,null,null,null,null,null,null,null,null,null,null,null,null,null,null,null,null,null,null,null,null,null,null,null,null,null,null,null,null,null,null,null,null,null,null,null,null,null,null,null,null,{"$f":"IF(DK73=\"\",\"\",DH71+1)","v":22},null,null,"20,000원"]
[]
[null,null,null,null,null,null,null,null,null,null,null,null,null,null,null,null,null,null,null,null,null,null,null,null,null,null,null,null,null,null,null,null,null,null,null,null,null,null,null,null,null,null,null,null,null,null,null,null,null,null,null,null,null,null,null,null,null,null,null,null,null,null,null,null,null,null,null,null,null,null,null,null,null,null,null,null,null,null,null,null,null,null,null,null,null,null,null,null,null,null,null,null,null,null,null,null,null,null,null,null,null,null,null,null,null,null,null,null,null,null,null,{"$f":"IF(DK75=\"\",\"\",DH73+1)","v":23},null,null,"22,000원"]
[]
[null,null,null,null,null,null,null,null,null,null,null,null,null,null,null,null,null,null,null,null,null,null,null,null,null,null,null,null,null,null,null,null,null,null,null,null,null,null,null,null,null,null,null,null,null,null,null,null,null,null,null,null,null,null,null,null,null,null,null,null,null,null,null,null,null,null,null,null,null,null,null,null,null,null,null,null,null,null,null,null,null,null,null,null,null,null,null,null,null,null,null,null,null,null,null,null,null,null,null,null,null,null,null,null,null,null,null,null,null,null,null,{"$f":"IF(DK77=\"\",\"\",DH75+1)","v":24},null,null,"25,000원"]
[]
[null,null,null,null,null,null,null,null,null,null,null,null,null,null,null,null,null,null,null,null,null,null,null,null,null,null,null,null,null,null,null,null,null,null,null,null,null,null,null,null,null,null,null,null,null,null,null,null,null,null,null,null,null,null,null,null,null,null,null,null,null,null,null,null,null,null,null,null,null,null,null,null,null,null,null,null,null,null,null,null,null,null,null,null,null,null,null,null,null,null,null,null,null,null,null,null,null,null,null,null,null,null,null,null,null,null,null,null,null,null,null,{"$f":"IF(DK79=\"\",\"\",DH77+1)","v":25},null,null,"30,000원"]
[]
[null,null,null,null,null,null,null,null,null,null,null,null,null,null,null,null,null,null,null,null,null,null,null,null,null,null,null,null,null,null,null,null,null,null,null,null,null,null,null,null,null,null,null,null,null,null,null,null,null,null,null,null,null,null,null,null,null,null,null,null,null,null,null,null,null,null,null,null,null,null,null,null,null,null,null,null,null,null,null,null,null,null,null,null,null,null,null,null,null,null,null,null,null,null,null,null,null,null,null,null,null,null,null,null,null,null,null,null,null,null,null,{"$f":"IF(DK81=\"\",\"\",DH79+1)","v":26},null,null,"35,000원"]
[]
[null,null,null,null,null,null,null,null,null,null,null,null,null,null,null,null,null,null,null,null,null,null,null,null,null,null,null,null,null,null,null,null,null,null,null,null,null,null,null,null,null,null,null,null,null,null,null,null,null,null,null,null,null,null,null,null,null,null,null,null,null,null,null,null,null,null,null,null,null,null,null,null,null,null,null,null,null,null,null,null,null,null,null,null,null,null,null,null,null,null,null,null,null,null,null,null,null,null,null,null,null,null,null,null,null,null,null,null,null,null,null,{"$f":"IF(DK83=\"\",\"\",DH81+1)","v":27},null,null,"코로나항원  자가 검사 키트"]
[]
[null,null,null,null,null,null,null,null,null,null,null,null,null,null,null,null,null,null,null,null,null,null,null,null,null,null,null,null,null,null,null,null,null,null,null,null,null,null,null,null,null,null,null,null,null,null,null,null,null,null,null,null,null,null,null,null,null,null,null,null,null,null,null,null,null,null,null,null,null,null,null,null,null,null,null,null,null,null,null,null,null,null,null,null,null,null,null,null,null,null,null,null,null,null,null,null,null,null,null,null,null,null,null,null,null,null,null,null,null,null,null,{"$f":"IF(DK85=\"\",\"\",DH83+1)","v":28},null,null,"2회용"]
[]
[null,null,null,null,null,null,null,null,null,null,null,null,null,null,null,null,null,null,null,null,null,null,null,null,null,null,null,null,null,null,null,null,null,null,null,null,null,null,null,null,null,null,null,null,null,null,null,null,null,null,null,null,null,null,null,null,null,null,null,null,null,null,null,null,null,null,null,null,null,null,null,null,null,null,null,null,null,null,null,null,null,null,null,null,null,null,null,null,null,null,null,null,null,null,null,null,null,null,null,null,null,null,null,null,null,null,null,null,null,null,null,{"$f":"IF(DK87=\"\",\"\",DH85+1)","v":29},null,null,"비강검사 15분후 판독"]
[]
[null,null,null,null,null,null,null,null,null,null,null,null,null,null,null,null,null,null,null,null,null,null,null,null,null,null,null,null,null,null,null,null,null,null,null,null,null,null,null,null,null,null,null,null,null,null,null,null,null,null,null,null,null,null,null,null,null,null,null,null,null,null,null,null,null,null,null,null,null,null,null,null,null,null,null,null,null,null,null,null,null,null,null,null,null,null,null,null,null,null,null,null,null,null,null,null,null,null,null,null,null,null,null,null,null,null,null,null,null,null,null,{"$f":"IF(DK89=\"\",\"\",DH87+1)","v":""}]
[]
[null,null,null,null,null,null,null,null,null,null,null,null,null,null,null,null,null,null,null,null,null,null,null,null,null,null,null,null,null,null,null,null,null,null,null,null,null,null,null,null,null,null,null,null,null,null,null,null,null,null,null,null,null,null,null,null,null,null,null,null,null,null,null,null,null,null,null,null,null,null,null,null,null,null,null,null,null,null,null,null,null,null,null,null,null,null,null,null,null,null,null,null,null,null,null,null,null,null,null,null,null,null,null,null,null,null,null,null,null,null,null,{"$f":"IF(DK91=\"\",\"\",DH89+1)","v":""}]
[]
[null,null,null,null,null,null,null,null,null,null,null,null,null,null,null,null,null,null,null,null,null,null,null,null,null,null,null,null,null,null,null,null,null,null,null,null,null,null,null,null,null,null,null,null,null,null,null,null,null,null,null,null,null,null,null,null,null,null,null,null,null,null,null,null,null,null,null,null,null,null,null,null,null,null,null,null,null,null,null,null,null,null,null,null,null,null,null,null,null,null,null,null,null,null,null,null,null,null,null,null,null,null,null,null,null,null,null,null,null,null,null,{"$f":"IF(DK93=\"\",\"\",DH91+1)","v":""}]
[]
[null,null,null,null,null,null,null,null,null,null,null,null,null,null,null,null,null,null,null,null,null,null,null,null,null,null,null,null,null,null,null,null,null,null,null,null,null,null,null,null,null,null,null,null,null,null,null,null,null,null,null,null,null,null,null,null,null,null,null,null,null,null,null,null,null,null,null,null,null,null,null,null,null,null,null,null,null,null,null,null,null,null,null,null,null,null,null,null,null,null,null,null,null,null,null,null,null,null,null,null,null,null,null,null,null,null,null,null,null,null,null,{"$f":"IF(DK95=\"\",\"\",DH93+1)","v":""}]
[]
[null,null,null,null,null,null,null,null,null,null,null,null,null,null,null,null,null,null,null,null,null,null,null,null,null,null,null,null,null,null,null,null,null,null,null,null,null,null,null,null,null,null,null,null,null,null,null,null,null,null,null,null,null,null,null,null,null,null,null,null,null,null,null,null,null,null,null,null,null,null,null,null,null,null,null,null,null,null,null,null,null,null,null,null,null,null,null,null,null,null,null,null,null,null,null,null,null,null,null,null,null,null,null,null,null,null,null,null,null,null,null,null,null,null,null,null,null,null,null,null,null,null,null,null,null,null,null,null,31]
[]
[null,null,null,null,null,null,null,null,null,null,null,null,null,null,null,null,null,null,null,null,null,null,null,null,null,null,null,null,null,null,null,null,null,null,null,null,null,null,null,null,null,null,null,null,null,null,null,null,null,null,null,null,null,null,null,null,null,null,null,null,null,null,null,null,null,null,null,null,null,null,null,null,null,null,null,null,null,null,null,null,null,null,null,null,null,null,null,null,null,null,null,null,null,null,null,null,null,null,null,null,null,null,null,null,null,null,null,null,null,null,null,null,null,null,null,null,null,null,null,null,null,null,null,null,null,null,null,null,32]
[]
[null,null,null,null,null,null,null,null,null,null,null,null,null,null,null,null,null,null,null,null,null,null,null,null,null,null,null,null,null,null,null,null,null,null,null,null,null,null,null,null,null,null,null,null,null,null,null,null,null,null,null,null,null,null,null,null,null,null,null,null,null,null,null,null,null,null,null,null,null,null,null,null,null,null,null,null,null,null,null,null,null,null,null,null,null,null,null,null,null,null,null,null,null,null,null,null,null,null,null,null,null,null,null,null,null,null,null,null,null,null,null,null,null,null,null,null,null,null,null,null,null,null,null,null,null,null,null,null,33]
[]
[null,null,null,null,null,null,null,null,null,null,null,null,null,null,null,null,null,null,null,null,null,null,null,null,null,null,null,null,null,null,null,null,null,null,null,null,null,null,null,null,null,null,null,null,null,null,null,null,null,null,null,null,null,null,null,null,null,null,null,null,null,null,null,null,null,null,null,null,null,null,null,null,null,null,null,null,null,null,null,null,null,null,null,null,null,null,null,null,null,null,null,null,null,null,null,null,null,null,null,null,null,null,null,null,null,null,null,null,null,null,null,null,null,null,null,null,null,null,null,null,null,null,null,null,null,null,null,null,34]
[]
[null,null,null,null,null,null,null,null,null,null,null,null,null,null,null,null,null,null,null,null,null,null,null,null,null,null,null,null,null,null,null,null,null,null,null,null,null,null,null,null,null,null,null,null,null,null,null,null,null,null,null,null,null,null,null,null,null,null,null,null,null,null,null,null,null,null,null,null,null,null,null,null,null,null,null,null,null,null,null,null,null,null,null,null,null,null,null,null,null,null,null,null,null,null,null,null,null,null,null,null,null,null,null,null,null,null,null,null,null,null,null,null,null,null,null,null,null,null,null,null,null,null,null,null,null,null,null,null,35]
[]
[null,null,null,null,null,null,null,null,null,null,null,null,null,null,null,null,null,null,null,null,null,null,null,null,null,null,null,null,null,null,null,null,null,null,null,null,null,null,null,null,null,null,null,null,null,null,null,null,null,null,null,null,null,null,null,null,null,null,null,null,null,null,null,null,null,null,null,null,null,null,null,null,null,null,null,null,null,null,null,null,null,null,null,null,null,null,null,null,null,null,null,null,null,null,null,null,null,null,null,null,null,null,null,null,null,null,null,null,null,null,null,null,null,null,null,null,null,null,null,null,null,null,null,null,null,null,null,null,36]
[]
[null,null,null,null,null,null,null,null,null,null,null,null,null,null,null,null,null,null,null,null,null,null,null,null,null,null,null,null,null,null,null,null,null,null,null,null,null,null,null,null,null,null,null,null,null,null,null,null,null,null,null,null,null,null,null,null,null,null,null,null,null,null,null,null,null,null,null,null,null,null,null,null,null,null,null,null,null,null,null,null,null,null,null,null,null,null,null,null,null,null,null,null,null,null,null,null,null,null,null,null,null,null,null,null,null,null,null,null,null,null,null,null,null,null,null,null,null,null,null,null,null,null,null,null,null,null,null,null,37]
[]
[null,null,null,null,null,null,null,null,null,null,null,null,null,null,null,null,null,null,null,null,null,null,null,null,null,null,null,null,null,null,null,null,null,null,null,null,null,null,null,null,null,null,null,null,null,null,null,null,null,null,null,null,null,null,null,null,null,null,null,null,null,null,null,null,null,null,null,null,null,null,null,null,null,null,null,null,null,null,null,null,null,null,null,null,null,null,null,null,null,null,null,null,null,null,null,null,null,null,null,null,null,null,null,null,null,null,null,null,null,null,null,null,null,null,null,null,null,null,null,null,null,null,null,null,null,null,null,null,38]
[]
[null,null,null,null,null,null,null,null,null,null,null,null,null,null,null,null,null,null,null,null,null,null,null,null,null,null,null,null,null,null,null,null,null,null,null,null,null,null,null,null,null,null,null,null,null,null,null,null,null,null,null,null,null,null,null,null,null,null,null,null,null,null,null,null,null,null,null,null,null,null,null,null,null,null,null,null,null,null,null,null,null,null,null,null,null,null,null,null,null,null,null,null,null,null,null,null,null,null,null,null,null,null,null,null,null,null,null,null,null,null,null,null,null,null,null,null,null,null,null,null,null,null,null,null,null,null,null,null,39]
[]
[null,null,null,null,null,null,null,null,null,null,null,null,null,null,null,null,null,null,null,null,null,null,null,null,null,null,null,null,null,null,null,null,null,null,null,null,null,null,null,null,null,null,null,null,null,null,null,null,null,null,null,null,null,null,null,null,null,null,null,null,null,null,null,null,null,null,null,null,null,null,null,null,null,null,null,null,null,null,null,null,null,null,null,null,null,null,null,null,null,null,null,null,null,null,null,null,null,null,null,null,null,null,null,null,null,null,null,null,null,null,null,null,null,null,null,null,null,null,null,null,null,null,null,null,null,null,null,null,40]
[]
[null,null,null,null,null,null,null,null,null,null,null,null,null,null,null,null,null,null,null,null,null,null,null,null,null,null,null,null,null,null,null,null,null,null,null,null,null,null,null,null,null,null,null,null,null,null,null,null,null,null,null,null,null,null,null,null,null,null,null,null,null,null,null,null,null,null,null,null,null,null,null,null,null,null,null,null,null,null,null,null,null,null,null,null,null,null,null,null,null,null,null,null,null,null,null,null,null,null,null,null,null,null,null,null,null,null,null,null,null,null,null,null,null,null,null,null,null,null,null,null,null,null,null,null,null,null,null,null,41]

{"sheet":"안내문","index":85,"n_rows":117,"n_cols":129,"rows_kept":117,"cut":false,"hidden":false,"merged":[[46,111,47,113],[46,114,47,146],[34,111,35,113],[34,114,35,146],[32,111,33,113],[32,114,33,146],[36,111,37,113],[36,114,37,146],[38,111,39,113],[38,114,39,146],[40,111,41,113],[40,114,41,146],[42,111,43,113],[42,114,43,146],[48,114,49,146],[50,111,51,113],[50,114,51,146],[0,0,2,104],[3,0,3,104],[6,111,7,146],[11,111,12,146],[27,111,28,146],[18,111,21,146],[13,111,17,146],[22,111,26,146],[4,0,20,104],[21,0,21,104],[22,0,37,104],[30,111,31,113],[30,114,31,146],[52,111,53,113],[52,114,53,146],[58,0,61,104],[58,111,59,113],[58,114,59,146],[60,111,61,113],[60,114,61,146],[54,111,55,113],[54,114,55,146],[56,111,57,113],[56,114,57,146],[57,0,57,104],[38,0,56,104],[44,111,45,113],[44,114,45,146],[48,111,49,113],[62,111,63,113],[62,114,63,146],[64,111,65,113],[64,114,65,146],[66,111,67,113],[66,114,67,146],[68,111,69,113],[68,114,69,146],[70,111,71,113],[70,114,71,146],[72,111,73,113],[72,114,73,146],[74,111,75,113],[74,114,75,146],[76,111,77,113],[76,114,77,146],[78,111,79,113],[78,114,79,146],[80,111,81,113],[80,114,81,146],[82,111,83,113],[82,114,83,146],[84,111,85,113],[84,114,85,146],[92,111,93,113],[92,114,93,146],[94,111,95,113],[94,114,95,146],[86,111,87,113],[86,114,87,146],[88,111,89,113],[88,114,89,146],[90,111,91,113],[90,114,91,146]]}
[{"$f":"IFERROR(IF(DH12=\"\",\"\",VLOOKUP(DH12,$DH$31:$EQ$96,4)),\"\")","v":"코로나 19 극복을 위해서 힘을 더해주세요----"}]
[]
[]
[]
[{"$f":"IFERROR(IF(DH14=\"\",\"\",VLOOKUP(DH14,$DH$31:$EQ$96,4)),\"\")","v":"실내에서 마스크를 벗지마세요"}]
[]
[null,null,null,null,null,null,null,null,null,null,null,null,null,null,null,null,null,null,null,null,null,null,null,null,null,null,null,null,null,null,null,null,null,null,null,null,null,null,null,null,null,null,null,null,null,null,null,null,null,null,null,null,null,null,null,null,null,null,null,null,null,null,null,null,null,null,null,null,null,null,null,null,null,null,null,null,null,null,null,null,null,null,null,null,null,null,null,null,null,null,null,null,null,null,null,null,null,null,null,null,null,null,null,null,null,null,null,null,null,null,null,"마스크 착용 관련 안내문"]
[]
[]
[]
[]
[null,null,null,null,null,null,null,null,null,null,null,null,null,null,null,null,null,null,null,null,null,null,null,null,null,null,null,null,null,null,null,null,null,null,null,null,null,null,null,null,null,null,null,null,null,null,null,null,null,null,null,null,null,null,null,null,null,null,null,null,null,null,null,null,null,null,null,null,null,null,null,null,null,null,null,null,null,null,null,null,null,null,null,null,null,null,null,null,null,null,null,null,null,null,null,null,null,null,null,null,null,null,null,null,null,null,null,null,null,null,null,1]
[]
[null,null,null,null,null,null,null,null,null,null,null,null,null,null,null,null,null,null,null,null,null,null,null,null,null,null,null,null,null,null,null,null,null,null,null,null,null,null,null,null,null,null,null,null,null,null,null,null,null,null,null,null,null,null,null,null,null,null,null,null,null,null,null,null,null,null,null,null,null,null,null,null,null,null,null,null,null,null,null,null,null,null,null,null,null,null,null,null,null,null,null,null,null,null,null,null,null,null,null,null,null,null,null,null,null,null,null,null,null,null,null,8]
[]
[]
[]
[]
[null,null,null,null,null,null,null,null,null,null,null,null,null,null,null,null,null,null,null,null,null,null,null,null,null,null,null,null,null,null,null,null,null,null,null,null,null,null,null,null,null,null,null,null,null,null,null,null,null,null,null,null,null,null,null,null,null,null,null,null,null,null,null,null,null,null,null,null,null,null,null,null,null,null,null,null,null,null,null,null,null,null,null,null,null,null,null,null,null,null,null,null,null,null,null,null,null,null,null,null,null,null,null,null,null,null,null,null,null,null,null,11]
[]
[]
[]
[{"$f":"IFERROR(IF(DH19=\"\",\"\",VLOOKUP(DH19,$DH$31:$EQ$96,4)),\"\")","v":"코풀기,휴대폰 안면인식 금지"},null,null,null,null,null,null,null,null,null,null,null,null,null,null,null,null,null,null,null,null,null,null,null,null,null,null,null,null,null,null,null,null,null,null,null,null,null,null,null,null,null,null,null,null,null,null,null,null,null,null,null,null,null,null,null,null,null,null,null,null,null,null,null,null,null,null,null,null,null,null,null,null,null,null,null,null,null,null,null,null,null,null,null,null,null,null,null,null,null,null,null,null,null,null,null,null,null,null,null,null,null,null,null,null,null,null,null,null,null,null,12]
[]
[]
[]
[]
[null,null,null,null,null,null,null,null,null,null,null,null,null,null,null,null,null,null,null,null,null,null,null,null,null,null,null,null,null,null,null,null,null,null,null,null,null,null,null,null,null,null,null,null,null,null,null,null,null,null,null,null,null,null,null,null,null,null,null,null,null,null,null,null,null,null,null,null,null,null,null,null,null,null,null,null,null,null,null,null,null,null,null,null,null,null,null,null,null,null,null,null,null,null,null,null,null,null,null,null,null,null,null,null,null,null,null,null,null,null,null,{"$f":"A59","v":"팜오피스약국"}]
[]
[]
[null,null,null,null,null,null,null,null,null,null,null,null,null,null,null,null,null,null,null,null,null,null,null,null,null,null,null,null,null,null,null,null,null,null,null,null,null,null,null,null,null,null,null,null,null,null,null,null,null,null,null,null,null,null,null,null,null,null,null,null,null,null,null,null,null,null,null,null,null,null,null,null,null,null,null,null,null,null,null,null,null,null,null,null,null,null,null,null,null,null,null,null,null,null,null,null,null,null,null,null,null,null,null,null,null,null,null,null,null,null,null,1,null,null,"코로나 19 극복을 위해서 힘을 더해주세요----"]
[]
[null,null,null,null,null,null,null,null,null,null,null,null,null,null,null,null,null,null,null,null,null,null,null,null,null,null,null,null,null,null,null,null,null,null,null,null,null,null,null,null,null,null,null,null,null,null,null,null,null,null,null,null,null,null,null,null,null,null,null,null,null,null,null,null,null,null,null,null,null,null,null,null,null,null,null,null,null,null,null,null,null,null,null,null,null,null,null,null,null,null,null,null,null,null,null,null,null,null,null,null,null,null,null,null,null,null,null,null,null,null,null,{"$f":"IF(DK33=\"\",\"\",DH31+1)","v":2},null,null,"마스크를 쓰고 들어오세요"]
[]
[null,null,null,null,null,null,null,null,null,null,null,null,null,null,null,null,null,null,null,null,null,null,null,null,null,null,null,null,null,null,null,null,null,null,null,null,null,null,null,null,null,null,null,null,null,null,null,null,null,null,null,null,null,null,null,null,null,null,null,null,null,null,null,null,null,null,null,null,null,null,null,null,null,null,null,null,null,null,null,null,null,null,null,null,null,null,null,null,null,null,null,null,null,null,null,null,null,null,null,null,null,null,null,null,null,null,null,null,null,null,null,{"$f":"IF(DK35=\"\",\"\",DH33+1)","v":3},null,null,"마스크 미착용자 출입금지"]
[]
[null,null,null,null,null,null,null,null,null,null,null,null,null,null,null,null,null,null,null,null,null,null,null,null,null,null,null,null,null,null,null,null,null,null,null,null,null,null,null,null,null,null,null,null,null,null,null,null,null,null,null,null,null,null,null,null,null,null,null,null,null,null,null,null,null,null,null,null,null,null,null,null,null,null,null,null,null,null,null,null,null,null,null,null,null,null,null,null,null,null,null,null,null,null,null,null,null,null,null,null,null,null,null,null,null,null,null,null,null,null,null,{"$f":"IF(DK37=\"\",\"\",DH35+1)","v":4},null,null,"마스크를 꼬끝까지 정확하게 착용하세요"]
[]
[{"$f":"IFERROR(IF(DH23=\"\",\"\",VLOOKUP(DH23,$DH$31:$EQ$96,4)),\"\")","v":"음료수 음용,약복용 금지"},null,null,null,null,null,null,null,null,null,null,null,null,null,null,null,null,null,null,null,null,null,null,null,null,null,null,null,null,null,null,null,null,null,null,null,null,null,null,null,null,null,null,null,null,null,null,null,null,null,null,null,null,null,null,null,null,null,null,null,null,null,null,null,null,null,null,null,null,null,null,null,null,null,null,null,null,null,null,null,null,null,null,null,null,null,null,null,null,null,null,null,null,null,null,null,null,null,null,null,null,null,null,null,null,null,null,null,null,null,null,{"$f":"IF(DK39=\"\",\"\",DH37+1)","v":5},null,null,"모두의 건강을 위해 마스크는 필수"]
[]
[null,null,null,null,null,null,null,null,null,null,null,null,null,null,null,null,null,null,null,null,null,null,null,null,null,null,null,null,null,null,null,null,null,null,null,null,null,null,null,null,null,null,null,null,null,null,null,null,null,null,null,null,null,null,null,null,null,null,null,null,null,null,null,null,null,null,null,null,null,null,null,null,null,null,null,null,null,null,null,null,null,null,null,null,null,null,null,null,null,null,null,null,null,null,null,null,null,null,null,null,null,null,null,null,null,null,null,null,null,null,null,{"$f":"IF(DK41=\"\",\"\",DH39+1)","v":6},null,null,"약국안에서 마스크를 벗지마세요"]
[]
[null,null,null,null,null,null,null,null,null,null,null,null,null,null,null,null,null,null,null,null,null,null,null,null,null,null,null,null,null,null,null,null,null,null,null,null,null,null,null,null,null,null,null,null,null,null,null,null,null,null,null,null,null,null,null,null,null,null,null,null,null,null,null,null,null,null,null,null,null,null,null,null,null,null,null,null,null,null,null,null,null,null,null,null,null,null,null,null,null,null,null,null,null,null,null,null,null,null,null,null,null,null,null,null,null,null,null,null,null,null,null,{"$f":"IF(DK43=\"\",\"\",DH41+1)","v":7},null,null,"음식물이나 음료수  금지"]
[]
[null,null,null,null,null,null,null,null,null,null,null,null,null,null,null,null,null,null,null,null,null,null,null,null,null,null,null,null,null,null,null,null,null,null,null,null,null,null,null,null,null,null,null,null,null,null,null,null,null,null,null,null,null,null,null,null,null,null,null,null,null,null,null,null,null,null,null,null,null,null,null,null,null,null,null,null,null,null,null,null,null,null,null,null,null,null,null,null,null,null,null,null,null,null,null,null,null,null,null,null,null,null,null,null,null,null,null,null,null,null,null,{"$f":"IF(DK45=\"\",\"\",DH43+1)","v":8},null,null,"실내에서 마스크를 벗지마세요"]
[]
[null,null,null,null,null,null,null,null,null,null,null,null,null,null,null,null,null,null,null,null,null,null,null,null,null,null,null,null,null,null,null,null,null,null,null,null,null,null,null,null,null,null,null,null,null,null,null,null,null,null,null,null,null,null,null,null,null,null,null,null,null,null,null,null,null,null,null,null,null,null,null,null,null,null,null,null,null,null,null,null,null,null,null,null,null,null,null,null,null,null,null,null,null,null,null,null,null,null,null,null,null,null,null,null,null,null,null,null,null,null,null,{"$f":"IF(DK47=\"\",\"\",DH45+1)","v":9},null,null,"약복용은 집에서"]
[]
[null,null,null,null,null,null,null,null,null,null,null,null,null,null,null,null,null,null,null,null,null,null,null,null,null,null,null,null,null,null,null,null,null,null,null,null,null,null,null,null,null,null,null,null,null,null,null,null,null,null,null,null,null,null,null,null,null,null,null,null,null,null,null,null,null,null,null,null,null,null,null,null,null,null,null,null,null,null,null,null,null,null,null,null,null,null,null,null,null,null,null,null,null,null,null,null,null,null,null,null,null,null,null,null,null,null,null,null,null,null,null,{"$f":"IF(DK49=\"\",\"\",DH47+1)","v":10},null,null,"마스크를 벗고 하는 모든 행위가 금지"]
[]
[null,null,null,null,null,null,null,null,null,null,null,null,null,null,null,null,null,null,null,null,null,null,null,null,null,null,null,null,null,null,null,null,null,null,null,null,null,null,null,null,null,null,null,null,null,null,null,null,null,null,null,null,null,null,null,null,null,null,null,null,null,null,null,null,null,null,null,null,null,null,null,null,null,null,null,null,null,null,null,null,null,null,null,null,null,null,null,null,null,null,null,null,null,null,null,null,null,null,null,null,null,null,null,null,null,null,null,null,null,null,null,{"$f":"IF(DK51=\"\",\"\",DH49+1)","v":11},null,null,"코풀기,휴대폰 안면인식 금지"]
[]
[null,null,null,null,null,null,null,null,null,null,null,null,null,null,null,null,null,null,null,null,null,null,null,null,null,null,null,null,null,null,null,null,null,null,null,null,null,null,null,null,null,null,null,null,null,null,null,null,null,null,null,null,null,null,null,null,null,null,null,null,null,null,null,null,null,null,null,null,null,null,null,null,null,null,null,null,null,null,null,null,null,null,null,null,null,null,null,null,null,null,null,null,null,null,null,null,null,null,null,null,null,null,null,null,null,null,null,null,null,null,null,{"$f":"IF(DK53=\"\",\"\",DH51+1)","v":12},null,null,"음료수 음용,약복용 금지"]
[]
[null,null,null,null,null,null,null,null,null,null,null,null,null,null,null,null,null,null,null,null,null,null,null,null,null,null,null,null,null,null,null,null,null,null,null,null,null,null,null,null,null,null,null,null,null,null,null,null,null,null,null,null,null,null,null,null,null,null,null,null,null,null,null,null,null,null,null,null,null,null,null,null,null,null,null,null,null,null,null,null,null,null,null,null,null,null,null,null,null,null,null,null,null,null,null,null,null,null,null,null,null,null,null,null,null,null,null,null,null,null,null,{"$f":"IF(DK55=\"\",\"\",DH53+1)","v":13},null,null,"하지마 하지마 하지마"]
[]
[null,null,null,null,null,null,null,null,null,null,null,null,null,null,null,null,null,null,null,null,null,null,null,null,null,null,null,null,null,null,null,null,null,null,null,null,null,null,null,null,null,null,null,null,null,null,null,null,null,null,null,null,null,null,null,null,null,null,null,null,null,null,null,null,null,null,null,null,null,null,null,null,null,null,null,null,null,null,null,null,null,null,null,null,null,null,null,null,null,null,null,null,null,null,null,null,null,null,null,null,null,null,null,null,null,null,null,null,null,null,null,{"$f":"IF(DK57=\"\",\"\",DH55+1)","v":""}]
[]
[{"$f":"요양기관기초정보!D1","v":"팜오피스약국"},null,null,null,null,null,null,null,null,null,null,null,null,null,null,null,null,null,null,null,null,null,null,null,null,null,null,null,null,null,null,null,null,null,null,null,null,null,null,null,null,null,null,null,null,null,null,null,null,null,null,null,null,null,null,null,null,null,null,null,null,null,null,null,null,null,null,null,null,null,null,null,null,null,null,null,null,null,null,null,null,null,null,null,null,null,null,null,null,null,null,null,null,null,null,null,null,null,null,null,null,null,null,null,null,null,null,null,null,null,null,{"$f":"IF(DK59=\"\",\"\",DH57+1)","v":""}]
[]
[null,null,null,null,null,null,null,null,null,null,null,null,null,null,null,null,null,null,null,null,null,null,null,null,null,null,null,null,null,null,null,null,null,null,null,null,null,null,null,null,null,null,null,null,null,null,null,null,null,null,null,null,null,null,null,null,null,null,null,null,null,null,null,null,null,null,null,null,null,null,null,null,null,null,null,null,null,null,null,null,null,null,null,null,null,null,null,null,null,null,null,null,null,null,null,null,null,null,null,null,null,null,null,null,null,null,null,null,null,null,null,{"$f":"IF(DK61=\"\",\"\",DH59+1)","v":""}]
[]
[null,null,null,null,null,null,null,null,null,null,null,null,null,null,null,null,null,null,null,null,null,null,null,null,null,null,null,null,null,null,null,null,null,null,null,null,null,null,null,null,null,null,null,null,null,null,null,null,null,null,null,null,null,null,null,null,null,null,null,null,null,null,null,null,null,null,null,null,null,null,null,null,null,null,null,null,null,null,null,null,null,null,null,null,null,null,null,null,null,null,null,null,null,null,null,null,null,null,null,null,null,null,null,null,null,null,null,null,null,null,null,{"$f":"IF(DK63=\"\",\"\",DH61+1)","v":""}]
[]
[null,null,null,null,null,null,null,null,null,null,null,null,null,null,null,null,null,null,null,null,null,null,null,null,null,null,null,null,null,null,null,null,null,null,null,null,null,null,null,null,null,null,null,null,null,null,null,null,null,null,null,null,null,null,null,null,null,null,null,null,null,null,null,null,null,null,null,null,null,null,null,null,null,null,null,null,null,null,null,null,null,null,null,null,null,null,null,null,null,null,null,null,null,null,null,null,null,null,null,null,null,null,null,null,null,null,null,null,null,null,null,{"$f":"IF(DK65=\"\",\"\",DH63+1)","v":""}]
[]
[null,null,null,null,null,null,null,null,null,null,null,null,null,null,null,null,null,null,null,null,null,null,null,null,null,null,null,null,null,null,null,null,null,null,null,null,null,null,null,null,null,null,null,null,null,null,null,null,null,null,null,null,null,null,null,null,null,null,null,null,null,null,null,null,null,null,null,null,null,null,null,null,null,null,null,null,null,null,null,null,null,null,null,null,null,null,null,null,null,null,null,null,null,null,null,null,null,null,null,null,null,null,null,null,null,null,null,null,null,null,null,{"$f":"IF(DK67=\"\",\"\",DH65+1)","v":""}]
[]
[null,null,null,null,null,null,null,null,null,null,null,null,null,null,null,null,null,null,null,null,null,null,null,null,null,null,null,null,null,null,null,null,null,null,null,null,null,null,null,null,null,null,null,null,null,null,null,null,null,null,null,null,null,null,null,null,null,null,null,null,null,null,null,null,null,null,null,null,null,null,null,null,null,null,null,null,null,null,null,null,null,null,null,null,null,null,null,null,null,null,null,null,null,null,null,null,null,null,null,null,null,null,null,null,null,null,null,null,null,null,null,{"$f":"IF(DK69=\"\",\"\",DH67+1)","v":""}]
[]
[null,null,null,null,null,null,null,null,null,null,null,null,null,null,null,null,null,null,null,null,null,null,null,null,null,null,null,null,null,null,null,null,null,null,null,null,null,null,null,null,null,null,null,null,null,null,null,null,null,null,null,null,null,null,null,null,null,null,null,null,null,null,null,null,null,null,null,null,null,null,null,null,null,null,null,null,null,null,null,null,null,null,null,null,null,null,null,null,null,null,null,null,null,null,null,null,null,null,null,null,null,null,null,null,null,null,null,null,null,null,null,{"$f":"IF(DK71=\"\",\"\",DH69+1)","v":""}]
[]
[null,null,null,null,null,null,null,null,null,null,null,null,null,null,null,null,null,null,null,null,null,null,null,null,null,null,null,null,null,null,null,null,null,null,null,null,null,null,null,null,null,null,null,null,null,null,null,null,null,null,null,null,null,null,null,null,null,null,null,null,null,null,null,null,null,null,null,null,null,null,null,null,null,null,null,null,null,null,null,null,null,null,null,null,null,null,null,null,null,null,null,null,null,null,null,null,null,null,null,null,null,null,null,null,null,null,null,null,null,null,null,{"$f":"IF(DK73=\"\",\"\",DH71+1)","v":""}]
[]
[null,null,null,null,null,null,null,null,null,null,null,null,null,null,null,null,null,null,null,null,null,null,null,null,null,null,null,null,null,null,null,null,null,null,null,null,null,null,null,null,null,null,null,null,null,null,null,null,null,null,null,null,null,null,null,null,null,null,null,null,null,null,null,null,null,null,null,null,null,null,null,null,null,null,null,null,null,null,null,null,null,null,null,null,null,null,null,null,null,null,null,null,null,null,null,null,null,null,null,null,null,null,null,null,null,null,null,null,null,null,null,{"$f":"IF(DK75=\"\",\"\",DH73+1)","v":""}]
[]
[null,null,null,null,null,null,null,null,null,null,null,null,null,null,null,null,null,null,null,null,null,null,null,null,null,null,null,null,null,null,null,null,null,null,null,null,null,null,null,null,null,null,null,null,null,null,null,null,null,null,null,null,null,null,null,null,null,null,null,null,null,null,null,null,null,null,null,null,null,null,null,null,null,null,null,null,null,null,null,null,null,null,null,null,null,null,null,null,null,null,null,null,null,null,null,null,null,null,null,null,null,null,null,null,null,null,null,null,null,null,null,{"$f":"IF(DK77=\"\",\"\",DH75+1)","v":""}]
[]
[null,null,null,null,null,null,null,null,null,null,null,null,null,null,null,null,null,null,null,null,null,null,null,null,null,null,null,null,null,null,null,null,null,null,null,null,null,null,null,null,null,null,null,null,null,null,null,null,null,null,null,null,null,null,null,null,null,null,null,null,null,null,null,null,null,null,null,null,null,null,null,null,null,null,null,null,null,null,null,null,null,null,null,null,null,null,null,null,null,null,null,null,null,null,null,null,null,null,null,null,null,null,null,null,null,null,null,null,null,null,null,{"$f":"IF(DK79=\"\",\"\",DH77+1)","v":""}]
[]
[null,null,null,null,null,null,null,null,null,null,null,null,null,null,null,null,null,null,null,null,null,null,null,null,null,null,null,null,null,null,null,null,null,null,null,null,null,null,null,null,null,null,null,null,null,null,null,null,null,null,null,null,null,null,null,null,null,null,null,null,null,null,null,null,null,null,null,null,null,null,null,null,null,null,null,null,null,null,null,null,null,null,null,null,null,null,null,null,null,null,null,null,null,null,null,null,null,null,null,null,null,null,null,null,null,null,null,null,null,null,null,{"$f":"IF(DK81=\"\",\"\",DH79+1)","v":""}]
[]
[null,null,null,null,null,null,null,null,null,null,null,null,null,null,null,null,null,null,null,null,null,null,null,null,null,null,null,null,null,null,null,null,null,null,null,null,null,null,null,null,null,null,null,null,null,null,null,null,null,null,null,null,null,null,null,null,null,null,null,null,null,null,null,null,null,null,null,null,null,null,null,null,null,null,null,null,null,null,null,null,null,null,null,null,null,null,null,null,null,null,null,null,null,null,null,null,null,null,null,null,null,null,null,null,null,null,null,null,null,null,null,{"$f":"IF(DK83=\"\",\"\",DH81+1)","v":""}]
[]
[null,null,null,null,null,null,null,null,null,null,null,null,null,null,null,null,null,null,null,null,null,null,null,null,null,null,null,null,null,null,null,null,null,null,null,null,null,null,null,null,null,null,null,null,null,null,null,null,null,null,null,null,null,null,null,null,null,null,null,null,null,null,null,null,null,null,null,null,null,null,null,null,null,null,null,null,null,null,null,null,null,null,null,null,null,null,null,null,null,null,null,null,null,null,null,null,null,null,null,null,null,null,null,null,null,null,null,null,null,null,null,{"$f":"IF(DK85=\"\",\"\",DH83+1)","v":""}]
[]
[null,null,null,null,null,null,null,null,null,null,null,null,null,null,null,null,null,null,null,null,null,null,null,null,null,null,null,null,null,null,null,null,null,null,null,null,null,null,null,null,null,null,null,null,null,null,null,null,null,null,null,null,null,null,null,null,null,null,null,null,null,null,null,null,null,null,null,null,null,null,null,null,null,null,null,null,null,null,null,null,null,null,null,null,null,null,null,null,null,null,null,null,null,null,null,null,null,null,null,null,null,null,null,null,null,null,null,null,null,null,null,{"$f":"IF(DK87=\"\",\"\",DH85+1)","v":""}]
[]
[null,null,null,null,null,null,null,null,null,null,null,null,null,null,null,null,null,null,null,null,null,null,null,null,null,null,null,null,null,null,null,null,null,null,null,null,null,null,null,null,null,null,null,null,null,null,null,null,null,null,null,null,null,null,null,null,null,null,null,null,null,null,null,null,null,null,null,null,null,null,null,null,null,null,null,null,null,null,null,null,null,null,null,null,null,null,null,null,null,null,null,null,null,null,null,null,null,null,null,null,null,null,null,null,null,null,null,null,null,null,null,{"$f":"IF(DK89=\"\",\"\",DH87+1)","v":""}]
[]
[null,null,null,null,null,null,null,null,null,null,null,null,null,null,null,null,null,null,null,null,null,null,null,null,null,null,null,null,null,null,null,null,null,null,null,null,null,null,null,null,null,null,null,null,null,null,null,null,null,null,null,null,null,null,null,null,null,null,null,null,null,null,null,null,null,null,null,null,null,null,null,null,null,null,null,null,null,null,null,null,null,null,null,null,null,null,null,null,null,null,null,null,null,null,null,null,null,null,null,null,null,null,null,null,null,null,null,null,null,null,null,{"$f":"IF(DK91=\"\",\"\",DH89+1)","v":""}]
[]
[null,null,null,null,null,null,null,null,null,null,null,null,null,null,null,null,null,null,null,null,null,null,null,null,null,null,null,null,null,null,null,null,null,null,null,null,null,null,null,null,null,null,null,null,null,null,null,null,null,null,null,null,null,null,null,null,null,null,null,null,null,null,null,null,null,null,null,null,null,null,null,null,null,null,null,null,null,null,null,null,null,null,null,null,null,null,null,null,null,null,null,null,null,null,null,null,null,null,null,null,null,null,null,null,null,null,null,null,null,null,null,{"$f":"IF(DK93=\"\",\"\",DH91+1)","v":""}]
[]
[null,null,null,null,null,null,null,null,null,null,null,null,null,null,null,null,null,null,null,null,null,null,null,null,null,null,null,null,null,null,null,null,null,null,null,null,null,null,null,null,null,null,null,null,null,null,null,null,null,null,null,null,null,null,null,null,null,null,null,null,null,null,null,null,null,null,null,null,null,null,null,null,null,null,null,null,null,null,null,null,null,null,null,null,null,null,null,null,null,null,null,null,null,null,null,null,null,null,null,null,null,null,null,null,null,null,null,null,null,null,null,{"$f":"IF(DK95=\"\",\"\",DH93+1)","v":""}]
[]
[null,null,null,null,null,null,null,null,null,null,null,null,null,null,null,null,null,null,null,null,null,null,null,null,null,null,null,null,null,null,null,null,null,null,null,null,null,null,null,null,null,null,null,null,null,null,null,null,null,null,null,null,null,null,null,null,null,null,null,null,null,null,null,null,null,null,null,null,null,null,null,null,null,null,null,null,null,null,null,null,null,null,null,null,null,null,null,null,null,null,null,null,null,null,null,null,null,null,null,null,null,null,null,null,null,null,null,null,null,null,null,null,null,null,null,null,null,null,null,null,null,null,null,null,null,null,null,null,31]
[]
[null,null,null,null,null,null,null,null,null,null,null,null,null,null,null,null,null,null,null,null,null,null,null,null,null,null,null,null,null,null,null,null,null,null,null,null,null,null,null,null,null,null,null,null,null,null,null,null,null,null,null,null,null,null,null,null,null,null,null,null,null,null,null,null,null,null,null,null,null,null,null,null,null,null,null,null,null,null,null,null,null,null,null,null,null,null,null,null,null,null,null,null,null,null,null,null,null,null,null,null,null,null,null,null,null,null,null,null,null,null,null,null,null,null,null,null,null,null,null,null,null,null,null,null,null,null,null,null,32]
[]
[null,null,null,null,null,null,null,null,null,null,null,null,null,null,null,null,null,null,null,null,null,null,null,null,null,null,null,null,null,null,null,null,null,null,null,null,null,null,null,null,null,null,null,null,null,null,null,null,null,null,null,null,null,null,null,null,null,null,null,null,null,null,null,null,null,null,null,null,null,null,null,null,null,null,null,null,null,null,null,null,null,null,null,null,null,null,null,null,null,null,null,null,null,null,null,null,null,null,null,null,null,null,null,null,null,null,null,null,null,null,null,null,null,null,null,null,null,null,null,null,null,null,null,null,null,null,null,null,33]
[]
[null,null,null,null,null,null,null,null,null,null,null,null,null,null,null,null,null,null,null,null,null,null,null,null,null,null,null,null,null,null,null,null,null,null,null,null,null,null,null,null,null,null,null,null,null,null,null,null,null,null,null,null,null,null,null,null,null,null,null,null,null,null,null,null,null,null,null,null,null,null,null,null,null,null,null,null,null,null,null,null,null,null,null,null,null,null,null,null,null,null,null,null,null,null,null,null,null,null,null,null,null,null,null,null,null,null,null,null,null,null,null,null,null,null,null,null,null,null,null,null,null,null,null,null,null,null,null,null,34]
[]
[null,null,null,null,null,null,null,null,null,null,null,null,null,null,null,null,null,null,null,null,null,null,null,null,null,null,null,null,null,null,null,null,null,null,null,null,null,null,null,null,null,null,null,null,null,null,null,null,null,null,null,null,null,null,null,null,null,null,null,null,null,null,null,null,null,null,null,null,null,null,null,null,null,null,null,null,null,null,null,null,null,null,null,null,null,null,null,null,null,null,null,null,null,null,null,null,null,null,null,null,null,null,null,null,null,null,null,null,null,null,null,null,null,null,null,null,null,null,null,null,null,null,null,null,null,null,null,null,35]
[]
[null,null,null,null,null,null,null,null,null,null,null,null,null,null,null,null,null,null,null,null,null,null,null,null,null,null,null,null,null,null,null,null,null,null,null,null,null,null,null,null,null,null,null,null,null,null,null,null,null,null,null,null,null,null,null,null,null,null,null,null,null,null,null,null,null,null,null,null,null,null,null,null,null,null,null,null,null,null,null,null,null,null,null,null,null,null,null,null,null,null,null,null,null,null,null,null,null,null,null,null,null,null,null,null,null,null,null,null,null,null,null,null,null,null,null,null,null,null,null,null,null,null,null,null,null,null,null,null,36]
[]
[null,null,null,null,null,null,null,null,null,null,null,null,null,null,null,null,null,null,null,null,null,null,null,null,null,null,null,null,null,null,null,null,null,null,null,null,null,null,null,null,null,null,null,null,null,null,null,null,null,null,null,null,null,null,null,null,null,null,null,null,null,null,null,null,null,null,null,null,null,null,null,null,null,null,null,null,null,null,null,null,null,null,null,null,null,null,null,null,null,null,null,null,null,null,null,null,null,null,null,null,null,null,null,null,null,null,null,null,null,null,null,null,null,null,null,null,null,null,null,null,null,null,null,null,null,null,null,null,37]
[]
[null,null,null,null,null,null,null,null,null,null,null,null,null,null,null,null,null,null,null,null,null,null,null,null,null,null,null,null,null,null,null,null,null,null,null,null,null,null,null,null,null,null,null,null,null,null,null,null,null,null,null,null,null,null,null,null,null,null,null,null,null,null,null,null,null,null,null,null,null,null,null,null,null,null,null,null,null,null,null,null,null,null,null,null,null,null,null,null,null,null,null,null,null,null,null,null,null,null,null,null,null,null,null,null,null,null,null,null,null,null,null,null,null,null,null,null,null,null,null,null,null,null,null,null,null,null,null,null,38]
[]
[null,null,null,null,null,null,null,null,null,null,null,null,null,null,null,null,null,null,null,null,null,null,null,null,null,null,null,null,null,null,null,null,null,null,null,null,null,null,null,null,null,null,null,null,null,null,null,null,null,null,null,null,null,null,null,null,null,null,null,null,null,null,null,null,null,null,null,null,null,null,null,null,null,null,null,null,null,null,null,null,null,null,null,null,null,null,null,null,null,null,null,null,null,null,null,null,null,null,null,null,null,null,null,null,null,null,null,null,null,null,null,null,null,null,null,null,null,null,null,null,null,null,null,null,null,null,null,null,39]
[]
[null,null,null,null,null,null,null,null,null,null,null,null,null,null,null,null,null,null,null,null,null,null,null,null,null,null,null,null,null,null,null,null,null,null,null,null,null,null,null,null,null,null,null,null,null,null,null,null,null,null,null,null,null,null,null,null,null,null,null,null,null,null,null,null,null,null,null,null,null,null,null,null,null,null,null,null,null,null,null,null,null,null,null,null,null,null,null,null,null,null,null,null,null,null,null,null,null,null,null,null,null,null,null,null,null,null,null,null,null,null,null,null,null,null,null,null,null,null,null,null,null,null,null,null,null,null,null,null,40]
[]
[null,null,null,null,null,null,null,null,null,null,null,null,null,null,null,null,null,null,null,null,null,null,null,null,null,null,null,null,null,null,null,null,null,null,null,null,null,null,null,null,null,null,null,null,null,null,null,null,null,null,null,null,null,null,null,null,null,null,null,null,null,null,null,null,null,null,null,null,null,null,null,null,null,null,null,null,null,null,null,null,null,null,null,null,null,null,null,null,null,null,null,null,null,null,null,null,null,null,null,null,null,null,null,null,null,null,null,null,null,null,null,null,null,null,null,null,null,null,null,null,null,null,null,null,null,null,null,null,41]

{"sheet":"다국어라벨","index":86,"n_rows":71,"n_cols":34,"rows_kept":71,"cut":false,"hidden":false,"merged":[[0,13,0,14],[3,1,4,7],[3,8,4,10],[5,1,7,10],[7,13,8,14],[5,13,6,14],[1,13,2,14],[3,13,4,14],[10,1,10,5],[10,6,10,10],[1,1,2,5],[1,6,2,10],[9,5,9,10],[8,1,9,4],[8,5,8,10],[3,17,4,18],[3,19,4,20],[1,15,2,24],[0,15,0,24],[5,15,6,16],[5,17,6,18],[5,19,6,20],[5,21,6,22],[5,23,6,24],[3,15,4,16],[3,21,4,24],[9,13,10,14],[11,13,12,14],[9,15,10,16],[11,15,12,16],[11,17,12,24],[9,17,10,24],[7,15,8,16],[7,17,8,18],[7,19,8,20],[7,21,8,24],[24,1,24,5],[24,6,24,10],[12,0,14,11],[15,13,16,14],[15,15,16,24],[17,13,18,14],[17,15,18,24],[19,13,20,14],[19,15,20,24],[17,1,18,7],[17,8,18,10],[0,12,46,12],[13,13,14,14],[15,1,16,5],[15,6,16,10],[19,1,21,10],[22,1,23,4],[22,5,22,10],[23,5,23,10],[21,13,22,14],[21,15,22,24],[23,13,24,14],[23,15,24,24],[25,13,26,14],[25,15,26,24],[37,15,38,24],[27,13,28,14],[27,15,28,24],[29,13,30,14],[29,15,30,24],[31,13,32,14],[31,15,32,24],[45,13,46,14],[45,15,46,24],[13,15,14,16],[13,17,14,21],[13,22,14,24],[39,13,40,14],[39,15,40,24],[41,13,42,14],[41,15,42,24],[43,13,44,14],[43,15,44,24],[33,13,34,14],[33,15,34,24],[35,13,36,14],[35,15,36,24],[37,13,38,14]]}
[null,null,null,null,null,null,null,null,null,null,null,null,null,"약이름",null,"조제약",null,null,null,null,null,null,null,null,null,{"$f":"IFERROR(INDEX(AA62:AA71,MATCH(P1,AB62:AB71,0)),\"\")","v":62},"No","Korean","English","Russia","China","Japan","구글번역기 사용","외국어추가"]
[null,{"$f":"IFBLANK(P2)","v":"이근호"},null,null,null,null,{"$f":"IFBLANK(P1)","v":"조제약"},null,null,null,null,null,null,"이름",null,"이근호",null,null,null,null,null,null,null,null,null,null,1,"아침","Breakfast","Утром","早","朝"]
[null,null,null,null,null,null,null,null,null,null,null,null,null,null,null,null,null,null,null,null,null,null,null,null,null,null,2,"점심","Lunch","Днём","午","昼"]
[null,{"$f":"IF(P4=\"\",\"\",\"1일\"&P4&\"회\")","v":"1일4회"},null,null,null,null,null,null,{"$f":"IF(T4=\"\",\"\",T4&\"일\")","v":"30일"},null,null,null,null,"횟수",null,4,null,"일수",null,30,null,null,null,null,null,null,3,"저녁","Dinner","Вечером","晚","夕"]
[null,null,null,null,null,null,null,null,null,null,null,null,null,null,null,null,null,null,null,null,null,null,null,null,null,null,4,"아침,저녁","Breakfast,Dinner","Утром,Вечером","早,晚","朝,夕"]
[null,{"$f":"IFERROR(IFERROR(VLOOKUP(P6,$AA$1:$AC$31,2),\"\")&IFERROR(\" \"&VLOOKUP(R6,$AA$1:$AC$31,2),\"\")&IFERROR(\" \"&VLOOKUP(T6,$AA$1:$AC$31,2),\"\")&IFERROR(\" \"&VLOOKUP(V6,$AA$1:$AC$31,2),\"\")&\" \"&IFERROR(VLOOKUP(X6,$AA$1:$AC$31,2),\"\"),\"\")","v":"점심 식후30분 "},null,null,null,null,null,null,null,null,null,null,null,"시간",null,2,null,21,null,null,null,null,null,null,null,null,5,"아침,점심","Breakfast,Lunch","Утром,Днём","早,午","朝,昼"]
[null,null,null,null,null,null,null,null,null,null,null,null,null,null,null,null,null,null,null,null,null,null,null,null,null,null,6,"아침,자기전","Breakfast,Bed times","Утром,Перед сном","早,睡前"]
[null,null,null,null,null,null,null,null,null,null,null,null,null,"1회투약량",null,2,null,"단위",null,"정",null,{"$f":"IFERROR(INDEX(AA32:AA35,MATCH(T8,AB32:AB35,0)),\"\")","v":31},null,null,null,null,7,"점심,저녁","Lunch,Dinner","Днём,Вечером","午,晚","昼,夕"]
[null,{"$f":"IFBLANK(P8)&IFBLANK(T8)&\"씩\"","v":"2정씩"},null,null,null,{"$f":"IFBLANK(R10)","v":"복용하세요."},null,null,null,null,null,null,null,null,null,null,null,null,null,null,null,null,null,null,null,null,8,"아침,점심,저녁","Breakfast,Lunch,Dinner","Утром,Днём,Вечером","早,午,晚","昼,夕"]
[null,null,null,null,null,{"$f":"IFBLANK(R12)","v":"실온보관"},null,null,null,null,null,null,null,"복용",null,43,null,{"$f":"IF(P10=\"\",\"\",VLOOKUP(P10,AA42:AK51,2))","v":"복용하세요."},null,null,null,null,null,null,null,null,9,"아침,점심,저녁,자기전","Breakfast,Lunch,Dinner,Bed times","Утром,Днём,Вечером,Перед сном","早,午,晚 睡前"]
[null,{"$f":"IFBLANK(요양기관기초정보!C5)","v":"팜오피스약국"},null,null,null,null,{"$f":"IFBLANK(요양기관기초정보!C12)","v":"02-324-4650"},null,null,null,null,null,null,null,null,null,null,null,null,null,null,null,null,null,null,null,10,"일정시간에","At The Same Time","В то же время","一定 時間"]
[null,null,null,null,null,null,null,null,null,null,null,null,null,"보관",null,51,null,{"$f":"IF(P12=\"\",\"\",VLOOKUP(P12,AA52:AK60,2))","v":"실온보관"},null,null,null,null,null,null,null,null,11,"매식후 30분","Breakfast,Lunch,Dinner after meals 30min","Утром,Днём,Вечером 30 минут после еды","早,午,晚 饭后 30分"]
["다국어 라벨",null,null,null,null,null,null,null,null,null,null,null,null,null,null,null,null,null,null,null,null,null,null,null,null,null,12,"매식전 30분","Breakfast,Lunch,Dinner before meals 30min","Утром,Днём,Вечером 30 минут до еды","早,午,晚 饭前 30分"]
[null,null,null,null,null,null,null,null,null,null,null,null,null,"다국어",null,3,null,{"$f":"IFERROR(VLOOKUP(P14,N16:Y47,3),\"\")","v":"Russia"},null,null,null,null,null,null,null,null,13,"자기전","Before going to bed","Перед сном","睡前","寝る前"]
[null,null,null,null,null,null,null,null,null,null,null,null,null,null,null,null,null,null,null,null,null,null,null,null,null,null,14,"매(  )시간마다","Every (    )Hours","Каждые (  ) часов","每(    )小时一次","(   )時間ごと"]
[null,{"$f":"IFBLANK(P2)","v":"이근호"},null,null,null,null,{"$f":"IF(Z1=\"\",IFBLANK(G2),VLOOKUP(Z1,$AA$62:$AO$71,$P$14+1))","v":"фармацевтика"},null,null,null,null,null,null,{"$f":"IF(P16=\"\",\"\",1)","v":1},null,{"$f":"IFBLANK(AB1)","v":"Korean"},null,null,null,null,null,null,null,null,null,null,15,"필요시","As Needed","по мере необходимости","必要時"]
[null,null,null,null,null,null,null,null,null,null,null,null,null,null,null,null,null,null,null,null,null,null,null,null,null,null,16,"의사지시대로","According to doctor's prescription ","По инструкции врача ","遵医嘱","医師の指示に従って "]
[null,{"$f":"\"1\"&IFERROR(VLOOKUP(44,$AA$42:$AO$48,$P$14+1),\"\")&\" \"&P4&IFERROR(VLOOKUP(41,$AA$42:$AO$48,$P$14+1),\"\")","v":"1день 4раз в день в течение "},null,null,null,null,null,null,{"$f":"IF(T4=\"\",\"\",T4&IFERROR(VLOOKUP(45,$AA$42:$AO$48,$P$14+1),\"\"))","v":"30день"},null,null,null,null,{"$f":"IF(P18=\"\",\"\",N16+1)","v":2},null,{"$f":"IFBLANK(AC1)","v":"English"},null,null,null,null,null,null,null,null,null,null,17]
[null,null,null,null,null,null,null,null,null,null,null,null,null,null,null,null,null,null,null,null,null,null,null,null,null,null,18]
[null,{"$f":"IFERROR(IFERROR(VLOOKUP(P6,$AA$1:$AO$31,$P$14+1),\"\")&\" \"&IFERROR(VLOOKUP(R6,$AA$1:$AO$31,$P$14+1),\"\")&\" \"&IFERROR(VLOOKUP(T6,$AA$1:$AO$31,$P$14+1),\"\")&\" \"&IFERROR(VLOOKUP(V6,$AA$1:$AO$31,$P$14+1),\"\")&\" \"&IFERROR(VLOOKUP(X6,$AA$1:$AO$31,$P$14+1),\"\"),\"\")","v":"Днём 30 минут после еды   "},null,null,null,null,null,null,null,null,null,null,null,{"$f":"IF(P20=\"\",\"\",N18+1)","v":3},null,{"$f":"IFBLANK(AD1)","v":"Russia"},null,null,null,null,null,null,null,null,null,null,19]
[null,null,null,null,null,null,null,null,null,null,null,null,null,null,null,null,null,null,null,null,null,null,null,null,null,null,20]
[null,null,null,null,null,null,null,null,null,null,null,null,null,{"$f":"IF(P22=\"\",\"\",N20+1)","v":4},null,{"$f":"IFBLANK(AE1)","v":"China"},null,null,null,null,null,null,null,null,null,null,21,"식후30분","after meals 30mins","30 минут после еды","饭后 30分","食後 30分"]
[null,{"$f":"P8&VLOOKUP(V8,$AA$32:$AO$40,$P$14+1)","v":"2таблетка"},null,null,null,{"$f":"IF(P10=\"\",\"\",VLOOKUP(P10,$AA$42:$AO$45,$P$14+1))","v":"взятие"},null,null,null,null,null,null,null,null,null,null,null,null,null,null,null,null,null,null,null,null,22,"식전30분","before meals 30mins","30 минут до еды","饭前 30分","食前 30分"]
[null,null,null,null,null,{"$f":"IF(P12=\"\",\"\",VLOOKUP(P12,$AA$52:$AO$60,$P$14+1))","v":"Хранить при комнатной температуре "},null,null,null,null,null,null,null,{"$f":"IF(P24=\"\",\"\",N22+1)","v":5},null,{"$f":"IFBLANK(AF1)","v":"Japan"},null,null,null,null,null,null,null,null,null,null,23,"식사와함께","with meals","с питанием","饭中"]
[null,{"$f":"IF(VLOOKUP(58,$AA$52:$AO$60,$P$14+1)=\"\",IFBLANK(B11),VLOOKUP(58,$AA$52:$AO$60,$P$14+1))","v":"аптека"},null,null,null,null,{"$f":"IFBLANK(G11)","v":"02-324-4650"},null,null,null,null,null,null,null,null,null,null,null,null,null,null,null,null,null,null,null,24,"식사직전","just before meals","Перед приемом пищи ","饭 直前"]
[null,null,null,null,null,null,null,null,null,null,null,null,null,{"$f":"IF(P26=\"\",\"\",N24+1)","v":6},null,{"$f":"IFBLANK(AG1)","v":"구글번역기 사용"},null,null,null,null,null,null,null,null,null,null,25,"식사직후","right after meals","После приема пищи","饭 直后"]
[null,null,null,null,null,null,null,null,null,null,null,null,null,null,null,null,null,null,null,null,null,null,null,null,null,null,26,"식간","between meals","Между приемами пищи","餐间","食間 "]
[null,null,null,null,null,null,null,null,null,null,null,null,null,{"$f":"IF(P28=\"\",\"\",N26+1)","v":7},null,{"$f":"IFBLANK(AH1)","v":"외국어추가"},null,null,null,null,null,null,null,null,null,null,27,"식후1시간","after meals 60mins","60 минут после еды","饭后 60分","食後 30分"]
[null,null,null,null,null,null,null,null,null,null,null,null,null,null,null,null,null,null,null,null,null,null,null,null,null,null,28,"식전1시간","before meals 60mins","60 минут до еды","饭前 60分","食前 30分"]
[null,null,null,null,null,null,null,null,null,null,null,null,null,{"$f":"IF(P30=\"\",\"\",N28+1)","v":""},null,null,null,null,null,null,null,null,null,null,null,null,29]
[null,null,null,null,null,null,null,null,null,null,null,null,null,null,null,null,null,null,null,null,null,null,null,null,null,null,30]
[null,null,null,null,null,null,null,null,null,null,null,null,null,{"$f":"IF(P32=\"\",\"\",N30+1)","v":""},null,null,null,null,null,null,null,null,null,null,null,null,31,"정",{"$f":"IF(P8>1,\"tablets\",\"tablet\")","v":"tablets"},"таблетка","片","錠"]
[null,null,null,null,null,null,null,null,null,null,null,null,null,null,null,null,null,null,null,null,null,null,null,null,null,null,32,"캅셀",{"$f":"IF(P8>1,\"capsules\",\"capsule\")","v":"capsules"},"капсула","粒胶囊","カプセル"]
[null,null,null,null,null,null,null,null,null,null,null,null,null,{"$f":"IF(P34=\"\",\"\",N32+1)","v":""},null,null,null,null,null,null,null,null,null,null,null,null,33,"ml","ml","мл","毫升","ml"]
[null,null,null,null,null,null,null,null,null,null,null,null,null,null,null,null,null,null,null,null,null,null,null,null,null,null,34,"포",{"$f":"IF(P8>1,\"packets\",\"packet\")","v":"packets"},"пакет","包","包"]
[null,null,null,null,null,null,null,null,null,null,null,null,null,{"$f":"IF(P36=\"\",\"\",N34+1)","v":""},null,null,null,null,null,null,null,null,null,null,null,null,35]
[null,null,null,null,null,null,null,null,null,null,null,null,null,null,null,null,null,null,null,null,null,null,null,null,null,null,36]
[null,null,null,null,null,null,null,null,null,null,null,null,null,{"$f":"IF(P38=\"\",\"\",N36+1)","v":""},null,null,null,null,null,null,null,null,null,null,null,null,37]
[null,null,null,null,null,null,null,null,null,null,null,null,null,null,null,null,null,null,null,null,null,null,null,null,null,null,38]
[null,null,null,null,null,null,null,null,null,null,null,null,null,{"$f":"IF(P40=\"\",\"\",N38+1)","v":""},null,null,null,null,null,null,null,null,null,null,null,null,39]
[null,null,null,null,null,null,null,null,null,null,null,null,null,null,null,null,null,null,null,null,null,null,null,null,null,null,40]
[null,null,null,null,null,null,null,null,null,null,null,null,null,{"$f":"IF(P42=\"\",\"\",N40+1)","v":""},null,null,null,null,null,null,null,null,null,null,null,null,41,"회",{"$f":"IF(P4>1,\"times\",\"time\")","v":"times"},"раз в день в течение ","次","回 "]
[null,null,null,null,null,null,null,null,null,null,null,null,null,null,null,null,null,null,null,null,null,null,null,null,null,null,42,"1회에","each time","Применять по","每次","1回"]
[null,null,null,null,null,null,null,null,null,null,null,null,null,{"$f":"IF(P44=\"\",\"\",N42+1)","v":""},null,null,null,null,null,null,null,null,null,null,null,null,43,"복용하세요.","take this medicine","взятие","服药","飲み"]
[null,null,null,null,null,null,null,null,null,null,null,null,null,null,null,null,null,null,null,null,null,null,null,null,null,null,44,"일","day","день","日","日"]
[null,null,null,null,null,null,null,null,null,null,null,null,null,{"$f":"IF(P46=\"\",\"\",N44+1)","v":""},null,null,null,null,null,null,null,null,null,null,null,null,45,"일",{"$f":"IF(T4>1,\"days\",\"day\")","v":"days"},"день","日","日"]
[null,null,null,null,null,null,null,null,null,null,null,null,null,null,null,null,null,null,null,null,null,null,null,null,null,null,46]
[null,null,null,null,null,null,null,null,null,null,null,null,null,null,null,null,null,null,null,null,null,null,null,null,null,null,47]
[null,null,null,null,null,null,null,null,null,null,null,null,null,null,null,null,null,null,null,null,null,null,null,null,null,null,48]
[null,null,null,null,null,null,null,null,null,null,null,null,null,null,null,null,null,null,null,null,null,null,null,null,null,null,49]
[null,null,null,null,null,null,null,null,null,null,null,null,null,null,null,null,null,null,null,null,null,null,null,null,null,null,50]
[null,null,null,null,null,null,null,null,null,null,null,null,null,null,null,null,null,null,null,null,null,null,null,null,null,null,51,"실온보관","Keep at room temperature","Хранить при комнатной температуре ","室温贮存","室温保管"]
[null,null,null,null,null,null,null,null,null,null,null,null,null,null,null,null,null,null,null,null,null,null,null,null,null,null,52,"냉장보관","Keep in refrigerator","Хранить в холодильнике ","冷藏贮存","冷蔵保管"]
[null,null,null,null,null,null,null,null,null,null,null,null,null,null,null,null,null,null,null,null,null,null,null,null,null,null,53,"차광보관","Keep out of direct sunlight","Хранить в тёмном месте","避光贮存","遮光保管"]
[null,null,null,null,null,null,null,null,null,null,null,null,null,null,null,null,null,null,null,null,null,null,null,null,null,null,54]
[null,null,null,null,null,null,null,null,null,null,null,null,null,null,null,null,null,null,null,null,null,null,null,null,null,null,55]
[null,null,null,null,null,null,null,null,null,null,null,null,null,null,null,null,null,null,null,null,null,null,null,null,null,null,56]
[null,null,null,null,null,null,null,null,null,null,null,null,null,null,null,null,null,null,null,null,null,null,null,null,null,null,57]
[null,null,null,null,null,null,null,null,null,null,null,null,null,null,null,null,null,null,null,null,null,null,null,null,null,null,58,{"$f":"IFBLANK(요양기관기초정보!C5)","v":"팜오피스약국"},"Pharmacy","аптека","药店","薬局"]
[null,null,null,null,null,null,null,null,null,null,null,null,null,null,null,null,null,null,null,null,null,null,null,null,null,null,59]
[null,null,null,null,null,null,null,null,null,null,null,null,null,null,null,null,null,null,null,null,null,null,null,null,null,null,60]
[null,null,null,null,null,null,null,null,null,null,null,null,null,null,null,null,null,null,null,null,null,null,null,null,null,null,61,"처방약","Prescription Drug","фармацевтика","處方藥","Prescription Drug"]
[null,null,null,null,null,null,null,null,null,null,null,null,null,null,null,null,null,null,null,null,null,null,null,null,null,null,62,"조제약","Pharmaceuticals","фармацевтика","製藥","Pharmaceuticals"]
[null,null,null,null,null,null,null,null,null,null,null,null,null,null,null,null,null,null,null,null,null,null,null,null,null,null,63]
[null,null,null,null,null,null,null,null,null,null,null,null,null,null,null,null,null,null,null,null,null,null,null,null,null,null,64]
[null,null,null,null,null,null,null,null,null,null,null,null,null,null,null,null,null,null,null,null,null,null,null,null,null,null,65]
[null,null,null,null,null,null,null,null,null,null,null,null,null,null,null,null,null,null,null,null,null,null,null,null,null,null,66]
[null,null,null,null,null,null,null,null,null,null,null,null,null,null,null,null,null,null,null,null,null,null,null,null,null,null,67]
[null,null,null,null,null,null,null,null,null,null,null,null,null,null,null,null,null,null,null,null,null,null,null,null,null,null,68]
[null,null,null,null,null,null,null,null,null,null,null,null,null,null,null,null,null,null,null,null,null,null,null,null,null,null,69]
[null,null,null,null,null,null,null,null,null,null,null,null,null,null,null,null,null,null,null,null,null,null,null,null,null,null,70]

{"sheet":"라벨인쇄양식","index":87,"n_rows":83,"n_cols":61,"rows_kept":83,"cut":false,"hidden":false,"merged":[[51,0,53,31],[54,0,55,16],[54,17,55,31],[28,32,31,63],[0,0,3,31],[28,0,31,31],[26,0,27,16],[32,0,35,15],[4,0,7,15],[4,16,7,31],[8,0,10,24],[8,25,10,31],[11,0,18,31],[19,0,22,31],[26,17,27,31],[23,0,25,31],[32,16,35,31],[36,0,38,24],[36,25,38,31],[39,0,46,31],[47,0,50,31],[56,0,59,31],[82,0,83,16],[82,17,83,31],[60,0,64,31],[59,36,61,78],[77,36,79,62],[65,0,69,15],[65,16,69,31],[70,0,77,31],[78,0,81,31],[36,32,40,63],[41,32,45,63],[46,32,50,63],[51,32,55,47],[51,48,55,63],[0,32,3,63],[4,32,7,42],[4,43,7,63],[32,32,35,42],[32,43,35,63],[8,32,11,63],[12,32,15,63],[16,32,19,63],[20,32,23,63],[24,32,27,47],[24,48,27,63]]}
["우리말 라벨",null,null,null,null,null,null,null,null,null,null,null,null,null,null,null,null,null,null,null,null,null,null,null,null,null,null,null,null,null,null,null,"상세복약지도라벨"]
[]
[]
[]
[{"$f":"다국어라벨!B2","v":"이근호"},null,null,null,null,null,null,null,null,null,null,null,null,null,null,null,{"$f":"다국어라벨!G2","v":"조제약"},null,null,null,null,null,null,null,null,null,null,null,null,null,null,null,{"$f":"IFBLANK(상세복약라벨!B2)","v":"항진균제"},null,null,null,null,null,null,null,null,null,null,{"$f":"IFBLANK(상세복약라벨!F2)","v":"디푸루칸가글"}]
[]
[]
[]
[{"$f":"다국어라벨!B4","v":"1일4회"},null,null,null,null,null,null,null,null,null,null,null,null,null,null,null,null,null,null,null,null,null,null,null,null,{"$f":"다국어라벨!I4","v":"30일"},null,null,null,null,null,null,{"$f":"IFBLANK(상세복약라벨!B4)","v":"동봉된주사기로 물 25ml를 계량하여"}]
[]
[]
[{"$f":"다국어라벨!B6","v":"점심 식후30분 "}]
[null,null,null,null,null,null,null,null,null,null,null,null,null,null,null,null,null,null,null,null,null,null,null,null,null,null,null,null,null,null,null,null,{"$f":"IFBLANK(상세복약라벨!B5)","v":"이약과 섞어놓으면 35ml 됩니다."}]
[]
[]
[]
[null,null,null,null,null,null,null,null,null,null,null,null,null,null,null,null,null,null,null,null,null,null,null,null,null,null,null,null,null,null,null,null,{"$f":"IFBLANK(상세복약라벨!B6)","v":"흔들어서 5ml로 3분간가글하세요"}]
[]
[]
[{"$f":"다국어라벨!B9&\" \"&다국어라벨!F9","v":"2정씩 복용하세요."}]
[null,null,null,null,null,null,null,null,null,null,null,null,null,null,null,null,null,null,null,null,null,null,null,null,null,null,null,null,null,null,null,null,{"$f":"IFBLANK(상세복약라벨!B7)","v":"가글후 물로 헹구어 내지마세요"}]
[]
[]
[{"$f":"다국어라벨!F10","v":"실온보관"}]
[null,null,null,null,null,null,null,null,null,null,null,null,null,null,null,null,null,null,null,null,null,null,null,null,null,null,null,null,null,null,null,null,{"$f":"IFBLANK(A27)","v":"팜오피스약국"},null,null,null,null,null,null,null,null,null,null,null,null,null,null,null,{"$f":"IFBLANK(R27)","v":"02-324-4650"}]
[]
[{"$f":"IFBLANK(다국어라벨!B11)","v":"팜오피스약국"},null,null,null,null,null,null,null,null,null,null,null,null,null,null,null,null,{"$f":"IFBLANK(다국어라벨!G11)","v":"02-324-4650"}]
[]
["다국어라벨",null,null,null,null,null,null,null,null,null,null,null,null,null,null,null,null,null,null,null,null,null,null,null,null,null,null,null,null,null,null,null,"주소라벨"]
[]
[]
[]
[{"$f":"IFBLANK(다국어라벨!B16)","v":"이근호"},null,null,null,null,null,null,null,null,null,null,null,null,null,null,null,{"$f":"IFBLANK(다국어라벨!G16)","v":"фармацевтика"},null,null,null,null,null,null,null,null,null,null,null,null,null,null,null,{"$f":"IFBLANK(주소라벨!$B$2)","v":"03788"},null,null,null,null,null,null,null,null,null,null,{"$f":"IFBLANK(주소라벨!$F$2)","v":"팜오피스약국"}]
[]
[]
[]
[{"$f":"IFBLANK(다국어라벨!B18)","v":"1день 4раз в день в течение "},null,null,null,null,null,null,null,null,null,null,null,null,null,null,null,null,null,null,null,null,null,null,null,null,{"$f":"IFBLANK(다국어라벨!I18)","v":"30день"},null,null,null,null,null,null,{"$f":"IFBLANK(주소라벨!$B$4)","v":"서울특별시 서대문구"}]
[]
[]
[{"$f":"IFBLANK(다국어라벨!B20)","v":"Днём 30 минут после еды   "}]
[]
[null,null,null,null,null,null,null,null,null,null,null,null,null,null,null,null,null,null,null,null,null,null,null,null,null,null,null,null,null,null,null,null,{"$f":"IFBLANK(주소라벨!$B$6)","v":"연세로41(창천동 78-14)"}]
[]
[]
[]
[]
[null,null,null,null,null,null,null,null,null,null,null,null,null,null,null,null,null,null,null,null,null,null,null,null,null,null,null,null,null,null,null,null,{"$f":"IFBLANK(주소라벨!$B$8)","v":"정문약국  1F "}]
[{"$f":"IFBLANK(다국어라벨!B23)&\" \"&다국어라벨!F23","v":"2таблетка взятие"}]
[]
[]
[]
[{"$f":"IFBLANK(다국어라벨!F24)","v":"Хранить при комнатной температуре "},null,null,null,null,null,null,null,null,null,null,null,null,null,null,null,null,null,null,null,null,null,null,null,null,null,null,null,null,null,null,null,{"$f":"IFBLANK(주소라벨!$B$10)","v":"전화 : 02-324-4650"},null,null,null,null,null,null,null,null,null,null,null,null,null,null,null,{"$f":"IFBLANK(주소라벨!$G$10)","v":"팩스 : 0505-324-4662"}]
[]
[]
[{"$f":"IFBLANK(다국어라벨!B25)","v":"аптека"},null,null,null,null,null,null,null,null,null,null,null,null,null,null,null,null,{"$f":"IFBLANK(다국어라벨!G25)","v":"02-324-4650"}]
[]
["일반약"]
[null,null,null,null,null,null,null,null,null,null,null,null,null,null,null,null,null,null,null,null,null,null,null,null,null,null,null,null,null,null,null,null,null,null,null,null,null,null,null,null,null,null,null,null,null,null,null,null,null,null,null,null,null,null,null,null,null,null,null,null," "]
[]
[null,null,null,null,null,null,null,null,null,null,null,null,null,null,null,null,null,null,null,null,null,null,null,null,null,null,null,null,null,null,null,null,null,null,null,null,"Ne03:에 있는 OneNote for Windows 10"]
[{"$f":"IFBLANK(일반약라벨!B2)","v":"칼슘영양제 디카맥스디"}]
[]
[]
[]
[]
[{"$f":"IFBLANK(일반약라벨!B4)","v":"1일1회"},null,null,null,null,null,null,null,null,null,null,null,null,null,null,null,{"$f":"IFBLANK(일반약라벨!G4)","v":"1회1정씩"}]
[]
[]
[]
[]
[{"$f":"IFBLANK(일반약라벨!B6)","v":"아침식후30분"}]
[]
[]
[]
[]
[]
[]
[null,null,null,null,null,null,null,null,null,null,null,null,null,null,null,null,null,null,null,null,null,null,null,null,null,null,null,null,null,null,null,null,null,null,null,null,{"$f":"AK60","v":"Ne03:에 있는 OneNote for Windows 10"}]
[{"$f":"IFBLANK(일반약라벨!B9)","v":""}]
[]
[]
[]
[{"$f":"IFBLANK(A27)","v":"팜오피스약국"},null,null,null,null,null,null,null,null,null,null,null,null,null,null,null,null,{"$f":"IFBLANK(R27)","v":"02-324-4650"}]

{"sheet":"일반약라벨","index":88,"n_rows":70,"n_cols":24,"rows_kept":70,"cut":false,"hidden":false,"merged":[[9,1,9,5],[9,6,9,10],[5,1,7,10],[0,12,45,12],[0,23,1,23],[0,22,1,22],[2,13,3,13],[8,1,8,10],[0,18,1,18],[0,17,1,17],[0,19,1,19],[0,20,1,20],[0,21,1,21],[1,1,2,10],[3,1,4,5],[3,6,4,10]]}
[null,null,null,null,null,null,null,null,null,null,null,null,null,null,null,null,{"$f":"IFERROR(INDEX(R61:R70,MATCH(#REF!,S61:S70,0)),\"\")","v":""},null,"약효능","약이름","횟수","투약량","시간","주의사항"]
[null,{"$f":"IFBLANK(O3)&\" \"&IFBLANK(O4)","v":"칼슘영양제 디카맥스디"},null,null,null,null,null,null,null,null,null,null,null,"번호","약품명"]
[null,null,null,null,null,null,null,null,null,null,null,null,null,2,{"$f":"IF(N3=\"\",\"\",IFERROR(VLOOKUP($N$3,$R$1:$X$499,2),\"\"))","v":"칼슘영양제"},null,null,{"$f":"IF(S3=\"\",\"\",1)","v":1},"잇몸영양제","덴디돌",1,"1캅셀","일정시간에"]
[null,{"$f":"IF(N3=\"\",\"\",\"1일\"&IFERROR(VLOOKUP($N$3,$R$1:$X$499,4)&\"회\",\"\"))","v":"1일1회"},null,null,null,null,{"$f":"IF(N3=\"\",\"\",\"1회\"&IFERROR(VLOOKUP($N$3,$R$1:$X$499,5)&\"씩\",\"\"))","v":"1회1정씩"},null,null,null,null,null,null,null,{"$f":"IF(N3=\"\",\"\",IFERROR(VLOOKUP($N$3,$R$1:$X$499,3),\"\"))","v":"디카맥스디"},null,null,{"$f":"IF(S4=\"\",\"\",R3+1)","v":2},"칼슘영양제","디카맥스디",1,"1정","아침식후30분"]
[null,null,null,null,null,null,null,null,null,null,null,null,null,null,null,null,null,{"$f":"IF(S5=\"\",\"\",R4+1)","v":3},"잇몸약","인사돌",3,"2정","매식전"]
[null,{"$f":"IF(N3=\"\",\"\",VLOOKUP($N$3,$R$1:$X$499,6))","v":"아침식후30분"},null,null,null,null,null,null,null,null,null,null,null,null,null,null,null,""]
[null,null,null,null,null,null,null,null,null,null,null,null,null,null,null,null,null,{"$f":"IF(S7=\"\",\"\",R6+1)","v":""}]
[null,null,null,null,null,null,null,null,null,null,null,null,null,null,null,null,null,""]
[null,{"$f":"IF(N3=\"\",\"\",IFERROR(VLOOKUP($N$3,$R$1:$X$499,67),\"\"))","v":""},null,null,null,null,null,null,null,null,null,null,null,null,null,null,null,""]
[null,{"$f":"IFBLANK(요양기관기초정보!C5)","v":"팜오피스약국"},null,null,null,null,{"$f":"IFBLANK(요양기관기초정보!C12)","v":"02-324-4650"},null,null,null,null,null,null,null,null,null,null,""]
[null,null,null,null,null,null,null,null,null,null,null,null,null,null,null,null,null,{"$f":"IF(S11=\"\",\"\",#REF!+1)","v":""}]
[null,null,null,null,null,null,null,null,null,null,null,null,null,null,null,null,null,""]
[null,null,null,null,null,null,null,null,null,null,null,null,null,null,null,null,null,""]
[null,null,null,null,null,null,null,null,null,null,null,null,null,null,null,null,null,""]
[null,null,null,null,null,null,null,null,null,null,null,null,null,null,null,null,null,""]
[null,null,null,null,null,null,null,null,null,null,null,null,null,null,null,null,null,""]
[null,null,null,null,null,null,null,null,null,null,null,null,null,null,null,null,null,""]
[null,null,null,null,null,null,null,null,null,null,null,null,null,null,null,null,null,""]
[null,null,null,null,null,null,null,null,null,null,null,null,null,null,null,null,null,""]
[null,null,null,null,null,null,null,null,null,null,null,null,null,null,null,null,null,""]
[null,null,null,null,null,null,null,null,null,null,null,null,null,null,null,null,null,""]
[null,null,null,null,null,null,null,null,null,null,null,null,null,null,null,null,null,""]
[null,null,null,null,null,null,null,null,null,null,null,null,null,null,null,null,null,""]
[null,null,null,null,null,null,null,null,null,null,null,null,null,null,null,null,null,""]
[null,null,null,null,null,null,null,null,null,null,null,null,null,null,null,null,null,""]
[null,null,null,null,null,null,null,null,null,null,null,null,null,null,null,null,null,""]
[null,null,null,null,null,null,null,null,null,null,null,null,null,null,null,null,null,""]
[null,null,null,null,null,null,null,null,null,null,null,null,null,null,null,null,null,""]
[null,null,null,null,null,null,null,null,null,null,null,null,null,null,null,null,null,""]
[null,null,null,null,null,null,null,null,null,null,null,null,null,null,null,null,null,""]
[null,null,null,null,null,null,null,null,null,null,null,null,null,null,null,null,null,""]
[null,null,null,null,null,null,null,null,null,null,null,null,null,null,null,null,null,""]
[null,null,null,null,null,null,null,null,null,null,null,null,null,null,null,null,null,""]
[null,null,null,null,null,null,null,null,null,null,null,null,null,null,null,null,null,""]
[null,null,null,null,null,null,null,null,null,null,null,null,null,null,null,null,null,""]
[null,null,null,null,null,null,null,null,null,null,null,null,null,null,null,null,null,""]
[null,null,null,null,null,null,null,null,null,null,null,null,null,null,null,null,null,""]
[null,null,null,null,null,null,null,null,null,null,null,null,null,null,null,null,null,""]
[null,null,null,null,null,null,null,null,null,null,null,null,null,null,null,null,null,""]
[null,null,null,null,null,null,null,null,null,null,null,null,null,null,null,null,null,""]
[null,null,null,null,null,null,null,null,null,null,null,null,null,null,null,null,null,""]
[null,null,null,null,null,null,null,null,null,null,null,null,null,null,null,null,null,""]
[null,null,null,null,null,null,null,null,null,null,null,null,null,null,null,null,null,""]
[null,null,null,null,null,null,null,null,null,null,null,null,null,null,null,null,null,""]
[null,null,null,null,null,null,null,null,null,null,null,null,null,null,null,null,null,""]
[null,null,null,null,null,null,null,null,null,null,null,null,null,null,null,null,null,""]
[null,null,null,null,null,null,null,null,null,null,null,null,null,null,null,null,null,""]
[null,null,null,null,null,null,null,null,null,null,null,null,null,null,null,null,null,""]
[null,null,null,null,null,null,null,null,null,null,null,null,null,null,null,null,null,""]
[null,null,null,null,null,null,null,null,null,null,null,null,null,null,null,null,null,""]
[null,null,null,null,null,null,null,null,null,null,null,null,null,null,null,null,null,""]
[null,null,null,null,null,null,null,null,null,null,null,null,null,null,null,null,null,""]
[null,null,null,null,null,null,null,null,null,null,null,null,null,null,null,null,null,""]
[null,null,null,null,null,null,null,null,null,null,null,null,null,null,null,null,null,""]
[null,null,null,null,null,null,null,null,null,null,null,null,null,null,null,null,null,""]
[null,null,null,null,null,null,null,null,null,null,null,null,null,null,null,null,null,""]
[null,null,null,null,null,null,null,null,null,null,null,null,null,null,null,null,null,""]
[null,null,null,null,null,null,null,null,null,null,null,null,null,null,null,null,null,""]
[null,null,null,null,null,null,null,null,null,null,null,null,null,null,null,null,null,""]
[null,null,null,null,null,null,null,null,null,null,null,null,null,null,null,null,null,""]
[null,null,null,null,null,null,null,null,null,null,null,null,null,null,null,null,null,""]
[null,null,null,null,null,null,null,null,null,null,null,null,null,null,null,null,null,""]
[null,null,null,null,null,null,null,null,null,null,null,null,null,null,null,null,null,""]
[null,null,null,null,null,null,null,null,null,null,null,null,null,null,null,null,null,""]
[null,null,null,null,null,null,null,null,null,null,null,null,null,null,null,null,null,""]
[null,null,null,null,null,null,null,null,null,null,null,null,null,null,null,null,null,""]
[null,null,null,null,null,null,null,null,null,null,null,null,null,null,null,null,null,""]
[null,null,null,null,null,null,null,null,null,null,null,null,null,null,null,null,null,{"$f":"IF(S68=\"\",\"\",R67+1)","v":""}]
[null,null,null,null,null,null,null,null,null,null,null,null,null,null,null,null,null,""]
[null,null,null,null,null,null,null,null,null,null,null,null,null,null,null,null,null,""]

{"sheet":"상세복약라벨","index":89,"n_rows":68,"n_cols":24,"rows_kept":68,"cut":false,"hidden":false,"merged":[[6,1,6,10],[0,18,1,18],[0,19,1,19],[2,13,3,13],[0,12,43,12],[0,17,1,17],[7,1,7,5],[7,6,7,10],[1,1,2,4],[1,5,2,10],[3,1,3,10],[4,1,4,10],[5,1,5,10],[0,20,1,20],[0,21,1,21],[0,22,1,22],[0,23,1,23]]}
[null,null,null,null,null,null,null,null,null,null,null,null,null,null,null,null,{"$f":"IFERROR(INDEX(R59:R68,MATCH(#REF!,U59:U68,0)),\"\")","v":""},null,"약품분류/효능","약이름","라인1","라인2","라인3","라인4"]
[null,{"$f":"IFBLANK(O3)","v":"항진균제"},null,null,null,{"$f":"IFBLANK(O4)","v":"디푸루칸가글"},null,null,null,null,null,null,null,"번호","약품명"]
[null,null,null,null,null,null,null,null,null,null,null,null,null,2,{"$f":"IF(N3=\"\",\"\",IFERROR(VLOOKUP($N$3,$R$1:$X$497,2),\"\"))","v":"항진균제"},null,null,{"$f":"IF(U3=\"\",\"\",1)","v":1},"구강청결","탄툼가글","1일3~4회 원액 10ml로 가글하거나 ","이약10ml에 물10ml를 섞어","1분간 가글하세요","가글후 물로 헹구어 내지마세요"]
[null,{"$f":"IF($N$3=\"\",\"\",IFERROR(VLOOKUP($N$3,$R$1:$X$497,4),\"\"))","v":"동봉된주사기로 물 25ml를 계량하여"},null,null,null,null,null,null,null,null,null,null,null,null,{"$f":"IF(N3=\"\",\"\",IFERROR(VLOOKUP($N$3,$R$1:$X$497,3),\"\"))","v":"디푸루칸가글"},null,null,{"$f":"IF(U4=\"\",\"\",R3+1)","v":2},"항진균제","디푸루칸가글","동봉된주사기로 물 25ml를 계량하여","이약과 섞어놓으면 35ml 됩니다.","흔들어서 5ml로 3분간가글하세요","가글후 물로 헹구어 내지마세요"]
[null,{"$f":"IF($N$3=\"\",\"\",IFERROR(VLOOKUP($N$3,$R$1:$X$497,5),\"\"))","v":"이약과 섞어놓으면 35ml 됩니다."},null,null,null,null,null,null,null,null,null,null,null,null,null,null,null,{"$f":"IF(U5=\"\",\"\",R4+1)","v":""}]
[null,{"$f":"IF($N$3=\"\",\"\",IFERROR(VLOOKUP($N$3,$R$1:$X$497,6),\"\"))","v":"흔들어서 5ml로 3분간가글하세요"},null,null,null,null,null,null,null,null,null,null,null,null,null,null,null,{"$f":"IF(U6=\"\",\"\",R5+1)","v":""}]
[null,{"$f":"IF($N$3=\"\",\"\",IFERROR(VLOOKUP($N$3,$R$1:$X$497,7),\"\"))","v":"가글후 물로 헹구어 내지마세요"},null,null,null,null,null,null,null,null,null,null,null,null,null,null,null,{"$f":"IF(U7=\"\",\"\",R6+1)","v":""}]
[null,{"$f":"IFBLANK(요양기관기초정보!C5)","v":"팜오피스약국"},null,null,null,null,{"$f":"IFBLANK(요양기관기초정보!C12)","v":"02-324-4650"},null,null,null,null,null,null,null,"라벨인쇄양식",null,null,{"$f":"IF(U8=\"\",\"\",#REF!+1)","v":""}]
[null,null,null,null,null,null,null,null,null,null,null,null,null,null,null,null,null,{"$f":"IF(U9=\"\",\"\",#REF!+1)","v":""}]
[null,null,null,null,null,null,null,null,null,null,null,null,null,null,null,null,null,{"$f":"IF(U10=\"\",\"\",R9+1)","v":""}]
[null,null,null,null,null,null,null,null,null,null,null,null,null,null,null,null,null,""]
[null,null,null,null,null,null,null,null,null,null,null,null,null,null,null,null,null,""]
[null,null,null,null,null,null,null,null,null,null,null,null,null,null,null,null,null,""]
[null,null,null,null,null,null,null,null,null,null,null,null,null,null,null,null,null,""]
[null,null,null,null,null,null,null,null,null,null,null,null,null,null,null,null,null,""]
[null,null,null,null,null,null,null,null,null,null,null,null,null,null,null,null,null,""]
[null,null,null,null,null,null,null,null,null,null,null,null,null,null,null,null,null,""]
[null,null,null,null,null,null,null,null,null,null,null,null,null,null,null,null,null,""]
[null,null,null,null,null,null,null,null,null,null,null,null,null,null,null,null,null,""]
[null,null,null,null,null,null,null,null,null,null,null,null,null,null,null,null,null,""]
[null,null,null,null,null,null,null,null,null,null,null,null,null,null,null,null,null,""]
[null,null,null,null,null,null,null,null,null,null,null,null,null,null,null,null,null,""]
[null,null,null,null,null,null,null,null,null,null,null,null,null,null,null,null,null,""]
[null,null,null,null,null,null,null,null,null,null,null,null,null,null,null,null,null,""]
[null,null,null,null,null,null,null,null,null,null,null,null,null,null,null,null,null,""]
[null,null,null,null,null,null,null,null,null,null,null,null,null,null,null,null,null,""]
[null,null,null,null,null,null,null,null,null,null,null,null,null,null,null,null,null,""]
[null,null,null,null,null,null,null,null,null,null,null,null,null,null,null,null,null,""]
[null,null,null,null,null,null,null,null,null,null,null,null,null,null,null,null,null,""]
[null,null,null,null,null,null,null,null,null,null,null,null,null,null,null,null,null,""]
[null,null,null,null,null,null,null,null,null,null,null,null,null,null,null,null,null,""]
[null,null,null,null,null,null,null,null,null,null,null,null,null,null,null,null,null,""]
[null,null,null,null,null,null,null,null,null,null,null,null,null,null,null,null,null,""]
[null,null,null,null,null,null,null,null,null,null,null,null,null,null,null,null,null,""]
[null,null,null,null,null,null,null,null,null,null,null,null,null,null,null,null,null,""]
[null,null,null,null,null,null,null,null,null,null,null,null,null,null,null,null,null,""]
[null,null,null,null,null,null,null,null,null,null,null,null,null,null,null,null,null,""]
[null,null,null,null,null,null,null,null,null,null,null,null,null,null,null,null,null,""]
[null,null,null,null,null,null,null,null,null,null,null,null,null,null,null,null,null,""]
[null,null,null,null,null,null,null,null,null,null,null,null,null,null,null,null,null,""]
[null,null,null,null,null,null,null,null,null,null,null,null,null,null,null,null,null,""]
[null,null,null,null,null,null,null,null,null,null,null,null,null,null,null,null,null,{"$f":"IF(U42=\"\",\"\",R41+1)","v":""}]
[null,null,null,null,null,null,null,null,null,null,null,null,null,null,null,null,null,""]
[null,null,null,null,null,null,null,null,null,null,null,null,null,null,null,null,null,""]
[null,null,null,null,null,null,null,null,null,null,null,null,null,null,null,null,null,""]
[null,null,null,null,null,null,null,null,null,null,null,null,null,null,null,null,null,""]
[null,null,null,null,null,null,null,null,null,null,null,null,null,null,null,null,null,""]
[null,null,null,null,null,null,null,null,null,null,null,null,null,null,null,null,null,""]
[null,null,null,null,null,null,null,null,null,null,null,null,null,null,null,null,null,""]
[null,null,null,null,null,null,null,null,null,null,null,null,null,null,null,null,null,""]
[null,null,null,null,null,null,null,null,null,null,null,null,null,null,null,null,null,""]
[null,null,null,null,null,null,null,null,null,null,null,null,null,null,null,null,null,""]
[null,null,null,null,null,null,null,null,null,null,null,null,null,null,null,null,null,""]
[null,null,null,null,null,null,null,null,null,null,null,null,null,null,null,null,null,""]
[null,null,null,null,null,null,null,null,null,null,null,null,null,null,null,null,null,""]
[null,null,null,null,null,null,null,null,null,null,null,null,null,null,null,null,null,""]
[null,null,null,null,null,null,null,null,null,null,null,null,null,null,null,null,null,""]
[null,null,null,null,null,null,null,null,null,null,null,null,null,null,null,null,null,""]
[null,null,null,null,null,null,null,null,null,null,null,null,null,null,null,null,null,""]
[null,null,null,null,null,null,null,null,null,null,null,null,null,null,null,null,null,""]
[null,null,null,null,null,null,null,null,null,null,null,null,null,null,null,null,null,""]
[null,null,null,null,null,null,null,null,null,null,null,null,null,null,null,null,null,""]
[null,null,null,null,null,null,null,null,null,null,null,null,null,null,null,null,null,""]
[null,null,null,null,null,null,null,null,null,null,null,null,null,null,null,null,null,""]
[null,null,null,null,null,null,null,null,null,null,null,null,null,null,null,null,null,""]
[null,null,null,null,null,null,null,null,null,null,null,null,null,null,null,null,null,""]
[null,null,null,null,null,null,null,null,null,null,null,null,null,null,null,null,null,{"$f":"IF(U67=\"\",\"\",R66+1)","v":""}]
[null,null,null,null,null,null,null,null,null,null,null,null,null,null,null,null,null,""]

{"sheet":"주소라벨","index":90,"n_rows":70,"n_cols":25,"rows_kept":70,"cut":false,"hidden":false,"merged":[[0,24,1,24],[1,1,2,4],[1,5,2,10],[2,13,3,13],[0,23,1,23],[3,1,4,10],[0,17,1,17],[0,18,1,18],[0,19,1,19],[0,20,1,20],[0,21,1,21],[9,1,9,5],[9,6,9,10],[5,1,6,10],[7,1,8,10],[0,22,1,22]]}
[null,null,null,null,null,null,null,null,null,null,null,null,null,null,null,null,{"$f":"IFERROR(INDEX(R61:R70,MATCH(#REF!,U61:U70,0)),\"\")","v":""},null,"우편번호","이름","주소1","주소2","주소3","전화","팩스"]
[null,{"$f":"IFBLANK(O3)","v":"03788"},null,null,null,{"$f":"IFBLANK(O4)","v":"팜오피스약국"},null,null,null,null,null,null,null,"번호","약품명"]
[null,null,null,null,null,null,null,null,null,null,null,null,null,1,{"$f":"IF(N3=\"\",\"\",IFERROR(VLOOKUP($N$3,$R$1:$Y$499,2),\"\"))","v":"03788"},null,null,{"$f":"IF(S3=\"\",\"\",1)","v":1},"03788",{"$f":"IFBLANK(요양기관기초정보!C5)","v":"팜오피스약국"},"서울특별시 서대문구","연세로41(창천동 78-14)","정문약국  1F ",{"$f":"IFBLANK(요양기관기초정보!C12)","v":"02-324-4650"},{"$f":"IFBLANK(요양기관기초정보!C13)","v":"0505-324-4662"}]
[null,{"$f":"IF($N$3=\"\",\"\",IFERROR(VLOOKUP($N$3,$R$1:$Y$499,4),\"\"))","v":"서울특별시 서대문구"},null,null,null,null,null,null,null,null,null,null,null,null,{"$f":"IF(N3=\"\",\"\",IFERROR(VLOOKUP($N$3,$R$1:$Y$499,3),\"\"))","v":"팜오피스약국"},null,null,{"$f":"IF(S4=\"\",\"\",R3+1)","v":2},"28425","이근호","충청북도 청주시 흥덕구"," 대농로 45 (청주지웰시티푸르지오)","302동2706호","043-234-0010"]
[]
[null,{"$f":"IF($N$3=\"\",\"\",IFERROR(VLOOKUP($N$3,$R$1:$Y$499,5),\"\"))","v":"연세로41(창천동 78-14)"},null,null,null,null,null,null,null,null,null,null,null,null,null,null,null,{"$f":"IF(S6=\"\",\"\",1)","v":""}]
[]
[null,{"$f":"IF($N$3=\"\",\"\",IFERROR(VLOOKUP($N$3,$R$1:$Y$499,6),\"\"))","v":"정문약국  1F "},null,null,null,null,null,null,null,null,null,null,null,null,null,null,null,""]
[]
[null,{"$f":"IF($N$3=\"\",\"\",IFERROR(IF(VLOOKUP($N$3,$R$1:$Y$499,7)=\"\",\"\",\"전화 : \"&VLOOKUP($N$3,$R$1:$Y$499,7)),\"\"))","v":"전화 : 02-324-4650"},null,null,null,null,{"$f":"IF($N$3=\"\",\"\",IFERROR(IF(VLOOKUP($N$3,$R$1:$Y$499,8)=\"\",\"\",\"팩스 : \"&VLOOKUP($N$3,$R$1:$Y$499,8)),\"\"))","v":"팩스 : 0505-324-4662"},null,null,null,null,null,null,null,null,null,null,""]
[null,null,null,null,null,null,null,null,null,null,null,null,null,null,null,null,null,""]
[null,null,null,null,null,null,null,null,null,null,null,null,null,null,null,null,null,""]
[null,null,null,null,null,null,null,null,null,null,null,null,null,null,null,null,null,""]
[null,null,null,null,null,null,null,null,null,null,null,null,null,null,null,null,null,""]
[null,null,null,null,null,null,null,null,null,null,null,null,null,null,null,null,null,""]
[null,null,null,null,null,null,null,null,null,null,null,null,null,null,null,null,null,""]
[null,null,null,null,null,null,null,null,null,null,null,null,null,null,null,null,null,""]
[null,null,null,null,null,null,null,null,null,null,null,null,null,null,null,null,null,""]
[null,null,null,null,null,null,null,null,null,null,null,null,null,null,null,null,null,""]
[null,null,null,null,null,null,null,null,null,null,null,null,null,null,null,null,null,""]
[null,null,null,null,null,null,null,null,null,null,null,null,null,null,null,null,null,""]
[null,null,null,null,null,null,null,null,null,null,null,null,null,null,null,null,null,""]
[null,null,null,null,null,null,null,null,null,null,null,null,null,null,null,null,null,""]
[null,null,null,null,null,null,null,null,null,null,null,null,null,null,null,null,null,""]
[null,null,null,null,null,null,null,null,null,null,null,null,null,null,null,null,null,""]
[null,null,null,null,null,null,null,null,null,null,null,null,null,null,null,null,null,""]
[null,null,null,null,null,null,null,null,null,null,null,null,null,null,null,null,null,""]
[null,null,null,null,null,null,null,null,null,null,null,null,null,null,null,null,null,""]
[null,null,null,null,null,null,null,null,null,null,null,null,null,null,null,null,null,""]
[null,null,null,null,null,null,null,null,null,null,null,null,null,null,null,null,null,""]
[null,null,null,null,null,null,null,null,null,null,null,null,null,null,null,null,null,""]
[null,null,null,null,null,null,null,null,null,null,null,null,null,null,null,null,null,""]
[null,null,null,null,null,null,null,null,null,null,null,null,null,null,null,null,null,""]
[null,null,null,null,null,null,null,null,null,null,null,null,null,null,null,null,null,""]
[null,null,null,null,null,null,null,null,null,null,null,null,null,null,null,null,null,""]
[null,null,null,null,null,null,null,null,null,null,null,null,null,null,null,null,null,""]
[null,null,null,null,null,null,null,null,null,null,null,null,null,null,null,null,null,""]
[null,null,null,null,null,null,null,null,null,null,null,null,null,null,null,null,null,""]
[null,null,null,null,null,null,null,null,null,null,null,null,null,null,null,null,null,""]
[null,null,null,null,null,null,null,null,null,null,null,null,null,null,null,null,null,""]
[null,null,null,null,null,null,null,null,null,null,null,null,null,null,null,null,null,""]
[null,null,null,null,null,null,null,null,null,null,null,null,null,null,null,null,null,""]
[null,null,null,null,null,null,null,null,null,null,null,null,null,null,null,null,null,""]
[null,null,null,null,null,null,null,null,null,null,null,null,null,null,null,null,null,""]
[null,null,null,null,null,null,null,null,null,null,null,null,null,null,null,null,null,""]
[null,null,null,null,null,null,null,null,null,null,null,null,null,null,null,null,null,""]
[null,null,null,null,null,null,null,null,null,null,null,null,null,null,null,null,null,""]
[null,null,null,null,null,null,null,null,null,null,null,null,null,null,null,null,null,""]
[null,null,null,null,null,null,null,null,null,null,null,null,null,null,null,null,null,""]
[null,null,null,null,null,null,null,null,null,null,null,null,null,null,null,null,null,""]
[null,null,null,null,null,null,null,null,null,null,null,null,null,null,null,null,null,""]
[null,null,null,null,null,null,null,null,null,null,null,null,null,null,null,null,null,""]
[null,null,null,null,null,null,null,null,null,null,null,null,null,null,null,null,null,""]
[null,null,null,null,null,null,null,null,null,null,null,null,null,null,null,null,null,""]
[null,null,null,null,null,null,null,null,null,null,null,null,null,null,null,null,null,""]
[null,null,null,null,null,null,null,null,null,null,null,null,null,null,null,null,null,""]
[null,null,null,null,null,null,null,null,null,null,null,null,null,null,null,null,null,""]
[null,null,null,null,null,null,null,null,null,null,null,null,null,null,null,null,null,""]
[null,null,null,null,null,null,null,null,null,null,null,null,null,null,null,null,null,""]
[null,null,null,null,null,null,null,null,null,null,null,null,null,null,null,null,null,""]
[null,null,null,null,null,null,null,null,null,null,null,null,null,null,null,null,null,""]
[null,null,null,null,null,null,null,null,null,null,null,null,null,null,null,null,null,""]
[null,null,null,null,null,null,null,null,null,null,null,null,null,null,null,null,null,""]
[null,null,null,null,null,null,null,null,null,null,null,null,null,null,null,null,null,""]
[null,null,null,null,null,null,null,null,null,null,null,null,null,null,null,null,null,""]
[null,null,null,null,null,null,null,null,null,null,null,null,null,null,null,null,null,""]
[null,null,null,null,null,null,null,null,null,null,null,null,null,null,null,null,null,""]
[null,null,null,null,null,null,null,null,null,null,null,null,null,null,null,null,null,""]
[null,null,null,null,null,null,null,null,null,null,null,null,null,null,null,null,null,""]
[null,null,null,null,null,null,null,null,null,null,null,null,null,null,null,null,null,{"$f":"IF(S70=\"\",\"\",1)","v":""}]

{"sheet":"큰글씨라벨","index":91,"n_rows":69,"n_cols":20,"rows_kept":69,"cut":false,"hidden":false,"merged":[[1,1,5,10],[6,1,10,10],[13,1,22,10],[6,13,7,16],[12,13,13,16],[14,13,17,16],[8,13,9,13],[8,14,9,14],[8,15,9,15],[8,16,9,16],[10,13,11,14],[10,15,11,16]]}
[]
[null,{"$f":"IFERROR(VLOOKUP(N9,$S$6:$T$72,2),\"\")&IFERROR(\" \"&VLOOKUP(O9,$S$6:$T$72,2),\"\")&IFERROR(\" \"&VLOOKUP(P9,$S$6:$T$72,2),\"\")&IFERROR(\" \"&VLOOKUP(Q9,$S$6:$T$72,2),\"\")","v":"소화기내과"}]
[]
[]
[]
[null,null,null,null,null,null,null,null,null,null,null,null,null,null,null,null,null,null,"용법코드","용법"]
[null,{"$f":"IFERROR(VLOOKUP(N11,$S$6:$T$72,2),\"\")&IFERROR(\" \"&VLOOKUP(P11,$S$6:$T$72,2),\"\")","v":"아침 식후30분"},null,null,null,null,null,null,null,null,null,null,null,"두줄라벨",null,null,null,null,{"$f":"IF(T7=\"\",\"\",1)","v":1},"아침"]
[null,null,null,null,null,null,null,null,null,null,null,null,null,null,null,null,null,null,{"$f":"IF(T8=\"\",\"\",S7+1)","v":2},"점심"]
[null,null,null,null,null,null,null,null,null,null,null,null,null,31,null,null,null,null,{"$f":"IF(T9=\"\",\"\",S8+1)","v":3},"저녁"]
[null,null,null,null,null,null,null,null,null,null,null,null,null,null,null,null,null,null,4,"아침,저녁"]
[null,null,null,null,null,null,null,null,null,null,null,null,null,1,null,21,null,null,5,"아침,점심"]
[null,null,null,null,null,null,null,null,null,null,null,null,null,null,null,null,null,null,6,"아침,자기전"]
[null,null,null,null,null,null,null,null,null,null,null,null,null,"한줄라벨",null,null,null,null,7,"점심,저녁"]
[null,{"$f":"IFERROR(VLOOKUP(N15,$S$6:$T$72,2),\"\")","v":"아침"},null,null,null,null,null,null,null,null,null,null,null,null,null,null,null,null,8,"아침,점심,저녁"]
[null,null,null,null,null,null,null,null,null,null,null,null,null,1,null,null,null,null,9,"아침,점심,저녁,자기전"]
[null,null,null,null,null,null,null,null,null,null,null,null,null,null,null,null,null,null,10,"일정시간에"]
[null,null,null,null,null,null,null,null,null,null,null,null,null,null,null,null,null,null,11,"매식후 30분"]
[null,null,null,null,null,null,null,null,null,null,null,null,null,null,null,null,null,null,12,"매식전 30분"]
[null,null,null,null,null,null,null,null,null,null,null,null,null,null,null,null,null,null,13,"자기전"]
[null,null,null,null,null,null,null,null,null,null,null,null,null,null,null,null,null,null,14,"매(  )시간마다"]
[null,null,null,null,null,null,null,null,null,null,null,null,null,null,null,null,null,null,15,"필요시"]
[null,null,null,null,null,null,null,null,null,null,null,null,null,null,null,null,null,null,16,"의사지시대로"]
[null,null,null,null,null,null,null,null,null,null,null,null,null,null,null,null,null,null,17,"  "]
[null,null,null,null,null,null,null,null,null,null,null,null,null,null,null,null,null,null,18,"  "]
[null,null,null,null,null,null,null,null,null,null,null,null,null,null,null,null,null,null,19,"  "]
[null,null,null,null,null,null,null,null,null,null,null,null,null,null,null,null,null,null,20,"  "]
[null,null,null,null,null,null,null,null,null,null,null,null,null,null,null,null,null,null,21,"식후30분"]
[null,null,null,null,null,null,null,null,null,null,null,null,null,null,null,null,null,null,22,"식전30분"]
[null,null,null,null,null,null,null,null,null,null,null,null,null,null,null,null,null,null,23,"식사와함께"]
[null,null,null,null,null,null,null,null,null,null,null,null,null,null,null,null,null,null,24,"식사직전"]
[null,null,null,null,null,null,null,null,null,null,null,null,null,null,null,null,null,null,25,"식사직후"]
[null,null,null,null,null,null,null,null,null,null,null,null,null,null,null,null,null,null,26,"식간"]
[null,null,null,null,null,null,null,null,null,null,null,null,null,null,null,null,null,null,27,"식후1시간"]
[null,null,null,null,null,null,null,null,null,null,null,null,null,null,null,null,null,null,28,"식전1시간"]
[null,null,null,null,null,null,null,null,null,null,null,null,null,null,null,null,null,null,29," "]
[null,null,null,null,null,null,null,null,null,null,null,null,null,null,null,null,null,null,30," "]
[null,null,null,null,null,null,null,null,null,null,null,null,null,null,null,null,null,null,31,"소화기내과"]
[null,null,null,null,null,null,null,null,null,null,null,null,null,null,null,null,null,null,32,"심장내과"]
[null,null,null,null,null,null,null,null,null,null,null,null,null,null,null,null,null,null,33,"신장내과"]
[null,null,null,null,null,null,null,null,null,null,null,null,null,null,null,null,null,null,34,"당뇨약"]
[null,null,null,null,null,null,null,null,null,null,null,null,null,null,null,null,null,null,35,"고혈압약"]
[null,null,null,null,null,null,null,null,null,null,null,null,null,null,null,null,null,null,36,"변비약"]
[null,null,null,null,null,null,null,null,null,null,null,null,null,null,null,null,null,null,{"$f":"IF(T43=\"\",\"\",S42+1)","v":""}]
[null,null,null,null,null,null,null,null,null,null,null,null,null,null,null,null,null,null,""]
[null,null,null,null,null,null,null,null,null,null,null,null,null,null,null,null,null,null,""]
[null,null,null,null,null,null,null,null,null,null,null,null,null,null,null,null,null,null,""]
[null,null,null,null,null,null,null,null,null,null,null,null,null,null,null,null,null,null,""]
[null,null,null,null,null,null,null,null,null,null,null,null,null,null,null,null,null,null,""]
[null,null,null,null,null,null,null,null,null,null,null,null,null,null,null,null,null,null,""]
[null,null,null,null,null,null,null,null,null,null,null,null,null,null,null,null,null,null,""]
[null,null,null,null,null,null,null,null,null,null,null,null,null,null,null,null,null,null,""]
[null,null,null,null,null,null,null,null,null,null,null,null,null,null,null,null,null,null,""]
[null,null,null,null,null,null,null,null,null,null,null,null,null,null,null,null,null,null,""]
[null,null,null,null,null,null,null,null,null,null,null,null,null,null,null,null,null,null,""]
[null,null,null,null,null,null,null,null,null,null,null,null,null,null,null,null,null,null,""]
[null,null,null,null,null,null,null,null,null,null,null,null,null,null,null,null,null,null,""]
[null,null,null,null,null,null,null,null,null,null,null,null,null,null,null,null,null,null,""]
[null,null,null,null,null,null,null,null,null,null,null,null,null,null,null,null,null,null,""]
[null,null,null,null,null,null,null,null,null,null,null,null,null,null,null,null,null,null,""]
[null,null,null,null,null,null,null,null,null,null,null,null,null,null,null,null,null,null,""]
[null,null,null,null,null,null,null,null,null,null,null,null,null,null,null,null,null,null,""]
[null,null,null,null,null,null,null,null,null,null,null,null,null,null,null,null,null,null,""]
[null,null,null,null,null,null,null,null,null,null,null,null,null,null,null,null,null,null,""]
[null,null,null,null,null,null,null,null,null,null,null,null,null,null,null,null,null,null,""]
[null,null,null,null,null,null,null,null,null,null,null,null,null,null,null,null,null,null,""]
[null,null,null,null,null,null,null,null,null,null,null,null,null,null,null,null,null,null,""]
[null,null,null,null,null,null,null,null,null,null,null,null,null,null,null,null,null,null,""]
[null,null,null,null,null,null,null,null,null,null,null,null,null,null,null,null,null,null,""]
[null,null,null,null,null,null,null,null,null,null,null,null,null,null,null,null,null,null,""]